{"text_format":"1","workbook":"xlsx","n_sheets":7,"sheets":["Tőketartozás","Paraméterek","Eredmények","Negyedéves","Makroadatok","Szcenárió elemzés","Opt"],"not_rendered":{"charts":7,"images":0,"macros":1,"external_links":1,"defined_names":95,"comments":1,"pivot_tables":0},"unopened":[{"sheet":"Tőketartozás","index":0,"reason":"not_a_worksheet"}],"bounds":{"document_bytes":16777216,"sheet_cells":100000,"rows_first":2000,"rows_last":500,"rows_between":2000,"halvings":0,"cell_chars":16384,"cell_head_chars":4096},"cells_cut":0,"cells_raw":0,"read":"whole","date_system":"1900"}

{"sheet":"Paraméterek","index":1,"n_rows":159,"n_cols":20,"rows_kept":159,"cut":false,"hidden":false,"merged":[[0,0,0,4],[6,0,6,2],[48,4,48,17],[57,4,57,17],[66,4,66,19]]}
["Kezdeti beruházás (azonnal aktivált tárgyi eszközként szerepel a mérlegben)",null,null,null,null,null,"EREDMÉNYEK (HUF)"]
[null,"NÉV","Amortizáció (év)","Avultság","Bekerülési érték",null,"Év száma","CF","MSZE",{"$f":"+Eredmények!B120","v":"DSCR EBITDA alapon"},{"$f":"+Eredmények!B121","v":"DSCR CF alapon"}]
[null,"Gyártó csarnok építése",30,0,20000000,null,null,{"$f":"+Eredmények!C116*1000000","v":428946522.76496226}]
[null,"Technológia fejlesztési költsége",10,0,198285758,null,1,{"$f":"Eredmények!C$112*1000000","v":39371754.802803725},{"$f":"Eredmények!C$95*1000000","v":42476890.283756152},{"$f":"Eredmények!C$121","v":4.3255980068252153},{"$f":"Eredmények!C$120","v":4.3820215013806054}]
[null,null,10,null,{"$f":"SUM(E4:E4)","v":198285758},null,2,{"$f":"Eredmények!D$112*1000000","v":39510753.747591913},{"$f":"Eredmények!D$95*1000000","v":46494513.963005506},{"$f":"Eredmények!D$121","v":5.0808462866754711},{"$f":"Eredmények!D$120","v":5.4679246763374971}]
[null,null,null,null,null,null,3,{"$f":"Eredmények!E$112*1000000","v":42042736.810330056},{"$f":"Eredmények!E$95*1000000","v":48897632.064689331},{"$f":"Eredmények!E$121","v":5.4769179864050743},{"$f":"Eredmények!E$120","v":5.7526754084744312}]
["Pótlólagos beruházások (mindig e soron szerepelnek a mérlegben)",null,null,null,null,null,4,{"$f":"Eredmények!F$112*1000000","v":44676128.880221613},{"$f":"Eredmények!F$95*1000000","v":51399581.874305367},{"$f":"Eredmények!F$121","v":5.9100042730213884},{"$f":"Eredmények!F$120","v":6.058683521987124}]
[null,null,null,null,null,null,5,{"$f":"Eredmények!G$112*1000000","v":47414594.556888089},{"$f":"Eredmények!G$95*1000000","v":54003976.445491053},{"$f":"Eredmények!G$121","v":6.3837395886099797},{"$f":"Eredmények!G$120","v":6.3874917343306272}]
[null,"Pótlólagos felújító beruházások 2.évtől (db/év) ",1,1,null,null,6,{"$f":"Eredmények!H$112*1000000","v":50261924.477723368},{"$f":"Eredmények!H$95*1000000","v":56714553.838735804},{"$f":"Eredmények!H$121","v":6.9020578296997845},{"$f":"Eredmények!H$120","v":6.7407059192922265}]
[null,"Pótlólagos felújító beruházások 2.évtől (Ft/db) ",1000000,null,null,null,7,{"$f":"Eredmények!I$112*1000000","v":61555372.872105978},{"$f":"Eredmények!I$95*1000000","v":59535181.321642794},{"$f":"Eredmények!I$121","v":""},{"$f":"Eredmények!I$120","v":""}]
[null,"Pótlólagos beruházások amortizációja (év)",7,null,null,null,8,{"$f":"Eredmények!J$112*1000000","v":66296102.976278692},{"$f":"Eredmények!J$95*1000000","v":45866589.481824636},{"$f":"Eredmények!J$121","v":""},{"$f":"Eredmények!J$120","v":""}]
[null,"Pótlólagos beruházások amortizációja (Ft/negyedév)",{"$f":"$C$10/C11/4","v":35714.285714285717},null,null,null,9,{"$f":"Eredmények!K$112*1000000","v":69534383.859850436},{"$f":"Eredmények!K$95*1000000","v":49106184.944840521},{"$f":"Eredmények!K$121","v":""},{"$f":"Eredmények!K$120","v":""}]
[null,"Pótlólagos beruházás összege",null,2,null,null,10,{"$f":"Eredmények!L$112*1000000","v":72899070.336451367},{"$f":"Eredmények!L$95*1000000","v":52472212.292474687},{"$f":"Eredmények!L$121","v":""},{"$f":"Eredmények!L$120","v":""}]
[]
["Műszaki adatok",null,null,null,"Teljesítmény adatok"]
[null,null,null,null,null,null,"2020-01-01","2020-02-01","2020-03-01","2020-04-01","2020-05-01","2020-06-01","2020-07-01","2020-08-01","2020-09-01","2020-10-01","2020-11-01","2020-12-01"]
[null,"Gázmotor napi termelés (óra)",20,null,"Átlagos külső hőmérséklet (Celsius)",0,-1.35,0.95000000000000018,5,11,15.149999999999999,17,20.5,21,15.7,9.6999999999999993,4.9000000000000004,-2.0000000000000018E-2]
[null,"Szárító heti termelési nap",7,null,"Átlagos külső hőmérséklet módosított (Celsius)",null,{"$f":"+G17+$F$17","v":-1.35},{"$f":"+H17+$F$17","v":0.95000000000000018},5,11,15.149999999999999,17,20.5,21,15.7,9.6999999999999993,4.9000000000000004,-2.0000000000000018E-2]
[null,"Daráló heti termelési nap",5,null,"Kiadott motorblokk hőteljesítmény (kW)",null,350,{"$f":"+G19","v":350},{"$f":"+H19","v":350},350,350,350,350,350,350,350,350,350]
[null,"Daráló termelési kapacitása (t/h)",15,null,"Átlagos hő önfogyasztás (kW)",null,{"$f":"IF(G18<=17,-0.1714*G18^2-5.0644*G18+137.77,0)","v":144.29456350000001},{"$f":"IF(H18<=17,-0.1714*H18^2-5.0644*H18+137.77,0)","v":132.80413150000001},108.16300000000001,61.322200000000009,21.704183500000028,2.1406000000000063,0,0,16.010534000000021,72.518294000000012,108.83912600000001,137.87121944]
[null,"Daráló napi max működési óraszám",6,null,"Kiadott szárítási hőteljesítmény, előszárító(kW)",null,{"$f":"+G19-G20","v":205.70543649999999},{"$f":"+H19-H20","v":217.19586849999999},241.83699999999999,288.67779999999999,328.2958165,347.85939999999999,350,350,333.98946599999999,277.48170599999997,241.16087399999998,212.12878056]
[null,"Daráló villamos energia fogyasztása óránként (kW)",{"$f":"+I116","v":67.5},null,"Fajlagos szárítási teljesítmény,előszárító (l/kW)",null,{"$f":"IF(G23=0.5,-0.0006*G18^2 + 0.0341*G18 + 0.5976,-0.0012*G18^2 + 0.0701*G18 + 0.1558)","v":0.5504715},{"$f":"IF(H23=0.5,-0.0006*H18^2 + 0.0341*H18 + 0.5976,-0.0012*H18^2 + 0.0701*H18 + 0.1558)","v":0.6294535},0.75309999999999999,0.90010000000000001,0.97650150000000002,1.0039,1.0885499999999999,1.0987,0.98507599999999995,0.87191599999999991,0.75028400000000006,0.59691776000000007]
[null,"Szárító villamos energia fogyasztása óránként (kW)",{"$f":"+SUM(I84:I102)","v":75.000000000000014},null,"Előszárító opt. ventilátor telj. (%)",null,{"$f":"IF(G18>20,1,0.5)","v":0.5},{"$f":"IF(H18>20,1,0.5)","v":0.5},0.5,0.5,0.5,0.5,1,1,0.5,0.5,0.5,0.5]
[null,"Szárító üzem rendelkezésre állás",0.9,null,"Kiadott füstgáz hőteljesítmény (kW)",null,{"$f":"0.75*1.11*((500-(G25/0.75/1.11))-110)","v":309},{"$f":"0.75*1.11*((500-(H25/0.75/1.11))-110)","v":310.15000000000003},312.17500000000001,315.17500000000001,317.25,318.17500000000001,319.92500000000001,320.17500000000001,317.52499999999998,314.52500000000003,312.125,309.66499999999996]
[null,null,null,null,"Hőveszteség (kW)",null,{"$f":"-0.5*G18+15","v":15.675000000000001},{"$f":"-0.5*H18+15","v":14.525},12.5,9.5,7.4250000000000007,6.5,4.75,4.5,7.15,10.15,12.55,15.01]
[null,"Tömörítő egység kapacitása (kg/óra)",600,null,"Kiadott szárítási hőteljesítmény, dobszárító(kW)",null,{"$f":"+G24-G25","v":293.32499999999999},{"$f":"+H24-H25","v":295.62500000000006},299.67500000000001,305.67500000000001,309.82499999999999,311.67500000000001,315.17500000000001,315.67500000000001,310.375,304.37500000000006,299.57499999999999,294.65499999999997]
[null,"Tömörítő heti termelési nap",7,null,"Fajlagos szárítási teljesítmény,dobszárító (l/kW)",null,1.2,1.2,1.2,1.2,1.2,1.2,1.2,1.2,1.2,1.2,1.2,1.2]
[null,"Tömörítő napi működési óraszám",12,null,"Szárítási összteljesítmény (l/óra)",null,{"$f":"+G21*G22+G26*G27","v":465.2249801883097},{"$f":"+H21*H22+H26*H27","v":491.46469961286482},541.73744469999997,626.64888778,692.37135725597477,723.22605165999994,759.20249999999987,763.35500000000002,701.45500720941595,607.19073916869604,540.4291451882159,480.20943652340668]
[null,"Tömörítő villamos energia fogyasztása óránként (kW)",{"$f":"+SUM(I103:I115)","v":113.25},null,"Havi gázmotor működési óraszám",null,{"$f":"+(EOMONTH(G16,0)-G16+1)*$C$17","v":620},580,620,600,{"$f":"+(EOMONTH(K16,0)-K16+1)*$C$17","v":620},600,620,620,600,620,600,620]
[null,"Tömörítő egység rendelkezésre állás",0.9,null,"Havi szárító max működési óraszám",null,{"$f":"+G29/7*$C$18*$C$24","v":558},522,558,540,{"$f":"+K29/7*$C$18*$C$24","v":558},540,558,558,540,558,540,558]
[null,null,null,null,"Szárítási összteljesítmény (t/hó)",null,{"$f":"+G28*G30/1000","v":259.59553894507684},{"$f":"+H28*H30/1000","v":256.54457319791544},302.28949414260001,338.3903994012,386.34321734883395,390.5420678964,423.63499499999995,425.95209,378.78570389308459,338.8124324561324,291.83173840163658,267.95686558006093]
[null,null,null,null,"Tömörítő egység max működési óraszám",null,{"$f":"+(EOMONTH(G16,0)-G16+1)/7*$C$27*$C$28*$C$30","v":334.8},313.20000000000005,334.8,324,334.8,324,334.8,334.8,324,334.8,324,334.8]
[null,null,null,null,"Tömörítési összteljesítmény (t/hó)",null,{"$f":"+G32*$C$26/1000","v":200.88},187.92000000000002,200.88,194.4,200.88,194.4,200.88,200.88,194.4,200.88,194.4,200.88]
[null,null,null,null,"Elődaráló egység max működési óraszám",null,{"$f":"+(EOMONTH(G16,0)-G16+1)/7*$C$19*$C$21","v":132.85714285714289},124.28571428571429,132.85714285714289,128.57142857142856,132.85714285714289,128.57142857142856,132.85714285714289,132.85714285714289,128.57142857142856,132.85714285714289,128.57142857142856,132.85714285714289]
[null,null,null,null,"Elődáráló összteljesítmény (t/hó)",null,{"$f":"+G34*$C$20","v":1992.8571428571433},1864.2857142857144,1992.8571428571433,1928.5714285714284,1992.8571428571433,1928.5714285714284,1992.8571428571433,1992.8571428571433,1928.5714285714284,1992.8571428571433,1928.5714285714284,1992.8571428571433]
[]
["Értékesítési adatok",null,{"$f":"+C50","v":98383270.255116358},null,"Előállított termék mennyiségek"]
[null,"Értékesítési ár (Ft/kg)",null,null,null,"Összesen",{"$f":"+G50","v":"Jan."},"Febr.","Márc.","Ápr.","Máj.","Jún.","Júl.","Aug.","Szept.","Okt.","Nov.","Dec.",null,{"$f":"(Paraméterek!L61)*(100-Paraméterek!L61)*0+Eredmények!C116","v":428.94652276496225}]
[null,{"$f":"+F51","v":"Pelletált szeparátum"},35,null,{"$f":"+F51","v":"Pelletált szeparátum"},{"$f":"+SUM(G39:R39)","v":525},{"$f":"+(G51*$K60+$L60/12)*($G60+$M60)/($H60+$N60)","v":31.25},{"$f":"+(H51*$K60+$L60/12)*($G60+$M60)/($H60+$N60)","v":25},31.25,31.25,31.25,31.25,31.25,31.25,31.25,93.75,78.125,78.125]
[null,{"$f":"+F52","v":"Kukorica pellet"},37,null,{"$f":"+F52","v":"Kukorica pellet"},{"$f":"+SUM(G40:R40)","v":0},{"$f":"+(G52*$K61+$L61/12)*($G61+$M61)/($H61+$N61)","v":0},0,0,0,0,0,0,0,0,0,0,0]
[null,{"$f":"+F53","v":"Szárított szeparátum"},20,null,{"$f":"+F53","v":"Szárított szeparátum"},762.19512195121968,{"$f":"+(G53*$K62+$L62/12)*($G62+$M62)/($H62+$N62)","v":60.975609756097562},60.975609756097562,60.975609756097562,91.463414634146346,91.463414634146346,91.463414634146346,106.70731707317074,106.70731707317074,91.463414634146346,4.3325776570737815E-15,0,0]
[null,{"$f":"+F54","v":"Szalma pellet"},40,null,{"$f":"+F54","v":"Szalma pellet"},1448.2758620689658,{"$f":"+(G54*$K63+$L63/12)*($G63+$M63)/($H63+$N63)","v":160.91954022988506},160.91954022988506,160.91954022988506,160.91954022988506,160.91954022988506,160.91954022988506,160.91954022988506,160.91954022988506,160.91954022988506,0,0,0]
[null,{"$f":"+F55","v":"Cukorrépa pellet"},60,null,{"$f":"+F55","v":"Cukorrépa pellet"},113.88888888888889,{"$f":"+(G55*$K64+$L64/12)*($G64+$M64)/($H64+$N64)","v":0},0,0,0,0,0,0,0,0,44.444444444444443,41.666666666666664,27.777777777777779]
[null,"Árbevétel (Ft)",null,null,"Összesen (t)",2849.3598729090736,{"$f":"+SUM(G39:G43)","v":253.14514998598261},{"$f":"+SUM(H39:H43)","v":246.89514998598261},253.14514998598261,283.63295486403138,283.63295486403138,283.63295486403138,298.87685730305577,298.87685730305577,283.63295486403138,138.19444444444446,119.79166666666666,105.90277777777777]
[null,{"$f":"+B39","v":"Pelletált szeparátum"},{"$f":"+C39*F39*1000","v":18375000},null,"Tömörített mennyiség össz (t)",2087.1647509578547,{"$f":"+SUMPRODUCT($J$60:$J$64,G39:G43)","v":192.16954022988506},185.91954022988506,192.16954022988506,192.16954022988506,192.16954022988506,192.16954022988506,192.16954022988506,192.16954022988506,192.16954022988506,138.19444444444446,119.79166666666666,105.90277777777777]
[null,{"$f":"+B40","v":"Kukorica pellet"},{"$f":"+C40*F40*1000","v":0},null,"Elszárított víz összesen (t)",{"$f":"+F65-S44","v":6390},{"$f":"+SUMPRODUCT(G51:G55,$K$60:$K$64)+SUM($L$60:$L$64)/12-G44","v":246.85485001401739},{"$f":"+SUMPRODUCT(H51:H55,$K$60:$K$64)+SUM($L$60:$L$64)/12-H44","v":233.10485001401739},246.85485001401739,316.36704513596862,316.36704513596862,316.36704513596862,351.12314269694423,351.12314269694423,316.36704513596862,321.80555555555554,280.20833333333337,244.09722222222223]
[null,{"$f":"+B41","v":"Szárított szeparátum"},{"$f":"+C41*F41*1000","v":15243902.439024394},null,"Elődarált mennyiség összesen",{"$f":"+SUM(G47:R47)","v":1448.2758620689658},{"$f":"+SUMPRODUCT($I$60:$I$64,G39:G43)","v":160.91954022988506},{"$f":"+SUMPRODUCT($I$60:$I$64,H39:H43)","v":160.91954022988506},160.91954022988506,160.91954022988506,160.91954022988506,160.91954022988506,160.91954022988506,160.91954022988506,160.91954022988506,0,0,0]
[null,{"$f":"+B42","v":"Szalma pellet"},{"$f":"+C42*F42*1000","v":57931034.482758634}]
[null,{"$f":"+B43","v":"Cukorrépa pellet"},{"$f":"+C43*F43*1000","v":6833333.333333333},null,"Feldolgozott alapanyag mennyiségek"]
[null,"Éves bevétel",{"$f":"+SUM(C45:C49)","v":98383270.255116358},null,"Alapanyag","Termék","Jan.","Febr.","Márc.","Ápr.","Máj.","Jún.","Júl.","Aug.","Szept.","Okt.","Nov.","Dec."]
[null,null,null,null,"Fermentlé szilárd szeparátum","Pelletált szeparátum",100,80,100,100,100,100,100,100,100,300,250,250]
[null,"Működési negyedévek száma 2020-ban",4,null,"Silótető","Kukorica pellet",0,0,0,0,0,0,0,0,0,0,0,0]
[null,"Bevétel típusa",null,2,"Fermentlé szilárd szeparátum","Szárított szeparátum",200,200,200,300,300,300,350,350,300,1.4210854715202004E-14,0,0]
[null,null,null,null,"Hulladék nedves szalma","Szalma pellet",200,200,200,200,200,200,200,200,200,0,0,0]
[null,null,null,null,"Cukorrépaszelet","Cukorrépa pellet",0,0,0,0,0,0,0,0,0,160,150,100]
[null,null,null,null,"Összesen",null,{"$f":"+SUM(G51:G55)","v":500},{"$f":"+SUM(H51:H55)","v":480},500,600,600,600,650,650,600,460,400,350]
[]
["Termelési költségek",null,{"$f":"+C71+C79+C82+C87+C92+C95+C99+C108+C113","v":46029042.010170199},null,"Alapanyag paraméterek"]
["Anyagjellegű ráfordítások",null,"Vételár szállítással (Ft/kg)",null,"Alapanyag","Felhasználás (t/év)","Alapanyag sz.a. tartalom","Termék sz.a. tartalom","Darálás szükséges","Pelletálás szükséges","Menny. Korr1","Menny.Korr2","Min.Korr1","Min.Korr2"]
[null,{"$f":"+E51","v":"Fermentlé szilárd szeparátum"},0,null,{"$f":"+E51","v":"Fermentlé szilárd szeparátum"},{"$f":"+SUM(G51:R51)*K60+L60","v":1680},0.25,0.8,0,1,1,0,0,0]
[null,{"$f":"+E52","v":"Silótető"},2.5,null,{"$f":"+E52","v":"Silótető"},{"$f":"+SUM(G52:R52)*K61+L61","v":0},0.3,0.85,0,1,1,0,0,0]
[null,{"$f":"+E53","v":"Fermentlé szilárd szeparátum"},0,null,{"$f":"+E53","v":"Fermentlé szilárd szeparátum"},{"$f":"+SUM(G53:R53)*K62+L62","v":2500},0.25,0.82,0,0,1,0,0,0]
[null,{"$f":"+E54","v":"Hulladék nedves szalma"},2,null,{"$f":"+E54","v":"Hulladék nedves szalma"},{"$f":"+SUM(G54:R54)*K63+L63","v":1800},0.7,0.87,1,1,1,0,0,0]
[null,{"$f":"+E55","v":"Cukorrépaszelet"},7,null,{"$f":"+E55","v":"Cukorrépaszelet"},{"$f":"+SUM(G55:R55)*K64+L64","v":410},0.25,0.9,0,1,1,0,0,0]
[null,null,null,null,"Összesen",{"$f":"+SUM(F60:F64)","v":6390},null,0,null,0]
[null,{"$f":"+B60","v":"Fermentlé szilárd szeparátum"},{"$f":"+C60*F60*1000","v":0}]
[null,{"$f":"+B61","v":"Silótető"},{"$f":"+C61*F61*1000","v":0},null,"Üzemórák, fogyasztások"]
[null,{"$f":"+B62","v":"Fermentlé szilárd szeparátum"},{"$f":"+C62*F62*1000","v":0},null,null,"Összesen",{"$f":"+G38","v":"Jan."},"Febr.","Márc.","Ápr.","Máj.","Jún.","Júl.","Aug.","Szept.","Okt.","Nov.","Dec.","napi max","napi átlag"]
[null,{"$f":"+B63","v":"Hulladék nedves szalma"},{"$f":"+C63*F63*1000","v":3600000},null,"Havi szárító működési óraszám",{"$f":"+SUM(G69:R69)","v":5790.0951584979193},{"$f":"+G46/G31*G30","v":530.61391912811223},{"$f":"+H46/H31*H30","v":474.30639514422518},455.67248937484675,504.85535250329337,{"$f":"+K46/K31*K30","v":456.93260101024862},437.438674132134,462.48944477520064,459.97359380228625,451.01544915127937,529.99088226566016,518.49226828013673,508.31408893049581,{"$f":"+S72*C17*C24","v":17.283075609337892},{"$f":"+F69/365","v":15.863274406843615}]
[null,{"$f":"+B64","v":"Cukorrépaszelet"},{"$f":"+C64*F64*1000","v":2870000},null,"Havi tömörítő működési óraszám",{"$f":"+SUM(G70:R70)","v":3478.6079182630906},{"$f":"+G45/G33*G32","v":320.28256704980845},309.86590038314176,320.28256704980845,320.28256704980845,320.28256704980845,320.28256704980845,320.28256704980845,320.28256704980845,320.28256704980845,230.3240740740741,199.65277777777774,{"$f":"+R45/R33*R32","v":176.50462962962965},{"$f":"+S73*C28*C30","v":10.685031047694542},{"$f":"+F70/365","v":9.5304326527755912}]
[null,"Alapanyag költség (Ft)",{"$f":"+SUM(C66:C70)","v":6470000},null,"Elődaráló működési óraszám",{"$f":"+SUM(G71:R71)","v":96.551724137931032},{"$f":"+G47/$C$20","v":10.727969348659004},10.727969348659004,10.727969348659004,10.727969348659004,10.727969348659004,10.727969348659004,10.727969348659004,10.727969348659004,10.727969348659004,0,0,0,{"$f":"+S74*C21","v":0.51790196855595194},{"$f":"+F71/365","v":0.26452527161076994}]
[null,null,null,null,"Szárító kihasználtság",{"$f":"+AVERAGE(G72:R72)","v":0.87911180841878178},{"$f":"+G69/G30","v":0.95092100202170649},{"$f":"+H69/H30","v":0.90863294088932023},0.81661736447105149,0.93491731945054324,0.81887562905062472,0.8100716187632111,0.82883413042150655,0.82432543692165994,0.83521379472459145,0.94980444850476731,0.96017086718543843,0.91095714862096022,{"$f":"+MAX(G72:R72)","v":0.96017086718543843}]
[null,"Beépített összteljesítmény (kW)",{"$f":"+SUM(H84:H116)","v":270.95000000000005},null,"Tömörítő kihasználtság",{"$f":"+AVERAGE(G73:R73)","v":0.88078985704302382},{"$f":"+G70/G32","v":0.95663849178556881},{"$f":"+H70/H32","v":0.98935472663838353},0.95663849178556881,0.98852644151175451,0.95663849178556881,0.98852644151175451,0.95663849178556881,0.95663849178556881,0.98852644151175451,0.68794526306473747,0.61621227709190662,0.52719423425815304,{"$f":"+MAX(G73:R73)","v":0.98935472663838353}]
[null,"Kapacitás lekötés teljesítmény %-ában",1,null,"Elődaráló kihasználtság",{"$f":"+AVERAGE(G74:R74)","v":6.1698088458345686E-2},{"$f":"+G71/G34","v":8.0748156387755926E-2},{"$f":"+H71/H34","v":8.6316994759325319E-2},8.0748156387755926E-2,8.3439761600681145E-2,8.0748156387755926E-2,8.3439761600681145E-2,8.0748156387755926E-2,8.0748156387755926E-2,8.3439761600681145E-2,0,0,0,{"$f":"+MAX(G74:R74)","v":8.6316994759325319E-2}]
[null,"Villamos energia lekötés (kW)",{"$f":"+C73*C74","v":270.95000000000005},null,"Szárító villamos energia fogyasztása (kWh)",{"$f":"+SUM(G75:R75)","v":434147.13688734401},{"$f":"+G69*$C$23-((1-G23)*SUM($I$85:$I$86))","v":39785.043934608424},35561.979635816897,34164.436703113512,37853.151437747008,34258.94507576865,32796.900559910056,34686.708358140051,34498.019535171472,33815.15868634596,39738.316169924517,38875.920121010262,38112.556669787191]
[null,"Kapacitás lekötés díja (Ft/kW/év)",8000,null,"Tömörítő villamos energia fogyasztása (kWh)",{"$f":"+SUM(G76:R76)","v":393952.34674329497},{"$f":"+G70*$C$29","v":36272.000718390809},35092.313218390802,36272.000718390809,36272.000718390809,36272.000718390809,36272.000718390809,36272.000718390809,36272.000718390809,36272.000718390809,26084.201388888894,22610.677083333328,19989.149305555558]
[null,"RHD fogyasztás alapján (Ft/kWh)",5,null,"Elődaráló villamos energia fogyasztása (kWh)",{"$f":"+SUM(G77:R77)","v":6517.2413793103451},{"$f":"+G71*$C$22","v":724.13793103448279},724.13793103448279,724.13793103448279,724.13793103448279,724.13793103448279,724.13793103448279,724.13793103448279,724.13793103448279,724.13793103448279,0,0,0]
[null,"Villamos energia ár (Ft/kWh)",20,null,"Összes villamos energia fogyasztás (kWh)",{"$f":"+SUM(G78:R78)","v":834616.72500994941},{"$f":"+SUM(G75:G77)","v":76781.182584033711},{"$f":"+SUM(H75:H77)","v":71378.430785242177},71160.575352538799,74849.290087172296,71255.083725193937,69793.039209335344,71682.847007565331,71494.158184596759,70811.297335771247,65822.517558813415,61486.59720434359,58101.705975342746]
[null,"Villamos energia éves díja (Ft)",{"$f":"+C76*C75+F78*(C77+C78)","v":23033018.125248734},null,"Összes hasznos hőfogyasztás (kWh)",{"$f":"+SUM(G79:R79)","v":3385724.2065615123},{"$f":"+G69*(G21+G26)","v":264792.49567547749},243234.21749296578,246752.12106635197,300062.19235531945,291578.2044421286,288505.85348053253,307636.41642834409,306192.92205433687,290618.32905011426,308378.74896513083,280367.36985070218,257605.3357001087]
[]
[null,"Hőenergia költsége (Ft/GJ)",20]
[null,"Hőenergia éves díja (Ft)",{"$f":"+F79*C81*3.6/1000","v":243772.1428724289},null,"Beépített motorok teljesítmény adatai"]
[null,null,null,null,"megnevezés","sorszám","Me.","Beép. telj.","Átl.telj."]
[null,"Értékesített termék átlagos távolsága egy irányban (km)",50,null,"távhő szivattyú",1,"kW",5.5,{"$f":"+H84","v":5.5}]
[null,"Szállító eszköz rakomány súlya (t)",25,null,"Fliegl ventilátor 1",2,"kW",11,11]
[null,"Szállítási költség (Ft/km)",300,null,"Fliegl ventilátor 2",3,"kW",11,{"$f":"+H86","v":11}]
[null,"Éves szállítási költség (Ft)",{"$f":"F44/C85*C84*C86*2","v":3419231.8474908881},null,"Tolópad H. szivattyú",4,"kW",5.5,5.5]
[null,null,null,null,"potyadék gyűjtő",5,"kW",1.1000000000000001,1.1000000000000001]
[null,"Rakodógép szolgáltatás díja (Ft/h)",10000,null,"potyadék csiga",6,"kW",1.1000000000000001,1.1000000000000001]
[null,"Alapanyag rakodási teljesítmény (t/h)",50,null,"száraz anyag gyűjtő",7,"kW",1.1000000000000001,1.1000000000000001]
[null,"Végtermék rakodási teljesítmény (t/h)",30,null,"kiadagoló csiga",8,"kW",1.1000000000000001,1.1000000000000001]
[null,"Éves rakodási költség",{"$f":"C89*(F65/C90+F44/C91)","v":2227786.6243030247},null,"cellás kiadagoló",9,"kW",1.1000000000000001,1.1000000000000001]
[null,null,null,null,"kis bolygató csiga",10,"kW",2.2000000000000002,2.2000000000000002]
[null,"Éves karbantartási költség (Ft)",2500000,null,"cellás beadagoló",11,"kW",2.2000000000000002,2.2000000000000002]
[null,"Éves karbantartási költség (Ft)",{"$f":"+C94","v":2500000},null,"dobforgató",12,"kW",4,4]
[null,null,null,null,"dob kiadagoló",13,"kW",2.2000000000000002,2.2000000000000002]
[null,"Bérelt telephely területe (m2)",500,null,"18 m szalag",14,"kW",2.2000000000000002,2.2000000000000002]
[null,"Bérleti díj (Ft/m2/hó)",50,null,"füstgáz ventilátor",15,"kW",11,11]
[null,"Ingatlan bérlet éves költsége",{"$f":"+C97*C98*12","v":300000},null,"füstgáz ciklon",16,"kW",1.5,1.5]
[null,null,null,null,"füstgáz ciklon csiga",17,"kW",2.2000000000000002,2.2000000000000002]
["Bérjellegű ráfordítások",null,null,null,"8 m csiga",18,"kW",3,3]
[null,"Bérköltség és járulékai (Ft/hó)",{"$f":"+C105*C106*12","v":8608432.5},null,"30m3 puffer bolygató",19,"kW",6,6]
[null,"Bérköltség (Ft/hó)",{"$f":"SUMPRODUCT(Paraméterek!G121:G124,Paraméterek!F121:F124)","v":417500},null,"30m3 puffer kiadagoló",20,"kW",6,6]
[null,"Járulékok (Ft/hó)",{"$f":"SUMPRODUCT(Paraméterek!H121:H124,Paraméterek!F121:F124)","v":77237.5},null,"6 m szalag",21,"kW",1.5,1.5]
[null,"Alkalmazottak száma",{"$f":"Paraméterek!F125","v":1.45},null,"kalapácsos daráló",22,"kW",22,{"$f":"H105*0.9","v":19.8}]
[null,"Alkalmazottak havi bruttó bére járulékkal (Ft/hó)",{"$f":"+C103+C104","v":494737.5},null,"daráló ciklon",23,"kW",1.5,1.5]
[null,"Személyi jellegű egyéb ráfordítások",50000,null,"daráló ventilátor",24,"kW",7.5,7.5]
[null,"Éves bérköltség",{"$f":"+(C106+C107)*12","v":6536850},null,"9m szalag",25,"kW",3,3]
[null,null,null,null,"10m3 puffer kiadagoló",26,"kW",6,6]
["Egyéb ráfordítások",null,null,null,"pelletáló csiga",27,"kW",2.2000000000000002,2.2000000000000002]
[null,"Egyéb ráfordítások fix havi díj(Ft)",100000,null,"pelletáló",28,"kW",55,{"$f":"H111*0.9","v":49.5}]
[null,"Egyéb ráfordítások NÁB %-ban",1E-3,"NÁB százalékában","10m szalag",29,"kW",3,3]
[null,"Éves egyéb ráfordítás",{"$f":"+C111*12+C112*C37","v":1298383.2702551163},null,"pellet tálca",30,"kW",0.75,0.75]
[null,null,null,null,"hűtő ciklon",31,"kW",1.5,1.5]
[null,null,null,null,"hűtő ventilátor",32,"kW",11,11]
["Működési ererdmény",null,{"$f":"+C37-C58","v":52354228.244946159},null,"Rotogrind elődaráló",33,"kW",75,{"$f":"H116*0.9","v":67.5}]
[]
[]
["Finanszírozás",null,null,null,"Alkalmazottak"]
[null,null,null,null,"Munkakör","fő","Bruttó havi bér/fő","Járulékok","Teljes költség/fő"]
[null,"Beruházás összege:",{"$f":"+E5+E3","v":218285758},null,"Ügyvezető",0.1,600000,{"$f":"G121*Paraméterek!$C$158","v":111000},{"$f":"+G121+H121","v":711000}]
[null,"Állami támogatás (Ft)",127869312.3,null,"Mérnök",0.25,450000,{"$f":"G122*Paraméterek!$C$158","v":83250},{"$f":"+G122+H122","v":533250}]
[null,"Állami támogatás elhatárolása (év)",7,null,"Adminisztrátor",0.1,250000,{"$f":"G123*Paraméterek!$C$158","v":46250},{"$f":"+G123+H123","v":296250}]
[null,"Beruházás önerő",{"$f":"C125/C121","v":0.1851538372008677},1,"Segédmunkás",1,220000,{"$f":"G124*Paraméterek!$C$158","v":40700},{"$f":"+G124+H124","v":260700}]
[null,"Beruházás önerő (Ft) - tagi kölcsön",{"$f":"+C121-C122-C127","v":40416445.700000003},null,"Összesen",{"$f":"SUM(F121:F124)","v":1.45}]
[]
[null,"Finanszírozási igény (Ft)",50000000]
[null,"Finanszírozási igény (Hiteldeviza)",{"$f":"$C$127/INDEX(Makroadatok!C15:C18,D124,1)","v":50000000}]
[null,"Hiteldeviza",null,3]
[null,"Hitelösszeg a 0. Évben (Ft)",{"$f":"+INDEX(Makroadatok!C15:C18,D124,1)*C128","v":50000000},1]
[null,"Futamidő (év)",6]
[null,"Hitel típusa"]
[null,"Ha fix, éves kamat",3.5000000000000003E-2]
[null,"Ha változó, kamatfelár (%)",0.02]
[null,"Törlesztési periódus"]
[null,"Betéti kamat mértéke Benchmarkhoz",-0.01]
[null,null,null,1]
[null,"ÁFA-finanszírozás összege (Hiteldeviza)",{"$f":"(($E$3+$E$5)*$C$140)/INDEX(Makroadatok!$C$15:$C$18,$D$124)","v":0}]
[null,"ÁFA-finanszírozás összege (HUF)",{"$f":"(E3+E5)*C140","v":0}]
[null,"ÁFA-kulcs",0]
[null,"ÁFA-finanszírozás ideje (hónap)",3,3]
[null,"ÁFA-hitel kamata"]
[null,null,null,1]
[null,"Állami támogatás összege (Hiteldeviza)",{"$f":"C122/INDEX(Makroadatok!$C$15:$C$18,$D$124)","v":127869312.3}]
[null,"Állami támogatás folyósítása (hónap)",5]
[null,"Folyósítás gyakorisága (hónap)"]
[null,"Folyósított összegek",{"$f":"MIN($C$144,$C$144/IF($D$141=1,$C$145,IF($D$141=2,$C$145/3,1)))","v":127869312.3}]
[null,"Hitel kamata"]
[]
[null,"Garancia mértéke",{"$f":"C122","v":127869312.3}]
[null,"Garancia díja",0]
[]
[]
["Egyéb"]
[]
[null,"Jegyzett tőke (Ft)",3000000]
[null,"Társasági adókulcs",0.09]
[null,"Bérjárulékok",0.185]
[null,"Iparűzési adó kulcs",0.02]

{"sheet":"Eredmények","index":2,"n_rows":157,"n_cols":15,"rows_kept":157,"cut":false,"hidden":false,"merged":[[0,1,1,1]]}
[null,"Mérleg, Eredménykimutatás, CF (millió HUF)",1,2,3,4,5,6,7,8,9,10,11,12,"x"]
[null,null,2020,2021,2022,2023,2024,2025,2026,2027,2028,2029,2030,2031,"x"]
[null,"Eszközök",null,null,null,null,null,null,null,null,null,null,null,null,"x"]
[3,"Befektetett eszközök",{"$f":"INDEX(Negyedéves!$A$75:$BS$502,$A4,3+Eredmények!C$1*4+(Paraméterek!$C$52-4))/1000000","v":197.79051553333335},{"$f":"INDEX(Negyedéves!$A$75:$BS$502,$A4,3+Eredmények!D$1*4+(Paraméterek!$C$52-4))/1000000","v":178.17389780112791},{"$f":"INDEX(Negyedéves!$A$75:$BS$502,$A4,3+Eredmények!E$1*4+(Paraméterek!$C$52-4))/1000000","v":158.42841510786815},{"$f":"INDEX(Negyedéves!$A$75:$BS$502,$A4,3+Eredmények!F$1*4+(Paraméterek!$C$52-4))/1000000","v":138.55149015433287},{"$f":"INDEX(Negyedéves!$A$75:$BS$502,$A4,3+Eredmények!G$1*4+(Paraméterek!$C$52-4))/1000000","v":118.54049409531677},{"$f":"INDEX(Negyedéves!$A$75:$BS$502,$A4,3+Eredmények!H$1*4+(Paraméterek!$C$52-4))/1000000","v":98.392745508710149},{"$f":"INDEX(Negyedéves!$A$75:$BS$502,$A4,3+Eredmények!I$1*4+(Paraméterek!$C$52-4))/1000000","v":78.105509343961188},{"$f":"INDEX(Negyedéves!$A$75:$BS$502,$A4,3+Eredmények!J$1*4+(Paraméterek!$C$52-4))/1000000","v":57.675995849507068},{"$f":"INDEX(Negyedéves!$A$75:$BS$502,$A4,3+Eredmények!K$1*4+(Paraméterek!$C$52-4))/1000000","v":37.247796934497217},{"$f":"INDEX(Negyedéves!$A$75:$BS$502,$A4,3+Eredmények!L$1*4+(Paraméterek!$C$52-4))/1000000","v":16.820938890520491},{"$f":"INDEX(Negyedéves!$A$75:$BS$502,$A4,3+Eredmények!M$1*4+(Paraméterek!$C$52-4))/1000000","v":16.224024334997569},{"$f":"INDEX(Negyedéves!$A$75:$BS$502,$A4,3+Eredmények!N$1*4+(Paraméterek!$C$52-4))/1000000","v":15.628504821697524},"x"]
[4,"Immateriális javak",{"$f":"INDEX(Negyedéves!$A$75:$BS$502,$A5,3+Eredmények!C$1*4+(Paraméterek!$C$52-4))/1000000","v":0},{"$f":"INDEX(Negyedéves!$A$75:$BS$502,$A5,3+Eredmények!D$1*4+(Paraméterek!$C$52-4))/1000000","v":0},{"$f":"INDEX(Negyedéves!$A$75:$BS$502,$A5,3+Eredmények!E$1*4+(Paraméterek!$C$52-4))/1000000","v":0},{"$f":"INDEX(Negyedéves!$A$75:$BS$502,$A5,3+Eredmények!F$1*4+(Paraméterek!$C$52-4))/1000000","v":0},{"$f":"INDEX(Negyedéves!$A$75:$BS$502,$A5,3+Eredmények!G$1*4+(Paraméterek!$C$52-4))/1000000","v":0},{"$f":"INDEX(Negyedéves!$A$75:$BS$502,$A5,3+Eredmények!H$1*4+(Paraméterek!$C$52-4))/1000000","v":0},{"$f":"INDEX(Negyedéves!$A$75:$BS$502,$A5,3+Eredmények!I$1*4+(Paraméterek!$C$52-4))/1000000","v":0},{"$f":"INDEX(Negyedéves!$A$75:$BS$502,$A5,3+Eredmények!J$1*4+(Paraméterek!$C$52-4))/1000000","v":0},{"$f":"INDEX(Negyedéves!$A$75:$BS$502,$A5,3+Eredmények!K$1*4+(Paraméterek!$C$52-4))/1000000","v":0},{"$f":"INDEX(Negyedéves!$A$75:$BS$502,$A5,3+Eredmények!L$1*4+(Paraméterek!$C$52-4))/1000000","v":0},{"$f":"INDEX(Negyedéves!$A$75:$BS$502,$A5,3+Eredmények!M$1*4+(Paraméterek!$C$52-4))/1000000","v":0},{"$f":"INDEX(Negyedéves!$A$75:$BS$502,$A5,3+Eredmények!N$1*4+(Paraméterek!$C$52-4))/1000000","v":0},"x"]
[5,"Vagyoni értékű jogok",{"$f":"INDEX(Negyedéves!$A$75:$BS$502,$A6,3+Eredmények!C$1*4+(Paraméterek!$C$52-4))/1000000","v":0},{"$f":"INDEX(Negyedéves!$A$75:$BS$502,$A6,3+Eredmények!D$1*4+(Paraméterek!$C$52-4))/1000000","v":0},{"$f":"INDEX(Negyedéves!$A$75:$BS$502,$A6,3+Eredmények!E$1*4+(Paraméterek!$C$52-4))/1000000","v":0},{"$f":"INDEX(Negyedéves!$A$75:$BS$502,$A6,3+Eredmények!F$1*4+(Paraméterek!$C$52-4))/1000000","v":0},{"$f":"INDEX(Negyedéves!$A$75:$BS$502,$A6,3+Eredmények!G$1*4+(Paraméterek!$C$52-4))/1000000","v":0},{"$f":"INDEX(Negyedéves!$A$75:$BS$502,$A6,3+Eredmények!H$1*4+(Paraméterek!$C$52-4))/1000000","v":0},{"$f":"INDEX(Negyedéves!$A$75:$BS$502,$A6,3+Eredmények!I$1*4+(Paraméterek!$C$52-4))/1000000","v":0},{"$f":"INDEX(Negyedéves!$A$75:$BS$502,$A6,3+Eredmények!J$1*4+(Paraméterek!$C$52-4))/1000000","v":0},{"$f":"INDEX(Negyedéves!$A$75:$BS$502,$A6,3+Eredmények!K$1*4+(Paraméterek!$C$52-4))/1000000","v":0},{"$f":"INDEX(Negyedéves!$A$75:$BS$502,$A6,3+Eredmények!L$1*4+(Paraméterek!$C$52-4))/1000000","v":0},{"$f":"INDEX(Negyedéves!$A$75:$BS$502,$A6,3+Eredmények!M$1*4+(Paraméterek!$C$52-4))/1000000","v":0},{"$f":"INDEX(Negyedéves!$A$75:$BS$502,$A6,3+Eredmények!N$1*4+(Paraméterek!$C$52-4))/1000000","v":0},"x"]
[6,"Szellemi termékek",{"$f":"INDEX(Negyedéves!$A$75:$BS$502,$A7,3+Eredmények!C$1*4+(Paraméterek!$C$52-4))/1000000","v":0},{"$f":"INDEX(Negyedéves!$A$75:$BS$502,$A7,3+Eredmények!D$1*4+(Paraméterek!$C$52-4))/1000000","v":0},{"$f":"INDEX(Negyedéves!$A$75:$BS$502,$A7,3+Eredmények!E$1*4+(Paraméterek!$C$52-4))/1000000","v":0},{"$f":"INDEX(Negyedéves!$A$75:$BS$502,$A7,3+Eredmények!F$1*4+(Paraméterek!$C$52-4))/1000000","v":0},{"$f":"INDEX(Negyedéves!$A$75:$BS$502,$A7,3+Eredmények!G$1*4+(Paraméterek!$C$52-4))/1000000","v":0},{"$f":"INDEX(Negyedéves!$A$75:$BS$502,$A7,3+Eredmények!H$1*4+(Paraméterek!$C$52-4))/1000000","v":0},{"$f":"INDEX(Negyedéves!$A$75:$BS$502,$A7,3+Eredmények!I$1*4+(Paraméterek!$C$52-4))/1000000","v":0},{"$f":"INDEX(Negyedéves!$A$75:$BS$502,$A7,3+Eredmények!J$1*4+(Paraméterek!$C$52-4))/1000000","v":0},{"$f":"INDEX(Negyedéves!$A$75:$BS$502,$A7,3+Eredmények!K$1*4+(Paraméterek!$C$52-4))/1000000","v":0},{"$f":"INDEX(Negyedéves!$A$75:$BS$502,$A7,3+Eredmények!L$1*4+(Paraméterek!$C$52-4))/1000000","v":0},{"$f":"INDEX(Negyedéves!$A$75:$BS$502,$A7,3+Eredmények!M$1*4+(Paraméterek!$C$52-4))/1000000","v":0},{"$f":"INDEX(Negyedéves!$A$75:$BS$502,$A7,3+Eredmények!N$1*4+(Paraméterek!$C$52-4))/1000000","v":0},"x"]
[7,"Tárgyi eszközök",{"$f":"INDEX(Negyedéves!$A$75:$BS$502,$A8,3+Eredmények!C$1*4+(Paraméterek!$C$52-4))/1000000","v":197.79051553333335},{"$f":"INDEX(Negyedéves!$A$75:$BS$502,$A8,3+Eredmények!D$1*4+(Paraméterek!$C$52-4))/1000000","v":178.17389780112791},{"$f":"INDEX(Negyedéves!$A$75:$BS$502,$A8,3+Eredmények!E$1*4+(Paraméterek!$C$52-4))/1000000","v":158.42841510786815},{"$f":"INDEX(Negyedéves!$A$75:$BS$502,$A8,3+Eredmények!F$1*4+(Paraméterek!$C$52-4))/1000000","v":138.55149015433287},{"$f":"INDEX(Negyedéves!$A$75:$BS$502,$A8,3+Eredmények!G$1*4+(Paraméterek!$C$52-4))/1000000","v":118.54049409531677},{"$f":"INDEX(Negyedéves!$A$75:$BS$502,$A8,3+Eredmények!H$1*4+(Paraméterek!$C$52-4))/1000000","v":98.392745508710149},{"$f":"INDEX(Negyedéves!$A$75:$BS$502,$A8,3+Eredmények!I$1*4+(Paraméterek!$C$52-4))/1000000","v":78.105509343961188},{"$f":"INDEX(Negyedéves!$A$75:$BS$502,$A8,3+Eredmények!J$1*4+(Paraméterek!$C$52-4))/1000000","v":57.675995849507068},{"$f":"INDEX(Negyedéves!$A$75:$BS$502,$A8,3+Eredmények!K$1*4+(Paraméterek!$C$52-4))/1000000","v":37.247796934497217},{"$f":"INDEX(Negyedéves!$A$75:$BS$502,$A8,3+Eredmények!L$1*4+(Paraméterek!$C$52-4))/1000000","v":16.820938890520491},{"$f":"INDEX(Negyedéves!$A$75:$BS$502,$A8,3+Eredmények!M$1*4+(Paraméterek!$C$52-4))/1000000","v":16.224024334997569},{"$f":"INDEX(Negyedéves!$A$75:$BS$502,$A8,3+Eredmények!N$1*4+(Paraméterek!$C$52-4))/1000000","v":15.628504821697524},"x"]
[8,"Ingatlanok és kapcs. vagyonértékű jogok",{"$f":"INDEX(Negyedéves!$A$75:$BS$502,$A9,3+Eredmények!C$1*4+(Paraméterek!$C$52-4))/1000000","v":19.333333333333329},{"$f":"INDEX(Negyedéves!$A$75:$BS$502,$A9,3+Eredmények!D$1*4+(Paraméterek!$C$52-4))/1000000","v":18.666666666666657},{"$f":"INDEX(Negyedéves!$A$75:$BS$502,$A9,3+Eredmények!E$1*4+(Paraméterek!$C$52-4))/1000000","v":17.999999999999986},{"$f":"INDEX(Negyedéves!$A$75:$BS$502,$A9,3+Eredmények!F$1*4+(Paraméterek!$C$52-4))/1000000","v":17.333333333333314},{"$f":"INDEX(Negyedéves!$A$75:$BS$502,$A9,3+Eredmények!G$1*4+(Paraméterek!$C$52-4))/1000000","v":16.666666666666643},{"$f":"INDEX(Negyedéves!$A$75:$BS$502,$A9,3+Eredmények!H$1*4+(Paraméterek!$C$52-4))/1000000","v":15.999999999999979},{"$f":"INDEX(Negyedéves!$A$75:$BS$502,$A9,3+Eredmények!I$1*4+(Paraméterek!$C$52-4))/1000000","v":15.333333333333316},{"$f":"INDEX(Negyedéves!$A$75:$BS$502,$A9,3+Eredmények!J$1*4+(Paraméterek!$C$52-4))/1000000","v":14.666666666666652},{"$f":"INDEX(Negyedéves!$A$75:$BS$502,$A9,3+Eredmények!K$1*4+(Paraméterek!$C$52-4))/1000000","v":13.999999999999988},{"$f":"INDEX(Negyedéves!$A$75:$BS$502,$A9,3+Eredmények!L$1*4+(Paraméterek!$C$52-4))/1000000","v":13.333333333333323},{"$f":"INDEX(Negyedéves!$A$75:$BS$502,$A9,3+Eredmények!M$1*4+(Paraméterek!$C$52-4))/1000000","v":12.666666666666659},{"$f":"INDEX(Negyedéves!$A$75:$BS$502,$A9,3+Eredmények!N$1*4+(Paraméterek!$C$52-4))/1000000","v":11.999999999999995},"x"]
[9,"Műszaki gépek+egyéb berendezések",{"$f":"INDEX(Negyedéves!$A$75:$BS$502,$A10,3+Eredmények!C$1*4+(Paraméterek!$C$52-4))/1000000","v":178.45718220000003},{"$f":"INDEX(Negyedéves!$A$75:$BS$502,$A10,3+Eredmények!D$1*4+(Paraméterek!$C$52-4))/1000000","v":158.62860640000011},{"$f":"INDEX(Negyedéves!$A$75:$BS$502,$A10,3+Eredmények!E$1*4+(Paraméterek!$C$52-4))/1000000","v":138.80003060000016},{"$f":"INDEX(Negyedéves!$A$75:$BS$502,$A10,3+Eredmények!F$1*4+(Paraméterek!$C$52-4))/1000000","v":118.97145480000013},{"$f":"INDEX(Negyedéves!$A$75:$BS$502,$A10,3+Eredmények!G$1*4+(Paraméterek!$C$52-4))/1000000","v":99.142879000000121},{"$f":"INDEX(Negyedéves!$A$75:$BS$502,$A10,3+Eredmények!H$1*4+(Paraméterek!$C$52-4))/1000000","v":79.314303200000111},{"$f":"INDEX(Negyedéves!$A$75:$BS$502,$A10,3+Eredmények!I$1*4+(Paraméterek!$C$52-4))/1000000","v":59.485727400000094},{"$f":"INDEX(Negyedéves!$A$75:$BS$502,$A10,3+Eredmények!J$1*4+(Paraméterek!$C$52-4))/1000000","v":39.657151600000084},{"$f":"INDEX(Negyedéves!$A$75:$BS$502,$A10,3+Eredmények!K$1*4+(Paraméterek!$C$52-4))/1000000","v":19.828575800000081},{"$f":"INDEX(Negyedéves!$A$75:$BS$502,$A10,3+Eredmények!L$1*4+(Paraméterek!$C$52-4))/1000000","v":8.3819031715393072E-14},{"$f":"INDEX(Negyedéves!$A$75:$BS$502,$A10,3+Eredmények!M$1*4+(Paraméterek!$C$52-4))/1000000","v":8.3819031715393072E-14},{"$f":"INDEX(Negyedéves!$A$75:$BS$502,$A10,3+Eredmények!N$1*4+(Paraméterek!$C$52-4))/1000000","v":8.3819031715393072E-14},"x"]
[10,"Beruházások, felújítások",{"$f":"INDEX(Negyedéves!$A$75:$BS$502,$A11,3+Eredmények!C$1*4+(Paraméterek!$C$52-4))/1000000","v":0},{"$f":"INDEX(Negyedéves!$A$75:$BS$502,$A11,3+Eredmények!D$1*4+(Paraméterek!$C$52-4))/1000000","v":0.87862473446114431},{"$f":"INDEX(Negyedéves!$A$75:$BS$502,$A11,3+Eredmények!E$1*4+(Paraméterek!$C$52-4))/1000000","v":1.6283845078679875},{"$f":"INDEX(Negyedéves!$A$75:$BS$502,$A11,3+Eredmények!F$1*4+(Paraméterek!$C$52-4))/1000000","v":2.2467020209994439},{"$f":"INDEX(Negyedéves!$A$75:$BS$502,$A11,3+Eredmények!G$1*4+(Paraméterek!$C$52-4))/1000000","v":2.7309484286500059},{"$f":"INDEX(Negyedéves!$A$75:$BS$502,$A11,3+Eredmények!H$1*4+(Paraméterek!$C$52-4))/1000000","v":3.0784423087100543},{"$f":"INDEX(Negyedéves!$A$75:$BS$502,$A11,3+Eredmények!I$1*4+(Paraméterek!$C$52-4))/1000000","v":3.2864486106277799},{"$f":"INDEX(Negyedéves!$A$75:$BS$502,$A11,3+Eredmények!J$1*4+(Paraméterek!$C$52-4))/1000000","v":3.3521775828403366},{"$f":"INDEX(Negyedéves!$A$75:$BS$502,$A11,3+Eredmények!K$1*4+(Paraméterek!$C$52-4))/1000000","v":3.4192211344971435},{"$f":"INDEX(Negyedéves!$A$75:$BS$502,$A11,3+Eredmények!L$1*4+(Paraméterek!$C$52-4))/1000000","v":3.4876055571870861},{"$f":"INDEX(Negyedéves!$A$75:$BS$502,$A11,3+Eredmények!M$1*4+(Paraméterek!$C$52-4))/1000000","v":3.5573576683308277},{"$f":"INDEX(Negyedéves!$A$75:$BS$502,$A11,3+Eredmények!N$1*4+(Paraméterek!$C$52-4))/1000000","v":3.6285048216974456},"x"]
[11,"Befektetett pénzügyi eszközök",{"$f":"INDEX(Negyedéves!$A$75:$BS$502,$A12,3+Eredmények!C$1*4+(Paraméterek!$C$52-4))/1000000","v":0},{"$f":"INDEX(Negyedéves!$A$75:$BS$502,$A12,3+Eredmények!D$1*4+(Paraméterek!$C$52-4))/1000000","v":0},{"$f":"INDEX(Negyedéves!$A$75:$BS$502,$A12,3+Eredmények!E$1*4+(Paraméterek!$C$52-4))/1000000","v":0},{"$f":"INDEX(Negyedéves!$A$75:$BS$502,$A12,3+Eredmények!F$1*4+(Paraméterek!$C$52-4))/1000000","v":0},{"$f":"INDEX(Negyedéves!$A$75:$BS$502,$A12,3+Eredmények!G$1*4+(Paraméterek!$C$52-4))/1000000","v":0},{"$f":"INDEX(Negyedéves!$A$75:$BS$502,$A12,3+Eredmények!H$1*4+(Paraméterek!$C$52-4))/1000000","v":0},{"$f":"INDEX(Negyedéves!$A$75:$BS$502,$A12,3+Eredmények!I$1*4+(Paraméterek!$C$52-4))/1000000","v":0},{"$f":"INDEX(Negyedéves!$A$75:$BS$502,$A12,3+Eredmények!J$1*4+(Paraméterek!$C$52-4))/1000000","v":0},{"$f":"INDEX(Negyedéves!$A$75:$BS$502,$A12,3+Eredmények!K$1*4+(Paraméterek!$C$52-4))/1000000","v":0},{"$f":"INDEX(Negyedéves!$A$75:$BS$502,$A12,3+Eredmények!L$1*4+(Paraméterek!$C$52-4))/1000000","v":0},{"$f":"INDEX(Negyedéves!$A$75:$BS$502,$A12,3+Eredmények!M$1*4+(Paraméterek!$C$52-4))/1000000","v":0},{"$f":"INDEX(Negyedéves!$A$75:$BS$502,$A12,3+Eredmények!N$1*4+(Paraméterek!$C$52-4))/1000000","v":0},"x"]
[12,"Egyéb tartósan adott kölcsön",{"$f":"INDEX(Negyedéves!$A$75:$BS$502,$A13,3+Eredmények!C$1*4+(Paraméterek!$C$52-4))/1000000","v":0},{"$f":"INDEX(Negyedéves!$A$75:$BS$502,$A13,3+Eredmények!D$1*4+(Paraméterek!$C$52-4))/1000000","v":0},{"$f":"INDEX(Negyedéves!$A$75:$BS$502,$A13,3+Eredmények!E$1*4+(Paraméterek!$C$52-4))/1000000","v":0},{"$f":"INDEX(Negyedéves!$A$75:$BS$502,$A13,3+Eredmények!F$1*4+(Paraméterek!$C$52-4))/1000000","v":0},{"$f":"INDEX(Negyedéves!$A$75:$BS$502,$A13,3+Eredmények!G$1*4+(Paraméterek!$C$52-4))/1000000","v":0},{"$f":"INDEX(Negyedéves!$A$75:$BS$502,$A13,3+Eredmények!H$1*4+(Paraméterek!$C$52-4))/1000000","v":0},{"$f":"INDEX(Negyedéves!$A$75:$BS$502,$A13,3+Eredmények!I$1*4+(Paraméterek!$C$52-4))/1000000","v":0},{"$f":"INDEX(Negyedéves!$A$75:$BS$502,$A13,3+Eredmények!J$1*4+(Paraméterek!$C$52-4))/1000000","v":0},{"$f":"INDEX(Negyedéves!$A$75:$BS$502,$A13,3+Eredmények!K$1*4+(Paraméterek!$C$52-4))/1000000","v":0},{"$f":"INDEX(Negyedéves!$A$75:$BS$502,$A13,3+Eredmények!L$1*4+(Paraméterek!$C$52-4))/1000000","v":0},{"$f":"INDEX(Negyedéves!$A$75:$BS$502,$A13,3+Eredmények!M$1*4+(Paraméterek!$C$52-4))/1000000","v":0},{"$f":"INDEX(Negyedéves!$A$75:$BS$502,$A13,3+Eredmények!N$1*4+(Paraméterek!$C$52-4))/1000000","v":0},"x"]
[13,"Forgóeszközök",{"$f":"INDEX(Negyedéves!$A$75:$BS$502,$A14,3+Eredmények!C$1*4+(Paraméterek!$C$52-4))/1000000","v":39.371754802803729},{"$f":"INDEX(Negyedéves!$A$75:$BS$502,$A14,3+Eredmények!D$1*4+(Paraméterek!$C$52-4))/1000000","v":78.882508550395642},{"$f":"INDEX(Negyedéves!$A$75:$BS$502,$A14,3+Eredmények!E$1*4+(Paraméterek!$C$52-4))/1000000","v":120.9252453607257},{"$f":"INDEX(Negyedéves!$A$75:$BS$502,$A14,3+Eredmények!F$1*4+(Paraméterek!$C$52-4))/1000000","v":165.60137424094731},{"$f":"INDEX(Negyedéves!$A$75:$BS$502,$A14,3+Eredmények!G$1*4+(Paraméterek!$C$52-4))/1000000","v":213.0159687978354},{"$f":"INDEX(Negyedéves!$A$75:$BS$502,$A14,3+Eredmények!H$1*4+(Paraméterek!$C$52-4))/1000000","v":263.27789327555877},{"$f":"INDEX(Negyedéves!$A$75:$BS$502,$A14,3+Eredmények!I$1*4+(Paraméterek!$C$52-4))/1000000","v":324.83326614766474},{"$f":"INDEX(Negyedéves!$A$75:$BS$502,$A14,3+Eredmények!J$1*4+(Paraméterek!$C$52-4))/1000000","v":391.12936912394343},{"$f":"INDEX(Negyedéves!$A$75:$BS$502,$A14,3+Eredmények!K$1*4+(Paraméterek!$C$52-4))/1000000","v":460.66375298379387},{"$f":"INDEX(Negyedéves!$A$75:$BS$502,$A14,3+Eredmények!L$1*4+(Paraméterek!$C$52-4))/1000000","v":533.56282332024523},{"$f":"INDEX(Negyedéves!$A$75:$BS$502,$A14,3+Eredmények!M$1*4+(Paraméterek!$C$52-4))/1000000","v":608.15150097319918},{"$f":"INDEX(Negyedéves!$A$75:$BS$502,$A14,3+Eredmények!N$1*4+(Paraméterek!$C$52-4))/1000000","v":686.31316362003918},"x"]
[14,"Készletek",{"$f":"INDEX(Negyedéves!$A$75:$BS$502,$A15,3+Eredmények!C$1*4+(Paraméterek!$C$52-4))/1000000","v":0},{"$f":"INDEX(Negyedéves!$A$75:$BS$502,$A15,3+Eredmények!D$1*4+(Paraméterek!$C$52-4))/1000000","v":0},{"$f":"INDEX(Negyedéves!$A$75:$BS$502,$A15,3+Eredmények!E$1*4+(Paraméterek!$C$52-4))/1000000","v":0},{"$f":"INDEX(Negyedéves!$A$75:$BS$502,$A15,3+Eredmények!F$1*4+(Paraméterek!$C$52-4))/1000000","v":0},{"$f":"INDEX(Negyedéves!$A$75:$BS$502,$A15,3+Eredmények!G$1*4+(Paraméterek!$C$52-4))/1000000","v":0},{"$f":"INDEX(Negyedéves!$A$75:$BS$502,$A15,3+Eredmények!H$1*4+(Paraméterek!$C$52-4))/1000000","v":0},{"$f":"INDEX(Negyedéves!$A$75:$BS$502,$A15,3+Eredmények!I$1*4+(Paraméterek!$C$52-4))/1000000","v":0},{"$f":"INDEX(Negyedéves!$A$75:$BS$502,$A15,3+Eredmények!J$1*4+(Paraméterek!$C$52-4))/1000000","v":0},{"$f":"INDEX(Negyedéves!$A$75:$BS$502,$A15,3+Eredmények!K$1*4+(Paraméterek!$C$52-4))/1000000","v":0},{"$f":"INDEX(Negyedéves!$A$75:$BS$502,$A15,3+Eredmények!L$1*4+(Paraméterek!$C$52-4))/1000000","v":0},{"$f":"INDEX(Negyedéves!$A$75:$BS$502,$A15,3+Eredmények!M$1*4+(Paraméterek!$C$52-4))/1000000","v":0},{"$f":"INDEX(Negyedéves!$A$75:$BS$502,$A15,3+Eredmények!N$1*4+(Paraméterek!$C$52-4))/1000000","v":0},"x"]
[15,"Követelések",{"$f":"INDEX(Negyedéves!$A$75:$BS$502,$A16,3+Eredmények!C$1*4+(Paraméterek!$C$52-4))/1000000","v":0},{"$f":"INDEX(Negyedéves!$A$75:$BS$502,$A16,3+Eredmények!D$1*4+(Paraméterek!$C$52-4))/1000000","v":0},{"$f":"INDEX(Negyedéves!$A$75:$BS$502,$A16,3+Eredmények!E$1*4+(Paraméterek!$C$52-4))/1000000","v":0},{"$f":"INDEX(Negyedéves!$A$75:$BS$502,$A16,3+Eredmények!F$1*4+(Paraméterek!$C$52-4))/1000000","v":0},{"$f":"INDEX(Negyedéves!$A$75:$BS$502,$A16,3+Eredmények!G$1*4+(Paraméterek!$C$52-4))/1000000","v":0},{"$f":"INDEX(Negyedéves!$A$75:$BS$502,$A16,3+Eredmények!H$1*4+(Paraméterek!$C$52-4))/1000000","v":0},{"$f":"INDEX(Negyedéves!$A$75:$BS$502,$A16,3+Eredmények!I$1*4+(Paraméterek!$C$52-4))/1000000","v":0},{"$f":"INDEX(Negyedéves!$A$75:$BS$502,$A16,3+Eredmények!J$1*4+(Paraméterek!$C$52-4))/1000000","v":0},{"$f":"INDEX(Negyedéves!$A$75:$BS$502,$A16,3+Eredmények!K$1*4+(Paraméterek!$C$52-4))/1000000","v":0},{"$f":"INDEX(Negyedéves!$A$75:$BS$502,$A16,3+Eredmények!L$1*4+(Paraméterek!$C$52-4))/1000000","v":0},{"$f":"INDEX(Negyedéves!$A$75:$BS$502,$A16,3+Eredmények!M$1*4+(Paraméterek!$C$52-4))/1000000","v":0},{"$f":"INDEX(Negyedéves!$A$75:$BS$502,$A16,3+Eredmények!N$1*4+(Paraméterek!$C$52-4))/1000000","v":0},"x"]
[16,"Követelések áruszállításból és szolgáltatásból",{"$f":"INDEX(Negyedéves!$A$75:$BS$502,$A17,3+Eredmények!C$1*4+(Paraméterek!$C$52-4))/1000000","v":0},{"$f":"INDEX(Negyedéves!$A$75:$BS$502,$A17,3+Eredmények!D$1*4+(Paraméterek!$C$52-4))/1000000","v":0},{"$f":"INDEX(Negyedéves!$A$75:$BS$502,$A17,3+Eredmények!E$1*4+(Paraméterek!$C$52-4))/1000000","v":0},{"$f":"INDEX(Negyedéves!$A$75:$BS$502,$A17,3+Eredmények!F$1*4+(Paraméterek!$C$52-4))/1000000","v":0},{"$f":"INDEX(Negyedéves!$A$75:$BS$502,$A17,3+Eredmények!G$1*4+(Paraméterek!$C$52-4))/1000000","v":0},{"$f":"INDEX(Negyedéves!$A$75:$BS$502,$A17,3+Eredmények!H$1*4+(Paraméterek!$C$52-4))/1000000","v":0},{"$f":"INDEX(Negyedéves!$A$75:$BS$502,$A17,3+Eredmények!I$1*4+(Paraméterek!$C$52-4))/1000000","v":0},{"$f":"INDEX(Negyedéves!$A$75:$BS$502,$A17,3+Eredmények!J$1*4+(Paraméterek!$C$52-4))/1000000","v":0},{"$f":"INDEX(Negyedéves!$A$75:$BS$502,$A17,3+Eredmények!K$1*4+(Paraméterek!$C$52-4))/1000000","v":0},{"$f":"INDEX(Negyedéves!$A$75:$BS$502,$A17,3+Eredmények!L$1*4+(Paraméterek!$C$52-4))/1000000","v":0},{"$f":"INDEX(Negyedéves!$A$75:$BS$502,$A17,3+Eredmények!M$1*4+(Paraméterek!$C$52-4))/1000000","v":0},{"$f":"INDEX(Negyedéves!$A$75:$BS$502,$A17,3+Eredmények!N$1*4+(Paraméterek!$C$52-4))/1000000","v":0},"x"]
[17,"Egyéb követelések",{"$f":"INDEX(Negyedéves!$A$75:$BS$502,$A18,3+Eredmények!C$1*4+(Paraméterek!$C$52-4))/1000000","v":0},{"$f":"INDEX(Negyedéves!$A$75:$BS$502,$A18,3+Eredmények!D$1*4+(Paraméterek!$C$52-4))/1000000","v":0},{"$f":"INDEX(Negyedéves!$A$75:$BS$502,$A18,3+Eredmények!E$1*4+(Paraméterek!$C$52-4))/1000000","v":0},{"$f":"INDEX(Negyedéves!$A$75:$BS$502,$A18,3+Eredmények!F$1*4+(Paraméterek!$C$52-4))/1000000","v":0},{"$f":"INDEX(Negyedéves!$A$75:$BS$502,$A18,3+Eredmények!G$1*4+(Paraméterek!$C$52-4))/1000000","v":0},{"$f":"INDEX(Negyedéves!$A$75:$BS$502,$A18,3+Eredmények!H$1*4+(Paraméterek!$C$52-4))/1000000","v":0},{"$f":"INDEX(Negyedéves!$A$75:$BS$502,$A18,3+Eredmények!I$1*4+(Paraméterek!$C$52-4))/1000000","v":0},{"$f":"INDEX(Negyedéves!$A$75:$BS$502,$A18,3+Eredmények!J$1*4+(Paraméterek!$C$52-4))/1000000","v":0},{"$f":"INDEX(Negyedéves!$A$75:$BS$502,$A18,3+Eredmények!K$1*4+(Paraméterek!$C$52-4))/1000000","v":0},{"$f":"INDEX(Negyedéves!$A$75:$BS$502,$A18,3+Eredmények!L$1*4+(Paraméterek!$C$52-4))/1000000","v":0},{"$f":"INDEX(Negyedéves!$A$75:$BS$502,$A18,3+Eredmények!M$1*4+(Paraméterek!$C$52-4))/1000000","v":0},{"$f":"INDEX(Negyedéves!$A$75:$BS$502,$A18,3+Eredmények!N$1*4+(Paraméterek!$C$52-4))/1000000","v":0},"x"]
[18,"Állami támogatás",{"$f":"INDEX(Negyedéves!$A$75:$BS$502,$A19,3+Eredmények!C$1*4+(Paraméterek!$C$52-4))/1000000","v":0},{"$f":"INDEX(Negyedéves!$A$75:$BS$502,$A19,3+Eredmények!D$1*4+(Paraméterek!$C$52-4))/1000000","v":0},{"$f":"INDEX(Negyedéves!$A$75:$BS$502,$A19,3+Eredmények!E$1*4+(Paraméterek!$C$52-4))/1000000","v":0},{"$f":"INDEX(Negyedéves!$A$75:$BS$502,$A19,3+Eredmények!F$1*4+(Paraméterek!$C$52-4))/1000000","v":0},{"$f":"INDEX(Negyedéves!$A$75:$BS$502,$A19,3+Eredmények!G$1*4+(Paraméterek!$C$52-4))/1000000","v":0},{"$f":"INDEX(Negyedéves!$A$75:$BS$502,$A19,3+Eredmények!H$1*4+(Paraméterek!$C$52-4))/1000000","v":0},{"$f":"INDEX(Negyedéves!$A$75:$BS$502,$A19,3+Eredmények!I$1*4+(Paraméterek!$C$52-4))/1000000","v":0},{"$f":"INDEX(Negyedéves!$A$75:$BS$502,$A19,3+Eredmények!J$1*4+(Paraméterek!$C$52-4))/1000000","v":0},{"$f":"INDEX(Negyedéves!$A$75:$BS$502,$A19,3+Eredmények!K$1*4+(Paraméterek!$C$52-4))/1000000","v":0},{"$f":"INDEX(Negyedéves!$A$75:$BS$502,$A19,3+Eredmények!L$1*4+(Paraméterek!$C$52-4))/1000000","v":0},{"$f":"INDEX(Negyedéves!$A$75:$BS$502,$A19,3+Eredmények!M$1*4+(Paraméterek!$C$52-4))/1000000","v":0},{"$f":"INDEX(Negyedéves!$A$75:$BS$502,$A19,3+Eredmények!N$1*4+(Paraméterek!$C$52-4))/1000000","v":0},"x"]
[19,"Értékpapírok",{"$f":"INDEX(Negyedéves!$A$75:$BS$502,$A20,3+Eredmények!C$1*4+(Paraméterek!$C$52-4))/1000000","v":0},{"$f":"INDEX(Negyedéves!$A$75:$BS$502,$A20,3+Eredmények!D$1*4+(Paraméterek!$C$52-4))/1000000","v":0},{"$f":"INDEX(Negyedéves!$A$75:$BS$502,$A20,3+Eredmények!E$1*4+(Paraméterek!$C$52-4))/1000000","v":0},{"$f":"INDEX(Negyedéves!$A$75:$BS$502,$A20,3+Eredmények!F$1*4+(Paraméterek!$C$52-4))/1000000","v":0},{"$f":"INDEX(Negyedéves!$A$75:$BS$502,$A20,3+Eredmények!G$1*4+(Paraméterek!$C$52-4))/1000000","v":0},{"$f":"INDEX(Negyedéves!$A$75:$BS$502,$A20,3+Eredmények!H$1*4+(Paraméterek!$C$52-4))/1000000","v":0},{"$f":"INDEX(Negyedéves!$A$75:$BS$502,$A20,3+Eredmények!I$1*4+(Paraméterek!$C$52-4))/1000000","v":0},{"$f":"INDEX(Negyedéves!$A$75:$BS$502,$A20,3+Eredmények!J$1*4+(Paraméterek!$C$52-4))/1000000","v":0},{"$f":"INDEX(Negyedéves!$A$75:$BS$502,$A20,3+Eredmények!K$1*4+(Paraméterek!$C$52-4))/1000000","v":0},{"$f":"INDEX(Negyedéves!$A$75:$BS$502,$A20,3+Eredmények!L$1*4+(Paraméterek!$C$52-4))/1000000","v":0},{"$f":"INDEX(Negyedéves!$A$75:$BS$502,$A20,3+Eredmények!M$1*4+(Paraméterek!$C$52-4))/1000000","v":0},{"$f":"INDEX(Negyedéves!$A$75:$BS$502,$A20,3+Eredmények!N$1*4+(Paraméterek!$C$52-4))/1000000","v":0},"x"]
[20,"Pénzeszközök",{"$f":"INDEX(Negyedéves!$A$75:$BS$502,$A21,3+Eredmények!C$1*4+(Paraméterek!$C$52-4))/1000000","v":39.371754802803729},{"$f":"INDEX(Negyedéves!$A$75:$BS$502,$A21,3+Eredmények!D$1*4+(Paraméterek!$C$52-4))/1000000","v":78.882508550395642},{"$f":"INDEX(Negyedéves!$A$75:$BS$502,$A21,3+Eredmények!E$1*4+(Paraméterek!$C$52-4))/1000000","v":120.9252453607257},{"$f":"INDEX(Negyedéves!$A$75:$BS$502,$A21,3+Eredmények!F$1*4+(Paraméterek!$C$52-4))/1000000","v":165.60137424094731},{"$f":"INDEX(Negyedéves!$A$75:$BS$502,$A21,3+Eredmények!G$1*4+(Paraméterek!$C$52-4))/1000000","v":213.0159687978354},{"$f":"INDEX(Negyedéves!$A$75:$BS$502,$A21,3+Eredmények!H$1*4+(Paraméterek!$C$52-4))/1000000","v":263.27789327555877},{"$f":"INDEX(Negyedéves!$A$75:$BS$502,$A21,3+Eredmények!I$1*4+(Paraméterek!$C$52-4))/1000000","v":324.83326614766474},{"$f":"INDEX(Negyedéves!$A$75:$BS$502,$A21,3+Eredmények!J$1*4+(Paraméterek!$C$52-4))/1000000","v":391.12936912394343},{"$f":"INDEX(Negyedéves!$A$75:$BS$502,$A21,3+Eredmények!K$1*4+(Paraméterek!$C$52-4))/1000000","v":460.66375298379387},{"$f":"INDEX(Negyedéves!$A$75:$BS$502,$A21,3+Eredmények!L$1*4+(Paraméterek!$C$52-4))/1000000","v":533.56282332024523},{"$f":"INDEX(Negyedéves!$A$75:$BS$502,$A21,3+Eredmények!M$1*4+(Paraméterek!$C$52-4))/1000000","v":608.15150097319918},{"$f":"INDEX(Negyedéves!$A$75:$BS$502,$A21,3+Eredmények!N$1*4+(Paraméterek!$C$52-4))/1000000","v":686.31316362003918},"x"]
[21,"AIE",{"$f":"INDEX(Negyedéves!$A$75:$BS$502,$A22,3+Eredmények!C$1*4+(Paraméterek!$C$52-4))/1000000","v":0},{"$f":"INDEX(Negyedéves!$A$75:$BS$502,$A22,3+Eredmények!D$1*4+(Paraméterek!$C$52-4))/1000000","v":0},{"$f":"INDEX(Negyedéves!$A$75:$BS$502,$A22,3+Eredmények!E$1*4+(Paraméterek!$C$52-4))/1000000","v":0},{"$f":"INDEX(Negyedéves!$A$75:$BS$502,$A22,3+Eredmények!F$1*4+(Paraméterek!$C$52-4))/1000000","v":0},{"$f":"INDEX(Negyedéves!$A$75:$BS$502,$A22,3+Eredmények!G$1*4+(Paraméterek!$C$52-4))/1000000","v":0},{"$f":"INDEX(Negyedéves!$A$75:$BS$502,$A22,3+Eredmények!H$1*4+(Paraméterek!$C$52-4))/1000000","v":0},{"$f":"INDEX(Negyedéves!$A$75:$BS$502,$A22,3+Eredmények!I$1*4+(Paraméterek!$C$52-4))/1000000","v":0},{"$f":"INDEX(Negyedéves!$A$75:$BS$502,$A22,3+Eredmények!J$1*4+(Paraméterek!$C$52-4))/1000000","v":0},{"$f":"INDEX(Negyedéves!$A$75:$BS$502,$A22,3+Eredmények!K$1*4+(Paraméterek!$C$52-4))/1000000","v":0},{"$f":"INDEX(Negyedéves!$A$75:$BS$502,$A22,3+Eredmények!L$1*4+(Paraméterek!$C$52-4))/1000000","v":0},{"$f":"INDEX(Negyedéves!$A$75:$BS$502,$A22,3+Eredmények!M$1*4+(Paraméterek!$C$52-4))/1000000","v":0},{"$f":"INDEX(Negyedéves!$A$75:$BS$502,$A22,3+Eredmények!N$1*4+(Paraméterek!$C$52-4))/1000000","v":0},"x"]
[22,"Bevételek AIE",{"$f":"INDEX(Negyedéves!$A$75:$BS$502,$A23,3+Eredmények!C$1*4+(Paraméterek!$C$52-4))/1000000","v":0},{"$f":"INDEX(Negyedéves!$A$75:$BS$502,$A23,3+Eredmények!D$1*4+(Paraméterek!$C$52-4))/1000000","v":0},{"$f":"INDEX(Negyedéves!$A$75:$BS$502,$A23,3+Eredmények!E$1*4+(Paraméterek!$C$52-4))/1000000","v":0},{"$f":"INDEX(Negyedéves!$A$75:$BS$502,$A23,3+Eredmények!F$1*4+(Paraméterek!$C$52-4))/1000000","v":0},{"$f":"INDEX(Negyedéves!$A$75:$BS$502,$A23,3+Eredmények!G$1*4+(Paraméterek!$C$52-4))/1000000","v":0},{"$f":"INDEX(Negyedéves!$A$75:$BS$502,$A23,3+Eredmények!H$1*4+(Paraméterek!$C$52-4))/1000000","v":0},{"$f":"INDEX(Negyedéves!$A$75:$BS$502,$A23,3+Eredmények!I$1*4+(Paraméterek!$C$52-4))/1000000","v":0},{"$f":"INDEX(Negyedéves!$A$75:$BS$502,$A23,3+Eredmények!J$1*4+(Paraméterek!$C$52-4))/1000000","v":0},{"$f":"INDEX(Negyedéves!$A$75:$BS$502,$A23,3+Eredmények!K$1*4+(Paraméterek!$C$52-4))/1000000","v":0},{"$f":"INDEX(Negyedéves!$A$75:$BS$502,$A23,3+Eredmények!L$1*4+(Paraméterek!$C$52-4))/1000000","v":0},{"$f":"INDEX(Negyedéves!$A$75:$BS$502,$A23,3+Eredmények!M$1*4+(Paraméterek!$C$52-4))/1000000","v":0},{"$f":"INDEX(Negyedéves!$A$75:$BS$502,$A23,3+Eredmények!N$1*4+(Paraméterek!$C$52-4))/1000000","v":0},"x"]
[23,"Költségek, ráfordítások AIE",{"$f":"INDEX(Negyedéves!$A$75:$BS$502,$A24,3+Eredmények!C$1*4+(Paraméterek!$C$52-4))/1000000","v":0},{"$f":"INDEX(Negyedéves!$A$75:$BS$502,$A24,3+Eredmények!D$1*4+(Paraméterek!$C$52-4))/1000000","v":0},{"$f":"INDEX(Negyedéves!$A$75:$BS$502,$A24,3+Eredmények!E$1*4+(Paraméterek!$C$52-4))/1000000","v":0},{"$f":"INDEX(Negyedéves!$A$75:$BS$502,$A24,3+Eredmények!F$1*4+(Paraméterek!$C$52-4))/1000000","v":0},{"$f":"INDEX(Negyedéves!$A$75:$BS$502,$A24,3+Eredmények!G$1*4+(Paraméterek!$C$52-4))/1000000","v":0},{"$f":"INDEX(Negyedéves!$A$75:$BS$502,$A24,3+Eredmények!H$1*4+(Paraméterek!$C$52-4))/1000000","v":0},{"$f":"INDEX(Negyedéves!$A$75:$BS$502,$A24,3+Eredmények!I$1*4+(Paraméterek!$C$52-4))/1000000","v":0},{"$f":"INDEX(Negyedéves!$A$75:$BS$502,$A24,3+Eredmények!J$1*4+(Paraméterek!$C$52-4))/1000000","v":0},{"$f":"INDEX(Negyedéves!$A$75:$BS$502,$A24,3+Eredmények!K$1*4+(Paraméterek!$C$52-4))/1000000","v":0},{"$f":"INDEX(Negyedéves!$A$75:$BS$502,$A24,3+Eredmények!L$1*4+(Paraméterek!$C$52-4))/1000000","v":0},{"$f":"INDEX(Negyedéves!$A$75:$BS$502,$A24,3+Eredmények!M$1*4+(Paraméterek!$C$52-4))/1000000","v":0},{"$f":"INDEX(Negyedéves!$A$75:$BS$502,$A24,3+Eredmények!N$1*4+(Paraméterek!$C$52-4))/1000000","v":0},"x"]
[24,"Összes eszköz",{"$f":"C4+C14+C22","v":237.16227033613708},{"$f":"D4+D14+D22","v":257.05640635152355},279.35366046859383,304.15286439528018,331.55646289315217,361.67063878426893,402.93877549162596,448.80536497345048,497.91154991829109,550.38376221076567,624.37552530819676,701.94166844173674,"x"]
[25,null,null,null,null,null,null,null,null,null,null,null,null,null,"x"]
[26,"Források",null,null,null,null,null,null,null,null,null,null,null,null,"x"]
[27,"Saját tőke",{"$f":"C32+C31+C30+C29","v":45.476890283756148},{"$f":"D32+D31+D30+D29","v":49.494513963005502},51.897632064689333,54.399581874305369,57.003976445491055,59.714553838735803,62.535181321642796,48.866589481824633,52.106184944840521,55.472212292474687,76.991763097430791,80.566143133539924,"x"]
[28,"Jegyzett tőke",{"$f":"INDEX(Negyedéves!$A$75:$BS$502,$A29,3+Eredmények!C$1*4+(Paraméterek!$C$52-4))/1000000","v":3},{"$f":"INDEX(Negyedéves!$A$75:$BS$502,$A29,3+Eredmények!D$1*4+(Paraméterek!$C$52-4))/1000000","v":3},{"$f":"INDEX(Negyedéves!$A$75:$BS$502,$A29,3+Eredmények!E$1*4+(Paraméterek!$C$52-4))/1000000","v":3},{"$f":"INDEX(Negyedéves!$A$75:$BS$502,$A29,3+Eredmények!F$1*4+(Paraméterek!$C$52-4))/1000000","v":3},{"$f":"INDEX(Negyedéves!$A$75:$BS$502,$A29,3+Eredmények!G$1*4+(Paraméterek!$C$52-4))/1000000","v":3},{"$f":"INDEX(Negyedéves!$A$75:$BS$502,$A29,3+Eredmények!H$1*4+(Paraméterek!$C$52-4))/1000000","v":3},{"$f":"INDEX(Negyedéves!$A$75:$BS$502,$A29,3+Eredmények!I$1*4+(Paraméterek!$C$52-4))/1000000","v":3},{"$f":"INDEX(Negyedéves!$A$75:$BS$502,$A29,3+Eredmények!J$1*4+(Paraméterek!$C$52-4))/1000000","v":3},{"$f":"INDEX(Negyedéves!$A$75:$BS$502,$A29,3+Eredmények!K$1*4+(Paraméterek!$C$52-4))/1000000","v":3},{"$f":"INDEX(Negyedéves!$A$75:$BS$502,$A29,3+Eredmények!L$1*4+(Paraméterek!$C$52-4))/1000000","v":3},{"$f":"INDEX(Negyedéves!$A$75:$BS$502,$A29,3+Eredmények!M$1*4+(Paraméterek!$C$52-4))/1000000","v":3},{"$f":"INDEX(Negyedéves!$A$75:$BS$502,$A29,3+Eredmények!N$1*4+(Paraméterek!$C$52-4))/1000000","v":3},"x"]
[29,"Tőketartalék",{"$f":"INDEX(Negyedéves!$A$75:$BS$502,$A30,3+Eredmények!C$1*4+(Paraméterek!$C$52-4))/1000000","v":0},{"$f":"INDEX(Negyedéves!$A$75:$BS$502,$A30,3+Eredmények!D$1*4+(Paraméterek!$C$52-4))/1000000","v":0},{"$f":"INDEX(Negyedéves!$A$75:$BS$502,$A30,3+Eredmények!E$1*4+(Paraméterek!$C$52-4))/1000000","v":0},{"$f":"INDEX(Negyedéves!$A$75:$BS$502,$A30,3+Eredmények!F$1*4+(Paraméterek!$C$52-4))/1000000","v":0},{"$f":"INDEX(Negyedéves!$A$75:$BS$502,$A30,3+Eredmények!G$1*4+(Paraméterek!$C$52-4))/1000000","v":0},{"$f":"INDEX(Negyedéves!$A$75:$BS$502,$A30,3+Eredmények!H$1*4+(Paraméterek!$C$52-4))/1000000","v":0},{"$f":"INDEX(Negyedéves!$A$75:$BS$502,$A30,3+Eredmények!I$1*4+(Paraméterek!$C$52-4))/1000000","v":0},{"$f":"INDEX(Negyedéves!$A$75:$BS$502,$A30,3+Eredmények!J$1*4+(Paraméterek!$C$52-4))/1000000","v":0},{"$f":"INDEX(Negyedéves!$A$75:$BS$502,$A30,3+Eredmények!K$1*4+(Paraméterek!$C$52-4))/1000000","v":0},{"$f":"INDEX(Negyedéves!$A$75:$BS$502,$A30,3+Eredmények!L$1*4+(Paraméterek!$C$52-4))/1000000","v":0},{"$f":"INDEX(Negyedéves!$A$75:$BS$502,$A30,3+Eredmények!M$1*4+(Paraméterek!$C$52-4))/1000000","v":0},{"$f":"INDEX(Negyedéves!$A$75:$BS$502,$A30,3+Eredmények!N$1*4+(Paraméterek!$C$52-4))/1000000","v":0},"x"]
[30,"Eredménytartalék",0,0,0,0,0,0,0,0,0,0,0,0,"x"]
[31,"MSZE",{"$f":"C95","v":42.476890283756148},{"$f":"D95","v":46.494513963005502},48.897632064689333,51.399581874305369,54.003976445491055,56.714553838735803,59.535181321642796,45.866589481824633,49.106184944840521,52.472212292474687,73.991763097430791,77.566143133539924,"x"]
[32,"Céltartalékok",{"$f":"INDEX(Negyedéves!$A$75:$BS$502,$A33,3+Eredmények!C$1*4+(Paraméterek!$C$52-4))/1000000","v":0},{"$f":"INDEX(Negyedéves!$A$75:$BS$502,$A33,3+Eredmények!D$1*4+(Paraméterek!$C$52-4))/1000000","v":0},{"$f":"INDEX(Negyedéves!$A$75:$BS$502,$A33,3+Eredmények!E$1*4+(Paraméterek!$C$52-4))/1000000","v":0},{"$f":"INDEX(Negyedéves!$A$75:$BS$502,$A33,3+Eredmények!F$1*4+(Paraméterek!$C$52-4))/1000000","v":0},{"$f":"INDEX(Negyedéves!$A$75:$BS$502,$A33,3+Eredmények!G$1*4+(Paraméterek!$C$52-4))/1000000","v":0},{"$f":"INDEX(Negyedéves!$A$75:$BS$502,$A33,3+Eredmények!H$1*4+(Paraméterek!$C$52-4))/1000000","v":0},{"$f":"INDEX(Negyedéves!$A$75:$BS$502,$A33,3+Eredmények!I$1*4+(Paraméterek!$C$52-4))/1000000","v":0},{"$f":"INDEX(Negyedéves!$A$75:$BS$502,$A33,3+Eredmények!J$1*4+(Paraméterek!$C$52-4))/1000000","v":0},{"$f":"INDEX(Negyedéves!$A$75:$BS$502,$A33,3+Eredmények!K$1*4+(Paraméterek!$C$52-4))/1000000","v":0},{"$f":"INDEX(Negyedéves!$A$75:$BS$502,$A33,3+Eredmények!L$1*4+(Paraméterek!$C$52-4))/1000000","v":0},{"$f":"INDEX(Negyedéves!$A$75:$BS$502,$A33,3+Eredmények!M$1*4+(Paraméterek!$C$52-4))/1000000","v":0},{"$f":"INDEX(Negyedéves!$A$75:$BS$502,$A33,3+Eredmények!N$1*4+(Paraméterek!$C$52-4))/1000000","v":0},"x"]
[33,"Kötelezettségek",{"$f":"INDEX(Negyedéves!$A$75:$BS$502,$A34,3+Eredmények!C$1*4+(Paraméterek!$C$52-4))/1000000","v":82.083112366666654},{"$f":"INDEX(Negyedéves!$A$75:$BS$502,$A34,3+Eredmények!D$1*4+(Paraméterek!$C$52-4))/1000000","v":73.749779033333311},{"$f":"INDEX(Negyedéves!$A$75:$BS$502,$A34,3+Eredmények!E$1*4+(Paraméterek!$C$52-4))/1000000","v":65.416445699999983},{"$f":"INDEX(Negyedéves!$A$75:$BS$502,$A34,3+Eredmények!F$1*4+(Paraméterek!$C$52-4))/1000000","v":57.083112366666661},{"$f":"INDEX(Negyedéves!$A$75:$BS$502,$A34,3+Eredmények!G$1*4+(Paraméterek!$C$52-4))/1000000","v":48.749779033333326},{"$f":"INDEX(Negyedéves!$A$75:$BS$502,$A34,3+Eredmények!H$1*4+(Paraméterek!$C$52-4))/1000000","v":40.416445699999997},{"$f":"INDEX(Negyedéves!$A$75:$BS$502,$A34,3+Eredmények!I$1*4+(Paraméterek!$C$52-4))/1000000","v":40.41644569999999},{"$f":"INDEX(Negyedéves!$A$75:$BS$502,$A34,3+Eredmények!J$1*4+(Paraméterek!$C$52-4))/1000000","v":40.41644569999999},{"$f":"INDEX(Negyedéves!$A$75:$BS$502,$A34,3+Eredmények!K$1*4+(Paraméterek!$C$52-4))/1000000","v":40.41644569999999},{"$f":"INDEX(Negyedéves!$A$75:$BS$502,$A34,3+Eredmények!L$1*4+(Paraméterek!$C$52-4))/1000000","v":40.41644569999999},{"$f":"INDEX(Negyedéves!$A$75:$BS$502,$A34,3+Eredmények!M$1*4+(Paraméterek!$C$52-4))/1000000","v":40.416445700000047},{"$f":"INDEX(Negyedéves!$A$75:$BS$502,$A34,3+Eredmények!N$1*4+(Paraméterek!$C$52-4))/1000000","v":40.416445700000047},"x"]
[34,"Hátrasorolt kötelezettségek",{"$f":"INDEX(Negyedéves!$A$75:$BS$502,$A35,3+Eredmények!C$1*4+(Paraméterek!$C$52-4))/1000000","v":40.416445700000004},{"$f":"INDEX(Negyedéves!$A$75:$BS$502,$A35,3+Eredmények!D$1*4+(Paraméterek!$C$52-4))/1000000","v":40.416445700000004},{"$f":"INDEX(Negyedéves!$A$75:$BS$502,$A35,3+Eredmények!E$1*4+(Paraméterek!$C$52-4))/1000000","v":40.416445700000004},{"$f":"INDEX(Negyedéves!$A$75:$BS$502,$A35,3+Eredmények!F$1*4+(Paraméterek!$C$52-4))/1000000","v":40.416445700000004},{"$f":"INDEX(Negyedéves!$A$75:$BS$502,$A35,3+Eredmények!G$1*4+(Paraméterek!$C$52-4))/1000000","v":40.416445700000004},{"$f":"INDEX(Negyedéves!$A$75:$BS$502,$A35,3+Eredmények!H$1*4+(Paraméterek!$C$52-4))/1000000","v":40.416445700000004},{"$f":"INDEX(Negyedéves!$A$75:$BS$502,$A35,3+Eredmények!I$1*4+(Paraméterek!$C$52-4))/1000000","v":40.416445700000004},{"$f":"INDEX(Negyedéves!$A$75:$BS$502,$A35,3+Eredmények!J$1*4+(Paraméterek!$C$52-4))/1000000","v":40.416445700000004},{"$f":"INDEX(Negyedéves!$A$75:$BS$502,$A35,3+Eredmények!K$1*4+(Paraméterek!$C$52-4))/1000000","v":40.416445700000004},{"$f":"INDEX(Negyedéves!$A$75:$BS$502,$A35,3+Eredmények!L$1*4+(Paraméterek!$C$52-4))/1000000","v":40.416445700000004},{"$f":"INDEX(Negyedéves!$A$75:$BS$502,$A35,3+Eredmények!M$1*4+(Paraméterek!$C$52-4))/1000000","v":40.416445700000004},{"$f":"INDEX(Negyedéves!$A$75:$BS$502,$A35,3+Eredmények!N$1*4+(Paraméterek!$C$52-4))/1000000","v":40.416445700000004},"x"]
[35,"Hosszú lejáratú kötelezettségek",{"$f":"INDEX(Negyedéves!$A$75:$BS$502,$A36,3+Eredmények!C$1*4+(Paraméterek!$C$52-4))/1000000","v":41.666666666666657},{"$f":"INDEX(Negyedéves!$A$75:$BS$502,$A36,3+Eredmények!D$1*4+(Paraméterek!$C$52-4))/1000000","v":33.333333333333314},{"$f":"INDEX(Negyedéves!$A$75:$BS$502,$A36,3+Eredmények!E$1*4+(Paraméterek!$C$52-4))/1000000","v":24.999999999999989},{"$f":"INDEX(Negyedéves!$A$75:$BS$502,$A36,3+Eredmények!F$1*4+(Paraméterek!$C$52-4))/1000000","v":16.666666666666657},{"$f":"INDEX(Negyedéves!$A$75:$BS$502,$A36,3+Eredmények!G$1*4+(Paraméterek!$C$52-4))/1000000","v":8.3333333333333233},{"$f":"INDEX(Negyedéves!$A$75:$BS$502,$A36,3+Eredmények!H$1*4+(Paraméterek!$C$52-4))/1000000","v":-8.8475644588470464E-15},{"$f":"INDEX(Negyedéves!$A$75:$BS$502,$A36,3+Eredmények!I$1*4+(Paraméterek!$C$52-4))/1000000","v":-8.8475644588470464E-15},{"$f":"INDEX(Negyedéves!$A$75:$BS$502,$A36,3+Eredmények!J$1*4+(Paraméterek!$C$52-4))/1000000","v":-8.8475644588470464E-15},{"$f":"INDEX(Negyedéves!$A$75:$BS$502,$A36,3+Eredmények!K$1*4+(Paraméterek!$C$52-4))/1000000","v":-8.8475644588470464E-15},{"$f":"INDEX(Negyedéves!$A$75:$BS$502,$A36,3+Eredmények!L$1*4+(Paraméterek!$C$52-4))/1000000","v":-8.8475644588470464E-15},{"$f":"INDEX(Negyedéves!$A$75:$BS$502,$A36,3+Eredmények!M$1*4+(Paraméterek!$C$52-4))/1000000","v":-8.8475644588470464E-15},{"$f":"INDEX(Negyedéves!$A$75:$BS$502,$A36,3+Eredmények!N$1*4+(Paraméterek!$C$52-4))/1000000","v":-8.8475644588470464E-15},"x"]
[36,"Beruházási és fejlesztési hitelek",{"$f":"INDEX(Negyedéves!$A$75:$BS$502,$A37,3+Eredmények!C$1*4+(Paraméterek!$C$52-4))/1000000","v":41.666666666666657},{"$f":"INDEX(Negyedéves!$A$75:$BS$502,$A37,3+Eredmények!D$1*4+(Paraméterek!$C$52-4))/1000000","v":33.333333333333314},{"$f":"INDEX(Negyedéves!$A$75:$BS$502,$A37,3+Eredmények!E$1*4+(Paraméterek!$C$52-4))/1000000","v":24.999999999999989},{"$f":"INDEX(Negyedéves!$A$75:$BS$502,$A37,3+Eredmények!F$1*4+(Paraméterek!$C$52-4))/1000000","v":16.666666666666657},{"$f":"INDEX(Negyedéves!$A$75:$BS$502,$A37,3+Eredmények!G$1*4+(Paraméterek!$C$52-4))/1000000","v":8.3333333333333233},{"$f":"INDEX(Negyedéves!$A$75:$BS$502,$A37,3+Eredmények!H$1*4+(Paraméterek!$C$52-4))/1000000","v":-8.8475644588470464E-15},{"$f":"INDEX(Negyedéves!$A$75:$BS$502,$A37,3+Eredmények!I$1*4+(Paraméterek!$C$52-4))/1000000","v":-8.8475644588470464E-15},{"$f":"INDEX(Negyedéves!$A$75:$BS$502,$A37,3+Eredmények!J$1*4+(Paraméterek!$C$52-4))/1000000","v":-8.8475644588470464E-15},{"$f":"INDEX(Negyedéves!$A$75:$BS$502,$A37,3+Eredmények!K$1*4+(Paraméterek!$C$52-4))/1000000","v":-8.8475644588470464E-15},{"$f":"INDEX(Negyedéves!$A$75:$BS$502,$A37,3+Eredmények!L$1*4+(Paraméterek!$C$52-4))/1000000","v":-8.8475644588470464E-15},{"$f":"INDEX(Negyedéves!$A$75:$BS$502,$A37,3+Eredmények!M$1*4+(Paraméterek!$C$52-4))/1000000","v":-8.8475644588470464E-15},{"$f":"INDEX(Negyedéves!$A$75:$BS$502,$A37,3+Eredmények!N$1*4+(Paraméterek!$C$52-4))/1000000","v":-8.8475644588470464E-15},"x"]
[37,"Rövid lejáratú kötelezettségek",{"$f":"INDEX(Negyedéves!$A$75:$BS$502,$A38,3+Eredmények!C$1*4+(Paraméterek!$C$52-4))/1000000","v":0},{"$f":"INDEX(Negyedéves!$A$75:$BS$502,$A38,3+Eredmények!D$1*4+(Paraméterek!$C$52-4))/1000000","v":0},{"$f":"INDEX(Negyedéves!$A$75:$BS$502,$A38,3+Eredmények!E$1*4+(Paraméterek!$C$52-4))/1000000","v":0},{"$f":"INDEX(Negyedéves!$A$75:$BS$502,$A38,3+Eredmények!F$1*4+(Paraméterek!$C$52-4))/1000000","v":0},{"$f":"INDEX(Negyedéves!$A$75:$BS$502,$A38,3+Eredmények!G$1*4+(Paraméterek!$C$52-4))/1000000","v":0},{"$f":"INDEX(Negyedéves!$A$75:$BS$502,$A38,3+Eredmények!H$1*4+(Paraméterek!$C$52-4))/1000000","v":0},{"$f":"INDEX(Negyedéves!$A$75:$BS$502,$A38,3+Eredmények!I$1*4+(Paraméterek!$C$52-4))/1000000","v":-6.05359673500061E-15},{"$f":"INDEX(Negyedéves!$A$75:$BS$502,$A38,3+Eredmények!J$1*4+(Paraméterek!$C$52-4))/1000000","v":-6.05359673500061E-15},{"$f":"INDEX(Negyedéves!$A$75:$BS$502,$A38,3+Eredmények!K$1*4+(Paraméterek!$C$52-4))/1000000","v":-6.05359673500061E-15},{"$f":"INDEX(Negyedéves!$A$75:$BS$502,$A38,3+Eredmények!L$1*4+(Paraméterek!$C$52-4))/1000000","v":-6.05359673500061E-15},{"$f":"INDEX(Negyedéves!$A$75:$BS$502,$A38,3+Eredmények!M$1*4+(Paraméterek!$C$52-4))/1000000","v":5.3551048040390016E-14},{"$f":"INDEX(Negyedéves!$A$75:$BS$502,$A38,3+Eredmények!N$1*4+(Paraméterek!$C$52-4))/1000000","v":5.3551048040390016E-14},"x"]
[38,"Rövid lejáratú hitelek",{"$f":"INDEX(Negyedéves!$A$75:$BS$502,$A39,3+Eredmények!C$1*4+(Paraméterek!$C$52-4))/1000000","v":0},{"$f":"INDEX(Negyedéves!$A$75:$BS$502,$A39,3+Eredmények!D$1*4+(Paraméterek!$C$52-4))/1000000","v":0},{"$f":"INDEX(Negyedéves!$A$75:$BS$502,$A39,3+Eredmények!E$1*4+(Paraméterek!$C$52-4))/1000000","v":0},{"$f":"INDEX(Negyedéves!$A$75:$BS$502,$A39,3+Eredmények!F$1*4+(Paraméterek!$C$52-4))/1000000","v":0},{"$f":"INDEX(Negyedéves!$A$75:$BS$502,$A39,3+Eredmények!G$1*4+(Paraméterek!$C$52-4))/1000000","v":0},{"$f":"INDEX(Negyedéves!$A$75:$BS$502,$A39,3+Eredmények!H$1*4+(Paraméterek!$C$52-4))/1000000","v":0},{"$f":"INDEX(Negyedéves!$A$75:$BS$502,$A39,3+Eredmények!I$1*4+(Paraméterek!$C$52-4))/1000000","v":-6.05359673500061E-15},{"$f":"INDEX(Negyedéves!$A$75:$BS$502,$A39,3+Eredmények!J$1*4+(Paraméterek!$C$52-4))/1000000","v":-6.05359673500061E-15},{"$f":"INDEX(Negyedéves!$A$75:$BS$502,$A39,3+Eredmények!K$1*4+(Paraméterek!$C$52-4))/1000000","v":-6.05359673500061E-15},{"$f":"INDEX(Negyedéves!$A$75:$BS$502,$A39,3+Eredmények!L$1*4+(Paraméterek!$C$52-4))/1000000","v":-6.05359673500061E-15},{"$f":"INDEX(Negyedéves!$A$75:$BS$502,$A39,3+Eredmények!M$1*4+(Paraméterek!$C$52-4))/1000000","v":5.3551048040390016E-14},{"$f":"INDEX(Negyedéves!$A$75:$BS$502,$A39,3+Eredmények!N$1*4+(Paraméterek!$C$52-4))/1000000","v":5.3551048040390016E-14},"x"]
[39,"Vevőktől kapott előlegek",{"$f":"INDEX(Negyedéves!$A$75:$BS$502,$A40,3+Eredmények!C$1*4+(Paraméterek!$C$52-4))/1000000","v":0},{"$f":"INDEX(Negyedéves!$A$75:$BS$502,$A40,3+Eredmények!D$1*4+(Paraméterek!$C$52-4))/1000000","v":0},{"$f":"INDEX(Negyedéves!$A$75:$BS$502,$A40,3+Eredmények!E$1*4+(Paraméterek!$C$52-4))/1000000","v":0},{"$f":"INDEX(Negyedéves!$A$75:$BS$502,$A40,3+Eredmények!F$1*4+(Paraméterek!$C$52-4))/1000000","v":0},{"$f":"INDEX(Negyedéves!$A$75:$BS$502,$A40,3+Eredmények!G$1*4+(Paraméterek!$C$52-4))/1000000","v":0},{"$f":"INDEX(Negyedéves!$A$75:$BS$502,$A40,3+Eredmények!H$1*4+(Paraméterek!$C$52-4))/1000000","v":0},{"$f":"INDEX(Negyedéves!$A$75:$BS$502,$A40,3+Eredmények!I$1*4+(Paraméterek!$C$52-4))/1000000","v":0},{"$f":"INDEX(Negyedéves!$A$75:$BS$502,$A40,3+Eredmények!J$1*4+(Paraméterek!$C$52-4))/1000000","v":0},{"$f":"INDEX(Negyedéves!$A$75:$BS$502,$A40,3+Eredmények!K$1*4+(Paraméterek!$C$52-4))/1000000","v":0},{"$f":"INDEX(Negyedéves!$A$75:$BS$502,$A40,3+Eredmények!L$1*4+(Paraméterek!$C$52-4))/1000000","v":0},{"$f":"INDEX(Negyedéves!$A$75:$BS$502,$A40,3+Eredmények!M$1*4+(Paraméterek!$C$52-4))/1000000","v":0},{"$f":"INDEX(Negyedéves!$A$75:$BS$502,$A40,3+Eredmények!N$1*4+(Paraméterek!$C$52-4))/1000000","v":0},"x"]
[40,"Kötelezettségekáruszállításból és szolgáltatásból",{"$f":"INDEX(Negyedéves!$A$75:$BS$502,$A41,3+Eredmények!C$1*4+(Paraméterek!$C$52-4))/1000000","v":0},{"$f":"INDEX(Negyedéves!$A$75:$BS$502,$A41,3+Eredmények!D$1*4+(Paraméterek!$C$52-4))/1000000","v":0},{"$f":"INDEX(Negyedéves!$A$75:$BS$502,$A41,3+Eredmények!E$1*4+(Paraméterek!$C$52-4))/1000000","v":0},{"$f":"INDEX(Negyedéves!$A$75:$BS$502,$A41,3+Eredmények!F$1*4+(Paraméterek!$C$52-4))/1000000","v":0},{"$f":"INDEX(Negyedéves!$A$75:$BS$502,$A41,3+Eredmények!G$1*4+(Paraméterek!$C$52-4))/1000000","v":0},{"$f":"INDEX(Negyedéves!$A$75:$BS$502,$A41,3+Eredmények!H$1*4+(Paraméterek!$C$52-4))/1000000","v":0},{"$f":"INDEX(Negyedéves!$A$75:$BS$502,$A41,3+Eredmények!I$1*4+(Paraméterek!$C$52-4))/1000000","v":0},{"$f":"INDEX(Negyedéves!$A$75:$BS$502,$A41,3+Eredmények!J$1*4+(Paraméterek!$C$52-4))/1000000","v":0},{"$f":"INDEX(Negyedéves!$A$75:$BS$502,$A41,3+Eredmények!K$1*4+(Paraméterek!$C$52-4))/1000000","v":0},{"$f":"INDEX(Negyedéves!$A$75:$BS$502,$A41,3+Eredmények!L$1*4+(Paraméterek!$C$52-4))/1000000","v":0},{"$f":"INDEX(Negyedéves!$A$75:$BS$502,$A41,3+Eredmények!M$1*4+(Paraméterek!$C$52-4))/1000000","v":0},{"$f":"INDEX(Negyedéves!$A$75:$BS$502,$A41,3+Eredmények!N$1*4+(Paraméterek!$C$52-4))/1000000","v":0},"x"]
[41,"Állami támogatás hitele",{"$f":"INDEX(Negyedéves!$A$75:$BS$502,$A42,3+Eredmények!C$1*4+(Paraméterek!$C$52-4))/1000000","v":0},{"$f":"INDEX(Negyedéves!$A$75:$BS$502,$A42,3+Eredmények!D$1*4+(Paraméterek!$C$52-4))/1000000","v":0},{"$f":"INDEX(Negyedéves!$A$75:$BS$502,$A42,3+Eredmények!E$1*4+(Paraméterek!$C$52-4))/1000000","v":0},{"$f":"INDEX(Negyedéves!$A$75:$BS$502,$A42,3+Eredmények!F$1*4+(Paraméterek!$C$52-4))/1000000","v":0},{"$f":"INDEX(Negyedéves!$A$75:$BS$502,$A42,3+Eredmények!G$1*4+(Paraméterek!$C$52-4))/1000000","v":0},{"$f":"INDEX(Negyedéves!$A$75:$BS$502,$A42,3+Eredmények!H$1*4+(Paraméterek!$C$52-4))/1000000","v":0},{"$f":"INDEX(Negyedéves!$A$75:$BS$502,$A42,3+Eredmények!I$1*4+(Paraméterek!$C$52-4))/1000000","v":0},{"$f":"INDEX(Negyedéves!$A$75:$BS$502,$A42,3+Eredmények!J$1*4+(Paraméterek!$C$52-4))/1000000","v":0},{"$f":"INDEX(Negyedéves!$A$75:$BS$502,$A42,3+Eredmények!K$1*4+(Paraméterek!$C$52-4))/1000000","v":0},{"$f":"INDEX(Negyedéves!$A$75:$BS$502,$A42,3+Eredmények!L$1*4+(Paraméterek!$C$52-4))/1000000","v":0},{"$f":"INDEX(Negyedéves!$A$75:$BS$502,$A42,3+Eredmények!M$1*4+(Paraméterek!$C$52-4))/1000000","v":0},{"$f":"INDEX(Negyedéves!$A$75:$BS$502,$A42,3+Eredmények!N$1*4+(Paraméterek!$C$52-4))/1000000","v":0},"x"]
[42,"ÁFA-hitel",{"$f":"INDEX(Negyedéves!$A$75:$BS$502,$A43,3+Eredmények!C$1*4+(Paraméterek!$C$52-4))/1000000","v":0},{"$f":"INDEX(Negyedéves!$A$75:$BS$502,$A43,3+Eredmények!D$1*4+(Paraméterek!$C$52-4))/1000000","v":0},{"$f":"INDEX(Negyedéves!$A$75:$BS$502,$A43,3+Eredmények!E$1*4+(Paraméterek!$C$52-4))/1000000","v":0},{"$f":"INDEX(Negyedéves!$A$75:$BS$502,$A43,3+Eredmények!F$1*4+(Paraméterek!$C$52-4))/1000000","v":0},{"$f":"INDEX(Negyedéves!$A$75:$BS$502,$A43,3+Eredmények!G$1*4+(Paraméterek!$C$52-4))/1000000","v":0},{"$f":"INDEX(Negyedéves!$A$75:$BS$502,$A43,3+Eredmények!H$1*4+(Paraméterek!$C$52-4))/1000000","v":0},{"$f":"INDEX(Negyedéves!$A$75:$BS$502,$A43,3+Eredmények!I$1*4+(Paraméterek!$C$52-4))/1000000","v":0},{"$f":"INDEX(Negyedéves!$A$75:$BS$502,$A43,3+Eredmények!J$1*4+(Paraméterek!$C$52-4))/1000000","v":0},{"$f":"INDEX(Negyedéves!$A$75:$BS$502,$A43,3+Eredmények!K$1*4+(Paraméterek!$C$52-4))/1000000","v":0},{"$f":"INDEX(Negyedéves!$A$75:$BS$502,$A43,3+Eredmények!L$1*4+(Paraméterek!$C$52-4))/1000000","v":0},{"$f":"INDEX(Negyedéves!$A$75:$BS$502,$A43,3+Eredmények!M$1*4+(Paraméterek!$C$52-4))/1000000","v":0},{"$f":"INDEX(Negyedéves!$A$75:$BS$502,$A43,3+Eredmények!N$1*4+(Paraméterek!$C$52-4))/1000000","v":0},"x"]
[43,"Passzív időbeli elhatárolások",{"$f":"INDEX(Negyedéves!$A$75:$BS$502,$A44,3+Eredmények!C$1*4+(Paraméterek!$C$52-4))/1000000","v":109.60226768571428},{"$f":"INDEX(Negyedéves!$A$75:$BS$502,$A44,3+Eredmények!D$1*4+(Paraméterek!$C$52-4))/1000000","v":91.335223071428572},{"$f":"INDEX(Negyedéves!$A$75:$BS$502,$A44,3+Eredmények!E$1*4+(Paraméterek!$C$52-4))/1000000","v":73.068178457142864},{"$f":"INDEX(Negyedéves!$A$75:$BS$502,$A44,3+Eredmények!F$1*4+(Paraméterek!$C$52-4))/1000000","v":54.801133842857141},{"$f":"INDEX(Negyedéves!$A$75:$BS$502,$A44,3+Eredmények!G$1*4+(Paraméterek!$C$52-4))/1000000","v":36.534089228571432},{"$f":"INDEX(Negyedéves!$A$75:$BS$502,$A44,3+Eredmények!H$1*4+(Paraméterek!$C$52-4))/1000000","v":18.267044614285723},{"$f":"INDEX(Negyedéves!$A$75:$BS$502,$A44,3+Eredmények!I$1*4+(Paraméterek!$C$52-4))/1000000","v":0},{"$f":"INDEX(Negyedéves!$A$75:$BS$502,$A44,3+Eredmények!J$1*4+(Paraméterek!$C$52-4))/1000000","v":0},{"$f":"INDEX(Negyedéves!$A$75:$BS$502,$A44,3+Eredmények!K$1*4+(Paraméterek!$C$52-4))/1000000","v":0},{"$f":"INDEX(Negyedéves!$A$75:$BS$502,$A44,3+Eredmények!L$1*4+(Paraméterek!$C$52-4))/1000000","v":0},{"$f":"INDEX(Negyedéves!$A$75:$BS$502,$A44,3+Eredmények!M$1*4+(Paraméterek!$C$52-4))/1000000","v":0},{"$f":"INDEX(Negyedéves!$A$75:$BS$502,$A44,3+Eredmények!N$1*4+(Paraméterek!$C$52-4))/1000000","v":0},"x"]
[44,"PIE bevételekre",{"$f":"INDEX(Negyedéves!$A$75:$BS$502,$A45,3+Eredmények!C$1*4+(Paraméterek!$C$52-4))/1000000","v":109.60226768571428},{"$f":"INDEX(Negyedéves!$A$75:$BS$502,$A45,3+Eredmények!D$1*4+(Paraméterek!$C$52-4))/1000000","v":91.335223071428572},{"$f":"INDEX(Negyedéves!$A$75:$BS$502,$A45,3+Eredmények!E$1*4+(Paraméterek!$C$52-4))/1000000","v":73.068178457142864},{"$f":"INDEX(Negyedéves!$A$75:$BS$502,$A45,3+Eredmények!F$1*4+(Paraméterek!$C$52-4))/1000000","v":54.801133842857141},{"$f":"INDEX(Negyedéves!$A$75:$BS$502,$A45,3+Eredmények!G$1*4+(Paraméterek!$C$52-4))/1000000","v":36.534089228571432},{"$f":"INDEX(Negyedéves!$A$75:$BS$502,$A45,3+Eredmények!H$1*4+(Paraméterek!$C$52-4))/1000000","v":18.267044614285723},{"$f":"INDEX(Negyedéves!$A$75:$BS$502,$A45,3+Eredmények!I$1*4+(Paraméterek!$C$52-4))/1000000","v":0},{"$f":"INDEX(Negyedéves!$A$75:$BS$502,$A45,3+Eredmények!J$1*4+(Paraméterek!$C$52-4))/1000000","v":0},{"$f":"INDEX(Negyedéves!$A$75:$BS$502,$A45,3+Eredmények!K$1*4+(Paraméterek!$C$52-4))/1000000","v":0},{"$f":"INDEX(Negyedéves!$A$75:$BS$502,$A45,3+Eredmények!L$1*4+(Paraméterek!$C$52-4))/1000000","v":0},{"$f":"INDEX(Negyedéves!$A$75:$BS$502,$A45,3+Eredmények!M$1*4+(Paraméterek!$C$52-4))/1000000","v":0},{"$f":"INDEX(Negyedéves!$A$75:$BS$502,$A45,3+Eredmények!N$1*4+(Paraméterek!$C$52-4))/1000000","v":0},"x"]
[45,"PIE költségekre, ráfordításokra",{"$f":"INDEX(Negyedéves!$A$75:$BS$502,$A46,3+Eredmények!C$1*4+(Paraméterek!$C$52-4))/1000000","v":0},{"$f":"INDEX(Negyedéves!$A$75:$BS$502,$A46,3+Eredmények!D$1*4+(Paraméterek!$C$52-4))/1000000","v":0},{"$f":"INDEX(Negyedéves!$A$75:$BS$502,$A46,3+Eredmények!E$1*4+(Paraméterek!$C$52-4))/1000000","v":0},{"$f":"INDEX(Negyedéves!$A$75:$BS$502,$A46,3+Eredmények!F$1*4+(Paraméterek!$C$52-4))/1000000","v":0},{"$f":"INDEX(Negyedéves!$A$75:$BS$502,$A46,3+Eredmények!G$1*4+(Paraméterek!$C$52-4))/1000000","v":0},{"$f":"INDEX(Negyedéves!$A$75:$BS$502,$A46,3+Eredmények!H$1*4+(Paraméterek!$C$52-4))/1000000","v":0},{"$f":"INDEX(Negyedéves!$A$75:$BS$502,$A46,3+Eredmények!I$1*4+(Paraméterek!$C$52-4))/1000000","v":0},{"$f":"INDEX(Negyedéves!$A$75:$BS$502,$A46,3+Eredmények!J$1*4+(Paraméterek!$C$52-4))/1000000","v":0},{"$f":"INDEX(Negyedéves!$A$75:$BS$502,$A46,3+Eredmények!K$1*4+(Paraméterek!$C$52-4))/1000000","v":0},{"$f":"INDEX(Negyedéves!$A$75:$BS$502,$A46,3+Eredmények!L$1*4+(Paraméterek!$C$52-4))/1000000","v":0},{"$f":"INDEX(Negyedéves!$A$75:$BS$502,$A46,3+Eredmények!M$1*4+(Paraméterek!$C$52-4))/1000000","v":0},{"$f":"INDEX(Negyedéves!$A$75:$BS$502,$A46,3+Eredmények!N$1*4+(Paraméterek!$C$52-4))/1000000","v":0},"x"]
[46,"Halasztott bevételek",{"$f":"INDEX(Negyedéves!$A$75:$BS$502,$A47,3+Eredmények!C$1*4+(Paraméterek!$C$52-4))/1000000","v":0},{"$f":"INDEX(Negyedéves!$A$75:$BS$502,$A47,3+Eredmények!D$1*4+(Paraméterek!$C$52-4))/1000000","v":0},{"$f":"INDEX(Negyedéves!$A$75:$BS$502,$A47,3+Eredmények!E$1*4+(Paraméterek!$C$52-4))/1000000","v":0},{"$f":"INDEX(Negyedéves!$A$75:$BS$502,$A47,3+Eredmények!F$1*4+(Paraméterek!$C$52-4))/1000000","v":0},{"$f":"INDEX(Negyedéves!$A$75:$BS$502,$A47,3+Eredmények!G$1*4+(Paraméterek!$C$52-4))/1000000","v":0},{"$f":"INDEX(Negyedéves!$A$75:$BS$502,$A47,3+Eredmények!H$1*4+(Paraméterek!$C$52-4))/1000000","v":0},{"$f":"INDEX(Negyedéves!$A$75:$BS$502,$A47,3+Eredmények!I$1*4+(Paraméterek!$C$52-4))/1000000","v":0},{"$f":"INDEX(Negyedéves!$A$75:$BS$502,$A47,3+Eredmények!J$1*4+(Paraméterek!$C$52-4))/1000000","v":0},{"$f":"INDEX(Negyedéves!$A$75:$BS$502,$A47,3+Eredmények!K$1*4+(Paraméterek!$C$52-4))/1000000","v":0},{"$f":"INDEX(Negyedéves!$A$75:$BS$502,$A47,3+Eredmények!L$1*4+(Paraméterek!$C$52-4))/1000000","v":0},{"$f":"INDEX(Negyedéves!$A$75:$BS$502,$A47,3+Eredmények!M$1*4+(Paraméterek!$C$52-4))/1000000","v":0},{"$f":"INDEX(Negyedéves!$A$75:$BS$502,$A47,3+Eredmények!N$1*4+(Paraméterek!$C$52-4))/1000000","v":0},"x"]
[47,"Összes forrás",{"$f":"C28+C33+C34+C44","v":237.16227033613708},{"$f":"D28+D33+D34+D44","v":214.57951606776737},190.38225622183217,166.28382808382918,142.28784470739583,118.39804415302153,102.95162702164279,89.28303518182463,92.522630644840518,95.888657992474677,117.40820879743083,120.98258883353998,"x"]
[null,null,null,null,null,null,null,null,null,null,null,null,null,null,"x"]
[null,null,null,null,null,null,null,null,null,null,null,null,null,null,"x"]
[null,"Eredménykimutatás",null,null,null,null,null,null,null,null,null,null,null,null,"x"]
[0,"Belföldi értékesítés",{"$f":"SUM(OFFSET(Negyedéves!$A$125,$A52,3+(C$1-1)*4+IF(C$1=1,0,(Paraméterek!$C$52-4)),1,IF(C$1=1,Paraméterek!$C$52,4)))/1000000","v":99.610017018142656},{"$f":"SUM(OFFSET(Negyedéves!$A$125,$A52,3+(D$1-1)*4+IF(D$1=1,0,(Paraméterek!$C$52-4)),1,IF(D$1=1,Paraméterek!$C$52,4)))/1000000","v":101.60221735850551},{"$f":"SUM(OFFSET(Negyedéves!$A$125,$A52,3+(E$1-1)*4+IF(E$1=1,0,(Paraméterek!$C$52-4)),1,IF(E$1=1,Paraméterek!$C$52,4)))/1000000","v":103.63426170567566},{"$f":"SUM(OFFSET(Negyedéves!$A$125,$A52,3+(F$1-1)*4+IF(F$1=1,0,(Paraméterek!$C$52-4)),1,IF(F$1=1,Paraméterek!$C$52,4)))/1000000","v":105.7069469397892},{"$f":"SUM(OFFSET(Negyedéves!$A$125,$A52,3+(G$1-1)*4+IF(G$1=1,0,(Paraméterek!$C$52-4)),1,IF(G$1=1,Paraméterek!$C$52,4)))/1000000","v":107.82108587858501},{"$f":"SUM(OFFSET(Negyedéves!$A$125,$A52,3+(H$1-1)*4+IF(H$1=1,0,(Paraméterek!$C$52-4)),1,IF(H$1=1,Paraméterek!$C$52,4)))/1000000","v":109.97750759615674},{"$f":"SUM(OFFSET(Negyedéves!$A$125,$A52,3+(I$1-1)*4+IF(I$1=1,0,(Paraméterek!$C$52-4)),1,IF(I$1=1,Paraméterek!$C$52,4)))/1000000","v":112.17705774807992},{"$f":"SUM(OFFSET(Negyedéves!$A$125,$A52,3+(J$1-1)*4+IF(J$1=1,0,(Paraméterek!$C$52-4)),1,IF(J$1=1,Paraméterek!$C$52,4)))/1000000","v":114.42059890304154},{"$f":"SUM(OFFSET(Negyedéves!$A$125,$A52,3+(K$1-1)*4+IF(K$1=1,0,(Paraméterek!$C$52-4)),1,IF(K$1=1,Paraméterek!$C$52,4)))/1000000","v":116.7090108811024},{"$f":"SUM(OFFSET(Negyedéves!$A$125,$A52,3+(L$1-1)*4+IF(L$1=1,0,(Paraméterek!$C$52-4)),1,IF(L$1=1,Paraméterek!$C$52,4)))/1000000","v":119.04319109872448},{"$f":"SUM(OFFSET(Negyedéves!$A$125,$A52,3+(M$1-1)*4+IF(M$1=1,0,(Paraméterek!$C$52-4)),1,IF(M$1=1,Paraméterek!$C$52,4)))/1000000","v":121.42405492069902},{"$f":"SUM(OFFSET(Negyedéves!$A$125,$A52,3+(N$1-1)*4+IF(N$1=1,0,(Paraméterek!$C$52-4)),1,IF(N$1=1,Paraméterek!$C$52,4)))/1000000","v":123.852536019113},"x"]
[1,"Exportértékesítés",{"$f":"SUM(OFFSET(Negyedéves!$A$125,$A53,3+(C$1-1)*4+IF(C$1=1,0,(Paraméterek!$C$52-4)),1,IF(C$1=1,Paraméterek!$C$52,4)))/1000000","v":0},{"$f":"SUM(OFFSET(Negyedéves!$A$125,$A53,3+(D$1-1)*4+IF(D$1=1,0,(Paraméterek!$C$52-4)),1,IF(D$1=1,Paraméterek!$C$52,4)))/1000000","v":0},{"$f":"SUM(OFFSET(Negyedéves!$A$125,$A53,3+(E$1-1)*4+IF(E$1=1,0,(Paraméterek!$C$52-4)),1,IF(E$1=1,Paraméterek!$C$52,4)))/1000000","v":0},{"$f":"SUM(OFFSET(Negyedéves!$A$125,$A53,3+(F$1-1)*4+IF(F$1=1,0,(Paraméterek!$C$52-4)),1,IF(F$1=1,Paraméterek!$C$52,4)))/1000000","v":0},{"$f":"SUM(OFFSET(Negyedéves!$A$125,$A53,3+(G$1-1)*4+IF(G$1=1,0,(Paraméterek!$C$52-4)),1,IF(G$1=1,Paraméterek!$C$52,4)))/1000000","v":0},{"$f":"SUM(OFFSET(Negyedéves!$A$125,$A53,3+(H$1-1)*4+IF(H$1=1,0,(Paraméterek!$C$52-4)),1,IF(H$1=1,Paraméterek!$C$52,4)))/1000000","v":0},{"$f":"SUM(OFFSET(Negyedéves!$A$125,$A53,3+(I$1-1)*4+IF(I$1=1,0,(Paraméterek!$C$52-4)),1,IF(I$1=1,Paraméterek!$C$52,4)))/1000000","v":0},{"$f":"SUM(OFFSET(Negyedéves!$A$125,$A53,3+(J$1-1)*4+IF(J$1=1,0,(Paraméterek!$C$52-4)),1,IF(J$1=1,Paraméterek!$C$52,4)))/1000000","v":0},{"$f":"SUM(OFFSET(Negyedéves!$A$125,$A53,3+(K$1-1)*4+IF(K$1=1,0,(Paraméterek!$C$52-4)),1,IF(K$1=1,Paraméterek!$C$52,4)))/1000000","v":0},{"$f":"SUM(OFFSET(Negyedéves!$A$125,$A53,3+(L$1-1)*4+IF(L$1=1,0,(Paraméterek!$C$52-4)),1,IF(L$1=1,Paraméterek!$C$52,4)))/1000000","v":0},{"$f":"SUM(OFFSET(Negyedéves!$A$125,$A53,3+(M$1-1)*4+IF(M$1=1,0,(Paraméterek!$C$52-4)),1,IF(M$1=1,Paraméterek!$C$52,4)))/1000000","v":0},{"$f":"SUM(OFFSET(Negyedéves!$A$125,$A53,3+(N$1-1)*4+IF(N$1=1,0,(Paraméterek!$C$52-4)),1,IF(N$1=1,Paraméterek!$C$52,4)))/1000000","v":0},"x"]
[2,"Értékesítés nettó árbevétele",{"$f":"SUM(OFFSET(Negyedéves!$A$125,$A54,3+(C$1-1)*4+IF(C$1=1,0,(Paraméterek!$C$52-4)),1,IF(C$1=1,Paraméterek!$C$52,4)))/1000000","v":99.610017018142656},{"$f":"SUM(OFFSET(Negyedéves!$A$125,$A54,3+(D$1-1)*4+IF(D$1=1,0,(Paraméterek!$C$52-4)),1,IF(D$1=1,Paraméterek!$C$52,4)))/1000000","v":101.60221735850551},{"$f":"SUM(OFFSET(Negyedéves!$A$125,$A54,3+(E$1-1)*4+IF(E$1=1,0,(Paraméterek!$C$52-4)),1,IF(E$1=1,Paraméterek!$C$52,4)))/1000000","v":103.63426170567566},{"$f":"SUM(OFFSET(Negyedéves!$A$125,$A54,3+(F$1-1)*4+IF(F$1=1,0,(Paraméterek!$C$52-4)),1,IF(F$1=1,Paraméterek!$C$52,4)))/1000000","v":105.7069469397892},{"$f":"SUM(OFFSET(Negyedéves!$A$125,$A54,3+(G$1-1)*4+IF(G$1=1,0,(Paraméterek!$C$52-4)),1,IF(G$1=1,Paraméterek!$C$52,4)))/1000000","v":107.82108587858501},{"$f":"SUM(OFFSET(Negyedéves!$A$125,$A54,3+(H$1-1)*4+IF(H$1=1,0,(Paraméterek!$C$52-4)),1,IF(H$1=1,Paraméterek!$C$52,4)))/1000000","v":109.97750759615674},{"$f":"SUM(OFFSET(Negyedéves!$A$125,$A54,3+(I$1-1)*4+IF(I$1=1,0,(Paraméterek!$C$52-4)),1,IF(I$1=1,Paraméterek!$C$52,4)))/1000000","v":112.17705774807992},{"$f":"SUM(OFFSET(Negyedéves!$A$125,$A54,3+(J$1-1)*4+IF(J$1=1,0,(Paraméterek!$C$52-4)),1,IF(J$1=1,Paraméterek!$C$52,4)))/1000000","v":114.42059890304154},{"$f":"SUM(OFFSET(Negyedéves!$A$125,$A54,3+(K$1-1)*4+IF(K$1=1,0,(Paraméterek!$C$52-4)),1,IF(K$1=1,Paraméterek!$C$52,4)))/1000000","v":116.7090108811024},{"$f":"SUM(OFFSET(Negyedéves!$A$125,$A54,3+(L$1-1)*4+IF(L$1=1,0,(Paraméterek!$C$52-4)),1,IF(L$1=1,Paraméterek!$C$52,4)))/1000000","v":119.04319109872448},{"$f":"SUM(OFFSET(Negyedéves!$A$125,$A54,3+(M$1-1)*4+IF(M$1=1,0,(Paraméterek!$C$52-4)),1,IF(M$1=1,Paraméterek!$C$52,4)))/1000000","v":121.42405492069902},{"$f":"SUM(OFFSET(Negyedéves!$A$125,$A54,3+(N$1-1)*4+IF(N$1=1,0,(Paraméterek!$C$52-4)),1,IF(N$1=1,Paraméterek!$C$52,4)))/1000000","v":123.852536019113},"x"]
[3,"Aktivált saját teljesítmények értéke",{"$f":"SUM(OFFSET(Negyedéves!$A$125,$A55,3+(C$1-1)*4+IF(C$1=1,0,(Paraméterek!$C$52-4)),1,IF(C$1=1,Paraméterek!$C$52,4)))/1000000","v":0},{"$f":"SUM(OFFSET(Negyedéves!$A$125,$A55,3+(D$1-1)*4+IF(D$1=1,0,(Paraméterek!$C$52-4)),1,IF(D$1=1,Paraméterek!$C$52,4)))/1000000","v":0},{"$f":"SUM(OFFSET(Negyedéves!$A$125,$A55,3+(E$1-1)*4+IF(E$1=1,0,(Paraméterek!$C$52-4)),1,IF(E$1=1,Paraméterek!$C$52,4)))/1000000","v":0},{"$f":"SUM(OFFSET(Negyedéves!$A$125,$A55,3+(F$1-1)*4+IF(F$1=1,0,(Paraméterek!$C$52-4)),1,IF(F$1=1,Paraméterek!$C$52,4)))/1000000","v":0},{"$f":"SUM(OFFSET(Negyedéves!$A$125,$A55,3+(G$1-1)*4+IF(G$1=1,0,(Paraméterek!$C$52-4)),1,IF(G$1=1,Paraméterek!$C$52,4)))/1000000","v":0},{"$f":"SUM(OFFSET(Negyedéves!$A$125,$A55,3+(H$1-1)*4+IF(H$1=1,0,(Paraméterek!$C$52-4)),1,IF(H$1=1,Paraméterek!$C$52,4)))/1000000","v":0},{"$f":"SUM(OFFSET(Negyedéves!$A$125,$A55,3+(I$1-1)*4+IF(I$1=1,0,(Paraméterek!$C$52-4)),1,IF(I$1=1,Paraméterek!$C$52,4)))/1000000","v":0},{"$f":"SUM(OFFSET(Negyedéves!$A$125,$A55,3+(J$1-1)*4+IF(J$1=1,0,(Paraméterek!$C$52-4)),1,IF(J$1=1,Paraméterek!$C$52,4)))/1000000","v":0},{"$f":"SUM(OFFSET(Negyedéves!$A$125,$A55,3+(K$1-1)*4+IF(K$1=1,0,(Paraméterek!$C$52-4)),1,IF(K$1=1,Paraméterek!$C$52,4)))/1000000","v":0},{"$f":"SUM(OFFSET(Negyedéves!$A$125,$A55,3+(L$1-1)*4+IF(L$1=1,0,(Paraméterek!$C$52-4)),1,IF(L$1=1,Paraméterek!$C$52,4)))/1000000","v":0},{"$f":"SUM(OFFSET(Negyedéves!$A$125,$A55,3+(M$1-1)*4+IF(M$1=1,0,(Paraméterek!$C$52-4)),1,IF(M$1=1,Paraméterek!$C$52,4)))/1000000","v":0},{"$f":"SUM(OFFSET(Negyedéves!$A$125,$A55,3+(N$1-1)*4+IF(N$1=1,0,(Paraméterek!$C$52-4)),1,IF(N$1=1,Paraméterek!$C$52,4)))/1000000","v":0},"x"]
[4,"Egyéb bevételek",{"$f":"SUM(OFFSET(Negyedéves!$A$125,$A56,3+(C$1-1)*4+IF(C$1=1,0,(Paraméterek!$C$52-4)),1,IF(C$1=1,Paraméterek!$C$52,4)))/1000000","v":0},{"$f":"SUM(OFFSET(Negyedéves!$A$125,$A56,3+(D$1-1)*4+IF(D$1=1,0,(Paraméterek!$C$52-4)),1,IF(D$1=1,Paraméterek!$C$52,4)))/1000000","v":0},{"$f":"SUM(OFFSET(Negyedéves!$A$125,$A56,3+(E$1-1)*4+IF(E$1=1,0,(Paraméterek!$C$52-4)),1,IF(E$1=1,Paraméterek!$C$52,4)))/1000000","v":0},{"$f":"SUM(OFFSET(Negyedéves!$A$125,$A56,3+(F$1-1)*4+IF(F$1=1,0,(Paraméterek!$C$52-4)),1,IF(F$1=1,Paraméterek!$C$52,4)))/1000000","v":0},{"$f":"SUM(OFFSET(Negyedéves!$A$125,$A56,3+(G$1-1)*4+IF(G$1=1,0,(Paraméterek!$C$52-4)),1,IF(G$1=1,Paraméterek!$C$52,4)))/1000000","v":0},{"$f":"SUM(OFFSET(Negyedéves!$A$125,$A56,3+(H$1-1)*4+IF(H$1=1,0,(Paraméterek!$C$52-4)),1,IF(H$1=1,Paraméterek!$C$52,4)))/1000000","v":0},{"$f":"SUM(OFFSET(Negyedéves!$A$125,$A56,3+(I$1-1)*4+IF(I$1=1,0,(Paraméterek!$C$52-4)),1,IF(I$1=1,Paraméterek!$C$52,4)))/1000000","v":0},{"$f":"SUM(OFFSET(Negyedéves!$A$125,$A56,3+(J$1-1)*4+IF(J$1=1,0,(Paraméterek!$C$52-4)),1,IF(J$1=1,Paraméterek!$C$52,4)))/1000000","v":0},{"$f":"SUM(OFFSET(Negyedéves!$A$125,$A56,3+(K$1-1)*4+IF(K$1=1,0,(Paraméterek!$C$52-4)),1,IF(K$1=1,Paraméterek!$C$52,4)))/1000000","v":0},{"$f":"SUM(OFFSET(Negyedéves!$A$125,$A56,3+(L$1-1)*4+IF(L$1=1,0,(Paraméterek!$C$52-4)),1,IF(L$1=1,Paraméterek!$C$52,4)))/1000000","v":0},{"$f":"SUM(OFFSET(Negyedéves!$A$125,$A56,3+(M$1-1)*4+IF(M$1=1,0,(Paraméterek!$C$52-4)),1,IF(M$1=1,Paraméterek!$C$52,4)))/1000000","v":0},{"$f":"SUM(OFFSET(Negyedéves!$A$125,$A56,3+(N$1-1)*4+IF(N$1=1,0,(Paraméterek!$C$52-4)),1,IF(N$1=1,Paraméterek!$C$52,4)))/1000000","v":0},"x"]
[5,"ebből: visszaírt értékvesztés",{"$f":"SUM(OFFSET(Negyedéves!$A$125,$A57,3+(C$1-1)*4+IF(C$1=1,0,(Paraméterek!$C$52-4)),1,IF(C$1=1,Paraméterek!$C$52,4)))/1000000","v":0},{"$f":"SUM(OFFSET(Negyedéves!$A$125,$A57,3+(D$1-1)*4+IF(D$1=1,0,(Paraméterek!$C$52-4)),1,IF(D$1=1,Paraméterek!$C$52,4)))/1000000","v":0},{"$f":"SUM(OFFSET(Negyedéves!$A$125,$A57,3+(E$1-1)*4+IF(E$1=1,0,(Paraméterek!$C$52-4)),1,IF(E$1=1,Paraméterek!$C$52,4)))/1000000","v":0},{"$f":"SUM(OFFSET(Negyedéves!$A$125,$A57,3+(F$1-1)*4+IF(F$1=1,0,(Paraméterek!$C$52-4)),1,IF(F$1=1,Paraméterek!$C$52,4)))/1000000","v":0},{"$f":"SUM(OFFSET(Negyedéves!$A$125,$A57,3+(G$1-1)*4+IF(G$1=1,0,(Paraméterek!$C$52-4)),1,IF(G$1=1,Paraméterek!$C$52,4)))/1000000","v":0},{"$f":"SUM(OFFSET(Negyedéves!$A$125,$A57,3+(H$1-1)*4+IF(H$1=1,0,(Paraméterek!$C$52-4)),1,IF(H$1=1,Paraméterek!$C$52,4)))/1000000","v":0},{"$f":"SUM(OFFSET(Negyedéves!$A$125,$A57,3+(I$1-1)*4+IF(I$1=1,0,(Paraméterek!$C$52-4)),1,IF(I$1=1,Paraméterek!$C$52,4)))/1000000","v":0},{"$f":"SUM(OFFSET(Negyedéves!$A$125,$A57,3+(J$1-1)*4+IF(J$1=1,0,(Paraméterek!$C$52-4)),1,IF(J$1=1,Paraméterek!$C$52,4)))/1000000","v":0},{"$f":"SUM(OFFSET(Negyedéves!$A$125,$A57,3+(K$1-1)*4+IF(K$1=1,0,(Paraméterek!$C$52-4)),1,IF(K$1=1,Paraméterek!$C$52,4)))/1000000","v":0},{"$f":"SUM(OFFSET(Negyedéves!$A$125,$A57,3+(L$1-1)*4+IF(L$1=1,0,(Paraméterek!$C$52-4)),1,IF(L$1=1,Paraméterek!$C$52,4)))/1000000","v":0},{"$f":"SUM(OFFSET(Negyedéves!$A$125,$A57,3+(M$1-1)*4+IF(M$1=1,0,(Paraméterek!$C$52-4)),1,IF(M$1=1,Paraméterek!$C$52,4)))/1000000","v":0},{"$f":"SUM(OFFSET(Negyedéves!$A$125,$A57,3+(N$1-1)*4+IF(N$1=1,0,(Paraméterek!$C$52-4)),1,IF(N$1=1,Paraméterek!$C$52,4)))/1000000","v":0},"x"]
[6,"Anyagköltség",{"$f":"SUM(OFFSET(Negyedéves!$A$125,$A58,3+(C$1-1)*4+IF(C$1=1,0,(Paraméterek!$C$52-4)),1,IF(C$1=1,Paraméterek!$C$52,4)))/1000000","v":30.117704739425211},{"$f":"SUM(OFFSET(Negyedéves!$A$125,$A58,3+(D$1-1)*4+IF(D$1=1,0,(Paraméterek!$C$52-4)),1,IF(D$1=1,Paraméterek!$C$52,4)))/1000000","v":30.72005883421372},{"$f":"SUM(OFFSET(Negyedéves!$A$125,$A58,3+(E$1-1)*4+IF(E$1=1,0,(Paraméterek!$C$52-4)),1,IF(E$1=1,Paraméterek!$C$52,4)))/1000000","v":31.334460010898006},{"$f":"SUM(OFFSET(Negyedéves!$A$125,$A58,3+(F$1-1)*4+IF(F$1=1,0,(Paraméterek!$C$52-4)),1,IF(F$1=1,Paraméterek!$C$52,4)))/1000000","v":31.961149211115977},{"$f":"SUM(OFFSET(Negyedéves!$A$125,$A58,3+(G$1-1)*4+IF(G$1=1,0,(Paraméterek!$C$52-4)),1,IF(G$1=1,Paraméterek!$C$52,4)))/1000000","v":32.600372195338302},{"$f":"SUM(OFFSET(Negyedéves!$A$125,$A58,3+(H$1-1)*4+IF(H$1=1,0,(Paraméterek!$C$52-4)),1,IF(H$1=1,Paraméterek!$C$52,4)))/1000000","v":33.252379639245085},{"$f":"SUM(OFFSET(Negyedéves!$A$125,$A58,3+(I$1-1)*4+IF(I$1=1,0,(Paraméterek!$C$52-4)),1,IF(I$1=1,Paraméterek!$C$52,4)))/1000000","v":33.917427232029986},{"$f":"SUM(OFFSET(Negyedéves!$A$125,$A58,3+(J$1-1)*4+IF(J$1=1,0,(Paraméterek!$C$52-4)),1,IF(J$1=1,Paraméterek!$C$52,4)))/1000000","v":34.595775776670607},{"$f":"SUM(OFFSET(Negyedéves!$A$125,$A58,3+(K$1-1)*4+IF(K$1=1,0,(Paraméterek!$C$52-4)),1,IF(K$1=1,Paraméterek!$C$52,4)))/1000000","v":35.28769129220403},{"$f":"SUM(OFFSET(Negyedéves!$A$125,$A58,3+(L$1-1)*4+IF(L$1=1,0,(Paraméterek!$C$52-4)),1,IF(L$1=1,Paraméterek!$C$52,4)))/1000000","v":35.993445118048129},{"$f":"SUM(OFFSET(Negyedéves!$A$125,$A58,3+(M$1-1)*4+IF(M$1=1,0,(Paraméterek!$C$52-4)),1,IF(M$1=1,Paraméterek!$C$52,4)))/1000000","v":36.713314020409101},{"$f":"SUM(OFFSET(Negyedéves!$A$125,$A58,3+(N$1-1)*4+IF(N$1=1,0,(Paraméterek!$C$52-4)),1,IF(N$1=1,Paraméterek!$C$52,4)))/1000000","v":37.447580300817286},"x"]
[7,"Igénybe vett szolgáltatások értéke",{"$f":"SUM(OFFSET(Negyedéves!$A$125,$A59,3+(C$1-1)*4+IF(C$1=1,0,(Paraméterek!$C$52-4)),1,IF(C$1=1,Paraméterek!$C$52,4)))/1000000","v":8.5523448401960387},{"$f":"SUM(OFFSET(Negyedéves!$A$125,$A59,3+(D$1-1)*4+IF(D$1=1,0,(Paraméterek!$C$52-4)),1,IF(D$1=1,Paraméterek!$C$52,4)))/1000000","v":8.7233917369999627},{"$f":"SUM(OFFSET(Negyedéves!$A$125,$A59,3+(E$1-1)*4+IF(E$1=1,0,(Paraméterek!$C$52-4)),1,IF(E$1=1,Paraméterek!$C$52,4)))/1000000","v":8.8978595717399642},{"$f":"SUM(OFFSET(Negyedéves!$A$125,$A59,3+(F$1-1)*4+IF(F$1=1,0,(Paraméterek!$C$52-4)),1,IF(F$1=1,Paraméterek!$C$52,4)))/1000000","v":9.0758167631747675},{"$f":"SUM(OFFSET(Negyedéves!$A$125,$A59,3+(G$1-1)*4+IF(G$1=1,0,(Paraméterek!$C$52-4)),1,IF(G$1=1,Paraméterek!$C$52,4)))/1000000","v":9.2573330984382629},{"$f":"SUM(OFFSET(Negyedéves!$A$125,$A59,3+(H$1-1)*4+IF(H$1=1,0,(Paraméterek!$C$52-4)),1,IF(H$1=1,Paraméterek!$C$52,4)))/1000000","v":9.4424797604070303},{"$f":"SUM(OFFSET(Negyedéves!$A$125,$A59,3+(I$1-1)*4+IF(I$1=1,0,(Paraméterek!$C$52-4)),1,IF(I$1=1,Paraméterek!$C$52,4)))/1000000","v":9.631329355615172},{"$f":"SUM(OFFSET(Negyedéves!$A$125,$A59,3+(J$1-1)*4+IF(J$1=1,0,(Paraméterek!$C$52-4)),1,IF(J$1=1,Paraméterek!$C$52,4)))/1000000","v":9.8239559427274799},{"$f":"SUM(OFFSET(Negyedéves!$A$125,$A59,3+(K$1-1)*4+IF(K$1=1,0,(Paraméterek!$C$52-4)),1,IF(K$1=1,Paraméterek!$C$52,4)))/1000000","v":10.020435061582033},{"$f":"SUM(OFFSET(Negyedéves!$A$125,$A59,3+(L$1-1)*4+IF(L$1=1,0,(Paraméterek!$C$52-4)),1,IF(L$1=1,Paraméterek!$C$52,4)))/1000000","v":10.220843762813676},{"$f":"SUM(OFFSET(Negyedéves!$A$125,$A59,3+(M$1-1)*4+IF(M$1=1,0,(Paraméterek!$C$52-4)),1,IF(M$1=1,Paraméterek!$C$52,4)))/1000000","v":10.425260638069952},{"$f":"SUM(OFFSET(Negyedéves!$A$125,$A59,3+(N$1-1)*4+IF(N$1=1,0,(Paraméterek!$C$52-4)),1,IF(N$1=1,Paraméterek!$C$52,4)))/1000000","v":10.633765850831354},"x"]
[8,"Egyéb szolgáltatások értéke",{"$f":"SUM(OFFSET(Negyedéves!$A$125,$A60,3+(C$1-1)*4+IF(C$1=1,0,(Paraméterek!$C$52-4)),1,IF(C$1=1,Paraméterek!$C$52,4)))/1000000","v":0},{"$f":"SUM(OFFSET(Negyedéves!$A$125,$A60,3+(D$1-1)*4+IF(D$1=1,0,(Paraméterek!$C$52-4)),1,IF(D$1=1,Paraméterek!$C$52,4)))/1000000","v":0},{"$f":"SUM(OFFSET(Negyedéves!$A$125,$A60,3+(E$1-1)*4+IF(E$1=1,0,(Paraméterek!$C$52-4)),1,IF(E$1=1,Paraméterek!$C$52,4)))/1000000","v":0},{"$f":"SUM(OFFSET(Negyedéves!$A$125,$A60,3+(F$1-1)*4+IF(F$1=1,0,(Paraméterek!$C$52-4)),1,IF(F$1=1,Paraméterek!$C$52,4)))/1000000","v":0},{"$f":"SUM(OFFSET(Negyedéves!$A$125,$A60,3+(G$1-1)*4+IF(G$1=1,0,(Paraméterek!$C$52-4)),1,IF(G$1=1,Paraméterek!$C$52,4)))/1000000","v":0},{"$f":"SUM(OFFSET(Negyedéves!$A$125,$A60,3+(H$1-1)*4+IF(H$1=1,0,(Paraméterek!$C$52-4)),1,IF(H$1=1,Paraméterek!$C$52,4)))/1000000","v":0},{"$f":"SUM(OFFSET(Negyedéves!$A$125,$A60,3+(I$1-1)*4+IF(I$1=1,0,(Paraméterek!$C$52-4)),1,IF(I$1=1,Paraméterek!$C$52,4)))/1000000","v":0},{"$f":"SUM(OFFSET(Negyedéves!$A$125,$A60,3+(J$1-1)*4+IF(J$1=1,0,(Paraméterek!$C$52-4)),1,IF(J$1=1,Paraméterek!$C$52,4)))/1000000","v":0},{"$f":"SUM(OFFSET(Negyedéves!$A$125,$A60,3+(K$1-1)*4+IF(K$1=1,0,(Paraméterek!$C$52-4)),1,IF(K$1=1,Paraméterek!$C$52,4)))/1000000","v":0},{"$f":"SUM(OFFSET(Negyedéves!$A$125,$A60,3+(L$1-1)*4+IF(L$1=1,0,(Paraméterek!$C$52-4)),1,IF(L$1=1,Paraméterek!$C$52,4)))/1000000","v":0},{"$f":"SUM(OFFSET(Negyedéves!$A$125,$A60,3+(M$1-1)*4+IF(M$1=1,0,(Paraméterek!$C$52-4)),1,IF(M$1=1,Paraméterek!$C$52,4)))/1000000","v":0},{"$f":"SUM(OFFSET(Negyedéves!$A$125,$A60,3+(N$1-1)*4+IF(N$1=1,0,(Paraméterek!$C$52-4)),1,IF(N$1=1,Paraméterek!$C$52,4)))/1000000","v":0},"x"]
[9,"Eladott áruk beszerzési értéke",{"$f":"SUM(OFFSET(Negyedéves!$A$125,$A61,3+(C$1-1)*4+IF(C$1=1,0,(Paraméterek!$C$52-4)),1,IF(C$1=1,Paraméterek!$C$52,4)))/1000000","v":0},{"$f":"SUM(OFFSET(Negyedéves!$A$125,$A61,3+(D$1-1)*4+IF(D$1=1,0,(Paraméterek!$C$52-4)),1,IF(D$1=1,Paraméterek!$C$52,4)))/1000000","v":0},{"$f":"SUM(OFFSET(Negyedéves!$A$125,$A61,3+(E$1-1)*4+IF(E$1=1,0,(Paraméterek!$C$52-4)),1,IF(E$1=1,Paraméterek!$C$52,4)))/1000000","v":0},{"$f":"SUM(OFFSET(Negyedéves!$A$125,$A61,3+(F$1-1)*4+IF(F$1=1,0,(Paraméterek!$C$52-4)),1,IF(F$1=1,Paraméterek!$C$52,4)))/1000000","v":0},{"$f":"SUM(OFFSET(Negyedéves!$A$125,$A61,3+(G$1-1)*4+IF(G$1=1,0,(Paraméterek!$C$52-4)),1,IF(G$1=1,Paraméterek!$C$52,4)))/1000000","v":0},{"$f":"SUM(OFFSET(Negyedéves!$A$125,$A61,3+(H$1-1)*4+IF(H$1=1,0,(Paraméterek!$C$52-4)),1,IF(H$1=1,Paraméterek!$C$52,4)))/1000000","v":0},{"$f":"SUM(OFFSET(Negyedéves!$A$125,$A61,3+(I$1-1)*4+IF(I$1=1,0,(Paraméterek!$C$52-4)),1,IF(I$1=1,Paraméterek!$C$52,4)))/1000000","v":0},{"$f":"SUM(OFFSET(Negyedéves!$A$125,$A61,3+(J$1-1)*4+IF(J$1=1,0,(Paraméterek!$C$52-4)),1,IF(J$1=1,Paraméterek!$C$52,4)))/1000000","v":0},{"$f":"SUM(OFFSET(Negyedéves!$A$125,$A61,3+(K$1-1)*4+IF(K$1=1,0,(Paraméterek!$C$52-4)),1,IF(K$1=1,Paraméterek!$C$52,4)))/1000000","v":0},{"$f":"SUM(OFFSET(Negyedéves!$A$125,$A61,3+(L$1-1)*4+IF(L$1=1,0,(Paraméterek!$C$52-4)),1,IF(L$1=1,Paraméterek!$C$52,4)))/1000000","v":0},{"$f":"SUM(OFFSET(Negyedéves!$A$125,$A61,3+(M$1-1)*4+IF(M$1=1,0,(Paraméterek!$C$52-4)),1,IF(M$1=1,Paraméterek!$C$52,4)))/1000000","v":0},{"$f":"SUM(OFFSET(Negyedéves!$A$125,$A61,3+(N$1-1)*4+IF(N$1=1,0,(Paraméterek!$C$52-4)),1,IF(N$1=1,Paraméterek!$C$52,4)))/1000000","v":0},"x"]
[10,"Eladott szolgáltatások értéke",{"$f":"SUM(OFFSET(Negyedéves!$A$125,$A62,3+(C$1-1)*4+IF(C$1=1,0,(Paraméterek!$C$52-4)),1,IF(C$1=1,Paraméterek!$C$52,4)))/1000000","v":0},{"$f":"SUM(OFFSET(Negyedéves!$A$125,$A62,3+(D$1-1)*4+IF(D$1=1,0,(Paraméterek!$C$52-4)),1,IF(D$1=1,Paraméterek!$C$52,4)))/1000000","v":0},{"$f":"SUM(OFFSET(Negyedéves!$A$125,$A62,3+(E$1-1)*4+IF(E$1=1,0,(Paraméterek!$C$52-4)),1,IF(E$1=1,Paraméterek!$C$52,4)))/1000000","v":0},{"$f":"SUM(OFFSET(Negyedéves!$A$125,$A62,3+(F$1-1)*4+IF(F$1=1,0,(Paraméterek!$C$52-4)),1,IF(F$1=1,Paraméterek!$C$52,4)))/1000000","v":0},{"$f":"SUM(OFFSET(Negyedéves!$A$125,$A62,3+(G$1-1)*4+IF(G$1=1,0,(Paraméterek!$C$52-4)),1,IF(G$1=1,Paraméterek!$C$52,4)))/1000000","v":0},{"$f":"SUM(OFFSET(Negyedéves!$A$125,$A62,3+(H$1-1)*4+IF(H$1=1,0,(Paraméterek!$C$52-4)),1,IF(H$1=1,Paraméterek!$C$52,4)))/1000000","v":0},{"$f":"SUM(OFFSET(Negyedéves!$A$125,$A62,3+(I$1-1)*4+IF(I$1=1,0,(Paraméterek!$C$52-4)),1,IF(I$1=1,Paraméterek!$C$52,4)))/1000000","v":0},{"$f":"SUM(OFFSET(Negyedéves!$A$125,$A62,3+(J$1-1)*4+IF(J$1=1,0,(Paraméterek!$C$52-4)),1,IF(J$1=1,Paraméterek!$C$52,4)))/1000000","v":0},{"$f":"SUM(OFFSET(Negyedéves!$A$125,$A62,3+(K$1-1)*4+IF(K$1=1,0,(Paraméterek!$C$52-4)),1,IF(K$1=1,Paraméterek!$C$52,4)))/1000000","v":0},{"$f":"SUM(OFFSET(Negyedéves!$A$125,$A62,3+(L$1-1)*4+IF(L$1=1,0,(Paraméterek!$C$52-4)),1,IF(L$1=1,Paraméterek!$C$52,4)))/1000000","v":0},{"$f":"SUM(OFFSET(Negyedéves!$A$125,$A62,3+(M$1-1)*4+IF(M$1=1,0,(Paraméterek!$C$52-4)),1,IF(M$1=1,Paraméterek!$C$52,4)))/1000000","v":0},{"$f":"SUM(OFFSET(Negyedéves!$A$125,$A62,3+(N$1-1)*4+IF(N$1=1,0,(Paraméterek!$C$52-4)),1,IF(N$1=1,Paraméterek!$C$52,4)))/1000000","v":0},"x"]
[11,"Anyagjellegű ráfordítások",{"$f":"SUM(OFFSET(Negyedéves!$A$125,$A63,3+(C$1-1)*4+IF(C$1=1,0,(Paraméterek!$C$52-4)),1,IF(C$1=1,Paraméterek!$C$52,4)))/1000000","v":38.670049579621249},{"$f":"SUM(OFFSET(Negyedéves!$A$125,$A63,3+(D$1-1)*4+IF(D$1=1,0,(Paraméterek!$C$52-4)),1,IF(D$1=1,Paraméterek!$C$52,4)))/1000000","v":39.443450571213688},{"$f":"SUM(OFFSET(Negyedéves!$A$125,$A63,3+(E$1-1)*4+IF(E$1=1,0,(Paraméterek!$C$52-4)),1,IF(E$1=1,Paraméterek!$C$52,4)))/1000000","v":40.23231958263797},{"$f":"SUM(OFFSET(Negyedéves!$A$125,$A63,3+(F$1-1)*4+IF(F$1=1,0,(Paraméterek!$C$52-4)),1,IF(F$1=1,Paraméterek!$C$52,4)))/1000000","v":41.036965974290744},{"$f":"SUM(OFFSET(Negyedéves!$A$125,$A63,3+(G$1-1)*4+IF(G$1=1,0,(Paraméterek!$C$52-4)),1,IF(G$1=1,Paraméterek!$C$52,4)))/1000000","v":41.857705293776569},{"$f":"SUM(OFFSET(Negyedéves!$A$125,$A63,3+(H$1-1)*4+IF(H$1=1,0,(Paraméterek!$C$52-4)),1,IF(H$1=1,Paraméterek!$C$52,4)))/1000000","v":42.69485939965211},{"$f":"SUM(OFFSET(Negyedéves!$A$125,$A63,3+(I$1-1)*4+IF(I$1=1,0,(Paraméterek!$C$52-4)),1,IF(I$1=1,Paraméterek!$C$52,4)))/1000000","v":43.548756587645173},{"$f":"SUM(OFFSET(Negyedéves!$A$125,$A63,3+(J$1-1)*4+IF(J$1=1,0,(Paraméterek!$C$52-4)),1,IF(J$1=1,Paraméterek!$C$52,4)))/1000000","v":44.419731719398079},{"$f":"SUM(OFFSET(Negyedéves!$A$125,$A63,3+(K$1-1)*4+IF(K$1=1,0,(Paraméterek!$C$52-4)),1,IF(K$1=1,Paraméterek!$C$52,4)))/1000000","v":45.308126353786065},{"$f":"SUM(OFFSET(Negyedéves!$A$125,$A63,3+(L$1-1)*4+IF(L$1=1,0,(Paraméterek!$C$52-4)),1,IF(L$1=1,Paraméterek!$C$52,4)))/1000000","v":46.214288880861801},{"$f":"SUM(OFFSET(Negyedéves!$A$125,$A63,3+(M$1-1)*4+IF(M$1=1,0,(Paraméterek!$C$52-4)),1,IF(M$1=1,Paraméterek!$C$52,4)))/1000000","v":47.138574658479051},{"$f":"SUM(OFFSET(Negyedéves!$A$125,$A63,3+(N$1-1)*4+IF(N$1=1,0,(Paraméterek!$C$52-4)),1,IF(N$1=1,Paraméterek!$C$52,4)))/1000000","v":48.081346151648646},"x"]
[12,"Bérköltség",{"$f":"SUM(OFFSET(Negyedéves!$A$125,$A64,3+(C$1-1)*4+IF(C$1=1,0,(Paraméterek!$C$52-4)),1,IF(C$1=1,Paraméterek!$C$52,4)))/1000000","v":5.01},{"$f":"SUM(OFFSET(Negyedéves!$A$125,$A64,3+(D$1-1)*4+IF(D$1=1,0,(Paraméterek!$C$52-4)),1,IF(D$1=1,Paraméterek!$C$52,4)))/1000000","v":5.1102000000000016},{"$f":"SUM(OFFSET(Negyedéves!$A$125,$A64,3+(E$1-1)*4+IF(E$1=1,0,(Paraméterek!$C$52-4)),1,IF(E$1=1,Paraméterek!$C$52,4)))/1000000","v":5.2124040000000047},{"$f":"SUM(OFFSET(Negyedéves!$A$125,$A64,3+(F$1-1)*4+IF(F$1=1,0,(Paraméterek!$C$52-4)),1,IF(F$1=1,Paraméterek!$C$52,4)))/1000000","v":5.3166520800000079},{"$f":"SUM(OFFSET(Negyedéves!$A$125,$A64,3+(G$1-1)*4+IF(G$1=1,0,(Paraméterek!$C$52-4)),1,IF(G$1=1,Paraméterek!$C$52,4)))/1000000","v":5.4229851216000107},{"$f":"SUM(OFFSET(Negyedéves!$A$125,$A64,3+(H$1-1)*4+IF(H$1=1,0,(Paraméterek!$C$52-4)),1,IF(H$1=1,Paraméterek!$C$52,4)))/1000000","v":5.5314448240320129},{"$f":"SUM(OFFSET(Negyedéves!$A$125,$A64,3+(I$1-1)*4+IF(I$1=1,0,(Paraméterek!$C$52-4)),1,IF(I$1=1,Paraméterek!$C$52,4)))/1000000","v":5.6420737205126565},{"$f":"SUM(OFFSET(Negyedéves!$A$125,$A64,3+(J$1-1)*4+IF(J$1=1,0,(Paraméterek!$C$52-4)),1,IF(J$1=1,Paraméterek!$C$52,4)))/1000000","v":5.754915194922912},{"$f":"SUM(OFFSET(Negyedéves!$A$125,$A64,3+(K$1-1)*4+IF(K$1=1,0,(Paraméterek!$C$52-4)),1,IF(K$1=1,Paraméterek!$C$52,4)))/1000000","v":5.8700134988213728},{"$f":"SUM(OFFSET(Negyedéves!$A$125,$A64,3+(L$1-1)*4+IF(L$1=1,0,(Paraméterek!$C$52-4)),1,IF(L$1=1,Paraméterek!$C$52,4)))/1000000","v":5.9874137687978033},{"$f":"SUM(OFFSET(Negyedéves!$A$125,$A64,3+(M$1-1)*4+IF(M$1=1,0,(Paraméterek!$C$52-4)),1,IF(M$1=1,Paraméterek!$C$52,4)))/1000000","v":6.1071620441737622},{"$f":"SUM(OFFSET(Negyedéves!$A$125,$A64,3+(N$1-1)*4+IF(N$1=1,0,(Paraméterek!$C$52-4)),1,IF(N$1=1,Paraméterek!$C$52,4)))/1000000","v":6.2293052850572401},"x"]
[13,"Személyi jellegű egyéb kifizetések",{"$f":"SUM(OFFSET(Negyedéves!$A$125,$A65,3+(C$1-1)*4+IF(C$1=1,0,(Paraméterek!$C$52-4)),1,IF(C$1=1,Paraméterek!$C$52,4)))/1000000","v":0.6},{"$f":"SUM(OFFSET(Negyedéves!$A$125,$A65,3+(D$1-1)*4+IF(D$1=1,0,(Paraméterek!$C$52-4)),1,IF(D$1=1,Paraméterek!$C$52,4)))/1000000","v":0.61200000000000021},{"$f":"SUM(OFFSET(Negyedéves!$A$125,$A65,3+(E$1-1)*4+IF(E$1=1,0,(Paraméterek!$C$52-4)),1,IF(E$1=1,Paraméterek!$C$52,4)))/1000000","v":0.62424000000000046},{"$f":"SUM(OFFSET(Negyedéves!$A$125,$A65,3+(F$1-1)*4+IF(F$1=1,0,(Paraméterek!$C$52-4)),1,IF(F$1=1,Paraméterek!$C$52,4)))/1000000","v":0.63672480000000076},{"$f":"SUM(OFFSET(Negyedéves!$A$125,$A65,3+(G$1-1)*4+IF(G$1=1,0,(Paraméterek!$C$52-4)),1,IF(G$1=1,Paraméterek!$C$52,4)))/1000000","v":0.64945929600000107},{"$f":"SUM(OFFSET(Negyedéves!$A$125,$A65,3+(H$1-1)*4+IF(H$1=1,0,(Paraméterek!$C$52-4)),1,IF(H$1=1,Paraméterek!$C$52,4)))/1000000","v":0.66244848192000128},{"$f":"SUM(OFFSET(Negyedéves!$A$125,$A65,3+(I$1-1)*4+IF(I$1=1,0,(Paraméterek!$C$52-4)),1,IF(I$1=1,Paraméterek!$C$52,4)))/1000000","v":0.67569745155840166},{"$f":"SUM(OFFSET(Negyedéves!$A$125,$A65,3+(J$1-1)*4+IF(J$1=1,0,(Paraméterek!$C$52-4)),1,IF(J$1=1,Paraméterek!$C$52,4)))/1000000","v":0.68921140058957009},{"$f":"SUM(OFFSET(Negyedéves!$A$125,$A65,3+(K$1-1)*4+IF(K$1=1,0,(Paraméterek!$C$52-4)),1,IF(K$1=1,Paraméterek!$C$52,4)))/1000000","v":0.70299562860136178},{"$f":"SUM(OFFSET(Negyedéves!$A$125,$A65,3+(L$1-1)*4+IF(L$1=1,0,(Paraméterek!$C$52-4)),1,IF(L$1=1,Paraméterek!$C$52,4)))/1000000","v":0.71705554117338932},{"$f":"SUM(OFFSET(Negyedéves!$A$125,$A65,3+(M$1-1)*4+IF(M$1=1,0,(Paraméterek!$C$52-4)),1,IF(M$1=1,Paraméterek!$C$52,4)))/1000000","v":0.73139665199685733},{"$f":"SUM(OFFSET(Negyedéves!$A$125,$A65,3+(N$1-1)*4+IF(N$1=1,0,(Paraméterek!$C$52-4)),1,IF(N$1=1,Paraméterek!$C$52,4)))/1000000","v":0.74602458503679492},"x"]
[14,"Bérjárulékok",{"$f":"SUM(OFFSET(Negyedéves!$A$125,$A66,3+(C$1-1)*4+IF(C$1=1,0,(Paraméterek!$C$52-4)),1,IF(C$1=1,Paraméterek!$C$52,4)))/1000000","v":0.92684999999999995},{"$f":"SUM(OFFSET(Negyedéves!$A$125,$A66,3+(D$1-1)*4+IF(D$1=1,0,(Paraméterek!$C$52-4)),1,IF(D$1=1,Paraméterek!$C$52,4)))/1000000","v":0.94538700000000042},{"$f":"SUM(OFFSET(Negyedéves!$A$125,$A66,3+(E$1-1)*4+IF(E$1=1,0,(Paraméterek!$C$52-4)),1,IF(E$1=1,Paraméterek!$C$52,4)))/1000000","v":0.96429474000000093},{"$f":"SUM(OFFSET(Negyedéves!$A$125,$A66,3+(F$1-1)*4+IF(F$1=1,0,(Paraméterek!$C$52-4)),1,IF(F$1=1,Paraméterek!$C$52,4)))/1000000","v":0.98358063480000135},{"$f":"SUM(OFFSET(Negyedéves!$A$125,$A66,3+(G$1-1)*4+IF(G$1=1,0,(Paraméterek!$C$52-4)),1,IF(G$1=1,Paraméterek!$C$52,4)))/1000000","v":1.0032522474960019},{"$f":"SUM(OFFSET(Negyedéves!$A$125,$A66,3+(H$1-1)*4+IF(H$1=1,0,(Paraméterek!$C$52-4)),1,IF(H$1=1,Paraméterek!$C$52,4)))/1000000","v":1.0233172924459224},{"$f":"SUM(OFFSET(Negyedéves!$A$125,$A66,3+(I$1-1)*4+IF(I$1=1,0,(Paraméterek!$C$52-4)),1,IF(I$1=1,Paraméterek!$C$52,4)))/1000000","v":1.0437836382948413},{"$f":"SUM(OFFSET(Negyedéves!$A$125,$A66,3+(J$1-1)*4+IF(J$1=1,0,(Paraméterek!$C$52-4)),1,IF(J$1=1,Paraméterek!$C$52,4)))/1000000","v":1.0646593110607385},{"$f":"SUM(OFFSET(Negyedéves!$A$125,$A66,3+(K$1-1)*4+IF(K$1=1,0,(Paraméterek!$C$52-4)),1,IF(K$1=1,Paraméterek!$C$52,4)))/1000000","v":1.0859524972819536},{"$f":"SUM(OFFSET(Negyedéves!$A$125,$A66,3+(L$1-1)*4+IF(L$1=1,0,(Paraméterek!$C$52-4)),1,IF(L$1=1,Paraméterek!$C$52,4)))/1000000","v":1.1076715472275933},{"$f":"SUM(OFFSET(Negyedéves!$A$125,$A66,3+(M$1-1)*4+IF(M$1=1,0,(Paraméterek!$C$52-4)),1,IF(M$1=1,Paraméterek!$C$52,4)))/1000000","v":1.1298249781721459},{"$f":"SUM(OFFSET(Negyedéves!$A$125,$A66,3+(N$1-1)*4+IF(N$1=1,0,(Paraméterek!$C$52-4)),1,IF(N$1=1,Paraméterek!$C$52,4)))/1000000","v":1.1524214777355892},"x"]
[15,"Személyi jellegű ráfordítások",{"$f":"SUM(OFFSET(Negyedéves!$A$125,$A67,3+(C$1-1)*4+IF(C$1=1,0,(Paraméterek!$C$52-4)),1,IF(C$1=1,Paraméterek!$C$52,4)))/1000000","v":6.5368500000000003},{"$f":"SUM(OFFSET(Negyedéves!$A$125,$A67,3+(D$1-1)*4+IF(D$1=1,0,(Paraméterek!$C$52-4)),1,IF(D$1=1,Paraméterek!$C$52,4)))/1000000","v":6.6675870000000019},{"$f":"SUM(OFFSET(Negyedéves!$A$125,$A67,3+(E$1-1)*4+IF(E$1=1,0,(Paraméterek!$C$52-4)),1,IF(E$1=1,Paraméterek!$C$52,4)))/1000000","v":6.8009387400000065},{"$f":"SUM(OFFSET(Negyedéves!$A$125,$A67,3+(F$1-1)*4+IF(F$1=1,0,(Paraméterek!$C$52-4)),1,IF(F$1=1,Paraméterek!$C$52,4)))/1000000","v":6.9369575148000093},{"$f":"SUM(OFFSET(Negyedéves!$A$125,$A67,3+(G$1-1)*4+IF(G$1=1,0,(Paraméterek!$C$52-4)),1,IF(G$1=1,Paraméterek!$C$52,4)))/1000000","v":7.0756966650960127},{"$f":"SUM(OFFSET(Negyedéves!$A$125,$A67,3+(H$1-1)*4+IF(H$1=1,0,(Paraméterek!$C$52-4)),1,IF(H$1=1,Paraméterek!$C$52,4)))/1000000","v":7.2172105983979371},{"$f":"SUM(OFFSET(Negyedéves!$A$125,$A67,3+(I$1-1)*4+IF(I$1=1,0,(Paraméterek!$C$52-4)),1,IF(I$1=1,Paraméterek!$C$52,4)))/1000000","v":7.3615548103658996},{"$f":"SUM(OFFSET(Negyedéves!$A$125,$A67,3+(J$1-1)*4+IF(J$1=1,0,(Paraméterek!$C$52-4)),1,IF(J$1=1,Paraméterek!$C$52,4)))/1000000","v":7.5087859065732214},{"$f":"SUM(OFFSET(Negyedéves!$A$125,$A67,3+(K$1-1)*4+IF(K$1=1,0,(Paraméterek!$C$52-4)),1,IF(K$1=1,Paraméterek!$C$52,4)))/1000000","v":7.6589616247046886},{"$f":"SUM(OFFSET(Negyedéves!$A$125,$A67,3+(L$1-1)*4+IF(L$1=1,0,(Paraméterek!$C$52-4)),1,IF(L$1=1,Paraméterek!$C$52,4)))/1000000","v":7.812140857198786},{"$f":"SUM(OFFSET(Negyedéves!$A$125,$A67,3+(M$1-1)*4+IF(M$1=1,0,(Paraméterek!$C$52-4)),1,IF(M$1=1,Paraméterek!$C$52,4)))/1000000","v":7.9683836743427658},{"$f":"SUM(OFFSET(Negyedéves!$A$125,$A67,3+(N$1-1)*4+IF(N$1=1,0,(Paraméterek!$C$52-4)),1,IF(N$1=1,Paraméterek!$C$52,4)))/1000000","v":8.1277513478296246},"x"]
[16,"Értékcsökkenési leírás",{"$f":"SUM(OFFSET(Negyedéves!$A$125,$A68,3+(C$1-1)*4+IF(C$1=1,0,(Paraméterek!$C$52-4)),1,IF(C$1=1,Paraméterek!$C$52,4)))/1000000","v":20.495242466666671},{"$f":"SUM(OFFSET(Negyedéves!$A$125,$A68,3+(D$1-1)*4+IF(D$1=1,0,(Paraméterek!$C$52-4)),1,IF(D$1=1,Paraméterek!$C$52,4)))/1000000","v":20.641679922410198},{"$f":"SUM(OFFSET(Negyedéves!$A$125,$A68,3+(E$1-1)*4+IF(E$1=1,0,(Paraméterek!$C$52-4)),1,IF(E$1=1,Paraméterek!$C$52,4)))/1000000","v":20.79104612726859},{"$f":"SUM(OFFSET(Negyedéves!$A$125,$A68,3+(F$1-1)*4+IF(F$1=1,0,(Paraméterek!$C$52-4)),1,IF(F$1=1,Paraméterek!$C$52,4)))/1000000","v":20.943399656224155},{"$f":"SUM(OFFSET(Negyedéves!$A$125,$A68,3+(G$1-1)*4+IF(G$1=1,0,(Paraméterek!$C$52-4)),1,IF(G$1=1,Paraméterek!$C$52,4)))/1000000","v":21.098800255758825},{"$f":"SUM(OFFSET(Negyedéves!$A$125,$A68,3+(H$1-1)*4+IF(H$1=1,0,(Paraméterek!$C$52-4)),1,IF(H$1=1,Paraméterek!$C$52,4)))/1000000","v":21.257308867284188},{"$f":"SUM(OFFSET(Negyedéves!$A$125,$A68,3+(I$1-1)*4+IF(I$1=1,0,(Paraméterek!$C$52-4)),1,IF(I$1=1,Paraméterek!$C$52,4)))/1000000","v":21.418987651040062},{"$f":"SUM(OFFSET(Negyedéves!$A$125,$A68,3+(J$1-1)*4+IF(J$1=1,0,(Paraméterek!$C$52-4)),1,IF(J$1=1,Paraméterek!$C$52,4)))/1000000","v":21.583900010471055},{"$f":"SUM(OFFSET(Negyedéves!$A$125,$A68,3+(K$1-1)*4+IF(K$1=1,0,(Paraméterek!$C$52-4)),1,IF(K$1=1,Paraméterek!$C$52,4)))/1000000","v":21.605673161347145},{"$f":"SUM(OFFSET(Negyedéves!$A$125,$A68,3+(L$1-1)*4+IF(L$1=1,0,(Paraméterek!$C$52-4)),1,IF(L$1=1,Paraméterek!$C$52,4)))/1000000","v":21.627881775240752},{"$f":"SUM(OFFSET(Negyedéves!$A$125,$A68,3+(M$1-1)*4+IF(M$1=1,0,(Paraméterek!$C$52-4)),1,IF(M$1=1,Paraméterek!$C$52,4)))/1000000","v":1.8219587614122335},{"$f":"SUM(OFFSET(Negyedéves!$A$125,$A68,3+(N$1-1)*4+IF(N$1=1,0,(Paraméterek!$C$52-4)),1,IF(N$1=1,Paraméterek!$C$52,4)))/1000000","v":1.8450646033071449},"x"]
[17,"Egyéb ráfordítások",{"$f":"SUM(OFFSET(Negyedéves!$A$125,$A69,3+(C$1-1)*4+IF(C$1=1,0,(Paraméterek!$C$52-4)),1,IF(C$1=1,Paraméterek!$C$52,4)))/1000000","v":2.5243648836764154},{"$f":"SUM(OFFSET(Negyedéves!$A$125,$A69,3+(D$1-1)*4+IF(D$1=1,0,(Paraméterek!$C$52-4)),1,IF(D$1=1,Paraméterek!$C$52,4)))/1000000","v":2.5507330709921865},{"$f":"SUM(OFFSET(Negyedéves!$A$125,$A69,3+(E$1-1)*4+IF(E$1=1,0,(Paraméterek!$C$52-4)),1,IF(E$1=1,Paraméterek!$C$52,4)))/1000000","v":2.5776286220542737},{"$f":"SUM(OFFSET(Negyedéves!$A$125,$A69,3+(F$1-1)*4+IF(F$1=1,0,(Paraméterek!$C$52-4)),1,IF(F$1=1,Paraméterek!$C$52,4)))/1000000","v":2.6050620841376029},{"$f":"SUM(OFFSET(Negyedéves!$A$125,$A69,3+(G$1-1)*4+IF(G$1=1,0,(Paraméterek!$C$52-4)),1,IF(G$1=1,Paraméterek!$C$52,4)))/1000000","v":2.6330442154625988},{"$f":"SUM(OFFSET(Negyedéves!$A$125,$A69,3+(H$1-1)*4+IF(H$1=1,0,(Paraméterek!$C$52-4)),1,IF(H$1=1,Paraméterek!$C$52,4)))/1000000","v":2.6615859894140939},{"$f":"SUM(OFFSET(Negyedéves!$A$125,$A69,3+(I$1-1)*4+IF(I$1=1,0,(Paraméterek!$C$52-4)),1,IF(I$1=1,Paraméterek!$C$52,4)))/1000000","v":2.6906985988446195},{"$f":"SUM(OFFSET(Negyedéves!$A$125,$A69,3+(J$1-1)*4+IF(J$1=1,0,(Paraméterek!$C$52-4)),1,IF(J$1=1,Paraméterek!$C$52,4)))/1000000","v":2.7203934604637552},{"$f":"SUM(OFFSET(Negyedéves!$A$125,$A69,3+(K$1-1)*4+IF(K$1=1,0,(Paraméterek!$C$52-4)),1,IF(K$1=1,Paraméterek!$C$52,4)))/1000000","v":2.7506822193152738},{"$f":"SUM(OFFSET(Negyedéves!$A$125,$A69,3+(L$1-1)*4+IF(L$1=1,0,(Paraméterek!$C$52-4)),1,IF(L$1=1,Paraméterek!$C$52,4)))/1000000","v":2.7815767533438223},{"$f":"SUM(OFFSET(Negyedéves!$A$125,$A69,3+(M$1-1)*4+IF(M$1=1,0,(Paraméterek!$C$52-4)),1,IF(M$1=1,Paraméterek!$C$52,4)))/1000000","v":2.8130891780529432},{"$f":"SUM(OFFSET(Negyedéves!$A$125,$A69,3+(N$1-1)*4+IF(N$1=1,0,(Paraméterek!$C$52-4)),1,IF(N$1=1,Paraméterek!$C$52,4)))/1000000","v":2.8452318512562447},"x"]
[18,"ebből: értékvesztés",{"$f":"SUM(OFFSET(Negyedéves!$A$125,$A70,3+(C$1-1)*4+IF(C$1=1,0,(Paraméterek!$C$52-4)),1,IF(C$1=1,Paraméterek!$C$52,4)))/1000000","v":0},{"$f":"SUM(OFFSET(Negyedéves!$A$125,$A70,3+(D$1-1)*4+IF(D$1=1,0,(Paraméterek!$C$52-4)),1,IF(D$1=1,Paraméterek!$C$52,4)))/1000000","v":0},{"$f":"SUM(OFFSET(Negyedéves!$A$125,$A70,3+(E$1-1)*4+IF(E$1=1,0,(Paraméterek!$C$52-4)),1,IF(E$1=1,Paraméterek!$C$52,4)))/1000000","v":0},{"$f":"SUM(OFFSET(Negyedéves!$A$125,$A70,3+(F$1-1)*4+IF(F$1=1,0,(Paraméterek!$C$52-4)),1,IF(F$1=1,Paraméterek!$C$52,4)))/1000000","v":0},{"$f":"SUM(OFFSET(Negyedéves!$A$125,$A70,3+(G$1-1)*4+IF(G$1=1,0,(Paraméterek!$C$52-4)),1,IF(G$1=1,Paraméterek!$C$52,4)))/1000000","v":0},{"$f":"SUM(OFFSET(Negyedéves!$A$125,$A70,3+(H$1-1)*4+IF(H$1=1,0,(Paraméterek!$C$52-4)),1,IF(H$1=1,Paraméterek!$C$52,4)))/1000000","v":0},{"$f":"SUM(OFFSET(Negyedéves!$A$125,$A70,3+(I$1-1)*4+IF(I$1=1,0,(Paraméterek!$C$52-4)),1,IF(I$1=1,Paraméterek!$C$52,4)))/1000000","v":0},{"$f":"SUM(OFFSET(Negyedéves!$A$125,$A70,3+(J$1-1)*4+IF(J$1=1,0,(Paraméterek!$C$52-4)),1,IF(J$1=1,Paraméterek!$C$52,4)))/1000000","v":0},{"$f":"SUM(OFFSET(Negyedéves!$A$125,$A70,3+(K$1-1)*4+IF(K$1=1,0,(Paraméterek!$C$52-4)),1,IF(K$1=1,Paraméterek!$C$52,4)))/1000000","v":0},{"$f":"SUM(OFFSET(Negyedéves!$A$125,$A70,3+(L$1-1)*4+IF(L$1=1,0,(Paraméterek!$C$52-4)),1,IF(L$1=1,Paraméterek!$C$52,4)))/1000000","v":0},{"$f":"SUM(OFFSET(Negyedéves!$A$125,$A70,3+(M$1-1)*4+IF(M$1=1,0,(Paraméterek!$C$52-4)),1,IF(M$1=1,Paraméterek!$C$52,4)))/1000000","v":0},{"$f":"SUM(OFFSET(Negyedéves!$A$125,$A70,3+(N$1-1)*4+IF(N$1=1,0,(Paraméterek!$C$52-4)),1,IF(N$1=1,Paraméterek!$C$52,4)))/1000000","v":0},"x"]
[19,"Üzemi (üzleti) tevékenység eredménye",{"$f":"SUM(OFFSET(Negyedéves!$A$125,$A71,3+(C$1-1)*4+IF(C$1=1,0,(Paraméterek!$C$52-4)),1,IF(C$1=1,Paraméterek!$C$52,4)))/1000000","v":31.383510088178316},{"$f":"SUM(OFFSET(Negyedéves!$A$125,$A71,3+(D$1-1)*4+IF(D$1=1,0,(Paraméterek!$C$52-4)),1,IF(D$1=1,Paraméterek!$C$52,4)))/1000000","v":32.298766793889449},{"$f":"SUM(OFFSET(Negyedéves!$A$125,$A71,3+(E$1-1)*4+IF(E$1=1,0,(Paraméterek!$C$52-4)),1,IF(E$1=1,Paraméterek!$C$52,4)))/1000000","v":33.232328633714801},{"$f":"SUM(OFFSET(Negyedéves!$A$125,$A71,3+(F$1-1)*4+IF(F$1=1,0,(Paraméterek!$C$52-4)),1,IF(F$1=1,Paraméterek!$C$52,4)))/1000000","v":34.184561710336681},{"$f":"SUM(OFFSET(Negyedéves!$A$125,$A71,3+(G$1-1)*4+IF(G$1=1,0,(Paraméterek!$C$52-4)),1,IF(G$1=1,Paraméterek!$C$52,4)))/1000000","v":35.155839448491008},{"$f":"SUM(OFFSET(Negyedéves!$A$125,$A71,3+(H$1-1)*4+IF(H$1=1,0,(Paraméterek!$C$52-4)),1,IF(H$1=1,Paraméterek!$C$52,4)))/1000000","v":36.14654274140841},{"$f":"SUM(OFFSET(Negyedéves!$A$125,$A71,3+(I$1-1)*4+IF(I$1=1,0,(Paraméterek!$C$52-4)),1,IF(I$1=1,Paraméterek!$C$52,4)))/1000000","v":37.157060100184161},{"$f":"SUM(OFFSET(Negyedéves!$A$125,$A71,3+(J$1-1)*4+IF(J$1=1,0,(Paraméterek!$C$52-4)),1,IF(J$1=1,Paraméterek!$C$52,4)))/1000000","v":38.187787806135425},{"$f":"SUM(OFFSET(Negyedéves!$A$125,$A71,3+(K$1-1)*4+IF(K$1=1,0,(Paraméterek!$C$52-4)),1,IF(K$1=1,Paraméterek!$C$52,4)))/1000000","v":39.385567521949234},{"$f":"SUM(OFFSET(Negyedéves!$A$125,$A71,3+(L$1-1)*4+IF(L$1=1,0,(Paraméterek!$C$52-4)),1,IF(L$1=1,Paraméterek!$C$52,4)))/1000000","v":40.607302832079313},{"$f":"SUM(OFFSET(Negyedéves!$A$125,$A71,3+(M$1-1)*4+IF(M$1=1,0,(Paraméterek!$C$52-4)),1,IF(M$1=1,Paraméterek!$C$52,4)))/1000000","v":61.682048648412021},{"$f":"SUM(OFFSET(Negyedéves!$A$125,$A71,3+(N$1-1)*4+IF(N$1=1,0,(Paraméterek!$C$52-4)),1,IF(N$1=1,Paraméterek!$C$52,4)))/1000000","v":62.953142065071361},"x"]
[20,"Kapott osztalék és részesedés",{"$f":"SUM(OFFSET(Negyedéves!$A$125,$A72,3+(C$1-1)*4+IF(C$1=1,0,(Paraméterek!$C$52-4)),1,IF(C$1=1,Paraméterek!$C$52,4)))/1000000","v":0},{"$f":"SUM(OFFSET(Negyedéves!$A$125,$A72,3+(D$1-1)*4+IF(D$1=1,0,(Paraméterek!$C$52-4)),1,IF(D$1=1,Paraméterek!$C$52,4)))/1000000","v":0},{"$f":"SUM(OFFSET(Negyedéves!$A$125,$A72,3+(E$1-1)*4+IF(E$1=1,0,(Paraméterek!$C$52-4)),1,IF(E$1=1,Paraméterek!$C$52,4)))/1000000","v":0},{"$f":"SUM(OFFSET(Negyedéves!$A$125,$A72,3+(F$1-1)*4+IF(F$1=1,0,(Paraméterek!$C$52-4)),1,IF(F$1=1,Paraméterek!$C$52,4)))/1000000","v":0},{"$f":"SUM(OFFSET(Negyedéves!$A$125,$A72,3+(G$1-1)*4+IF(G$1=1,0,(Paraméterek!$C$52-4)),1,IF(G$1=1,Paraméterek!$C$52,4)))/1000000","v":0},{"$f":"SUM(OFFSET(Negyedéves!$A$125,$A72,3+(H$1-1)*4+IF(H$1=1,0,(Paraméterek!$C$52-4)),1,IF(H$1=1,Paraméterek!$C$52,4)))/1000000","v":0},{"$f":"SUM(OFFSET(Negyedéves!$A$125,$A72,3+(I$1-1)*4+IF(I$1=1,0,(Paraméterek!$C$52-4)),1,IF(I$1=1,Paraméterek!$C$52,4)))/1000000","v":0},{"$f":"SUM(OFFSET(Negyedéves!$A$125,$A72,3+(J$1-1)*4+IF(J$1=1,0,(Paraméterek!$C$52-4)),1,IF(J$1=1,Paraméterek!$C$52,4)))/1000000","v":0},{"$f":"SUM(OFFSET(Negyedéves!$A$125,$A72,3+(K$1-1)*4+IF(K$1=1,0,(Paraméterek!$C$52-4)),1,IF(K$1=1,Paraméterek!$C$52,4)))/1000000","v":0},{"$f":"SUM(OFFSET(Negyedéves!$A$125,$A72,3+(L$1-1)*4+IF(L$1=1,0,(Paraméterek!$C$52-4)),1,IF(L$1=1,Paraméterek!$C$52,4)))/1000000","v":0},{"$f":"SUM(OFFSET(Negyedéves!$A$125,$A72,3+(M$1-1)*4+IF(M$1=1,0,(Paraméterek!$C$52-4)),1,IF(M$1=1,Paraméterek!$C$52,4)))/1000000","v":0},{"$f":"SUM(OFFSET(Negyedéves!$A$125,$A72,3+(N$1-1)*4+IF(N$1=1,0,(Paraméterek!$C$52-4)),1,IF(N$1=1,Paraméterek!$C$52,4)))/1000000","v":0},"x"]
[21,"Részesedések értékesítésének árfolyamnyeresége",{"$f":"SUM(OFFSET(Negyedéves!$A$125,$A73,3+(C$1-1)*4+IF(C$1=1,0,(Paraméterek!$C$52-4)),1,IF(C$1=1,Paraméterek!$C$52,4)))/1000000","v":0},{"$f":"SUM(OFFSET(Negyedéves!$A$125,$A73,3+(D$1-1)*4+IF(D$1=1,0,(Paraméterek!$C$52-4)),1,IF(D$1=1,Paraméterek!$C$52,4)))/1000000","v":0},{"$f":"SUM(OFFSET(Negyedéves!$A$125,$A73,3+(E$1-1)*4+IF(E$1=1,0,(Paraméterek!$C$52-4)),1,IF(E$1=1,Paraméterek!$C$52,4)))/1000000","v":0},{"$f":"SUM(OFFSET(Negyedéves!$A$125,$A73,3+(F$1-1)*4+IF(F$1=1,0,(Paraméterek!$C$52-4)),1,IF(F$1=1,Paraméterek!$C$52,4)))/1000000","v":0},{"$f":"SUM(OFFSET(Negyedéves!$A$125,$A73,3+(G$1-1)*4+IF(G$1=1,0,(Paraméterek!$C$52-4)),1,IF(G$1=1,Paraméterek!$C$52,4)))/1000000","v":0},{"$f":"SUM(OFFSET(Negyedéves!$A$125,$A73,3+(H$1-1)*4+IF(H$1=1,0,(Paraméterek!$C$52-4)),1,IF(H$1=1,Paraméterek!$C$52,4)))/1000000","v":0},{"$f":"SUM(OFFSET(Negyedéves!$A$125,$A73,3+(I$1-1)*4+IF(I$1=1,0,(Paraméterek!$C$52-4)),1,IF(I$1=1,Paraméterek!$C$52,4)))/1000000","v":0},{"$f":"SUM(OFFSET(Negyedéves!$A$125,$A73,3+(J$1-1)*4+IF(J$1=1,0,(Paraméterek!$C$52-4)),1,IF(J$1=1,Paraméterek!$C$52,4)))/1000000","v":0},{"$f":"SUM(OFFSET(Negyedéves!$A$125,$A73,3+(K$1-1)*4+IF(K$1=1,0,(Paraméterek!$C$52-4)),1,IF(K$1=1,Paraméterek!$C$52,4)))/1000000","v":0},{"$f":"SUM(OFFSET(Negyedéves!$A$125,$A73,3+(L$1-1)*4+IF(L$1=1,0,(Paraméterek!$C$52-4)),1,IF(L$1=1,Paraméterek!$C$52,4)))/1000000","v":0},{"$f":"SUM(OFFSET(Negyedéves!$A$125,$A73,3+(M$1-1)*4+IF(M$1=1,0,(Paraméterek!$C$52-4)),1,IF(M$1=1,Paraméterek!$C$52,4)))/1000000","v":0},{"$f":"SUM(OFFSET(Negyedéves!$A$125,$A73,3+(N$1-1)*4+IF(N$1=1,0,(Paraméterek!$C$52-4)),1,IF(N$1=1,Paraméterek!$C$52,4)))/1000000","v":0},"x"]
[22,"Befektetett pénzügyi eszközök kamatai, árfolyamnyeresége",{"$f":"SUM(OFFSET(Negyedéves!$A$125,$A74,3+(C$1-1)*4+IF(C$1=1,0,(Paraméterek!$C$52-4)),1,IF(C$1=1,Paraméterek!$C$52,4)))/1000000","v":0.53273251263201171},{"$f":"SUM(OFFSET(Negyedéves!$A$125,$A74,3+(D$1-1)*4+IF(D$1=1,0,(Paraméterek!$C$52-4)),1,IF(D$1=1,Paraméterek!$C$52,4)))/1000000","v":1.8760194119774052},{"$f":"SUM(OFFSET(Negyedéves!$A$125,$A74,3+(E$1-1)*4+IF(E$1=1,0,(Paraméterek!$C$52-4)),1,IF(E$1=1,Paraméterek!$C$52,4)))/1000000","v":3.2915800282148613},{"$f":"SUM(OFFSET(Negyedéves!$A$125,$A74,3+(F$1-1)*4+IF(F$1=1,0,(Paraméterek!$C$52-4)),1,IF(F$1=1,Paraméterek!$C$52,4)))/1000000","v":4.7970756801087724},{"$f":"SUM(OFFSET(Negyedéves!$A$125,$A74,3+(G$1-1)*4+IF(G$1=1,0,(Paraméterek!$C$52-4)),1,IF(G$1=1,Paraméterek!$C$52,4)))/1000000","v":6.3961033315357891},{"$f":"SUM(OFFSET(Negyedéves!$A$125,$A74,3+(H$1-1)*4+IF(H$1=1,0,(Paraméterek!$C$52-4)),1,IF(H$1=1,Paraméterek!$C$52,4)))/1000000","v":8.0923898480448475},{"$f":"SUM(OFFSET(Negyedéves!$A$125,$A74,3+(I$1-1)*4+IF(I$1=1,0,(Paraméterek!$C$52-4)),1,IF(I$1=1,Paraméterek!$C$52,4)))/1000000","v":9.9991714631595663},{"$f":"SUM(OFFSET(Negyedéves!$A$125,$A74,3+(J$1-1)*4+IF(J$1=1,0,(Paraméterek!$C$52-4)),1,IF(J$1=1,Paraméterek!$C$52,4)))/1000000","v":12.215057778287244},{"$f":"SUM(OFFSET(Negyedéves!$A$125,$A74,3+(K$1-1)*4+IF(K$1=1,0,(Paraméterek!$C$52-4)),1,IF(K$1=1,Paraméterek!$C$52,4)))/1000000","v":14.577273076776619},{"$f":"SUM(OFFSET(Negyedéves!$A$125,$A74,3+(L$1-1)*4+IF(L$1=1,0,(Paraméterek!$C$52-4)),1,IF(L$1=1,Paraméterek!$C$52,4)))/1000000","v":17.054468917892862},{"$f":"SUM(OFFSET(Negyedéves!$A$125,$A74,3+(M$1-1)*4+IF(M$1=1,0,(Paraméterek!$C$52-4)),1,IF(M$1=1,Paraméterek!$C$52,4)))/1000000","v":19.62758112898446},{"$f":"SUM(OFFSET(Negyedéves!$A$125,$A74,3+(N$1-1)*4+IF(N$1=1,0,(Paraméterek!$C$52-4)),1,IF(N$1=1,Paraméterek!$C$52,4)))/1000000","v":22.284377861895603},"x"]
[23,"Egyéb kamatok és kamatjellegű bevételek",{"$f":"SUM(OFFSET(Negyedéves!$A$125,$A75,3+(C$1-1)*4+IF(C$1=1,0,(Paraméterek!$C$52-4)),1,IF(C$1=1,Paraméterek!$C$52,4)))/1000000","v":0},{"$f":"SUM(OFFSET(Negyedéves!$A$125,$A75,3+(D$1-1)*4+IF(D$1=1,0,(Paraméterek!$C$52-4)),1,IF(D$1=1,Paraméterek!$C$52,4)))/1000000","v":0},{"$f":"SUM(OFFSET(Negyedéves!$A$125,$A75,3+(E$1-1)*4+IF(E$1=1,0,(Paraméterek!$C$52-4)),1,IF(E$1=1,Paraméterek!$C$52,4)))/1000000","v":0},{"$f":"SUM(OFFSET(Negyedéves!$A$125,$A75,3+(F$1-1)*4+IF(F$1=1,0,(Paraméterek!$C$52-4)),1,IF(F$1=1,Paraméterek!$C$52,4)))/1000000","v":0},{"$f":"SUM(OFFSET(Negyedéves!$A$125,$A75,3+(G$1-1)*4+IF(G$1=1,0,(Paraméterek!$C$52-4)),1,IF(G$1=1,Paraméterek!$C$52,4)))/1000000","v":0},{"$f":"SUM(OFFSET(Negyedéves!$A$125,$A75,3+(H$1-1)*4+IF(H$1=1,0,(Paraméterek!$C$52-4)),1,IF(H$1=1,Paraméterek!$C$52,4)))/1000000","v":0},{"$f":"SUM(OFFSET(Negyedéves!$A$125,$A75,3+(I$1-1)*4+IF(I$1=1,0,(Paraméterek!$C$52-4)),1,IF(I$1=1,Paraméterek!$C$52,4)))/1000000","v":0},{"$f":"SUM(OFFSET(Negyedéves!$A$125,$A75,3+(J$1-1)*4+IF(J$1=1,0,(Paraméterek!$C$52-4)),1,IF(J$1=1,Paraméterek!$C$52,4)))/1000000","v":0},{"$f":"SUM(OFFSET(Negyedéves!$A$125,$A75,3+(K$1-1)*4+IF(K$1=1,0,(Paraméterek!$C$52-4)),1,IF(K$1=1,Paraméterek!$C$52,4)))/1000000","v":0},{"$f":"SUM(OFFSET(Negyedéves!$A$125,$A75,3+(L$1-1)*4+IF(L$1=1,0,(Paraméterek!$C$52-4)),1,IF(L$1=1,Paraméterek!$C$52,4)))/1000000","v":0},{"$f":"SUM(OFFSET(Negyedéves!$A$125,$A75,3+(M$1-1)*4+IF(M$1=1,0,(Paraméterek!$C$52-4)),1,IF(M$1=1,Paraméterek!$C$52,4)))/1000000","v":0},{"$f":"SUM(OFFSET(Negyedéves!$A$125,$A75,3+(N$1-1)*4+IF(N$1=1,0,(Paraméterek!$C$52-4)),1,IF(N$1=1,Paraméterek!$C$52,4)))/1000000","v":0},"x"]
[24,"Pénzügyi műveletek egyéb bevételei",{"$f":"SUM(OFFSET(Negyedéves!$A$125,$A76,3+(C$1-1)*4+IF(C$1=1,0,(Paraméterek!$C$52-4)),1,IF(C$1=1,Paraméterek!$C$52,4)))/1000000","v":0},{"$f":"SUM(OFFSET(Negyedéves!$A$125,$A76,3+(D$1-1)*4+IF(D$1=1,0,(Paraméterek!$C$52-4)),1,IF(D$1=1,Paraméterek!$C$52,4)))/1000000","v":0},{"$f":"SUM(OFFSET(Negyedéves!$A$125,$A76,3+(E$1-1)*4+IF(E$1=1,0,(Paraméterek!$C$52-4)),1,IF(E$1=1,Paraméterek!$C$52,4)))/1000000","v":0},{"$f":"SUM(OFFSET(Negyedéves!$A$125,$A76,3+(F$1-1)*4+IF(F$1=1,0,(Paraméterek!$C$52-4)),1,IF(F$1=1,Paraméterek!$C$52,4)))/1000000","v":0},{"$f":"SUM(OFFSET(Negyedéves!$A$125,$A76,3+(G$1-1)*4+IF(G$1=1,0,(Paraméterek!$C$52-4)),1,IF(G$1=1,Paraméterek!$C$52,4)))/1000000","v":0},{"$f":"SUM(OFFSET(Negyedéves!$A$125,$A76,3+(H$1-1)*4+IF(H$1=1,0,(Paraméterek!$C$52-4)),1,IF(H$1=1,Paraméterek!$C$52,4)))/1000000","v":0},{"$f":"SUM(OFFSET(Negyedéves!$A$125,$A76,3+(I$1-1)*4+IF(I$1=1,0,(Paraméterek!$C$52-4)),1,IF(I$1=1,Paraméterek!$C$52,4)))/1000000","v":0},{"$f":"SUM(OFFSET(Negyedéves!$A$125,$A76,3+(J$1-1)*4+IF(J$1=1,0,(Paraméterek!$C$52-4)),1,IF(J$1=1,Paraméterek!$C$52,4)))/1000000","v":0},{"$f":"SUM(OFFSET(Negyedéves!$A$125,$A76,3+(K$1-1)*4+IF(K$1=1,0,(Paraméterek!$C$52-4)),1,IF(K$1=1,Paraméterek!$C$52,4)))/1000000","v":0},{"$f":"SUM(OFFSET(Negyedéves!$A$125,$A76,3+(L$1-1)*4+IF(L$1=1,0,(Paraméterek!$C$52-4)),1,IF(L$1=1,Paraméterek!$C$52,4)))/1000000","v":0},{"$f":"SUM(OFFSET(Negyedéves!$A$125,$A76,3+(M$1-1)*4+IF(M$1=1,0,(Paraméterek!$C$52-4)),1,IF(M$1=1,Paraméterek!$C$52,4)))/1000000","v":0},{"$f":"SUM(OFFSET(Negyedéves!$A$125,$A76,3+(N$1-1)*4+IF(N$1=1,0,(Paraméterek!$C$52-4)),1,IF(N$1=1,Paraméterek!$C$52,4)))/1000000","v":0},"x"]
[25,"Pénzügyi műveletek bevételei",{"$f":"SUM(OFFSET(Negyedéves!$A$125,$A77,3+(C$1-1)*4+IF(C$1=1,0,(Paraméterek!$C$52-4)),1,IF(C$1=1,Paraméterek!$C$52,4)))/1000000","v":0.53273251263201171},{"$f":"SUM(OFFSET(Negyedéves!$A$125,$A77,3+(D$1-1)*4+IF(D$1=1,0,(Paraméterek!$C$52-4)),1,IF(D$1=1,Paraméterek!$C$52,4)))/1000000","v":1.8760194119774052},{"$f":"SUM(OFFSET(Negyedéves!$A$125,$A77,3+(E$1-1)*4+IF(E$1=1,0,(Paraméterek!$C$52-4)),1,IF(E$1=1,Paraméterek!$C$52,4)))/1000000","v":3.2915800282148613},{"$f":"SUM(OFFSET(Negyedéves!$A$125,$A77,3+(F$1-1)*4+IF(F$1=1,0,(Paraméterek!$C$52-4)),1,IF(F$1=1,Paraméterek!$C$52,4)))/1000000","v":4.7970756801087724},{"$f":"SUM(OFFSET(Negyedéves!$A$125,$A77,3+(G$1-1)*4+IF(G$1=1,0,(Paraméterek!$C$52-4)),1,IF(G$1=1,Paraméterek!$C$52,4)))/1000000","v":6.3961033315357891},{"$f":"SUM(OFFSET(Negyedéves!$A$125,$A77,3+(H$1-1)*4+IF(H$1=1,0,(Paraméterek!$C$52-4)),1,IF(H$1=1,Paraméterek!$C$52,4)))/1000000","v":8.0923898480448475},{"$f":"SUM(OFFSET(Negyedéves!$A$125,$A77,3+(I$1-1)*4+IF(I$1=1,0,(Paraméterek!$C$52-4)),1,IF(I$1=1,Paraméterek!$C$52,4)))/1000000","v":9.9991714631595663},{"$f":"SUM(OFFSET(Negyedéves!$A$125,$A77,3+(J$1-1)*4+IF(J$1=1,0,(Paraméterek!$C$52-4)),1,IF(J$1=1,Paraméterek!$C$52,4)))/1000000","v":12.215057778287244},{"$f":"SUM(OFFSET(Negyedéves!$A$125,$A77,3+(K$1-1)*4+IF(K$1=1,0,(Paraméterek!$C$52-4)),1,IF(K$1=1,Paraméterek!$C$52,4)))/1000000","v":14.577273076776619},{"$f":"SUM(OFFSET(Negyedéves!$A$125,$A77,3+(L$1-1)*4+IF(L$1=1,0,(Paraméterek!$C$52-4)),1,IF(L$1=1,Paraméterek!$C$52,4)))/1000000","v":17.054468917892862},{"$f":"SUM(OFFSET(Negyedéves!$A$125,$A77,3+(M$1-1)*4+IF(M$1=1,0,(Paraméterek!$C$52-4)),1,IF(M$1=1,Paraméterek!$C$52,4)))/1000000","v":19.62758112898446},{"$f":"SUM(OFFSET(Negyedéves!$A$125,$A77,3+(N$1-1)*4+IF(N$1=1,0,(Paraméterek!$C$52-4)),1,IF(N$1=1,Paraméterek!$C$52,4)))/1000000","v":22.284377861895603},"x"]
[26,"Befektetett pénzügyi eszközök kamatai, árfolyamvesztesége",{"$f":"SUM(OFFSET(Negyedéves!$A$125,$A78,3+(C$1-1)*4+IF(C$1=1,0,(Paraméterek!$C$52-4)),1,IF(C$1=1,Paraméterek!$C$52,4)))/1000000","v":0},{"$f":"SUM(OFFSET(Negyedéves!$A$125,$A78,3+(D$1-1)*4+IF(D$1=1,0,(Paraméterek!$C$52-4)),1,IF(D$1=1,Paraméterek!$C$52,4)))/1000000","v":0},{"$f":"SUM(OFFSET(Negyedéves!$A$125,$A78,3+(E$1-1)*4+IF(E$1=1,0,(Paraméterek!$C$52-4)),1,IF(E$1=1,Paraméterek!$C$52,4)))/1000000","v":0},{"$f":"SUM(OFFSET(Negyedéves!$A$125,$A78,3+(F$1-1)*4+IF(F$1=1,0,(Paraméterek!$C$52-4)),1,IF(F$1=1,Paraméterek!$C$52,4)))/1000000","v":0},{"$f":"SUM(OFFSET(Negyedéves!$A$125,$A78,3+(G$1-1)*4+IF(G$1=1,0,(Paraméterek!$C$52-4)),1,IF(G$1=1,Paraméterek!$C$52,4)))/1000000","v":0},{"$f":"SUM(OFFSET(Negyedéves!$A$125,$A78,3+(H$1-1)*4+IF(H$1=1,0,(Paraméterek!$C$52-4)),1,IF(H$1=1,Paraméterek!$C$52,4)))/1000000","v":0},{"$f":"SUM(OFFSET(Negyedéves!$A$125,$A78,3+(I$1-1)*4+IF(I$1=1,0,(Paraméterek!$C$52-4)),1,IF(I$1=1,Paraméterek!$C$52,4)))/1000000","v":0},{"$f":"SUM(OFFSET(Negyedéves!$A$125,$A78,3+(J$1-1)*4+IF(J$1=1,0,(Paraméterek!$C$52-4)),1,IF(J$1=1,Paraméterek!$C$52,4)))/1000000","v":0},{"$f":"SUM(OFFSET(Negyedéves!$A$125,$A78,3+(K$1-1)*4+IF(K$1=1,0,(Paraméterek!$C$52-4)),1,IF(K$1=1,Paraméterek!$C$52,4)))/1000000","v":0},{"$f":"SUM(OFFSET(Negyedéves!$A$125,$A78,3+(L$1-1)*4+IF(L$1=1,0,(Paraméterek!$C$52-4)),1,IF(L$1=1,Paraméterek!$C$52,4)))/1000000","v":0},{"$f":"SUM(OFFSET(Negyedéves!$A$125,$A78,3+(M$1-1)*4+IF(M$1=1,0,(Paraméterek!$C$52-4)),1,IF(M$1=1,Paraméterek!$C$52,4)))/1000000","v":0},{"$f":"SUM(OFFSET(Negyedéves!$A$125,$A78,3+(N$1-1)*4+IF(N$1=1,0,(Paraméterek!$C$52-4)),1,IF(N$1=1,Paraméterek!$C$52,4)))/1000000","v":0},"x"]
[27,"ebből: kapcsolt vállalkozásoknak adott",{"$f":"SUM(OFFSET(Negyedéves!$A$125,$A79,3+(C$1-1)*4+IF(C$1=1,0,(Paraméterek!$C$52-4)),1,IF(C$1=1,Paraméterek!$C$52,4)))/1000000","v":0},{"$f":"SUM(OFFSET(Negyedéves!$A$125,$A79,3+(D$1-1)*4+IF(D$1=1,0,(Paraméterek!$C$52-4)),1,IF(D$1=1,Paraméterek!$C$52,4)))/1000000","v":0},{"$f":"SUM(OFFSET(Negyedéves!$A$125,$A79,3+(E$1-1)*4+IF(E$1=1,0,(Paraméterek!$C$52-4)),1,IF(E$1=1,Paraméterek!$C$52,4)))/1000000","v":0},{"$f":"SUM(OFFSET(Negyedéves!$A$125,$A79,3+(F$1-1)*4+IF(F$1=1,0,(Paraméterek!$C$52-4)),1,IF(F$1=1,Paraméterek!$C$52,4)))/1000000","v":0},{"$f":"SUM(OFFSET(Negyedéves!$A$125,$A79,3+(G$1-1)*4+IF(G$1=1,0,(Paraméterek!$C$52-4)),1,IF(G$1=1,Paraméterek!$C$52,4)))/1000000","v":0},{"$f":"SUM(OFFSET(Negyedéves!$A$125,$A79,3+(H$1-1)*4+IF(H$1=1,0,(Paraméterek!$C$52-4)),1,IF(H$1=1,Paraméterek!$C$52,4)))/1000000","v":0},{"$f":"SUM(OFFSET(Negyedéves!$A$125,$A79,3+(I$1-1)*4+IF(I$1=1,0,(Paraméterek!$C$52-4)),1,IF(I$1=1,Paraméterek!$C$52,4)))/1000000","v":0},{"$f":"SUM(OFFSET(Negyedéves!$A$125,$A79,3+(J$1-1)*4+IF(J$1=1,0,(Paraméterek!$C$52-4)),1,IF(J$1=1,Paraméterek!$C$52,4)))/1000000","v":0},{"$f":"SUM(OFFSET(Negyedéves!$A$125,$A79,3+(K$1-1)*4+IF(K$1=1,0,(Paraméterek!$C$52-4)),1,IF(K$1=1,Paraméterek!$C$52,4)))/1000000","v":0},{"$f":"SUM(OFFSET(Negyedéves!$A$125,$A79,3+(L$1-1)*4+IF(L$1=1,0,(Paraméterek!$C$52-4)),1,IF(L$1=1,Paraméterek!$C$52,4)))/1000000","v":0},{"$f":"SUM(OFFSET(Negyedéves!$A$125,$A79,3+(M$1-1)*4+IF(M$1=1,0,(Paraméterek!$C$52-4)),1,IF(M$1=1,Paraméterek!$C$52,4)))/1000000","v":0},{"$f":"SUM(OFFSET(Negyedéves!$A$125,$A79,3+(N$1-1)*4+IF(N$1=1,0,(Paraméterek!$C$52-4)),1,IF(N$1=1,Paraméterek!$C$52,4)))/1000000","v":0},"x"]
[28,"Fizetendő kamatok és kamatjellegű ráfordítások",{"$f":"SUM(OFFSET(Negyedéves!$A$125,$A80,3+(C$1-1)*4+IF(C$1=1,0,(Paraméterek!$C$52-4)),1,IF(C$1=1,Paraméterek!$C$52,4)))/1000000","v":3.5053858043750004},{"$f":"SUM(OFFSET(Negyedéves!$A$125,$A80,3+(D$1-1)*4+IF(D$1=1,0,(Paraméterek!$C$52-4)),1,IF(D$1=1,Paraméterek!$C$52,4)))/1000000","v":1.3489583333333328},{"$f":"SUM(OFFSET(Negyedéves!$A$125,$A80,3+(E$1-1)*4+IF(E$1=1,0,(Paraméterek!$C$52-4)),1,IF(E$1=1,Paraméterek!$C$52,4)))/1000000","v":1.0572916666666663},{"$f":"SUM(OFFSET(Negyedéves!$A$125,$A80,3+(F$1-1)*4+IF(F$1=1,0,(Paraméterek!$C$52-4)),1,IF(F$1=1,Paraméterek!$C$52,4)))/1000000","v":0.76562499999999978},{"$f":"SUM(OFFSET(Negyedéves!$A$125,$A80,3+(G$1-1)*4+IF(G$1=1,0,(Paraméterek!$C$52-4)),1,IF(G$1=1,Paraméterek!$C$52,4)))/1000000","v":0.47395833333333309},{"$f":"SUM(OFFSET(Negyedéves!$A$125,$A80,3+(H$1-1)*4+IF(H$1=1,0,(Paraméterek!$C$52-4)),1,IF(H$1=1,Paraméterek!$C$52,4)))/1000000","v":0.18229166666666635},{"$f":"SUM(OFFSET(Negyedéves!$A$125,$A80,3+(I$1-1)*4+IF(I$1=1,0,(Paraméterek!$C$52-4)),1,IF(I$1=1,Paraméterek!$C$52,4)))/1000000","v":-5.4016709327697759E-16},{"$f":"SUM(OFFSET(Negyedéves!$A$125,$A80,3+(J$1-1)*4+IF(J$1=1,0,(Paraméterek!$C$52-4)),1,IF(J$1=1,Paraméterek!$C$52,4)))/1000000","v":-5.8207660913467412E-16},{"$f":"SUM(OFFSET(Negyedéves!$A$125,$A80,3+(K$1-1)*4+IF(K$1=1,0,(Paraméterek!$C$52-4)),1,IF(K$1=1,Paraméterek!$C$52,4)))/1000000","v":-5.8207660913467412E-16},{"$f":"SUM(OFFSET(Negyedéves!$A$125,$A80,3+(L$1-1)*4+IF(L$1=1,0,(Paraméterek!$C$52-4)),1,IF(L$1=1,Paraméterek!$C$52,4)))/1000000","v":8.8475644588470438E-17},{"$f":"SUM(OFFSET(Negyedéves!$A$125,$A80,3+(M$1-1)*4+IF(M$1=1,0,(Paraméterek!$C$52-4)),1,IF(M$1=1,Paraméterek!$C$52,4)))/1000000","v":1.4295801520347594E-15},{"$f":"SUM(OFFSET(Negyedéves!$A$125,$A80,3+(N$1-1)*4+IF(N$1=1,0,(Paraméterek!$C$52-4)),1,IF(N$1=1,Paraméterek!$C$52,4)))/1000000","v":2.1001324057579041E-15},"x"]
[29,"ebből: kapcsolt vállalkozásoknak adott",{"$f":"SUM(OFFSET(Negyedéves!$A$125,$A81,3+(C$1-1)*4+IF(C$1=1,0,(Paraméterek!$C$52-4)),1,IF(C$1=1,Paraméterek!$C$52,4)))/1000000","v":0},{"$f":"SUM(OFFSET(Negyedéves!$A$125,$A81,3+(D$1-1)*4+IF(D$1=1,0,(Paraméterek!$C$52-4)),1,IF(D$1=1,Paraméterek!$C$52,4)))/1000000","v":0},{"$f":"SUM(OFFSET(Negyedéves!$A$125,$A81,3+(E$1-1)*4+IF(E$1=1,0,(Paraméterek!$C$52-4)),1,IF(E$1=1,Paraméterek!$C$52,4)))/1000000","v":0},{"$f":"SUM(OFFSET(Negyedéves!$A$125,$A81,3+(F$1-1)*4+IF(F$1=1,0,(Paraméterek!$C$52-4)),1,IF(F$1=1,Paraméterek!$C$52,4)))/1000000","v":0},{"$f":"SUM(OFFSET(Negyedéves!$A$125,$A81,3+(G$1-1)*4+IF(G$1=1,0,(Paraméterek!$C$52-4)),1,IF(G$1=1,Paraméterek!$C$52,4)))/1000000","v":0},{"$f":"SUM(OFFSET(Negyedéves!$A$125,$A81,3+(H$1-1)*4+IF(H$1=1,0,(Paraméterek!$C$52-4)),1,IF(H$1=1,Paraméterek!$C$52,4)))/1000000","v":0},{"$f":"SUM(OFFSET(Negyedéves!$A$125,$A81,3+(I$1-1)*4+IF(I$1=1,0,(Paraméterek!$C$52-4)),1,IF(I$1=1,Paraméterek!$C$52,4)))/1000000","v":0},{"$f":"SUM(OFFSET(Negyedéves!$A$125,$A81,3+(J$1-1)*4+IF(J$1=1,0,(Paraméterek!$C$52-4)),1,IF(J$1=1,Paraméterek!$C$52,4)))/1000000","v":0},{"$f":"SUM(OFFSET(Negyedéves!$A$125,$A81,3+(K$1-1)*4+IF(K$1=1,0,(Paraméterek!$C$52-4)),1,IF(K$1=1,Paraméterek!$C$52,4)))/1000000","v":0},{"$f":"SUM(OFFSET(Negyedéves!$A$125,$A81,3+(L$1-1)*4+IF(L$1=1,0,(Paraméterek!$C$52-4)),1,IF(L$1=1,Paraméterek!$C$52,4)))/1000000","v":0},{"$f":"SUM(OFFSET(Negyedéves!$A$125,$A81,3+(M$1-1)*4+IF(M$1=1,0,(Paraméterek!$C$52-4)),1,IF(M$1=1,Paraméterek!$C$52,4)))/1000000","v":0},{"$f":"SUM(OFFSET(Negyedéves!$A$125,$A81,3+(N$1-1)*4+IF(N$1=1,0,(Paraméterek!$C$52-4)),1,IF(N$1=1,Paraméterek!$C$52,4)))/1000000","v":0},"x"]
[30,"Részesedések, értékpapírok árfolyamvesztesége",{"$f":"SUM(OFFSET(Negyedéves!$A$125,$A82,3+(C$1-1)*4+IF(C$1=1,0,(Paraméterek!$C$52-4)),1,IF(C$1=1,Paraméterek!$C$52,4)))/1000000","v":0},{"$f":"SUM(OFFSET(Negyedéves!$A$125,$A82,3+(D$1-1)*4+IF(D$1=1,0,(Paraméterek!$C$52-4)),1,IF(D$1=1,Paraméterek!$C$52,4)))/1000000","v":0},{"$f":"SUM(OFFSET(Negyedéves!$A$125,$A82,3+(E$1-1)*4+IF(E$1=1,0,(Paraméterek!$C$52-4)),1,IF(E$1=1,Paraméterek!$C$52,4)))/1000000","v":0},{"$f":"SUM(OFFSET(Negyedéves!$A$125,$A82,3+(F$1-1)*4+IF(F$1=1,0,(Paraméterek!$C$52-4)),1,IF(F$1=1,Paraméterek!$C$52,4)))/1000000","v":0},{"$f":"SUM(OFFSET(Negyedéves!$A$125,$A82,3+(G$1-1)*4+IF(G$1=1,0,(Paraméterek!$C$52-4)),1,IF(G$1=1,Paraméterek!$C$52,4)))/1000000","v":0},{"$f":"SUM(OFFSET(Negyedéves!$A$125,$A82,3+(H$1-1)*4+IF(H$1=1,0,(Paraméterek!$C$52-4)),1,IF(H$1=1,Paraméterek!$C$52,4)))/1000000","v":0},{"$f":"SUM(OFFSET(Negyedéves!$A$125,$A82,3+(I$1-1)*4+IF(I$1=1,0,(Paraméterek!$C$52-4)),1,IF(I$1=1,Paraméterek!$C$52,4)))/1000000","v":0},{"$f":"SUM(OFFSET(Negyedéves!$A$125,$A82,3+(J$1-1)*4+IF(J$1=1,0,(Paraméterek!$C$52-4)),1,IF(J$1=1,Paraméterek!$C$52,4)))/1000000","v":0},{"$f":"SUM(OFFSET(Negyedéves!$A$125,$A82,3+(K$1-1)*4+IF(K$1=1,0,(Paraméterek!$C$52-4)),1,IF(K$1=1,Paraméterek!$C$52,4)))/1000000","v":0},{"$f":"SUM(OFFSET(Negyedéves!$A$125,$A82,3+(L$1-1)*4+IF(L$1=1,0,(Paraméterek!$C$52-4)),1,IF(L$1=1,Paraméterek!$C$52,4)))/1000000","v":0},{"$f":"SUM(OFFSET(Negyedéves!$A$125,$A82,3+(M$1-1)*4+IF(M$1=1,0,(Paraméterek!$C$52-4)),1,IF(M$1=1,Paraméterek!$C$52,4)))/1000000","v":0},{"$f":"SUM(OFFSET(Negyedéves!$A$125,$A82,3+(N$1-1)*4+IF(N$1=1,0,(Paraméterek!$C$52-4)),1,IF(N$1=1,Paraméterek!$C$52,4)))/1000000","v":0},"x"]
[31,"Pénzügyi műveletek egyéb ráfordításai",{"$f":"SUM(OFFSET(Negyedéves!$A$125,$A83,3+(C$1-1)*4+IF(C$1=1,0,(Paraméterek!$C$52-4)),1,IF(C$1=1,Paraméterek!$C$52,4)))/1000000","v":0},{"$f":"SUM(OFFSET(Negyedéves!$A$125,$A83,3+(D$1-1)*4+IF(D$1=1,0,(Paraméterek!$C$52-4)),1,IF(D$1=1,Paraméterek!$C$52,4)))/1000000","v":0},{"$f":"SUM(OFFSET(Negyedéves!$A$125,$A83,3+(E$1-1)*4+IF(E$1=1,0,(Paraméterek!$C$52-4)),1,IF(E$1=1,Paraméterek!$C$52,4)))/1000000","v":0},{"$f":"SUM(OFFSET(Negyedéves!$A$125,$A83,3+(F$1-1)*4+IF(F$1=1,0,(Paraméterek!$C$52-4)),1,IF(F$1=1,Paraméterek!$C$52,4)))/1000000","v":0},{"$f":"SUM(OFFSET(Negyedéves!$A$125,$A83,3+(G$1-1)*4+IF(G$1=1,0,(Paraméterek!$C$52-4)),1,IF(G$1=1,Paraméterek!$C$52,4)))/1000000","v":0},{"$f":"SUM(OFFSET(Negyedéves!$A$125,$A83,3+(H$1-1)*4+IF(H$1=1,0,(Paraméterek!$C$52-4)),1,IF(H$1=1,Paraméterek!$C$52,4)))/1000000","v":0},{"$f":"SUM(OFFSET(Negyedéves!$A$125,$A83,3+(I$1-1)*4+IF(I$1=1,0,(Paraméterek!$C$52-4)),1,IF(I$1=1,Paraméterek!$C$52,4)))/1000000","v":0},{"$f":"SUM(OFFSET(Negyedéves!$A$125,$A83,3+(J$1-1)*4+IF(J$1=1,0,(Paraméterek!$C$52-4)),1,IF(J$1=1,Paraméterek!$C$52,4)))/1000000","v":0},{"$f":"SUM(OFFSET(Negyedéves!$A$125,$A83,3+(K$1-1)*4+IF(K$1=1,0,(Paraméterek!$C$52-4)),1,IF(K$1=1,Paraméterek!$C$52,4)))/1000000","v":0},{"$f":"SUM(OFFSET(Negyedéves!$A$125,$A83,3+(L$1-1)*4+IF(L$1=1,0,(Paraméterek!$C$52-4)),1,IF(L$1=1,Paraméterek!$C$52,4)))/1000000","v":0},{"$f":"SUM(OFFSET(Negyedéves!$A$125,$A83,3+(M$1-1)*4+IF(M$1=1,0,(Paraméterek!$C$52-4)),1,IF(M$1=1,Paraméterek!$C$52,4)))/1000000","v":0},{"$f":"SUM(OFFSET(Negyedéves!$A$125,$A83,3+(N$1-1)*4+IF(N$1=1,0,(Paraméterek!$C$52-4)),1,IF(N$1=1,Paraméterek!$C$52,4)))/1000000","v":0},"x"]
[32,"Pénzügyi műveletek ráfordításai",{"$f":"SUM(OFFSET(Negyedéves!$A$125,$A84,3+(C$1-1)*4+IF(C$1=1,0,(Paraméterek!$C$52-4)),1,IF(C$1=1,Paraméterek!$C$52,4)))/1000000","v":3.5053858043750004},{"$f":"SUM(OFFSET(Negyedéves!$A$125,$A84,3+(D$1-1)*4+IF(D$1=1,0,(Paraméterek!$C$52-4)),1,IF(D$1=1,Paraméterek!$C$52,4)))/1000000","v":1.3489583333333328},{"$f":"SUM(OFFSET(Negyedéves!$A$125,$A84,3+(E$1-1)*4+IF(E$1=1,0,(Paraméterek!$C$52-4)),1,IF(E$1=1,Paraméterek!$C$52,4)))/1000000","v":1.0572916666666663},{"$f":"SUM(OFFSET(Negyedéves!$A$125,$A84,3+(F$1-1)*4+IF(F$1=1,0,(Paraméterek!$C$52-4)),1,IF(F$1=1,Paraméterek!$C$52,4)))/1000000","v":0.76562499999999978},{"$f":"SUM(OFFSET(Negyedéves!$A$125,$A84,3+(G$1-1)*4+IF(G$1=1,0,(Paraméterek!$C$52-4)),1,IF(G$1=1,Paraméterek!$C$52,4)))/1000000","v":0.47395833333333309},{"$f":"SUM(OFFSET(Negyedéves!$A$125,$A84,3+(H$1-1)*4+IF(H$1=1,0,(Paraméterek!$C$52-4)),1,IF(H$1=1,Paraméterek!$C$52,4)))/1000000","v":0.18229166666666635},{"$f":"SUM(OFFSET(Negyedéves!$A$125,$A84,3+(I$1-1)*4+IF(I$1=1,0,(Paraméterek!$C$52-4)),1,IF(I$1=1,Paraméterek!$C$52,4)))/1000000","v":-5.4016709327697759E-16},{"$f":"SUM(OFFSET(Negyedéves!$A$125,$A84,3+(J$1-1)*4+IF(J$1=1,0,(Paraméterek!$C$52-4)),1,IF(J$1=1,Paraméterek!$C$52,4)))/1000000","v":-5.8207660913467412E-16},{"$f":"SUM(OFFSET(Negyedéves!$A$125,$A84,3+(K$1-1)*4+IF(K$1=1,0,(Paraméterek!$C$52-4)),1,IF(K$1=1,Paraméterek!$C$52,4)))/1000000","v":-5.8207660913467412E-16},{"$f":"SUM(OFFSET(Negyedéves!$A$125,$A84,3+(L$1-1)*4+IF(L$1=1,0,(Paraméterek!$C$52-4)),1,IF(L$1=1,Paraméterek!$C$52,4)))/1000000","v":8.8475644588470438E-17},{"$f":"SUM(OFFSET(Negyedéves!$A$125,$A84,3+(M$1-1)*4+IF(M$1=1,0,(Paraméterek!$C$52-4)),1,IF(M$1=1,Paraméterek!$C$52,4)))/1000000","v":1.4295801520347594E-15},{"$f":"SUM(OFFSET(Negyedéves!$A$125,$A84,3+(N$1-1)*4+IF(N$1=1,0,(Paraméterek!$C$52-4)),1,IF(N$1=1,Paraméterek!$C$52,4)))/1000000","v":2.1001324057579041E-15},"x"]
[33,"Pénzügyi műveletek eredménye",{"$f":"SUM(OFFSET(Negyedéves!$A$125,$A85,3+(C$1-1)*4+IF(C$1=1,0,(Paraméterek!$C$52-4)),1,IF(C$1=1,Paraméterek!$C$52,4)))/1000000","v":-2.9726532917429882},{"$f":"SUM(OFFSET(Negyedéves!$A$125,$A85,3+(D$1-1)*4+IF(D$1=1,0,(Paraméterek!$C$52-4)),1,IF(D$1=1,Paraméterek!$C$52,4)))/1000000","v":0.52706107864407237},{"$f":"SUM(OFFSET(Negyedéves!$A$125,$A85,3+(E$1-1)*4+IF(E$1=1,0,(Paraméterek!$C$52-4)),1,IF(E$1=1,Paraméterek!$C$52,4)))/1000000","v":2.2342883615481948},{"$f":"SUM(OFFSET(Negyedéves!$A$125,$A85,3+(F$1-1)*4+IF(F$1=1,0,(Paraméterek!$C$52-4)),1,IF(F$1=1,Paraméterek!$C$52,4)))/1000000","v":4.0314506801087733},{"$f":"SUM(OFFSET(Negyedéves!$A$125,$A85,3+(G$1-1)*4+IF(G$1=1,0,(Paraméterek!$C$52-4)),1,IF(G$1=1,Paraméterek!$C$52,4)))/1000000","v":5.9221449982024561},{"$f":"SUM(OFFSET(Negyedéves!$A$125,$A85,3+(H$1-1)*4+IF(H$1=1,0,(Paraméterek!$C$52-4)),1,IF(H$1=1,Paraméterek!$C$52,4)))/1000000","v":7.9100981813781823},{"$f":"SUM(OFFSET(Negyedéves!$A$125,$A85,3+(I$1-1)*4+IF(I$1=1,0,(Paraméterek!$C$52-4)),1,IF(I$1=1,Paraméterek!$C$52,4)))/1000000","v":9.9991714631595663},{"$f":"SUM(OFFSET(Negyedéves!$A$125,$A85,3+(J$1-1)*4+IF(J$1=1,0,(Paraméterek!$C$52-4)),1,IF(J$1=1,Paraméterek!$C$52,4)))/1000000","v":12.215057778287244},{"$f":"SUM(OFFSET(Negyedéves!$A$125,$A85,3+(K$1-1)*4+IF(K$1=1,0,(Paraméterek!$C$52-4)),1,IF(K$1=1,Paraméterek!$C$52,4)))/1000000","v":14.577273076776619},{"$f":"SUM(OFFSET(Negyedéves!$A$125,$A85,3+(L$1-1)*4+IF(L$1=1,0,(Paraméterek!$C$52-4)),1,IF(L$1=1,Paraméterek!$C$52,4)))/1000000","v":17.054468917892862},{"$f":"SUM(OFFSET(Negyedéves!$A$125,$A85,3+(M$1-1)*4+IF(M$1=1,0,(Paraméterek!$C$52-4)),1,IF(M$1=1,Paraméterek!$C$52,4)))/1000000","v":19.62758112898446},{"$f":"SUM(OFFSET(Negyedéves!$A$125,$A85,3+(N$1-1)*4+IF(N$1=1,0,(Paraméterek!$C$52-4)),1,IF(N$1=1,Paraméterek!$C$52,4)))/1000000","v":22.284377861895603},"x"]
[34,"Szokásos vállalkozási eredmény",{"$f":"SUM(OFFSET(Negyedéves!$A$125,$A86,3+(C$1-1)*4+IF(C$1=1,0,(Paraméterek!$C$52-4)),1,IF(C$1=1,Paraméterek!$C$52,4)))/1000000","v":28.410856796435326},{"$f":"SUM(OFFSET(Negyedéves!$A$125,$A86,3+(D$1-1)*4+IF(D$1=1,0,(Paraméterek!$C$52-4)),1,IF(D$1=1,Paraméterek!$C$52,4)))/1000000","v":32.825827872533523},{"$f":"SUM(OFFSET(Negyedéves!$A$125,$A86,3+(E$1-1)*4+IF(E$1=1,0,(Paraméterek!$C$52-4)),1,IF(E$1=1,Paraméterek!$C$52,4)))/1000000","v":35.466616995263003},{"$f":"SUM(OFFSET(Negyedéves!$A$125,$A86,3+(F$1-1)*4+IF(F$1=1,0,(Paraméterek!$C$52-4)),1,IF(F$1=1,Paraméterek!$C$52,4)))/1000000","v":38.216012390445457},{"$f":"SUM(OFFSET(Negyedéves!$A$125,$A86,3+(G$1-1)*4+IF(G$1=1,0,(Paraméterek!$C$52-4)),1,IF(G$1=1,Paraméterek!$C$52,4)))/1000000","v":41.077984446693463},{"$f":"SUM(OFFSET(Negyedéves!$A$125,$A86,3+(H$1-1)*4+IF(H$1=1,0,(Paraméterek!$C$52-4)),1,IF(H$1=1,Paraméterek!$C$52,4)))/1000000","v":44.056640922786592},{"$f":"SUM(OFFSET(Negyedéves!$A$125,$A86,3+(I$1-1)*4+IF(I$1=1,0,(Paraméterek!$C$52-4)),1,IF(I$1=1,Paraméterek!$C$52,4)))/1000000","v":47.156231563343731},{"$f":"SUM(OFFSET(Negyedéves!$A$125,$A86,3+(J$1-1)*4+IF(J$1=1,0,(Paraméterek!$C$52-4)),1,IF(J$1=1,Paraméterek!$C$52,4)))/1000000","v":50.402845584422678},{"$f":"SUM(OFFSET(Negyedéves!$A$125,$A86,3+(K$1-1)*4+IF(K$1=1,0,(Paraméterek!$C$52-4)),1,IF(K$1=1,Paraméterek!$C$52,4)))/1000000","v":53.962840598725847},{"$f":"SUM(OFFSET(Negyedéves!$A$125,$A86,3+(L$1-1)*4+IF(L$1=1,0,(Paraméterek!$C$52-4)),1,IF(L$1=1,Paraméterek!$C$52,4)))/1000000","v":57.661771749972182},{"$f":"SUM(OFFSET(Negyedéves!$A$125,$A86,3+(M$1-1)*4+IF(M$1=1,0,(Paraméterek!$C$52-4)),1,IF(M$1=1,Paraméterek!$C$52,4)))/1000000","v":81.309629777396481},{"$f":"SUM(OFFSET(Negyedéves!$A$125,$A86,3+(N$1-1)*4+IF(N$1=1,0,(Paraméterek!$C$52-4)),1,IF(N$1=1,Paraméterek!$C$52,4)))/1000000","v":85.237519926966954},"x"]
[35,"Rendkívüli bevételek",{"$f":"SUM(OFFSET(Negyedéves!$A$125,$A87,3+(C$1-1)*4+IF(C$1=1,0,(Paraméterek!$C$52-4)),1,IF(C$1=1,Paraméterek!$C$52,4)))/1000000","v":18.267044614285716},{"$f":"SUM(OFFSET(Negyedéves!$A$125,$A87,3+(D$1-1)*4+IF(D$1=1,0,(Paraméterek!$C$52-4)),1,IF(D$1=1,Paraméterek!$C$52,4)))/1000000","v":18.267044614285716},{"$f":"SUM(OFFSET(Negyedéves!$A$125,$A87,3+(E$1-1)*4+IF(E$1=1,0,(Paraméterek!$C$52-4)),1,IF(E$1=1,Paraméterek!$C$52,4)))/1000000","v":18.267044614285716},{"$f":"SUM(OFFSET(Negyedéves!$A$125,$A87,3+(F$1-1)*4+IF(F$1=1,0,(Paraméterek!$C$52-4)),1,IF(F$1=1,Paraméterek!$C$52,4)))/1000000","v":18.267044614285716},{"$f":"SUM(OFFSET(Negyedéves!$A$125,$A87,3+(G$1-1)*4+IF(G$1=1,0,(Paraméterek!$C$52-4)),1,IF(G$1=1,Paraméterek!$C$52,4)))/1000000","v":18.267044614285716},{"$f":"SUM(OFFSET(Negyedéves!$A$125,$A87,3+(H$1-1)*4+IF(H$1=1,0,(Paraméterek!$C$52-4)),1,IF(H$1=1,Paraméterek!$C$52,4)))/1000000","v":18.267044614285716},{"$f":"SUM(OFFSET(Negyedéves!$A$125,$A87,3+(I$1-1)*4+IF(I$1=1,0,(Paraméterek!$C$52-4)),1,IF(I$1=1,Paraméterek!$C$52,4)))/1000000","v":18.267044614285716},{"$f":"SUM(OFFSET(Negyedéves!$A$125,$A87,3+(J$1-1)*4+IF(J$1=1,0,(Paraméterek!$C$52-4)),1,IF(J$1=1,Paraméterek!$C$52,4)))/1000000","v":0},{"$f":"SUM(OFFSET(Negyedéves!$A$125,$A87,3+(K$1-1)*4+IF(K$1=1,0,(Paraméterek!$C$52-4)),1,IF(K$1=1,Paraméterek!$C$52,4)))/1000000","v":0},{"$f":"SUM(OFFSET(Negyedéves!$A$125,$A87,3+(L$1-1)*4+IF(L$1=1,0,(Paraméterek!$C$52-4)),1,IF(L$1=1,Paraméterek!$C$52,4)))/1000000","v":0},{"$f":"SUM(OFFSET(Negyedéves!$A$125,$A87,3+(M$1-1)*4+IF(M$1=1,0,(Paraméterek!$C$52-4)),1,IF(M$1=1,Paraméterek!$C$52,4)))/1000000","v":0},{"$f":"SUM(OFFSET(Negyedéves!$A$125,$A87,3+(N$1-1)*4+IF(N$1=1,0,(Paraméterek!$C$52-4)),1,IF(N$1=1,Paraméterek!$C$52,4)))/1000000","v":0},"x"]
[36,"Rendkívüli ráfordítások",{"$f":"SUM(OFFSET(Negyedéves!$A$125,$A88,3+(C$1-1)*4+IF(C$1=1,0,(Paraméterek!$C$52-4)),1,IF(C$1=1,Paraméterek!$C$52,4)))/1000000","v":0},{"$f":"SUM(OFFSET(Negyedéves!$A$125,$A88,3+(D$1-1)*4+IF(D$1=1,0,(Paraméterek!$C$52-4)),1,IF(D$1=1,Paraméterek!$C$52,4)))/1000000","v":0},{"$f":"SUM(OFFSET(Negyedéves!$A$125,$A88,3+(E$1-1)*4+IF(E$1=1,0,(Paraméterek!$C$52-4)),1,IF(E$1=1,Paraméterek!$C$52,4)))/1000000","v":0},{"$f":"SUM(OFFSET(Negyedéves!$A$125,$A88,3+(F$1-1)*4+IF(F$1=1,0,(Paraméterek!$C$52-4)),1,IF(F$1=1,Paraméterek!$C$52,4)))/1000000","v":0},{"$f":"SUM(OFFSET(Negyedéves!$A$125,$A88,3+(G$1-1)*4+IF(G$1=1,0,(Paraméterek!$C$52-4)),1,IF(G$1=1,Paraméterek!$C$52,4)))/1000000","v":0},{"$f":"SUM(OFFSET(Negyedéves!$A$125,$A88,3+(H$1-1)*4+IF(H$1=1,0,(Paraméterek!$C$52-4)),1,IF(H$1=1,Paraméterek!$C$52,4)))/1000000","v":0},{"$f":"SUM(OFFSET(Negyedéves!$A$125,$A88,3+(I$1-1)*4+IF(I$1=1,0,(Paraméterek!$C$52-4)),1,IF(I$1=1,Paraméterek!$C$52,4)))/1000000","v":0},{"$f":"SUM(OFFSET(Negyedéves!$A$125,$A88,3+(J$1-1)*4+IF(J$1=1,0,(Paraméterek!$C$52-4)),1,IF(J$1=1,Paraméterek!$C$52,4)))/1000000","v":0},{"$f":"SUM(OFFSET(Negyedéves!$A$125,$A88,3+(K$1-1)*4+IF(K$1=1,0,(Paraméterek!$C$52-4)),1,IF(K$1=1,Paraméterek!$C$52,4)))/1000000","v":0},{"$f":"SUM(OFFSET(Negyedéves!$A$125,$A88,3+(L$1-1)*4+IF(L$1=1,0,(Paraméterek!$C$52-4)),1,IF(L$1=1,Paraméterek!$C$52,4)))/1000000","v":0},{"$f":"SUM(OFFSET(Negyedéves!$A$125,$A88,3+(M$1-1)*4+IF(M$1=1,0,(Paraméterek!$C$52-4)),1,IF(M$1=1,Paraméterek!$C$52,4)))/1000000","v":0},{"$f":"SUM(OFFSET(Negyedéves!$A$125,$A88,3+(N$1-1)*4+IF(N$1=1,0,(Paraméterek!$C$52-4)),1,IF(N$1=1,Paraméterek!$C$52,4)))/1000000","v":0},"x"]
[37,"Rendkívüli eredmény",{"$f":"SUM(OFFSET(Negyedéves!$A$125,$A89,3+(C$1-1)*4+IF(C$1=1,0,(Paraméterek!$C$52-4)),1,IF(C$1=1,Paraméterek!$C$52,4)))/1000000","v":18.267044614285716},{"$f":"SUM(OFFSET(Negyedéves!$A$125,$A89,3+(D$1-1)*4+IF(D$1=1,0,(Paraméterek!$C$52-4)),1,IF(D$1=1,Paraméterek!$C$52,4)))/1000000","v":18.267044614285716},{"$f":"SUM(OFFSET(Negyedéves!$A$125,$A89,3+(E$1-1)*4+IF(E$1=1,0,(Paraméterek!$C$52-4)),1,IF(E$1=1,Paraméterek!$C$52,4)))/1000000","v":18.267044614285716},{"$f":"SUM(OFFSET(Negyedéves!$A$125,$A89,3+(F$1-1)*4+IF(F$1=1,0,(Paraméterek!$C$52-4)),1,IF(F$1=1,Paraméterek!$C$52,4)))/1000000","v":18.267044614285716},{"$f":"SUM(OFFSET(Negyedéves!$A$125,$A89,3+(G$1-1)*4+IF(G$1=1,0,(Paraméterek!$C$52-4)),1,IF(G$1=1,Paraméterek!$C$52,4)))/1000000","v":18.267044614285716},{"$f":"SUM(OFFSET(Negyedéves!$A$125,$A89,3+(H$1-1)*4+IF(H$1=1,0,(Paraméterek!$C$52-4)),1,IF(H$1=1,Paraméterek!$C$52,4)))/1000000","v":18.267044614285716},{"$f":"SUM(OFFSET(Negyedéves!$A$125,$A89,3+(I$1-1)*4+IF(I$1=1,0,(Paraméterek!$C$52-4)),1,IF(I$1=1,Paraméterek!$C$52,4)))/1000000","v":18.267044614285716},{"$f":"SUM(OFFSET(Negyedéves!$A$125,$A89,3+(J$1-1)*4+IF(J$1=1,0,(Paraméterek!$C$52-4)),1,IF(J$1=1,Paraméterek!$C$52,4)))/1000000","v":0},{"$f":"SUM(OFFSET(Negyedéves!$A$125,$A89,3+(K$1-1)*4+IF(K$1=1,0,(Paraméterek!$C$52-4)),1,IF(K$1=1,Paraméterek!$C$52,4)))/1000000","v":0},{"$f":"SUM(OFFSET(Negyedéves!$A$125,$A89,3+(L$1-1)*4+IF(L$1=1,0,(Paraméterek!$C$52-4)),1,IF(L$1=1,Paraméterek!$C$52,4)))/1000000","v":0},{"$f":"SUM(OFFSET(Negyedéves!$A$125,$A89,3+(M$1-1)*4+IF(M$1=1,0,(Paraméterek!$C$52-4)),1,IF(M$1=1,Paraméterek!$C$52,4)))/1000000","v":0},{"$f":"SUM(OFFSET(Negyedéves!$A$125,$A89,3+(N$1-1)*4+IF(N$1=1,0,(Paraméterek!$C$52-4)),1,IF(N$1=1,Paraméterek!$C$52,4)))/1000000","v":0},"x"]
[38,"Adózás előtti eredmény",{"$f":"SUM(OFFSET(Negyedéves!$A$125,$A90,3+(C$1-1)*4+IF(C$1=1,0,(Paraméterek!$C$52-4)),1,IF(C$1=1,Paraméterek!$C$52,4)))/1000000","v":46.677901410721041},{"$f":"SUM(OFFSET(Negyedéves!$A$125,$A90,3+(D$1-1)*4+IF(D$1=1,0,(Paraméterek!$C$52-4)),1,IF(D$1=1,Paraméterek!$C$52,4)))/1000000","v":51.092872486819239},{"$f":"SUM(OFFSET(Negyedéves!$A$125,$A90,3+(E$1-1)*4+IF(E$1=1,0,(Paraméterek!$C$52-4)),1,IF(E$1=1,Paraméterek!$C$52,4)))/1000000","v":53.733661609548719},{"$f":"SUM(OFFSET(Negyedéves!$A$125,$A90,3+(F$1-1)*4+IF(F$1=1,0,(Paraméterek!$C$52-4)),1,IF(F$1=1,Paraméterek!$C$52,4)))/1000000","v":56.483057004731172},{"$f":"SUM(OFFSET(Negyedéves!$A$125,$A90,3+(G$1-1)*4+IF(G$1=1,0,(Paraméterek!$C$52-4)),1,IF(G$1=1,Paraméterek!$C$52,4)))/1000000","v":59.345029060979179},{"$f":"SUM(OFFSET(Negyedéves!$A$125,$A90,3+(H$1-1)*4+IF(H$1=1,0,(Paraméterek!$C$52-4)),1,IF(H$1=1,Paraméterek!$C$52,4)))/1000000","v":62.323685537072308},{"$f":"SUM(OFFSET(Negyedéves!$A$125,$A90,3+(I$1-1)*4+IF(I$1=1,0,(Paraméterek!$C$52-4)),1,IF(I$1=1,Paraméterek!$C$52,4)))/1000000","v":65.423276177629447},{"$f":"SUM(OFFSET(Negyedéves!$A$125,$A90,3+(J$1-1)*4+IF(J$1=1,0,(Paraméterek!$C$52-4)),1,IF(J$1=1,Paraméterek!$C$52,4)))/1000000","v":50.402845584422678},{"$f":"SUM(OFFSET(Negyedéves!$A$125,$A90,3+(K$1-1)*4+IF(K$1=1,0,(Paraméterek!$C$52-4)),1,IF(K$1=1,Paraméterek!$C$52,4)))/1000000","v":53.962840598725847},{"$f":"SUM(OFFSET(Negyedéves!$A$125,$A90,3+(L$1-1)*4+IF(L$1=1,0,(Paraméterek!$C$52-4)),1,IF(L$1=1,Paraméterek!$C$52,4)))/1000000","v":57.661771749972182},{"$f":"SUM(OFFSET(Negyedéves!$A$125,$A90,3+(M$1-1)*4+IF(M$1=1,0,(Paraméterek!$C$52-4)),1,IF(M$1=1,Paraméterek!$C$52,4)))/1000000","v":81.309629777396481},{"$f":"SUM(OFFSET(Negyedéves!$A$125,$A90,3+(N$1-1)*4+IF(N$1=1,0,(Paraméterek!$C$52-4)),1,IF(N$1=1,Paraméterek!$C$52,4)))/1000000","v":85.237519926966954},"x"]
[39,"Adófizetési kötelezettség",{"$f":"SUM(OFFSET(Negyedéves!$A$125,$A91,3+(C$1-1)*4+IF(C$1=1,0,(Paraméterek!$C$52-4)),1,IF(C$1=1,Paraméterek!$C$52,4)))/1000000","v":4.2010111269648931},{"$f":"SUM(OFFSET(Negyedéves!$A$125,$A91,3+(D$1-1)*4+IF(D$1=1,0,(Paraméterek!$C$52-4)),1,IF(D$1=1,Paraméterek!$C$52,4)))/1000000","v":4.5983585238137312},{"$f":"SUM(OFFSET(Negyedéves!$A$125,$A91,3+(E$1-1)*4+IF(E$1=1,0,(Paraméterek!$C$52-4)),1,IF(E$1=1,Paraméterek!$C$52,4)))/1000000","v":4.8360295448593842},{"$f":"SUM(OFFSET(Negyedéves!$A$125,$A91,3+(F$1-1)*4+IF(F$1=1,0,(Paraméterek!$C$52-4)),1,IF(F$1=1,Paraméterek!$C$52,4)))/1000000","v":5.0834751304258043},{"$f":"SUM(OFFSET(Negyedéves!$A$125,$A91,3+(G$1-1)*4+IF(G$1=1,0,(Paraméterek!$C$52-4)),1,IF(G$1=1,Paraméterek!$C$52,4)))/1000000","v":5.3410526154881257},{"$f":"SUM(OFFSET(Negyedéves!$A$125,$A91,3+(H$1-1)*4+IF(H$1=1,0,(Paraméterek!$C$52-4)),1,IF(H$1=1,Paraméterek!$C$52,4)))/1000000","v":5.6091316983365074},{"$f":"SUM(OFFSET(Negyedéves!$A$125,$A91,3+(I$1-1)*4+IF(I$1=1,0,(Paraméterek!$C$52-4)),1,IF(I$1=1,Paraméterek!$C$52,4)))/1000000","v":5.8880948559866493},{"$f":"SUM(OFFSET(Negyedéves!$A$125,$A91,3+(J$1-1)*4+IF(J$1=1,0,(Paraméterek!$C$52-4)),1,IF(J$1=1,Paraméterek!$C$52,4)))/1000000","v":4.5362561025980401},{"$f":"SUM(OFFSET(Negyedéves!$A$125,$A91,3+(K$1-1)*4+IF(K$1=1,0,(Paraméterek!$C$52-4)),1,IF(K$1=1,Paraméterek!$C$52,4)))/1000000","v":4.8566556538853263},{"$f":"SUM(OFFSET(Negyedéves!$A$125,$A91,3+(L$1-1)*4+IF(L$1=1,0,(Paraméterek!$C$52-4)),1,IF(L$1=1,Paraméterek!$C$52,4)))/1000000","v":5.1895594574974959},{"$f":"SUM(OFFSET(Negyedéves!$A$125,$A91,3+(M$1-1)*4+IF(M$1=1,0,(Paraméterek!$C$52-4)),1,IF(M$1=1,Paraméterek!$C$52,4)))/1000000","v":7.3178666799656824},{"$f":"SUM(OFFSET(Negyedéves!$A$125,$A91,3+(N$1-1)*4+IF(N$1=1,0,(Paraméterek!$C$52-4)),1,IF(N$1=1,Paraméterek!$C$52,4)))/1000000","v":7.6713767934270249},"x"]
[40,"Adózott eredmény",{"$f":"SUM(OFFSET(Negyedéves!$A$125,$A92,3+(C$1-1)*4+IF(C$1=1,0,(Paraméterek!$C$52-4)),1,IF(C$1=1,Paraméterek!$C$52,4)))/1000000","v":42.476890283756148},{"$f":"SUM(OFFSET(Negyedéves!$A$125,$A92,3+(D$1-1)*4+IF(D$1=1,0,(Paraméterek!$C$52-4)),1,IF(D$1=1,Paraméterek!$C$52,4)))/1000000","v":46.494513963005502},{"$f":"SUM(OFFSET(Negyedéves!$A$125,$A92,3+(E$1-1)*4+IF(E$1=1,0,(Paraméterek!$C$52-4)),1,IF(E$1=1,Paraméterek!$C$52,4)))/1000000","v":48.897632064689333},{"$f":"SUM(OFFSET(Negyedéves!$A$125,$A92,3+(F$1-1)*4+IF(F$1=1,0,(Paraméterek!$C$52-4)),1,IF(F$1=1,Paraméterek!$C$52,4)))/1000000","v":51.399581874305369},{"$f":"SUM(OFFSET(Negyedéves!$A$125,$A92,3+(G$1-1)*4+IF(G$1=1,0,(Paraméterek!$C$52-4)),1,IF(G$1=1,Paraméterek!$C$52,4)))/1000000","v":54.003976445491055},{"$f":"SUM(OFFSET(Negyedéves!$A$125,$A92,3+(H$1-1)*4+IF(H$1=1,0,(Paraméterek!$C$52-4)),1,IF(H$1=1,Paraméterek!$C$52,4)))/1000000","v":56.714553838735803},{"$f":"SUM(OFFSET(Negyedéves!$A$125,$A92,3+(I$1-1)*4+IF(I$1=1,0,(Paraméterek!$C$52-4)),1,IF(I$1=1,Paraméterek!$C$52,4)))/1000000","v":59.535181321642796},{"$f":"SUM(OFFSET(Negyedéves!$A$125,$A92,3+(J$1-1)*4+IF(J$1=1,0,(Paraméterek!$C$52-4)),1,IF(J$1=1,Paraméterek!$C$52,4)))/1000000","v":45.866589481824633},{"$f":"SUM(OFFSET(Negyedéves!$A$125,$A92,3+(K$1-1)*4+IF(K$1=1,0,(Paraméterek!$C$52-4)),1,IF(K$1=1,Paraméterek!$C$52,4)))/1000000","v":49.106184944840521},{"$f":"SUM(OFFSET(Negyedéves!$A$125,$A92,3+(L$1-1)*4+IF(L$1=1,0,(Paraméterek!$C$52-4)),1,IF(L$1=1,Paraméterek!$C$52,4)))/1000000","v":52.472212292474687},{"$f":"SUM(OFFSET(Negyedéves!$A$125,$A92,3+(M$1-1)*4+IF(M$1=1,0,(Paraméterek!$C$52-4)),1,IF(M$1=1,Paraméterek!$C$52,4)))/1000000","v":73.991763097430791},{"$f":"SUM(OFFSET(Negyedéves!$A$125,$A92,3+(N$1-1)*4+IF(N$1=1,0,(Paraméterek!$C$52-4)),1,IF(N$1=1,Paraméterek!$C$52,4)))/1000000","v":77.566143133539924},"x"]
[41,"Eredménytartalék igénybevétele osztalékra, részesedésre",{"$f":"SUM(OFFSET(Negyedéves!$A$125,$A93,3+(C$1-1)*4+IF(C$1=1,0,(Paraméterek!$C$52-4)),1,IF(C$1=1,Paraméterek!$C$52,4)))/1000000","v":0},{"$f":"SUM(OFFSET(Negyedéves!$A$125,$A93,3+(D$1-1)*4+IF(D$1=1,0,(Paraméterek!$C$52-4)),1,IF(D$1=1,Paraméterek!$C$52,4)))/1000000","v":0},{"$f":"SUM(OFFSET(Negyedéves!$A$125,$A93,3+(E$1-1)*4+IF(E$1=1,0,(Paraméterek!$C$52-4)),1,IF(E$1=1,Paraméterek!$C$52,4)))/1000000","v":0},{"$f":"SUM(OFFSET(Negyedéves!$A$125,$A93,3+(F$1-1)*4+IF(F$1=1,0,(Paraméterek!$C$52-4)),1,IF(F$1=1,Paraméterek!$C$52,4)))/1000000","v":0},{"$f":"SUM(OFFSET(Negyedéves!$A$125,$A93,3+(G$1-1)*4+IF(G$1=1,0,(Paraméterek!$C$52-4)),1,IF(G$1=1,Paraméterek!$C$52,4)))/1000000","v":0},{"$f":"SUM(OFFSET(Negyedéves!$A$125,$A93,3+(H$1-1)*4+IF(H$1=1,0,(Paraméterek!$C$52-4)),1,IF(H$1=1,Paraméterek!$C$52,4)))/1000000","v":0},{"$f":"SUM(OFFSET(Negyedéves!$A$125,$A93,3+(I$1-1)*4+IF(I$1=1,0,(Paraméterek!$C$52-4)),1,IF(I$1=1,Paraméterek!$C$52,4)))/1000000","v":0},{"$f":"SUM(OFFSET(Negyedéves!$A$125,$A93,3+(J$1-1)*4+IF(J$1=1,0,(Paraméterek!$C$52-4)),1,IF(J$1=1,Paraméterek!$C$52,4)))/1000000","v":0},{"$f":"SUM(OFFSET(Negyedéves!$A$125,$A93,3+(K$1-1)*4+IF(K$1=1,0,(Paraméterek!$C$52-4)),1,IF(K$1=1,Paraméterek!$C$52,4)))/1000000","v":0},{"$f":"SUM(OFFSET(Negyedéves!$A$125,$A93,3+(L$1-1)*4+IF(L$1=1,0,(Paraméterek!$C$52-4)),1,IF(L$1=1,Paraméterek!$C$52,4)))/1000000","v":0},{"$f":"SUM(OFFSET(Negyedéves!$A$125,$A93,3+(M$1-1)*4+IF(M$1=1,0,(Paraméterek!$C$52-4)),1,IF(M$1=1,Paraméterek!$C$52,4)))/1000000","v":0},{"$f":"SUM(OFFSET(Negyedéves!$A$125,$A93,3+(N$1-1)*4+IF(N$1=1,0,(Paraméterek!$C$52-4)),1,IF(N$1=1,Paraméterek!$C$52,4)))/1000000","v":0},"x"]
[42,"Jóváhagyott osztalék, részesedés",{"$f":"SUM(OFFSET(Negyedéves!$A$125,$A94,3+(C$1-1)*4+IF(C$1=1,0,(Paraméterek!$C$52-4)),1,IF(C$1=1,Paraméterek!$C$52,4)))/1000000","v":0},{"$f":"SUM(OFFSET(Negyedéves!$A$125,$A94,3+(D$1-1)*4+IF(D$1=1,0,(Paraméterek!$C$52-4)),1,IF(D$1=1,Paraméterek!$C$52,4)))/1000000","v":0},{"$f":"SUM(OFFSET(Negyedéves!$A$125,$A94,3+(E$1-1)*4+IF(E$1=1,0,(Paraméterek!$C$52-4)),1,IF(E$1=1,Paraméterek!$C$52,4)))/1000000","v":0},{"$f":"SUM(OFFSET(Negyedéves!$A$125,$A94,3+(F$1-1)*4+IF(F$1=1,0,(Paraméterek!$C$52-4)),1,IF(F$1=1,Paraméterek!$C$52,4)))/1000000","v":0},{"$f":"SUM(OFFSET(Negyedéves!$A$125,$A94,3+(G$1-1)*4+IF(G$1=1,0,(Paraméterek!$C$52-4)),1,IF(G$1=1,Paraméterek!$C$52,4)))/1000000","v":0},{"$f":"SUM(OFFSET(Negyedéves!$A$125,$A94,3+(H$1-1)*4+IF(H$1=1,0,(Paraméterek!$C$52-4)),1,IF(H$1=1,Paraméterek!$C$52,4)))/1000000","v":0},{"$f":"SUM(OFFSET(Negyedéves!$A$125,$A94,3+(I$1-1)*4+IF(I$1=1,0,(Paraméterek!$C$52-4)),1,IF(I$1=1,Paraméterek!$C$52,4)))/1000000","v":0},{"$f":"SUM(OFFSET(Negyedéves!$A$125,$A94,3+(J$1-1)*4+IF(J$1=1,0,(Paraméterek!$C$52-4)),1,IF(J$1=1,Paraméterek!$C$52,4)))/1000000","v":0},{"$f":"SUM(OFFSET(Negyedéves!$A$125,$A94,3+(K$1-1)*4+IF(K$1=1,0,(Paraméterek!$C$52-4)),1,IF(K$1=1,Paraméterek!$C$52,4)))/1000000","v":0},{"$f":"SUM(OFFSET(Negyedéves!$A$125,$A94,3+(L$1-1)*4+IF(L$1=1,0,(Paraméterek!$C$52-4)),1,IF(L$1=1,Paraméterek!$C$52,4)))/1000000","v":0},{"$f":"SUM(OFFSET(Negyedéves!$A$125,$A94,3+(M$1-1)*4+IF(M$1=1,0,(Paraméterek!$C$52-4)),1,IF(M$1=1,Paraméterek!$C$52,4)))/1000000","v":0},{"$f":"SUM(OFFSET(Negyedéves!$A$125,$A94,3+(N$1-1)*4+IF(N$1=1,0,(Paraméterek!$C$52-4)),1,IF(N$1=1,Paraméterek!$C$52,4)))/1000000","v":0},"x"]
[43,"Mérleg szerinti eredmény",{"$f":"SUM(OFFSET(Negyedéves!$A$125,$A95,3+(C$1-1)*4+IF(C$1=1,0,(Paraméterek!$C$52-4)),1,IF(C$1=1,Paraméterek!$C$52,4)))/1000000","v":42.476890283756148},{"$f":"SUM(OFFSET(Negyedéves!$A$125,$A95,3+(D$1-1)*4+IF(D$1=1,0,(Paraméterek!$C$52-4)),1,IF(D$1=1,Paraméterek!$C$52,4)))/1000000","v":46.494513963005502},{"$f":"SUM(OFFSET(Negyedéves!$A$125,$A95,3+(E$1-1)*4+IF(E$1=1,0,(Paraméterek!$C$52-4)),1,IF(E$1=1,Paraméterek!$C$52,4)))/1000000","v":48.897632064689333},{"$f":"SUM(OFFSET(Negyedéves!$A$125,$A95,3+(F$1-1)*4+IF(F$1=1,0,(Paraméterek!$C$52-4)),1,IF(F$1=1,Paraméterek!$C$52,4)))/1000000","v":51.399581874305369},{"$f":"SUM(OFFSET(Negyedéves!$A$125,$A95,3+(G$1-1)*4+IF(G$1=1,0,(Paraméterek!$C$52-4)),1,IF(G$1=1,Paraméterek!$C$52,4)))/1000000","v":54.003976445491055},{"$f":"SUM(OFFSET(Negyedéves!$A$125,$A95,3+(H$1-1)*4+IF(H$1=1,0,(Paraméterek!$C$52-4)),1,IF(H$1=1,Paraméterek!$C$52,4)))/1000000","v":56.714553838735803},{"$f":"SUM(OFFSET(Negyedéves!$A$125,$A95,3+(I$1-1)*4+IF(I$1=1,0,(Paraméterek!$C$52-4)),1,IF(I$1=1,Paraméterek!$C$52,4)))/1000000","v":59.535181321642796},{"$f":"SUM(OFFSET(Negyedéves!$A$125,$A95,3+(J$1-1)*4+IF(J$1=1,0,(Paraméterek!$C$52-4)),1,IF(J$1=1,Paraméterek!$C$52,4)))/1000000","v":45.866589481824633},{"$f":"SUM(OFFSET(Negyedéves!$A$125,$A95,3+(K$1-1)*4+IF(K$1=1,0,(Paraméterek!$C$52-4)),1,IF(K$1=1,Paraméterek!$C$52,4)))/1000000","v":49.106184944840521},{"$f":"SUM(OFFSET(Negyedéves!$A$125,$A95,3+(L$1-1)*4+IF(L$1=1,0,(Paraméterek!$C$52-4)),1,IF(L$1=1,Paraméterek!$C$52,4)))/1000000","v":52.472212292474687},{"$f":"SUM(OFFSET(Negyedéves!$A$125,$A95,3+(M$1-1)*4+IF(M$1=1,0,(Paraméterek!$C$52-4)),1,IF(M$1=1,Paraméterek!$C$52,4)))/1000000","v":73.991763097430791},{"$f":"SUM(OFFSET(Negyedéves!$A$125,$A95,3+(N$1-1)*4+IF(N$1=1,0,(Paraméterek!$C$52-4)),1,IF(N$1=1,Paraméterek!$C$52,4)))/1000000","v":77.566143133539924},"x"]
[null,null,{"$f":"C95/C54","v":0.42643191473423342},{"$f":"D95/D54","v":0.45761318179650207},0.47182882629646211,0.48624601657999478,0.50086656061230694,0.51569229998368993,0.53072511007859657,0.40085954733283086,0.42075744258399694,0.44078297807859179,0.60936659664144932,0.6262781984663589,"x"]
[null,"Cash-flow",null,null,null,null,null,null,null,null,null,null,null,null,"x"]
[null,"MSZE",{"$f":"C95","v":42.476890283756148},{"$f":"D95","v":46.494513963005502},48.897632064689333,51.399581874305369,54.003976445491055,56.714553838735803,59.535181321642796,45.866589481824633,49.106184944840521,52.472212292474687,73.991763097430791,77.566143133539924,"x"]
[null,"Szállítók ÁV",{"$f":"+(C40+C41)","v":0},{"$f":"+(D40+D41)","v":0},0,0,0,0,0,0,0,0,0,0]
[null,"Forgóeszközök ÁV",{"$f":"-(C15+C16+C20)","v":0},{"$f":"-(D15+D16+D20)","v":0},0,0,0,0,0,0,0,0,0,0,"x"]
[null,"Amortizáció",{"$f":"C68","v":20.495242466666671},{"$f":"D68","v":20.641679922410198},20.79104612726859,20.943399656224155,21.098800255758825,21.257308867284188,21.418987651040062,21.583900010471055,21.605673161347145,21.627881775240752,1.8219587614122335,1.8450646033071449]
[null,"Működési CF",{"$f":"SUM(C98:C101)","v":62.972132750422816},{"$f":"SUM(D98:D101)","v":67.136193885415707},69.688678191957919,72.342981530529528,75.10277670124988,77.971862706019991,80.954168972682851,67.450489492295688,70.711858106187663,74.100094067715446,75.813721858843024,79.411207736847075,"x"]
[null,"Befektetett eszközök ÁV",{"$f":"-(C8)","v":-197.79051553333335},{"$f":"-(D8)","v":-178.17389780112791},-158.42841510786815,-138.55149015433287,-118.54049409531677,-98.392745508710149,-78.105509343961188,-57.675995849507068,-37.247796934497217,-16.820938890520491,-16.224024334997569,-15.628504821697524,"x"]
[null,"Amortizáció",{"$f":"-C68","v":-20.495242466666671},{"$f":"-D68","v":-20.641679922410198},-20.79104612726859,-20.943399656224155,-21.098800255758825,-21.257308867284188,-21.418987651040062,-21.583900010471055,-21.605673161347145,-21.627881775240752,-1.8219587614122335,-1.8450646033071449]
[null,"Befektetési CF",{"$f":"SUM(C103:C104)","v":-218.28575800000002},{"$f":"SUM(D103:D104)","v":-198.8155777235381},-179.21946123513675,-159.49488981055703,-139.63929435107559,-119.65005437599433,-99.524496995001243,-79.259895859978116,-58.853470095844358,-38.448820665761247,-18.045983096409802,-17.473569425004669,"x"]
[null,"Saját tőke ÁV",{"$f":"+(C28-C95)","v":3},{"$f":"+(D28-D95)","v":3},3,3,3,3,3,3,3,3,3,3,"x"]
[null,"Hátrasorolt kötelezettségek ÁV",{"$f":"+(C35)","v":40.416445700000004},{"$f":"+(D35)","v":40.416445700000004},40.416445700000004,40.416445700000004,40.416445700000004,40.416445700000004,40.416445700000004,40.416445700000004,40.416445700000004,40.416445700000004,40.416445700000004,40.416445700000004]
[null,"Hosszú lejáratú kötelezettségek ÁV",{"$f":"+(C36)","v":41.666666666666657},{"$f":"+(D36)","v":33.333333333333314},24.999999999999989,16.666666666666657,8.3333333333333233,-8.8475644588470464E-15,-8.8475644588470464E-15,-8.8475644588470464E-15,-8.8475644588470464E-15,-8.8475644588470464E-15,-8.8475644588470464E-15,-8.8475644588470464E-15,"x"]
[null,"Rövid lejáratú hitelek ÁV",{"$f":"C39","v":0},{"$f":"D39","v":0},0,0,0,0,-6.05359673500061E-15,-6.05359673500061E-15,-6.05359673500061E-15,-6.05359673500061E-15,5.3551048040390016E-14,5.3551048040390016E-14]
[null,"Időbeli elhatárolások ÁV",{"$f":"-(C22)+(C44)","v":109.60226768571428},{"$f":"-(D22)+(D44)","v":91.335223071428572},73.068178457142864,54.801133842857141,36.534089228571432,18.267044614285723,0,0,0,0,0,0,"x"]
[null,"Finanszírozási CF",{"$f":"SUM(C106:C110)","v":194.68538005238094},{"$f":"SUM(D106:D110)","v":168.08500210476188},141.48462415714286,114.88424620952381,88.283868261904757,61.68349031428572,43.41644569999999,43.41644569999999,43.41644569999999,43.41644569999999,43.416445700000054,43.416445700000054,"x"]
[null,"Vállalati CF",{"$f":"C21","v":39.371754802803729},{"$f":"D21-C21","v":39.510753747591913},{"$f":"E21-D21","v":42.042736810330055},44.676128880221611,47.41459455688809,50.261924477723369,61.555372872105977,66.296102976278689,69.534383859850436,72.899070336451359,74.588677652953947,78.16166264684,"x"]
[null,null,null,null,null,null,null,null,null,null,null,null,null,null,"x"]
[null,"Vállalatértékelés",null,null,null,null,null,null,null,null,null,null,null,null,"x"]
[null,"CF jelenértékek",{"$f":"C$112/(1+Makroadatok!D$8+Makroadatok!D$10)^Eredmények!C$1","v":36.796032525984792},{"$f":"D$112/(1+Makroadatok!E$8+Makroadatok!E$10)^Eredmények!D$1","v":34.51022250641271},{"$f":"E$112/(1+Makroadatok!F$8+Makroadatok!F$10)^Eredmények!E$1","v":34.319396796953292},{"$f":"F$112/(1+Makroadatok!G$8+Makroadatok!G$10)^Eredmények!F$1","v":34.083204815539233},{"$f":"G$112/(1+Makroadatok!H$8+Makroadatok!H$10)^Eredmények!G$1","v":33.805950624882776},{"$f":"H$112/(1+Makroadatok!I$8+Makroadatok!I$10)^Eredmények!H$1","v":33.491642529783796},{"$f":"I$112/(1+Makroadatok!J$8+Makroadatok!J$10)^Eredmények!I$1","v":38.333592567713758},{"$f":"J$112/(1+Makroadatok!K$8+Makroadatok!K$10)^Eredmények!J$1","v":38.584935529375542},{"$f":"K$112/(1+Makroadatok!L$8+Makroadatok!L$10)^Eredmények!K$1","v":37.822097651171227},{"$f":"L$112/(1+Makroadatok!M$8+Makroadatok!M$10)^Eredmények!L$1","v":37.058190802814053},{"$f":"M$112/(1+Makroadatok!N$8+Makroadatok!N$10)^Eredmények!M$1","v":35.436543444994186},{"$f":"N$112/(1+Makroadatok!O$8+Makroadatok!O$10)^Eredmények!N$1","v":34.704712969336825},"x"]
[null,"NPV CF (12Y)",{"$f":"SUM(C115:N115)","v":428.94652276496225},null,null,null,null,null,null,null,null,null,null,null,"x"]
[null,null,null,null,null,null,null,null,null,null,null,null,null,null,"x"]
[null,"Beruházási hitel adósságszolgálat",{"$f":"+ROUND((Paraméterek!$C$127/1000000-C37+C80),3)","v":11.839},{"$f":"+ROUND((C37-D37+D80),3)","v":9.6820000000000004},{"$f":"+ROUND((D37-E37+E80),3)","v":9.391},9.0990000000000002,8.8070000000000004,8.516,0,0,0,0,0,0]
[null,"EBITDA",{"$f":"+C71+C68","v":51.878752554844986},{"$f":"+D71+D68","v":52.940446716299647},{"$f":"+E71+E68","v":54.023374760983387},55.127961366560839,56.254639704249833,57.403851608692598,58.576047751224223,59.77168781660648,60.991240683296382,62.235184607320065,63.504007409824254,64.798206668378512,"x"]
[null,"DSCR EBITDA alapon",{"$f":"++IF(C118=0,\"\",C119/C118)","v":4.3820215013806054},{"$f":"++IF(D118=0,\"\",D119/D118)","v":5.4679246763374971},5.7526754084744312,6.058683521987124,6.3874917343306272,6.7407059192922265,{"$f":"++IF(I118=0,\"\",I119/I118)","v":""},"","","","","","x"]
[null,"DSCR CF alapon",{"$f":"+IF(C118=0,\"\",(C112+C118)/C118)","v":4.3255980068252153},{"$f":"+IF(D118=0,\"\",(D112+D118)/D118)","v":5.0808462866754711},5.4769179864050743,5.9100042730213884,6.3837395886099797,6.9020578296997845,"","","","","","","x"]
[null,null,null,null,null,null,null,null,null,null,null,null,null,null,"x"]
[null,null,null,null,null,null,null,null,null,null,null,null,null,null,"x"]
[null,null,null,null,null,null,null,null,null,null,null,null,null,null,"x"]
[null,null,null,null,null,null,null,null,null,null,null,null,null,null,"x"]
[null,null,null,null,null,null,null,null,null,null,null,null,null,null,"x"]
[null,null,null,null,null,null,null,null,null,null,null,null,null,null,"x"]
[null,null,null,null,null,null,null,null,null,null,null,null,null,null,"x"]
[null,null,null,null,null,null,null,null,null,null,null,null,null,null,"x"]
[null,null,null,null,null,null,null,null,null,null,null,null,null,null,"x"]
[null,null,null,null,null,null,null,null,null,null,null,null,null,null,"x"]
[null,null,null,null,null,null,null,null,null,null,null,null,null,null,"x"]
[null,null,null,null,null,null,null,null,null,null,null,null,null,null,"x"]
[null,null,null,null,null,null,null,null,null,null,null,null,null,null,"x"]
[null,null,null,null,null,null,null,null,null,null,null,null,null,null,"x"]
[null,null,null,null,null,null,null,null,null,null,null,null,null,null,"x"]
[null,null,null,null,null,null,null,null,null,null,null,null,null,null,"x"]
[null,null,null,null,null,null,null,null,null,null,null,null,null,null,"x"]
[null,null,null,null,null,null,null,null,null,null,null,null,null,null,"x"]
[null,null,null,null,null,null,null,null,null,null,null,null,null,null,"x"]
[null,null,null,null,null,null,null,null,null,null,null,null,null,null,"x"]
[null,null,null,null,null,null,null,null,null,null,null,null,null,null,"x"]
[null,null,null,null,null,null,null,null,null,null,null,null,null,null,"x"]
[null,null,null,null,null,null,null,null,null,null,null,null,null,null,"x"]
[null,null,null,null,null,null,null,null,null,null,null,null,null,null,"x"]
[null,null,null,null,null,null,null,null,null,null,null,null,null,null,"x"]
[null,null,null,null,null,null,null,null,null,null,null,null,null,null,"x"]
[null,null,null,null,null,null,null,null,null,null,null,null,null,null,"x"]
[null,null,null,null,null,null,null,null,null,null,null,null,null,null,"x"]
[null,null,null,null,null,null,null,null,null,null,null,null,null,null,"x"]
[null,null,null,null,null,null,null,null,null,null,null,null,null,null,"x"]
[null,null,null,null,null,null,null,null,null,null,null,null,null,null,"x"]
[null,null,null,null,null,null,null,null,null,null,null,null,null,null,"x"]
[null,null,null,null,null,null,null,null,null,null,null,null,null,null,"x"]
[null,null,null,null,null,null,null,null,null,null,null,null,null,null,"x"]
[null,null,null,null,null,null,null,null,null,null,null,null,null,null,"x"]
[null,null,null,null,null,null,null,null,null,null,null,null,null,null,"x"]

{"sheet":"Negyedéves","index":3,"n_rows":294,"n_cols":72,"rows_kept":294,"cut":false,"hidden":false,"merged":[]}
["Negyedév sorszám",null,0,{"$f":"C$1+1","v":1},{"$f":"D$1+1","v":2},3,4,5,6,7,8,9,10,11,12,13,14,15,16,17,18,19,20,21,22,23,24,25,26,27,28,29,30,31,32,33,34,35,36,37,38,39,40,41,42,43,44,45,46,47,48,49,50,51,52,53,54,55,56,57,58,59,60,61,62,63,64,65,{"$f":"BP$1+1","v":66},67,68,"x"]
["Tényleges negyedév",null,0,{"$f":"-(Paraméterek!$C$52-4)+1","v":1},{"$f":"D$2+1","v":2},{"$f":"E$2+1","v":3},4,5,6,7,8,9,10,11,12,13,14,15,16,17,18,19,20,21,22,23,24,25,26,27,28,29,30,31,32,33,34,35,36,37,38,39,40,41,42,43,44,45,46,47,48,49,50,51,52,53,54,55,56,57,58,59,60,61,62,63,64,65,66,{"$f":"BQ$2+1","v":67},68,69]
["Év",null,null,{"$f":"2020+ROUNDUP(D2/4,0)-1","v":2020},{"$f":"2020+ROUNDUP(E2/4,0)-1","v":2020},2020,2020,2021,2021,2021,2021,2022,2022,2022,2022,2023,2023,2023,2023,2024,2024,2024,2024,2025,2025,2025,2025,2026,2026,2026,2026,2027,2027,2027,2027,2028,2028,2028,2028,2029,2029,2029,2029,2030,2030,2030,2030,2031,2031,2031,2031,2032,2032,2032,2032,2033,2033,2033,2033,2034,2034,2034,2034,2035,2035,2035,2035,2036,{"$f":"2020+ROUNDUP(BQ2/4,0)-1","v":2036},{"$f":"2020+ROUNDUP(BR2/4,0)-1","v":2036},{"$f":"2020+ROUNDUP(BS2/4,0)-1","v":2036},"x"]
["Év / Negyedév",null,null,{"$f":"CONCATENATE(D$3,\" / \",IF(MOD(D$2,4)=0,4,(MOD(D$2,4))))","v":"2020 / 1"},{"$f":"CONCATENATE(E$3,\" / \",IF(MOD(E$2,4)=0,4,(MOD(E$2,4))))","v":"2020 / 2"},"2020 / 3","2020 / 4","2021 / 1","2021 / 2","2021 / 3","2021 / 4","2022 / 1","2022 / 2","2022 / 3","2022 / 4","2023 / 1","2023 / 2","2023 / 3","2023 / 4","2024 / 1","2024 / 2","2024 / 3","2024 / 4","2025 / 1","2025 / 2","2025 / 3","2025 / 4","2026 / 1","2026 / 2","2026 / 3","2026 / 4","2027 / 1","2027 / 2","2027 / 3","2027 / 4","2028 / 1","2028 / 2","2028 / 3","2028 / 4","2029 / 1","2029 / 2","2029 / 3","2029 / 4","2030 / 1","2030 / 2","2030 / 3","2030 / 4","2031 / 1","2031 / 2","2031 / 3","2031 / 4","2032 / 1","2032 / 2","2032 / 3","2032 / 4","2033 / 1","2033 / 2","2033 / 3","2033 / 4","2034 / 1","2034 / 2","2034 / 3","2034 / 4","2035 / 1","2035 / 2","2035 / 3","2035 / 4","2036 / 1",{"$f":"CONCATENATE(BQ$3,\" / \",IF(MOD(BQ$2,4)=0,4,(MOD(BQ$2,4))))","v":"2036 / 2"},{"$f":"CONCATENATE(BR$3,\" / \",IF(MOD(BR$2,4)=0,4,(MOD(BR$2,4))))","v":"2036 / 3"},{"$f":"CONCATENATE(BS$3,\" / \",IF(MOD(BS$2,4)=0,4,(MOD(BS$2,4))))","v":"2036 / 4"},"x"]
["Árfolyam",null,{"$f":"INDEX(Makroadatok!$B$15:$X$18,Paraméterek!$D$124,Negyedéves!C$2+2)","v":1},{"$f":"INDEX(Makroadatok!$B$15:$X$18,Paraméterek!$D$124,ROUNDUP((D$1+4-Paraméterek!$C$52)/4,0)+2)","v":1},{"$f":"INDEX(Makroadatok!$B$15:$X$18,Paraméterek!$D$124,ROUNDUP((E$1+4-Paraméterek!$C$52)/4,0)+2)","v":1},{"$f":"INDEX(Makroadatok!$B$15:$X$18,Paraméterek!$D$124,ROUNDUP((F$1+4-Paraméterek!$C$52)/4,0)+2)","v":1},{"$f":"INDEX(Makroadatok!$B$15:$X$18,Paraméterek!$D$124,ROUNDUP((G$1+4-Paraméterek!$C$52)/4,0)+2)","v":1},{"$f":"INDEX(Makroadatok!$B$15:$X$18,Paraméterek!$D$124,ROUNDUP((H$1+4-Paraméterek!$C$52)/4,0)+2)","v":1},{"$f":"INDEX(Makroadatok!$B$15:$X$18,Paraméterek!$D$124,ROUNDUP((I$1+4-Paraméterek!$C$52)/4,0)+2)","v":1},{"$f":"INDEX(Makroadatok!$B$15:$X$18,Paraméterek!$D$124,ROUNDUP((J$1+4-Paraméterek!$C$52)/4,0)+2)","v":1},{"$f":"INDEX(Makroadatok!$B$15:$X$18,Paraméterek!$D$124,ROUNDUP((K$1+4-Paraméterek!$C$52)/4,0)+2)","v":1},{"$f":"INDEX(Makroadatok!$B$15:$X$18,Paraméterek!$D$124,ROUNDUP((L$1+4-Paraméterek!$C$52)/4,0)+2)","v":1},{"$f":"INDEX(Makroadatok!$B$15:$X$18,Paraméterek!$D$124,ROUNDUP((M$1+4-Paraméterek!$C$52)/4,0)+2)","v":1},{"$f":"INDEX(Makroadatok!$B$15:$X$18,Paraméterek!$D$124,ROUNDUP((N$1+4-Paraméterek!$C$52)/4,0)+2)","v":1},{"$f":"INDEX(Makroadatok!$B$15:$X$18,Paraméterek!$D$124,ROUNDUP((O$1+4-Paraméterek!$C$52)/4,0)+2)","v":1},{"$f":"INDEX(Makroadatok!$B$15:$X$18,Paraméterek!$D$124,ROUNDUP((P$1+4-Paraméterek!$C$52)/4,0)+2)","v":1},{"$f":"INDEX(Makroadatok!$B$15:$X$18,Paraméterek!$D$124,ROUNDUP((Q$1+4-Paraméterek!$C$52)/4,0)+2)","v":1},{"$f":"INDEX(Makroadatok!$B$15:$X$18,Paraméterek!$D$124,ROUNDUP((R$1+4-Paraméterek!$C$52)/4,0)+2)","v":1},{"$f":"INDEX(Makroadatok!$B$15:$X$18,Paraméterek!$D$124,ROUNDUP((S$1+4-Paraméterek!$C$52)/4,0)+2)","v":1},{"$f":"INDEX(Makroadatok!$B$15:$X$18,Paraméterek!$D$124,ROUNDUP((T$1+4-Paraméterek!$C$52)/4,0)+2)","v":1},{"$f":"INDEX(Makroadatok!$B$15:$X$18,Paraméterek!$D$124,ROUNDUP((U$1+4-Paraméterek!$C$52)/4,0)+2)","v":1},{"$f":"INDEX(Makroadatok!$B$15:$X$18,Paraméterek!$D$124,ROUNDUP((V$1+4-Paraméterek!$C$52)/4,0)+2)","v":1},{"$f":"INDEX(Makroadatok!$B$15:$X$18,Paraméterek!$D$124,ROUNDUP((W$1+4-Paraméterek!$C$52)/4,0)+2)","v":1},{"$f":"INDEX(Makroadatok!$B$15:$X$18,Paraméterek!$D$124,ROUNDUP((X$1+4-Paraméterek!$C$52)/4,0)+2)","v":1},{"$f":"INDEX(Makroadatok!$B$15:$X$18,Paraméterek!$D$124,ROUNDUP((Y$1+4-Paraméterek!$C$52)/4,0)+2)","v":1},{"$f":"INDEX(Makroadatok!$B$15:$X$18,Paraméterek!$D$124,ROUNDUP((Z$1+4-Paraméterek!$C$52)/4,0)+2)","v":1},{"$f":"INDEX(Makroadatok!$B$15:$X$18,Paraméterek!$D$124,ROUNDUP((AA$1+4-Paraméterek!$C$52)/4,0)+2)","v":1},{"$f":"INDEX(Makroadatok!$B$15:$X$18,Paraméterek!$D$124,ROUNDUP((AB$1+4-Paraméterek!$C$52)/4,0)+2)","v":1},{"$f":"INDEX(Makroadatok!$B$15:$X$18,Paraméterek!$D$124,ROUNDUP((AC$1+4-Paraméterek!$C$52)/4,0)+2)","v":1},{"$f":"INDEX(Makroadatok!$B$15:$X$18,Paraméterek!$D$124,ROUNDUP((AD$1+4-Paraméterek!$C$52)/4,0)+2)","v":1},{"$f":"INDEX(Makroadatok!$B$15:$X$18,Paraméterek!$D$124,ROUNDUP((AE$1+4-Paraméterek!$C$52)/4,0)+2)","v":1},{"$f":"INDEX(Makroadatok!$B$15:$X$18,Paraméterek!$D$124,ROUNDUP((AF$1+4-Paraméterek!$C$52)/4,0)+2)","v":1},{"$f":"INDEX(Makroadatok!$B$15:$X$18,Paraméterek!$D$124,ROUNDUP((AG$1+4-Paraméterek!$C$52)/4,0)+2)","v":1},{"$f":"INDEX(Makroadatok!$B$15:$X$18,Paraméterek!$D$124,ROUNDUP((AH$1+4-Paraméterek!$C$52)/4,0)+2)","v":1},{"$f":"INDEX(Makroadatok!$B$15:$X$18,Paraméterek!$D$124,ROUNDUP((AI$1+4-Paraméterek!$C$52)/4,0)+2)","v":1},{"$f":"INDEX(Makroadatok!$B$15:$X$18,Paraméterek!$D$124,ROUNDUP((AJ$1+4-Paraméterek!$C$52)/4,0)+2)","v":1},{"$f":"INDEX(Makroadatok!$B$15:$X$18,Paraméterek!$D$124,ROUNDUP((AK$1+4-Paraméterek!$C$52)/4,0)+2)","v":1},{"$f":"INDEX(Makroadatok!$B$15:$X$18,Paraméterek!$D$124,ROUNDUP((AL$1+4-Paraméterek!$C$52)/4,0)+2)","v":1},{"$f":"INDEX(Makroadatok!$B$15:$X$18,Paraméterek!$D$124,ROUNDUP((AM$1+4-Paraméterek!$C$52)/4,0)+2)","v":1},{"$f":"INDEX(Makroadatok!$B$15:$X$18,Paraméterek!$D$124,ROUNDUP((AN$1+4-Paraméterek!$C$52)/4,0)+2)","v":1},{"$f":"INDEX(Makroadatok!$B$15:$X$18,Paraméterek!$D$124,ROUNDUP((AO$1+4-Paraméterek!$C$52)/4,0)+2)","v":1},{"$f":"INDEX(Makroadatok!$B$15:$X$18,Paraméterek!$D$124,ROUNDUP((AP$1+4-Paraméterek!$C$52)/4,0)+2)","v":1},{"$f":"INDEX(Makroadatok!$B$15:$X$18,Paraméterek!$D$124,ROUNDUP((AQ$1+4-Paraméterek!$C$52)/4,0)+2)","v":1},{"$f":"INDEX(Makroadatok!$B$15:$X$18,Paraméterek!$D$124,ROUNDUP((AR$1+4-Paraméterek!$C$52)/4,0)+2)","v":1},{"$f":"INDEX(Makroadatok!$B$15:$X$18,Paraméterek!$D$124,ROUNDUP((AS$1+4-Paraméterek!$C$52)/4,0)+2)","v":1},{"$f":"INDEX(Makroadatok!$B$15:$X$18,Paraméterek!$D$124,ROUNDUP((AT$1+4-Paraméterek!$C$52)/4,0)+2)","v":1},{"$f":"INDEX(Makroadatok!$B$15:$X$18,Paraméterek!$D$124,ROUNDUP((AU$1+4-Paraméterek!$C$52)/4,0)+2)","v":1},{"$f":"INDEX(Makroadatok!$B$15:$X$18,Paraméterek!$D$124,ROUNDUP((AV$1+4-Paraméterek!$C$52)/4,0)+2)","v":1},{"$f":"INDEX(Makroadatok!$B$15:$X$18,Paraméterek!$D$124,ROUNDUP((AW$1+4-Paraméterek!$C$52)/4,0)+2)","v":1},{"$f":"INDEX(Makroadatok!$B$15:$X$18,Paraméterek!$D$124,ROUNDUP((AX$1+4-Paraméterek!$C$52)/4,0)+2)","v":1},{"$f":"INDEX(Makroadatok!$B$15:$X$18,Paraméterek!$D$124,ROUNDUP((AY$1+4-Paraméterek!$C$52)/4,0)+2)","v":1},{"$f":"INDEX(Makroadatok!$B$15:$X$18,Paraméterek!$D$124,ROUNDUP((AZ$1+4-Paraméterek!$C$52)/4,0)+2)","v":1},{"$f":"INDEX(Makroadatok!$B$15:$X$18,Paraméterek!$D$124,ROUNDUP((BA$1+4-Paraméterek!$C$52)/4,0)+2)","v":1},{"$f":"INDEX(Makroadatok!$B$15:$X$18,Paraméterek!$D$124,ROUNDUP((BB$1+4-Paraméterek!$C$52)/4,0)+2)","v":1},{"$f":"INDEX(Makroadatok!$B$15:$X$18,Paraméterek!$D$124,ROUNDUP((BC$1+4-Paraméterek!$C$52)/4,0)+2)","v":1},{"$f":"INDEX(Makroadatok!$B$15:$X$18,Paraméterek!$D$124,ROUNDUP((BD$1+4-Paraméterek!$C$52)/4,0)+2)","v":1},{"$f":"INDEX(Makroadatok!$B$15:$X$18,Paraméterek!$D$124,ROUNDUP((BE$1+4-Paraméterek!$C$52)/4,0)+2)","v":1},{"$f":"INDEX(Makroadatok!$B$15:$X$18,Paraméterek!$D$124,ROUNDUP((BF$1+4-Paraméterek!$C$52)/4,0)+2)","v":1},{"$f":"INDEX(Makroadatok!$B$15:$X$18,Paraméterek!$D$124,ROUNDUP((BG$1+4-Paraméterek!$C$52)/4,0)+2)","v":1},{"$f":"INDEX(Makroadatok!$B$15:$X$18,Paraméterek!$D$124,ROUNDUP((BH$1+4-Paraméterek!$C$52)/4,0)+2)","v":1},{"$f":"INDEX(Makroadatok!$B$15:$X$18,Paraméterek!$D$124,ROUNDUP((BI$1+4-Paraméterek!$C$52)/4,0)+2)","v":1},{"$f":"INDEX(Makroadatok!$B$15:$X$18,Paraméterek!$D$124,ROUNDUP((BJ$1+4-Paraméterek!$C$52)/4,0)+2)","v":1},{"$f":"INDEX(Makroadatok!$B$15:$X$18,Paraméterek!$D$124,ROUNDUP((BK$1+4-Paraméterek!$C$52)/4,0)+2)","v":1},{"$f":"INDEX(Makroadatok!$B$15:$X$18,Paraméterek!$D$124,ROUNDUP((BL$1+4-Paraméterek!$C$52)/4,0)+2)","v":1},{"$f":"INDEX(Makroadatok!$B$15:$X$18,Paraméterek!$D$124,ROUNDUP((BM$1+4-Paraméterek!$C$52)/4,0)+2)","v":1},{"$f":"INDEX(Makroadatok!$B$15:$X$18,Paraméterek!$D$124,ROUNDUP((BN$1+4-Paraméterek!$C$52)/4,0)+2)","v":1},{"$f":"INDEX(Makroadatok!$B$15:$X$18,Paraméterek!$D$124,ROUNDUP((BO$1+4-Paraméterek!$C$52)/4,0)+2)","v":1},{"$f":"INDEX(Makroadatok!$B$15:$X$18,Paraméterek!$D$124,ROUNDUP((BP$1+4-Paraméterek!$C$52)/4,0)+2)","v":1},{"$f":"INDEX(Makroadatok!$B$15:$X$18,Paraméterek!$D$124,ROUNDUP((BQ$1+4-Paraméterek!$C$52)/4,0)+2)","v":1},{"$f":"INDEX(Makroadatok!$B$15:$X$18,Paraméterek!$D$124,ROUNDUP((BR$1+4-Paraméterek!$C$52)/4,0)+2)","v":1},{"$f":"INDEX(Makroadatok!$B$15:$X$18,Paraméterek!$D$124,ROUNDUP((BS$1+4-Paraméterek!$C$52)/4,0)+2)","v":1},"x"]
["BUBOR",null,null,{"$f":"HLOOKUP(ROUNDUP((D$1+4-Paraméterek!$C$52)/4,0),Makroadatok!$B$4:$X$11,8,0)/4","v":6.2500000000000003E-3},{"$f":"HLOOKUP(ROUNDUP((E$1+4-Paraméterek!$C$52)/4,0),Makroadatok!$B$4:$X$11,8,0)/4","v":6.2500000000000003E-3},{"$f":"HLOOKUP(ROUNDUP((F$1+4-Paraméterek!$C$52)/4,0),Makroadatok!$B$4:$X$11,8,0)/4","v":6.2500000000000003E-3},{"$f":"HLOOKUP(ROUNDUP((G$1+4-Paraméterek!$C$52)/4,0),Makroadatok!$B$4:$X$11,8,0)/4","v":6.2500000000000003E-3},{"$f":"HLOOKUP(ROUNDUP((H$1+4-Paraméterek!$C$52)/4,0),Makroadatok!$B$4:$X$11,8,0)/4","v":6.2500000000000003E-3},{"$f":"HLOOKUP(ROUNDUP((I$1+4-Paraméterek!$C$52)/4,0),Makroadatok!$B$4:$X$11,8,0)/4","v":6.2500000000000003E-3},{"$f":"HLOOKUP(ROUNDUP((J$1+4-Paraméterek!$C$52)/4,0),Makroadatok!$B$4:$X$11,8,0)/4","v":6.2500000000000003E-3},{"$f":"HLOOKUP(ROUNDUP((K$1+4-Paraméterek!$C$52)/4,0),Makroadatok!$B$4:$X$11,8,0)/4","v":6.2500000000000003E-3},{"$f":"HLOOKUP(ROUNDUP((L$1+4-Paraméterek!$C$52)/4,0),Makroadatok!$B$4:$X$11,8,0)/4","v":6.2500000000000003E-3},{"$f":"HLOOKUP(ROUNDUP((M$1+4-Paraméterek!$C$52)/4,0),Makroadatok!$B$4:$X$11,8,0)/4","v":6.2500000000000003E-3},{"$f":"HLOOKUP(ROUNDUP((N$1+4-Paraméterek!$C$52)/4,0),Makroadatok!$B$4:$X$11,8,0)/4","v":6.2500000000000003E-3},{"$f":"HLOOKUP(ROUNDUP((O$1+4-Paraméterek!$C$52)/4,0),Makroadatok!$B$4:$X$11,8,0)/4","v":6.2500000000000003E-3},{"$f":"HLOOKUP(ROUNDUP((P$1+4-Paraméterek!$C$52)/4,0),Makroadatok!$B$4:$X$11,8,0)/4","v":6.2500000000000003E-3},{"$f":"HLOOKUP(ROUNDUP((Q$1+4-Paraméterek!$C$52)/4,0),Makroadatok!$B$4:$X$11,8,0)/4","v":6.2500000000000003E-3},{"$f":"HLOOKUP(ROUNDUP((R$1+4-Paraméterek!$C$52)/4,0),Makroadatok!$B$4:$X$11,8,0)/4","v":6.2500000000000003E-3},{"$f":"HLOOKUP(ROUNDUP((S$1+4-Paraméterek!$C$52)/4,0),Makroadatok!$B$4:$X$11,8,0)/4","v":6.2500000000000003E-3},{"$f":"HLOOKUP(ROUNDUP((T$1+4-Paraméterek!$C$52)/4,0),Makroadatok!$B$4:$X$11,8,0)/4","v":6.2500000000000003E-3},{"$f":"HLOOKUP(ROUNDUP((U$1+4-Paraméterek!$C$52)/4,0),Makroadatok!$B$4:$X$11,8,0)/4","v":6.2500000000000003E-3},{"$f":"HLOOKUP(ROUNDUP((V$1+4-Paraméterek!$C$52)/4,0),Makroadatok!$B$4:$X$11,8,0)/4","v":6.2500000000000003E-3},{"$f":"HLOOKUP(ROUNDUP((W$1+4-Paraméterek!$C$52)/4,0),Makroadatok!$B$4:$X$11,8,0)/4","v":6.2500000000000003E-3},{"$f":"HLOOKUP(ROUNDUP((X$1+4-Paraméterek!$C$52)/4,0),Makroadatok!$B$4:$X$11,8,0)/4","v":6.2500000000000003E-3},{"$f":"HLOOKUP(ROUNDUP((Y$1+4-Paraméterek!$C$52)/4,0),Makroadatok!$B$4:$X$11,8,0)/4","v":6.2500000000000003E-3},{"$f":"HLOOKUP(ROUNDUP((Z$1+4-Paraméterek!$C$52)/4,0),Makroadatok!$B$4:$X$11,8,0)/4","v":6.2500000000000003E-3},{"$f":"HLOOKUP(ROUNDUP((AA$1+4-Paraméterek!$C$52)/4,0),Makroadatok!$B$4:$X$11,8,0)/4","v":6.2500000000000003E-3},{"$f":"HLOOKUP(ROUNDUP((AB$1+4-Paraméterek!$C$52)/4,0),Makroadatok!$B$4:$X$11,8,0)/4","v":6.2500000000000003E-3},{"$f":"HLOOKUP(ROUNDUP((AC$1+4-Paraméterek!$C$52)/4,0),Makroadatok!$B$4:$X$11,8,0)/4","v":6.2500000000000003E-3},{"$f":"HLOOKUP(ROUNDUP((AD$1+4-Paraméterek!$C$52)/4,0),Makroadatok!$B$4:$X$11,8,0)/4","v":6.2500000000000003E-3},{"$f":"HLOOKUP(ROUNDUP((AE$1+4-Paraméterek!$C$52)/4,0),Makroadatok!$B$4:$X$11,8,0)/4","v":6.2500000000000003E-3},{"$f":"HLOOKUP(ROUNDUP((AF$1+4-Paraméterek!$C$52)/4,0),Makroadatok!$B$4:$X$11,8,0)/4","v":6.2500000000000003E-3},{"$f":"HLOOKUP(ROUNDUP((AG$1+4-Paraméterek!$C$52)/4,0),Makroadatok!$B$4:$X$11,8,0)/4","v":6.2500000000000003E-3},{"$f":"HLOOKUP(ROUNDUP((AH$1+4-Paraméterek!$C$52)/4,0),Makroadatok!$B$4:$X$11,8,0)/4","v":6.2500000000000003E-3},{"$f":"HLOOKUP(ROUNDUP((AI$1+4-Paraméterek!$C$52)/4,0),Makroadatok!$B$4:$X$11,8,0)/4","v":6.2500000000000003E-3},{"$f":"HLOOKUP(ROUNDUP((AJ$1+4-Paraméterek!$C$52)/4,0),Makroadatok!$B$4:$X$11,8,0)/4","v":6.2500000000000003E-3},{"$f":"HLOOKUP(ROUNDUP((AK$1+4-Paraméterek!$C$52)/4,0),Makroadatok!$B$4:$X$11,8,0)/4","v":6.2500000000000003E-3},{"$f":"HLOOKUP(ROUNDUP((AL$1+4-Paraméterek!$C$52)/4,0),Makroadatok!$B$4:$X$11,8,0)/4","v":6.2500000000000003E-3},{"$f":"HLOOKUP(ROUNDUP((AM$1+4-Paraméterek!$C$52)/4,0),Makroadatok!$B$4:$X$11,8,0)/4","v":6.2500000000000003E-3},{"$f":"HLOOKUP(ROUNDUP((AN$1+4-Paraméterek!$C$52)/4,0),Makroadatok!$B$4:$X$11,8,0)/4","v":6.2500000000000003E-3},{"$f":"HLOOKUP(ROUNDUP((AO$1+4-Paraméterek!$C$52)/4,0),Makroadatok!$B$4:$X$11,8,0)/4","v":6.2500000000000003E-3},{"$f":"HLOOKUP(ROUNDUP((AP$1+4-Paraméterek!$C$52)/4,0),Makroadatok!$B$4:$X$11,8,0)/4","v":6.2500000000000003E-3},{"$f":"HLOOKUP(ROUNDUP((AQ$1+4-Paraméterek!$C$52)/4,0),Makroadatok!$B$4:$X$11,8,0)/4","v":6.2500000000000003E-3},{"$f":"HLOOKUP(ROUNDUP((AR$1+4-Paraméterek!$C$52)/4,0),Makroadatok!$B$4:$X$11,8,0)/4","v":6.2500000000000003E-3},{"$f":"HLOOKUP(ROUNDUP((AS$1+4-Paraméterek!$C$52)/4,0),Makroadatok!$B$4:$X$11,8,0)/4","v":6.2500000000000003E-3},{"$f":"HLOOKUP(ROUNDUP((AT$1+4-Paraméterek!$C$52)/4,0),Makroadatok!$B$4:$X$11,8,0)/4","v":6.2500000000000003E-3},{"$f":"HLOOKUP(ROUNDUP((AU$1+4-Paraméterek!$C$52)/4,0),Makroadatok!$B$4:$X$11,8,0)/4","v":6.2500000000000003E-3},{"$f":"HLOOKUP(ROUNDUP((AV$1+4-Paraméterek!$C$52)/4,0),Makroadatok!$B$4:$X$11,8,0)/4","v":6.2500000000000003E-3},{"$f":"HLOOKUP(ROUNDUP((AW$1+4-Paraméterek!$C$52)/4,0),Makroadatok!$B$4:$X$11,8,0)/4","v":6.2500000000000003E-3},{"$f":"HLOOKUP(ROUNDUP((AX$1+4-Paraméterek!$C$52)/4,0),Makroadatok!$B$4:$X$11,8,0)/4","v":6.2500000000000003E-3},{"$f":"HLOOKUP(ROUNDUP((AY$1+4-Paraméterek!$C$52)/4,0),Makroadatok!$B$4:$X$11,8,0)/4","v":6.2500000000000003E-3},{"$f":"HLOOKUP(ROUNDUP((AZ$1+4-Paraméterek!$C$52)/4,0),Makroadatok!$B$4:$X$11,8,0)/4","v":6.2500000000000003E-3},{"$f":"HLOOKUP(ROUNDUP((BA$1+4-Paraméterek!$C$52)/4,0),Makroadatok!$B$4:$X$11,8,0)/4","v":6.2500000000000003E-3},{"$f":"HLOOKUP(ROUNDUP((BB$1+4-Paraméterek!$C$52)/4,0),Makroadatok!$B$4:$X$11,8,0)/4","v":6.2500000000000003E-3},{"$f":"HLOOKUP(ROUNDUP((BC$1+4-Paraméterek!$C$52)/4,0),Makroadatok!$B$4:$X$11,8,0)/4","v":6.2500000000000003E-3},{"$f":"HLOOKUP(ROUNDUP((BD$1+4-Paraméterek!$C$52)/4,0),Makroadatok!$B$4:$X$11,8,0)/4","v":6.2500000000000003E-3},{"$f":"HLOOKUP(ROUNDUP((BE$1+4-Paraméterek!$C$52)/4,0),Makroadatok!$B$4:$X$11,8,0)/4","v":6.2500000000000003E-3},{"$f":"HLOOKUP(ROUNDUP((BF$1+4-Paraméterek!$C$52)/4,0),Makroadatok!$B$4:$X$11,8,0)/4","v":6.2500000000000003E-3},{"$f":"HLOOKUP(ROUNDUP((BG$1+4-Paraméterek!$C$52)/4,0),Makroadatok!$B$4:$X$11,8,0)/4","v":6.2500000000000003E-3},{"$f":"HLOOKUP(ROUNDUP((BH$1+4-Paraméterek!$C$52)/4,0),Makroadatok!$B$4:$X$11,8,0)/4","v":6.2500000000000003E-3},{"$f":"HLOOKUP(ROUNDUP((BI$1+4-Paraméterek!$C$52)/4,0),Makroadatok!$B$4:$X$11,8,0)/4","v":6.2500000000000003E-3},{"$f":"HLOOKUP(ROUNDUP((BJ$1+4-Paraméterek!$C$52)/4,0),Makroadatok!$B$4:$X$11,8,0)/4","v":6.2500000000000003E-3},{"$f":"HLOOKUP(ROUNDUP((BK$1+4-Paraméterek!$C$52)/4,0),Makroadatok!$B$4:$X$11,8,0)/4","v":6.2500000000000003E-3},{"$f":"HLOOKUP(ROUNDUP((BL$1+4-Paraméterek!$C$52)/4,0),Makroadatok!$B$4:$X$11,8,0)/4","v":6.2500000000000003E-3},{"$f":"HLOOKUP(ROUNDUP((BM$1+4-Paraméterek!$C$52)/4,0),Makroadatok!$B$4:$X$11,8,0)/4","v":6.2500000000000003E-3},{"$f":"HLOOKUP(ROUNDUP((BN$1+4-Paraméterek!$C$52)/4,0),Makroadatok!$B$4:$X$11,8,0)/4","v":6.2500000000000003E-3},{"$f":"HLOOKUP(ROUNDUP((BO$1+4-Paraméterek!$C$52)/4,0),Makroadatok!$B$4:$X$11,8,0)/4","v":6.2500000000000003E-3},{"$f":"HLOOKUP(ROUNDUP((BP$1+4-Paraméterek!$C$52)/4,0),Makroadatok!$B$4:$X$11,8,0)/4","v":6.2500000000000003E-3},{"$f":"HLOOKUP(ROUNDUP((BQ$1+4-Paraméterek!$C$52)/4,0),Makroadatok!$B$4:$X$11,8,0)/4","v":6.2500000000000003E-3},{"$f":"HLOOKUP(ROUNDUP((BR$1+4-Paraméterek!$C$52)/4,0),Makroadatok!$B$4:$X$11,8,0)/4","v":6.2500000000000003E-3},{"$f":"HLOOKUP(ROUNDUP((BS$1+4-Paraméterek!$C$52)/4,0),Makroadatok!$B$4:$X$11,8,0)/4","v":6.2500000000000003E-3},"x"]
["Változó kamat",null,null,{"$f":"(INDEX(Makroadatok!$B$11:$X$14,Paraméterek!$D$124,ROUNDUP((D$1+4-Paraméterek!$C$52)/4,0)+2)+Paraméterek!$C$134)/4","v":1.125E-2},{"$f":"(INDEX(Makroadatok!$B$11:$X$14,Paraméterek!$D$124,ROUNDUP((E$1+4-Paraméterek!$C$52)/4,0)+2)+Paraméterek!$C$134)/4","v":1.125E-2},{"$f":"(INDEX(Makroadatok!$B$11:$X$14,Paraméterek!$D$124,ROUNDUP((F$1+4-Paraméterek!$C$52)/4,0)+2)+Paraméterek!$C$134)/4","v":1.125E-2},{"$f":"(INDEX(Makroadatok!$B$11:$X$14,Paraméterek!$D$124,ROUNDUP((G$1+4-Paraméterek!$C$52)/4,0)+2)+Paraméterek!$C$134)/4","v":1.125E-2},{"$f":"(INDEX(Makroadatok!$B$11:$X$14,Paraméterek!$D$124,ROUNDUP((H$1+4-Paraméterek!$C$52)/4,0)+2)+Paraméterek!$C$134)/4","v":1.125E-2},{"$f":"(INDEX(Makroadatok!$B$11:$X$14,Paraméterek!$D$124,ROUNDUP((I$1+4-Paraméterek!$C$52)/4,0)+2)+Paraméterek!$C$134)/4","v":1.125E-2},{"$f":"(INDEX(Makroadatok!$B$11:$X$14,Paraméterek!$D$124,ROUNDUP((J$1+4-Paraméterek!$C$52)/4,0)+2)+Paraméterek!$C$134)/4","v":1.125E-2},{"$f":"(INDEX(Makroadatok!$B$11:$X$14,Paraméterek!$D$124,ROUNDUP((K$1+4-Paraméterek!$C$52)/4,0)+2)+Paraméterek!$C$134)/4","v":1.125E-2},{"$f":"(INDEX(Makroadatok!$B$11:$X$14,Paraméterek!$D$124,ROUNDUP((L$1+4-Paraméterek!$C$52)/4,0)+2)+Paraméterek!$C$134)/4","v":1.125E-2},{"$f":"(INDEX(Makroadatok!$B$11:$X$14,Paraméterek!$D$124,ROUNDUP((M$1+4-Paraméterek!$C$52)/4,0)+2)+Paraméterek!$C$134)/4","v":1.125E-2},{"$f":"(INDEX(Makroadatok!$B$11:$X$14,Paraméterek!$D$124,ROUNDUP((N$1+4-Paraméterek!$C$52)/4,0)+2)+Paraméterek!$C$134)/4","v":1.125E-2},{"$f":"(INDEX(Makroadatok!$B$11:$X$14,Paraméterek!$D$124,ROUNDUP((O$1+4-Paraméterek!$C$52)/4,0)+2)+Paraméterek!$C$134)/4","v":1.125E-2},{"$f":"(INDEX(Makroadatok!$B$11:$X$14,Paraméterek!$D$124,ROUNDUP((P$1+4-Paraméterek!$C$52)/4,0)+2)+Paraméterek!$C$134)/4","v":1.125E-2},{"$f":"(INDEX(Makroadatok!$B$11:$X$14,Paraméterek!$D$124,ROUNDUP((Q$1+4-Paraméterek!$C$52)/4,0)+2)+Paraméterek!$C$134)/4","v":1.125E-2},{"$f":"(INDEX(Makroadatok!$B$11:$X$14,Paraméterek!$D$124,ROUNDUP((R$1+4-Paraméterek!$C$52)/4,0)+2)+Paraméterek!$C$134)/4","v":1.125E-2},{"$f":"(INDEX(Makroadatok!$B$11:$X$14,Paraméterek!$D$124,ROUNDUP((S$1+4-Paraméterek!$C$52)/4,0)+2)+Paraméterek!$C$134)/4","v":1.125E-2},{"$f":"(INDEX(Makroadatok!$B$11:$X$14,Paraméterek!$D$124,ROUNDUP((T$1+4-Paraméterek!$C$52)/4,0)+2)+Paraméterek!$C$134)/4","v":1.125E-2},{"$f":"(INDEX(Makroadatok!$B$11:$X$14,Paraméterek!$D$124,ROUNDUP((U$1+4-Paraméterek!$C$52)/4,0)+2)+Paraméterek!$C$134)/4","v":1.125E-2},{"$f":"(INDEX(Makroadatok!$B$11:$X$14,Paraméterek!$D$124,ROUNDUP((V$1+4-Paraméterek!$C$52)/4,0)+2)+Paraméterek!$C$134)/4","v":1.125E-2},{"$f":"(INDEX(Makroadatok!$B$11:$X$14,Paraméterek!$D$124,ROUNDUP((W$1+4-Paraméterek!$C$52)/4,0)+2)+Paraméterek!$C$134)/4","v":1.125E-2},{"$f":"(INDEX(Makroadatok!$B$11:$X$14,Paraméterek!$D$124,ROUNDUP((X$1+4-Paraméterek!$C$52)/4,0)+2)+Paraméterek!$C$134)/4","v":1.125E-2},{"$f":"(INDEX(Makroadatok!$B$11:$X$14,Paraméterek!$D$124,ROUNDUP((Y$1+4-Paraméterek!$C$52)/4,0)+2)+Paraméterek!$C$134)/4","v":1.125E-2},{"$f":"(INDEX(Makroadatok!$B$11:$X$14,Paraméterek!$D$124,ROUNDUP((Z$1+4-Paraméterek!$C$52)/4,0)+2)+Paraméterek!$C$134)/4","v":1.125E-2},{"$f":"(INDEX(Makroadatok!$B$11:$X$14,Paraméterek!$D$124,ROUNDUP((AA$1+4-Paraméterek!$C$52)/4,0)+2)+Paraméterek!$C$134)/4","v":1.125E-2},{"$f":"(INDEX(Makroadatok!$B$11:$X$14,Paraméterek!$D$124,ROUNDUP((AB$1+4-Paraméterek!$C$52)/4,0)+2)+Paraméterek!$C$134)/4","v":1.125E-2},{"$f":"(INDEX(Makroadatok!$B$11:$X$14,Paraméterek!$D$124,ROUNDUP((AC$1+4-Paraméterek!$C$52)/4,0)+2)+Paraméterek!$C$134)/4","v":1.125E-2},{"$f":"(INDEX(Makroadatok!$B$11:$X$14,Paraméterek!$D$124,ROUNDUP((AD$1+4-Paraméterek!$C$52)/4,0)+2)+Paraméterek!$C$134)/4","v":1.125E-2},{"$f":"(INDEX(Makroadatok!$B$11:$X$14,Paraméterek!$D$124,ROUNDUP((AE$1+4-Paraméterek!$C$52)/4,0)+2)+Paraméterek!$C$134)/4","v":1.125E-2},{"$f":"(INDEX(Makroadatok!$B$11:$X$14,Paraméterek!$D$124,ROUNDUP((AF$1+4-Paraméterek!$C$52)/4,0)+2)+Paraméterek!$C$134)/4","v":1.125E-2},{"$f":"(INDEX(Makroadatok!$B$11:$X$14,Paraméterek!$D$124,ROUNDUP((AG$1+4-Paraméterek!$C$52)/4,0)+2)+Paraméterek!$C$134)/4","v":1.125E-2},{"$f":"(INDEX(Makroadatok!$B$11:$X$14,Paraméterek!$D$124,ROUNDUP((AH$1+4-Paraméterek!$C$52)/4,0)+2)+Paraméterek!$C$134)/4","v":1.125E-2},{"$f":"(INDEX(Makroadatok!$B$11:$X$14,Paraméterek!$D$124,ROUNDUP((AI$1+4-Paraméterek!$C$52)/4,0)+2)+Paraméterek!$C$134)/4","v":1.125E-2},{"$f":"(INDEX(Makroadatok!$B$11:$X$14,Paraméterek!$D$124,ROUNDUP((AJ$1+4-Paraméterek!$C$52)/4,0)+2)+Paraméterek!$C$134)/4","v":1.125E-2},{"$f":"(INDEX(Makroadatok!$B$11:$X$14,Paraméterek!$D$124,ROUNDUP((AK$1+4-Paraméterek!$C$52)/4,0)+2)+Paraméterek!$C$134)/4","v":1.125E-2},{"$f":"(INDEX(Makroadatok!$B$11:$X$14,Paraméterek!$D$124,ROUNDUP((AL$1+4-Paraméterek!$C$52)/4,0)+2)+Paraméterek!$C$134)/4","v":1.125E-2},{"$f":"(INDEX(Makroadatok!$B$11:$X$14,Paraméterek!$D$124,ROUNDUP((AM$1+4-Paraméterek!$C$52)/4,0)+2)+Paraméterek!$C$134)/4","v":1.125E-2},{"$f":"(INDEX(Makroadatok!$B$11:$X$14,Paraméterek!$D$124,ROUNDUP((AN$1+4-Paraméterek!$C$52)/4,0)+2)+Paraméterek!$C$134)/4","v":1.125E-2},{"$f":"(INDEX(Makroadatok!$B$11:$X$14,Paraméterek!$D$124,ROUNDUP((AO$1+4-Paraméterek!$C$52)/4,0)+2)+Paraméterek!$C$134)/4","v":1.125E-2},{"$f":"(INDEX(Makroadatok!$B$11:$X$14,Paraméterek!$D$124,ROUNDUP((AP$1+4-Paraméterek!$C$52)/4,0)+2)+Paraméterek!$C$134)/4","v":1.125E-2},{"$f":"(INDEX(Makroadatok!$B$11:$X$14,Paraméterek!$D$124,ROUNDUP((AQ$1+4-Paraméterek!$C$52)/4,0)+2)+Paraméterek!$C$134)/4","v":1.125E-2},{"$f":"(INDEX(Makroadatok!$B$11:$X$14,Paraméterek!$D$124,ROUNDUP((AR$1+4-Paraméterek!$C$52)/4,0)+2)+Paraméterek!$C$134)/4","v":1.125E-2},{"$f":"(INDEX(Makroadatok!$B$11:$X$14,Paraméterek!$D$124,ROUNDUP((AS$1+4-Paraméterek!$C$52)/4,0)+2)+Paraméterek!$C$134)/4","v":1.125E-2},{"$f":"(INDEX(Makroadatok!$B$11:$X$14,Paraméterek!$D$124,ROUNDUP((AT$1+4-Paraméterek!$C$52)/4,0)+2)+Paraméterek!$C$134)/4","v":1.125E-2},{"$f":"(INDEX(Makroadatok!$B$11:$X$14,Paraméterek!$D$124,ROUNDUP((AU$1+4-Paraméterek!$C$52)/4,0)+2)+Paraméterek!$C$134)/4","v":1.125E-2},{"$f":"(INDEX(Makroadatok!$B$11:$X$14,Paraméterek!$D$124,ROUNDUP((AV$1+4-Paraméterek!$C$52)/4,0)+2)+Paraméterek!$C$134)/4","v":1.125E-2},{"$f":"(INDEX(Makroadatok!$B$11:$X$14,Paraméterek!$D$124,ROUNDUP((AW$1+4-Paraméterek!$C$52)/4,0)+2)+Paraméterek!$C$134)/4","v":1.125E-2},{"$f":"(INDEX(Makroadatok!$B$11:$X$14,Paraméterek!$D$124,ROUNDUP((AX$1+4-Paraméterek!$C$52)/4,0)+2)+Paraméterek!$C$134)/4","v":1.125E-2},{"$f":"(INDEX(Makroadatok!$B$11:$X$14,Paraméterek!$D$124,ROUNDUP((AY$1+4-Paraméterek!$C$52)/4,0)+2)+Paraméterek!$C$134)/4","v":1.125E-2},{"$f":"(INDEX(Makroadatok!$B$11:$X$14,Paraméterek!$D$124,ROUNDUP((AZ$1+4-Paraméterek!$C$52)/4,0)+2)+Paraméterek!$C$134)/4","v":1.125E-2},{"$f":"(INDEX(Makroadatok!$B$11:$X$14,Paraméterek!$D$124,ROUNDUP((BA$1+4-Paraméterek!$C$52)/4,0)+2)+Paraméterek!$C$134)/4","v":1.125E-2},{"$f":"(INDEX(Makroadatok!$B$11:$X$14,Paraméterek!$D$124,ROUNDUP((BB$1+4-Paraméterek!$C$52)/4,0)+2)+Paraméterek!$C$134)/4","v":1.125E-2},{"$f":"(INDEX(Makroadatok!$B$11:$X$14,Paraméterek!$D$124,ROUNDUP((BC$1+4-Paraméterek!$C$52)/4,0)+2)+Paraméterek!$C$134)/4","v":1.125E-2},{"$f":"(INDEX(Makroadatok!$B$11:$X$14,Paraméterek!$D$124,ROUNDUP((BD$1+4-Paraméterek!$C$52)/4,0)+2)+Paraméterek!$C$134)/4","v":1.125E-2},{"$f":"(INDEX(Makroadatok!$B$11:$X$14,Paraméterek!$D$124,ROUNDUP((BE$1+4-Paraméterek!$C$52)/4,0)+2)+Paraméterek!$C$134)/4","v":1.125E-2},{"$f":"(INDEX(Makroadatok!$B$11:$X$14,Paraméterek!$D$124,ROUNDUP((BF$1+4-Paraméterek!$C$52)/4,0)+2)+Paraméterek!$C$134)/4","v":1.125E-2},{"$f":"(INDEX(Makroadatok!$B$11:$X$14,Paraméterek!$D$124,ROUNDUP((BG$1+4-Paraméterek!$C$52)/4,0)+2)+Paraméterek!$C$134)/4","v":1.125E-2},{"$f":"(INDEX(Makroadatok!$B$11:$X$14,Paraméterek!$D$124,ROUNDUP((BH$1+4-Paraméterek!$C$52)/4,0)+2)+Paraméterek!$C$134)/4","v":1.125E-2},{"$f":"(INDEX(Makroadatok!$B$11:$X$14,Paraméterek!$D$124,ROUNDUP((BI$1+4-Paraméterek!$C$52)/4,0)+2)+Paraméterek!$C$134)/4","v":1.125E-2},{"$f":"(INDEX(Makroadatok!$B$11:$X$14,Paraméterek!$D$124,ROUNDUP((BJ$1+4-Paraméterek!$C$52)/4,0)+2)+Paraméterek!$C$134)/4","v":1.125E-2},{"$f":"(INDEX(Makroadatok!$B$11:$X$14,Paraméterek!$D$124,ROUNDUP((BK$1+4-Paraméterek!$C$52)/4,0)+2)+Paraméterek!$C$134)/4","v":1.125E-2},{"$f":"(INDEX(Makroadatok!$B$11:$X$14,Paraméterek!$D$124,ROUNDUP((BL$1+4-Paraméterek!$C$52)/4,0)+2)+Paraméterek!$C$134)/4","v":1.125E-2},{"$f":"(INDEX(Makroadatok!$B$11:$X$14,Paraméterek!$D$124,ROUNDUP((BM$1+4-Paraméterek!$C$52)/4,0)+2)+Paraméterek!$C$134)/4","v":1.125E-2},{"$f":"(INDEX(Makroadatok!$B$11:$X$14,Paraméterek!$D$124,ROUNDUP((BN$1+4-Paraméterek!$C$52)/4,0)+2)+Paraméterek!$C$134)/4","v":1.125E-2},{"$f":"(INDEX(Makroadatok!$B$11:$X$14,Paraméterek!$D$124,ROUNDUP((BO$1+4-Paraméterek!$C$52)/4,0)+2)+Paraméterek!$C$134)/4","v":1.125E-2},{"$f":"(INDEX(Makroadatok!$B$11:$X$14,Paraméterek!$D$124,ROUNDUP((BP$1+4-Paraméterek!$C$52)/4,0)+2)+Paraméterek!$C$134)/4","v":1.125E-2},{"$f":"(INDEX(Makroadatok!$B$11:$X$14,Paraméterek!$D$124,ROUNDUP((BQ$1+4-Paraméterek!$C$52)/4,0)+2)+Paraméterek!$C$134)/4","v":1.125E-2},{"$f":"(INDEX(Makroadatok!$B$11:$X$14,Paraméterek!$D$124,ROUNDUP((BR$1+4-Paraméterek!$C$52)/4,0)+2)+Paraméterek!$C$134)/4","v":1.125E-2},{"$f":"(INDEX(Makroadatok!$B$11:$X$14,Paraméterek!$D$124,ROUNDUP((BS$1+4-Paraméterek!$C$52)/4,0)+2)+Paraméterek!$C$134)/4","v":1.125E-2},"x"]
["Fix kamat",null,null,{"$f":"Paraméterek!$C$133/4","v":8.7500000000000008E-3},{"$f":"Paraméterek!$C$133/4","v":8.7500000000000008E-3},{"$f":"Paraméterek!$C$133/4","v":8.7500000000000008E-3},{"$f":"Paraméterek!$C$133/4","v":8.7500000000000008E-3},{"$f":"Paraméterek!$C$133/4","v":8.7500000000000008E-3},{"$f":"Paraméterek!$C$133/4","v":8.7500000000000008E-3},{"$f":"Paraméterek!$C$133/4","v":8.7500000000000008E-3},{"$f":"Paraméterek!$C$133/4","v":8.7500000000000008E-3},{"$f":"Paraméterek!$C$133/4","v":8.7500000000000008E-3},{"$f":"Paraméterek!$C$133/4","v":8.7500000000000008E-3},{"$f":"Paraméterek!$C$133/4","v":8.7500000000000008E-3},{"$f":"Paraméterek!$C$133/4","v":8.7500000000000008E-3},{"$f":"Paraméterek!$C$133/4","v":8.7500000000000008E-3},{"$f":"Paraméterek!$C$133/4","v":8.7500000000000008E-3},{"$f":"Paraméterek!$C$133/4","v":8.7500000000000008E-3},{"$f":"Paraméterek!$C$133/4","v":8.7500000000000008E-3},{"$f":"Paraméterek!$C$133/4","v":8.7500000000000008E-3},{"$f":"Paraméterek!$C$133/4","v":8.7500000000000008E-3},{"$f":"Paraméterek!$C$133/4","v":8.7500000000000008E-3},{"$f":"Paraméterek!$C$133/4","v":8.7500000000000008E-3},{"$f":"Paraméterek!$C$133/4","v":8.7500000000000008E-3},{"$f":"Paraméterek!$C$133/4","v":8.7500000000000008E-3},{"$f":"Paraméterek!$C$133/4","v":8.7500000000000008E-3},{"$f":"Paraméterek!$C$133/4","v":8.7500000000000008E-3},{"$f":"Paraméterek!$C$133/4","v":8.7500000000000008E-3},{"$f":"Paraméterek!$C$133/4","v":8.7500000000000008E-3},{"$f":"Paraméterek!$C$133/4","v":8.7500000000000008E-3},{"$f":"Paraméterek!$C$133/4","v":8.7500000000000008E-3},{"$f":"Paraméterek!$C$133/4","v":8.7500000000000008E-3},{"$f":"Paraméterek!$C$133/4","v":8.7500000000000008E-3},{"$f":"Paraméterek!$C$133/4","v":8.7500000000000008E-3},{"$f":"Paraméterek!$C$133/4","v":8.7500000000000008E-3},{"$f":"Paraméterek!$C$133/4","v":8.7500000000000008E-3},{"$f":"Paraméterek!$C$133/4","v":8.7500000000000008E-3},{"$f":"Paraméterek!$C$133/4","v":8.7500000000000008E-3},{"$f":"Paraméterek!$C$133/4","v":8.7500000000000008E-3},{"$f":"Paraméterek!$C$133/4","v":8.7500000000000008E-3},{"$f":"Paraméterek!$C$133/4","v":8.7500000000000008E-3},{"$f":"Paraméterek!$C$133/4","v":8.7500000000000008E-3},{"$f":"Paraméterek!$C$133/4","v":8.7500000000000008E-3},{"$f":"Paraméterek!$C$133/4","v":8.7500000000000008E-3},{"$f":"Paraméterek!$C$133/4","v":8.7500000000000008E-3},{"$f":"Paraméterek!$C$133/4","v":8.7500000000000008E-3},{"$f":"Paraméterek!$C$133/4","v":8.7500000000000008E-3},{"$f":"Paraméterek!$C$133/4","v":8.7500000000000008E-3},{"$f":"Paraméterek!$C$133/4","v":8.7500000000000008E-3},{"$f":"Paraméterek!$C$133/4","v":8.7500000000000008E-3},{"$f":"Paraméterek!$C$133/4","v":8.7500000000000008E-3},{"$f":"Paraméterek!$C$133/4","v":8.7500000000000008E-3},{"$f":"Paraméterek!$C$133/4","v":8.7500000000000008E-3},{"$f":"Paraméterek!$C$133/4","v":8.7500000000000008E-3},{"$f":"Paraméterek!$C$133/4","v":8.7500000000000008E-3},{"$f":"Paraméterek!$C$133/4","v":8.7500000000000008E-3},{"$f":"Paraméterek!$C$133/4","v":8.7500000000000008E-3},{"$f":"Paraméterek!$C$133/4","v":8.7500000000000008E-3},{"$f":"Paraméterek!$C$133/4","v":8.7500000000000008E-3},{"$f":"Paraméterek!$C$133/4","v":8.7500000000000008E-3},{"$f":"Paraméterek!$C$133/4","v":8.7500000000000008E-3},{"$f":"Paraméterek!$C$133/4","v":8.7500000000000008E-3},{"$f":"Paraméterek!$C$133/4","v":8.7500000000000008E-3},{"$f":"Paraméterek!$C$133/4","v":8.7500000000000008E-3},{"$f":"Paraméterek!$C$133/4","v":8.7500000000000008E-3},{"$f":"Paraméterek!$C$133/4","v":8.7500000000000008E-3},{"$f":"Paraméterek!$C$133/4","v":8.7500000000000008E-3},{"$f":"Paraméterek!$C$133/4","v":8.7500000000000008E-3},{"$f":"Paraméterek!$C$133/4","v":8.7500000000000008E-3},{"$f":"Paraméterek!$C$133/4","v":8.7500000000000008E-3},{"$f":"Paraméterek!$C$133/4","v":8.7500000000000008E-3},"x"]
["Árszínvonal-változás",null,1,{"$f":"(HLOOKUP(ROUNDUP((D$1+4-Paraméterek!$C$52)/4,0),Makroadatok!$B$4:$X$6,3,0)+1)^(1/4)","v":1.0049629315732038},{"$f":"(HLOOKUP(ROUNDUP((E$1+4-Paraméterek!$C$52)/4,0),Makroadatok!$B$4:$X$6,3,0)+1)^(1/4)","v":1.0049629315732038},{"$f":"(HLOOKUP(ROUNDUP((F$1+4-Paraméterek!$C$52)/4,0),Makroadatok!$B$4:$X$6,3,0)+1)^(1/4)","v":1.0049629315732038},{"$f":"(HLOOKUP(ROUNDUP((G$1+4-Paraméterek!$C$52)/4,0),Makroadatok!$B$4:$X$6,3,0)+1)^(1/4)","v":1.0049629315732038},{"$f":"(HLOOKUP(ROUNDUP((H$1+4-Paraméterek!$C$52)/4,0),Makroadatok!$B$4:$X$6,3,0)+1)^(1/4)","v":1.0049629315732038},{"$f":"(HLOOKUP(ROUNDUP((I$1+4-Paraméterek!$C$52)/4,0),Makroadatok!$B$4:$X$6,3,0)+1)^(1/4)","v":1.0049629315732038},{"$f":"(HLOOKUP(ROUNDUP((J$1+4-Paraméterek!$C$52)/4,0),Makroadatok!$B$4:$X$6,3,0)+1)^(1/4)","v":1.0049629315732038},{"$f":"(HLOOKUP(ROUNDUP((K$1+4-Paraméterek!$C$52)/4,0),Makroadatok!$B$4:$X$6,3,0)+1)^(1/4)","v":1.0049629315732038},{"$f":"(HLOOKUP(ROUNDUP((L$1+4-Paraméterek!$C$52)/4,0),Makroadatok!$B$4:$X$6,3,0)+1)^(1/4)","v":1.0049629315732038},{"$f":"(HLOOKUP(ROUNDUP((M$1+4-Paraméterek!$C$52)/4,0),Makroadatok!$B$4:$X$6,3,0)+1)^(1/4)","v":1.0049629315732038},{"$f":"(HLOOKUP(ROUNDUP((N$1+4-Paraméterek!$C$52)/4,0),Makroadatok!$B$4:$X$6,3,0)+1)^(1/4)","v":1.0049629315732038},{"$f":"(HLOOKUP(ROUNDUP((O$1+4-Paraméterek!$C$52)/4,0),Makroadatok!$B$4:$X$6,3,0)+1)^(1/4)","v":1.0049629315732038},{"$f":"(HLOOKUP(ROUNDUP((P$1+4-Paraméterek!$C$52)/4,0),Makroadatok!$B$4:$X$6,3,0)+1)^(1/4)","v":1.0049629315732038},{"$f":"(HLOOKUP(ROUNDUP((Q$1+4-Paraméterek!$C$52)/4,0),Makroadatok!$B$4:$X$6,3,0)+1)^(1/4)","v":1.0049629315732038},{"$f":"(HLOOKUP(ROUNDUP((R$1+4-Paraméterek!$C$52)/4,0),Makroadatok!$B$4:$X$6,3,0)+1)^(1/4)","v":1.0049629315732038},{"$f":"(HLOOKUP(ROUNDUP((S$1+4-Paraméterek!$C$52)/4,0),Makroadatok!$B$4:$X$6,3,0)+1)^(1/4)","v":1.0049629315732038},{"$f":"(HLOOKUP(ROUNDUP((T$1+4-Paraméterek!$C$52)/4,0),Makroadatok!$B$4:$X$6,3,0)+1)^(1/4)","v":1.0049629315732038},{"$f":"(HLOOKUP(ROUNDUP((U$1+4-Paraméterek!$C$52)/4,0),Makroadatok!$B$4:$X$6,3,0)+1)^(1/4)","v":1.0049629315732038},{"$f":"(HLOOKUP(ROUNDUP((V$1+4-Paraméterek!$C$52)/4,0),Makroadatok!$B$4:$X$6,3,0)+1)^(1/4)","v":1.0049629315732038},{"$f":"(HLOOKUP(ROUNDUP((W$1+4-Paraméterek!$C$52)/4,0),Makroadatok!$B$4:$X$6,3,0)+1)^(1/4)","v":1.0049629315732038},{"$f":"(HLOOKUP(ROUNDUP((X$1+4-Paraméterek!$C$52)/4,0),Makroadatok!$B$4:$X$6,3,0)+1)^(1/4)","v":1.0049629315732038},{"$f":"(HLOOKUP(ROUNDUP((Y$1+4-Paraméterek!$C$52)/4,0),Makroadatok!$B$4:$X$6,3,0)+1)^(1/4)","v":1.0049629315732038},{"$f":"(HLOOKUP(ROUNDUP((Z$1+4-Paraméterek!$C$52)/4,0),Makroadatok!$B$4:$X$6,3,0)+1)^(1/4)","v":1.0049629315732038},{"$f":"(HLOOKUP(ROUNDUP((AA$1+4-Paraméterek!$C$52)/4,0),Makroadatok!$B$4:$X$6,3,0)+1)^(1/4)","v":1.0049629315732038},{"$f":"(HLOOKUP(ROUNDUP((AB$1+4-Paraméterek!$C$52)/4,0),Makroadatok!$B$4:$X$6,3,0)+1)^(1/4)","v":1.0049629315732038},{"$f":"(HLOOKUP(ROUNDUP((AC$1+4-Paraméterek!$C$52)/4,0),Makroadatok!$B$4:$X$6,3,0)+1)^(1/4)","v":1.0049629315732038},{"$f":"(HLOOKUP(ROUNDUP((AD$1+4-Paraméterek!$C$52)/4,0),Makroadatok!$B$4:$X$6,3,0)+1)^(1/4)","v":1.0049629315732038},{"$f":"(HLOOKUP(ROUNDUP((AE$1+4-Paraméterek!$C$52)/4,0),Makroadatok!$B$4:$X$6,3,0)+1)^(1/4)","v":1.0049629315732038},{"$f":"(HLOOKUP(ROUNDUP((AF$1+4-Paraméterek!$C$52)/4,0),Makroadatok!$B$4:$X$6,3,0)+1)^(1/4)","v":1.0049629315732038},{"$f":"(HLOOKUP(ROUNDUP((AG$1+4-Paraméterek!$C$52)/4,0),Makroadatok!$B$4:$X$6,3,0)+1)^(1/4)","v":1.0049629315732038},{"$f":"(HLOOKUP(ROUNDUP((AH$1+4-Paraméterek!$C$52)/4,0),Makroadatok!$B$4:$X$6,3,0)+1)^(1/4)","v":1.0049629315732038},{"$f":"(HLOOKUP(ROUNDUP((AI$1+4-Paraméterek!$C$52)/4,0),Makroadatok!$B$4:$X$6,3,0)+1)^(1/4)","v":1.0049629315732038},{"$f":"(HLOOKUP(ROUNDUP((AJ$1+4-Paraméterek!$C$52)/4,0),Makroadatok!$B$4:$X$6,3,0)+1)^(1/4)","v":1.0049629315732038},{"$f":"(HLOOKUP(ROUNDUP((AK$1+4-Paraméterek!$C$52)/4,0),Makroadatok!$B$4:$X$6,3,0)+1)^(1/4)","v":1.0049629315732038},{"$f":"(HLOOKUP(ROUNDUP((AL$1+4-Paraméterek!$C$52)/4,0),Makroadatok!$B$4:$X$6,3,0)+1)^(1/4)","v":1.0049629315732038},{"$f":"(HLOOKUP(ROUNDUP((AM$1+4-Paraméterek!$C$52)/4,0),Makroadatok!$B$4:$X$6,3,0)+1)^(1/4)","v":1.0049629315732038},{"$f":"(HLOOKUP(ROUNDUP((AN$1+4-Paraméterek!$C$52)/4,0),Makroadatok!$B$4:$X$6,3,0)+1)^(1/4)","v":1.0049629315732038},{"$f":"(HLOOKUP(ROUNDUP((AO$1+4-Paraméterek!$C$52)/4,0),Makroadatok!$B$4:$X$6,3,0)+1)^(1/4)","v":1.0049629315732038},{"$f":"(HLOOKUP(ROUNDUP((AP$1+4-Paraméterek!$C$52)/4,0),Makroadatok!$B$4:$X$6,3,0)+1)^(1/4)","v":1.0049629315732038},{"$f":"(HLOOKUP(ROUNDUP((AQ$1+4-Paraméterek!$C$52)/4,0),Makroadatok!$B$4:$X$6,3,0)+1)^(1/4)","v":1.0049629315732038},{"$f":"(HLOOKUP(ROUNDUP((AR$1+4-Paraméterek!$C$52)/4,0),Makroadatok!$B$4:$X$6,3,0)+1)^(1/4)","v":1.0049629315732038},{"$f":"(HLOOKUP(ROUNDUP((AS$1+4-Paraméterek!$C$52)/4,0),Makroadatok!$B$4:$X$6,3,0)+1)^(1/4)","v":1.0049629315732038},{"$f":"(HLOOKUP(ROUNDUP((AT$1+4-Paraméterek!$C$52)/4,0),Makroadatok!$B$4:$X$6,3,0)+1)^(1/4)","v":1.0049629315732038},{"$f":"(HLOOKUP(ROUNDUP((AU$1+4-Paraméterek!$C$52)/4,0),Makroadatok!$B$4:$X$6,3,0)+1)^(1/4)","v":1.0049629315732038},{"$f":"(HLOOKUP(ROUNDUP((AV$1+4-Paraméterek!$C$52)/4,0),Makroadatok!$B$4:$X$6,3,0)+1)^(1/4)","v":1.0049629315732038},{"$f":"(HLOOKUP(ROUNDUP((AW$1+4-Paraméterek!$C$52)/4,0),Makroadatok!$B$4:$X$6,3,0)+1)^(1/4)","v":1.0049629315732038},{"$f":"(HLOOKUP(ROUNDUP((AX$1+4-Paraméterek!$C$52)/4,0),Makroadatok!$B$4:$X$6,3,0)+1)^(1/4)","v":1.0049629315732038},{"$f":"(HLOOKUP(ROUNDUP((AY$1+4-Paraméterek!$C$52)/4,0),Makroadatok!$B$4:$X$6,3,0)+1)^(1/4)","v":1.0049629315732038},{"$f":"(HLOOKUP(ROUNDUP((AZ$1+4-Paraméterek!$C$52)/4,0),Makroadatok!$B$4:$X$6,3,0)+1)^(1/4)","v":1.0049629315732038},{"$f":"(HLOOKUP(ROUNDUP((BA$1+4-Paraméterek!$C$52)/4,0),Makroadatok!$B$4:$X$6,3,0)+1)^(1/4)","v":1.0049629315732038},{"$f":"(HLOOKUP(ROUNDUP((BB$1+4-Paraméterek!$C$52)/4,0),Makroadatok!$B$4:$X$6,3,0)+1)^(1/4)","v":1.0049629315732038},{"$f":"(HLOOKUP(ROUNDUP((BC$1+4-Paraméterek!$C$52)/4,0),Makroadatok!$B$4:$X$6,3,0)+1)^(1/4)","v":1.0049629315732038},{"$f":"(HLOOKUP(ROUNDUP((BD$1+4-Paraméterek!$C$52)/4,0),Makroadatok!$B$4:$X$6,3,0)+1)^(1/4)","v":1.0049629315732038},{"$f":"(HLOOKUP(ROUNDUP((BE$1+4-Paraméterek!$C$52)/4,0),Makroadatok!$B$4:$X$6,3,0)+1)^(1/4)","v":1.0049629315732038},{"$f":"(HLOOKUP(ROUNDUP((BF$1+4-Paraméterek!$C$52)/4,0),Makroadatok!$B$4:$X$6,3,0)+1)^(1/4)","v":1.0049629315732038},{"$f":"(HLOOKUP(ROUNDUP((BG$1+4-Paraméterek!$C$52)/4,0),Makroadatok!$B$4:$X$6,3,0)+1)^(1/4)","v":1.0049629315732038},{"$f":"(HLOOKUP(ROUNDUP((BH$1+4-Paraméterek!$C$52)/4,0),Makroadatok!$B$4:$X$6,3,0)+1)^(1/4)","v":1.0049629315732038},{"$f":"(HLOOKUP(ROUNDUP((BI$1+4-Paraméterek!$C$52)/4,0),Makroadatok!$B$4:$X$6,3,0)+1)^(1/4)","v":1.0049629315732038},{"$f":"(HLOOKUP(ROUNDUP((BJ$1+4-Paraméterek!$C$52)/4,0),Makroadatok!$B$4:$X$6,3,0)+1)^(1/4)","v":1.0049629315732038},{"$f":"(HLOOKUP(ROUNDUP((BK$1+4-Paraméterek!$C$52)/4,0),Makroadatok!$B$4:$X$6,3,0)+1)^(1/4)","v":1.0049629315732038},{"$f":"(HLOOKUP(ROUNDUP((BL$1+4-Paraméterek!$C$52)/4,0),Makroadatok!$B$4:$X$6,3,0)+1)^(1/4)","v":1.0049629315732038},{"$f":"(HLOOKUP(ROUNDUP((BM$1+4-Paraméterek!$C$52)/4,0),Makroadatok!$B$4:$X$6,3,0)+1)^(1/4)","v":1.0049629315732038},{"$f":"(HLOOKUP(ROUNDUP((BN$1+4-Paraméterek!$C$52)/4,0),Makroadatok!$B$4:$X$6,3,0)+1)^(1/4)","v":1.0049629315732038},{"$f":"(HLOOKUP(ROUNDUP((BO$1+4-Paraméterek!$C$52)/4,0),Makroadatok!$B$4:$X$6,3,0)+1)^(1/4)","v":1.0049629315732038},{"$f":"(HLOOKUP(ROUNDUP((BP$1+4-Paraméterek!$C$52)/4,0),Makroadatok!$B$4:$X$6,3,0)+1)^(1/4)","v":1.0049629315732038},{"$f":"(HLOOKUP(ROUNDUP((BQ$1+4-Paraméterek!$C$52)/4,0),Makroadatok!$B$4:$X$6,3,0)+1)^(1/4)","v":1.0049629315732038},{"$f":"(HLOOKUP(ROUNDUP((BR$1+4-Paraméterek!$C$52)/4,0),Makroadatok!$B$4:$X$6,3,0)+1)^(1/4)","v":1.0049629315732038},{"$f":"(HLOOKUP(ROUNDUP((BS$1+4-Paraméterek!$C$52)/4,0),Makroadatok!$B$4:$X$6,3,0)+1)^(1/4)","v":1.0049629315732038},"x"]
["Hitel CF",null,null,{"$f":"IF(Paraméterek!$D$129=1,Negyedéves!D$59,IF(Paraméterek!$D$129=4,Negyedéves!D$65,Negyedéves!D$70))+IF(Paraméterek!$D$137=1,Negyedéves!D$52,Negyedéves!D$47)+IF(Paraméterek!$D$143=1,Negyedéves!D$40,Negyedéves!D$35)","v":3639689.8159583337},{"$f":"IF(Paraméterek!$D$129=1,Negyedéves!E$59,IF(Paraméterek!$D$129=4,Negyedéves!E$65,Negyedéves!E$70))+IF(Paraméterek!$D$137=1,Negyedéves!E$52,Negyedéves!E$47)+IF(Paraméterek!$D$143=1,Negyedéves!E$40,Negyedéves!E$35)","v":131117820.78841667},{"$f":"IF(Paraméterek!$D$129=1,Negyedéves!F$59,IF(Paraméterek!$D$129=4,Negyedéves!F$65,Negyedéves!F$70))+IF(Paraméterek!$D$137=1,Negyedéves!F$52,Negyedéves!F$47)+IF(Paraméterek!$D$143=1,Negyedéves!F$40,Negyedéves!F$35)","v":2484375},{"$f":"IF(Paraméterek!$D$129=1,Negyedéves!G$59,IF(Paraméterek!$D$129=4,Negyedéves!G$65,Negyedéves!G$70))+IF(Paraméterek!$D$137=1,Negyedéves!G$52,Negyedéves!G$47)+IF(Paraméterek!$D$143=1,Negyedéves!G$40,Negyedéves!G$35)","v":2466145.833333333},{"$f":"IF(Paraméterek!$D$129=1,Negyedéves!H$59,IF(Paraméterek!$D$129=4,Negyedéves!H$65,Negyedéves!H$70))+IF(Paraméterek!$D$137=1,Negyedéves!H$52,Negyedéves!H$47)+IF(Paraméterek!$D$143=1,Negyedéves!H$40,Negyedéves!H$35)","v":2447916.6666666665},{"$f":"IF(Paraméterek!$D$129=1,Negyedéves!I$59,IF(Paraméterek!$D$129=4,Negyedéves!I$65,Negyedéves!I$70))+IF(Paraméterek!$D$137=1,Negyedéves!I$52,Negyedéves!I$47)+IF(Paraméterek!$D$143=1,Negyedéves!I$40,Negyedéves!I$35)","v":2429687.5},{"$f":"IF(Paraméterek!$D$129=1,Negyedéves!J$59,IF(Paraméterek!$D$129=4,Negyedéves!J$65,Negyedéves!J$70))+IF(Paraméterek!$D$137=1,Negyedéves!J$52,Negyedéves!J$47)+IF(Paraméterek!$D$143=1,Negyedéves!J$40,Negyedéves!J$35)","v":2411458.333333333},{"$f":"IF(Paraméterek!$D$129=1,Negyedéves!K$59,IF(Paraméterek!$D$129=4,Negyedéves!K$65,Negyedéves!K$70))+IF(Paraméterek!$D$137=1,Negyedéves!K$52,Negyedéves!K$47)+IF(Paraméterek!$D$143=1,Negyedéves!K$40,Negyedéves!K$35)","v":2393229.1666666665},{"$f":"IF(Paraméterek!$D$129=1,Negyedéves!L$59,IF(Paraméterek!$D$129=4,Negyedéves!L$65,Negyedéves!L$70))+IF(Paraméterek!$D$137=1,Negyedéves!L$52,Negyedéves!L$47)+IF(Paraméterek!$D$143=1,Negyedéves!L$40,Negyedéves!L$35)","v":2375000},{"$f":"IF(Paraméterek!$D$129=1,Negyedéves!M$59,IF(Paraméterek!$D$129=4,Negyedéves!M$65,Negyedéves!M$70))+IF(Paraméterek!$D$137=1,Negyedéves!M$52,Negyedéves!M$47)+IF(Paraméterek!$D$143=1,Negyedéves!M$40,Negyedéves!M$35)","v":2356770.833333333},{"$f":"IF(Paraméterek!$D$129=1,Negyedéves!N$59,IF(Paraméterek!$D$129=4,Negyedéves!N$65,Negyedéves!N$70))+IF(Paraméterek!$D$137=1,Negyedéves!N$52,Negyedéves!N$47)+IF(Paraméterek!$D$143=1,Negyedéves!N$40,Negyedéves!N$35)","v":2338541.6666666665},{"$f":"IF(Paraméterek!$D$129=1,Negyedéves!O$59,IF(Paraméterek!$D$129=4,Negyedéves!O$65,Negyedéves!O$70))+IF(Paraméterek!$D$137=1,Negyedéves!O$52,Negyedéves!O$47)+IF(Paraméterek!$D$143=1,Negyedéves!O$40,Negyedéves!O$35)","v":2320312.5},{"$f":"IF(Paraméterek!$D$129=1,Negyedéves!P$59,IF(Paraméterek!$D$129=4,Negyedéves!P$65,Negyedéves!P$70))+IF(Paraméterek!$D$137=1,Negyedéves!P$52,Negyedéves!P$47)+IF(Paraméterek!$D$143=1,Negyedéves!P$40,Negyedéves!P$35)","v":2302083.333333333},{"$f":"IF(Paraméterek!$D$129=1,Negyedéves!Q$59,IF(Paraméterek!$D$129=4,Negyedéves!Q$65,Negyedéves!Q$70))+IF(Paraméterek!$D$137=1,Negyedéves!Q$52,Negyedéves!Q$47)+IF(Paraméterek!$D$143=1,Negyedéves!Q$40,Negyedéves!Q$35)","v":2283854.1666666665},{"$f":"IF(Paraméterek!$D$129=1,Negyedéves!R$59,IF(Paraméterek!$D$129=4,Negyedéves!R$65,Negyedéves!R$70))+IF(Paraméterek!$D$137=1,Negyedéves!R$52,Negyedéves!R$47)+IF(Paraméterek!$D$143=1,Negyedéves!R$40,Negyedéves!R$35)","v":2265625},{"$f":"IF(Paraméterek!$D$129=1,Negyedéves!S$59,IF(Paraméterek!$D$129=4,Negyedéves!S$65,Negyedéves!S$70))+IF(Paraméterek!$D$137=1,Negyedéves!S$52,Negyedéves!S$47)+IF(Paraméterek!$D$143=1,Negyedéves!S$40,Negyedéves!S$35)","v":2247395.833333333},{"$f":"IF(Paraméterek!$D$129=1,Negyedéves!T$59,IF(Paraméterek!$D$129=4,Negyedéves!T$65,Negyedéves!T$70))+IF(Paraméterek!$D$137=1,Negyedéves!T$52,Negyedéves!T$47)+IF(Paraméterek!$D$143=1,Negyedéves!T$40,Negyedéves!T$35)","v":2229166.6666666665},{"$f":"IF(Paraméterek!$D$129=1,Negyedéves!U$59,IF(Paraméterek!$D$129=4,Negyedéves!U$65,Negyedéves!U$70))+IF(Paraméterek!$D$137=1,Negyedéves!U$52,Negyedéves!U$47)+IF(Paraméterek!$D$143=1,Negyedéves!U$40,Negyedéves!U$35)","v":2210937.5},{"$f":"IF(Paraméterek!$D$129=1,Negyedéves!V$59,IF(Paraméterek!$D$129=4,Negyedéves!V$65,Negyedéves!V$70))+IF(Paraméterek!$D$137=1,Negyedéves!V$52,Negyedéves!V$47)+IF(Paraméterek!$D$143=1,Negyedéves!V$40,Negyedéves!V$35)","v":2192708.333333333},{"$f":"IF(Paraméterek!$D$129=1,Negyedéves!W$59,IF(Paraméterek!$D$129=4,Negyedéves!W$65,Negyedéves!W$70))+IF(Paraméterek!$D$137=1,Negyedéves!W$52,Negyedéves!W$47)+IF(Paraméterek!$D$143=1,Negyedéves!W$40,Negyedéves!W$35)","v":2174479.1666666665},{"$f":"IF(Paraméterek!$D$129=1,Negyedéves!X$59,IF(Paraméterek!$D$129=4,Negyedéves!X$65,Negyedéves!X$70))+IF(Paraméterek!$D$137=1,Negyedéves!X$52,Negyedéves!X$47)+IF(Paraméterek!$D$143=1,Negyedéves!X$40,Negyedéves!X$35)","v":2156250},{"$f":"IF(Paraméterek!$D$129=1,Negyedéves!Y$59,IF(Paraméterek!$D$129=4,Negyedéves!Y$65,Negyedéves!Y$70))+IF(Paraméterek!$D$137=1,Negyedéves!Y$52,Negyedéves!Y$47)+IF(Paraméterek!$D$143=1,Negyedéves!Y$40,Negyedéves!Y$35)","v":2138020.833333333},{"$f":"IF(Paraméterek!$D$129=1,Negyedéves!Z$59,IF(Paraméterek!$D$129=4,Negyedéves!Z$65,Negyedéves!Z$70))+IF(Paraméterek!$D$137=1,Negyedéves!Z$52,Negyedéves!Z$47)+IF(Paraméterek!$D$143=1,Negyedéves!Z$40,Negyedéves!Z$35)","v":2119791.6666666665},{"$f":"IF(Paraméterek!$D$129=1,Negyedéves!AA$59,IF(Paraméterek!$D$129=4,Negyedéves!AA$65,Negyedéves!AA$70))+IF(Paraméterek!$D$137=1,Negyedéves!AA$52,Negyedéves!AA$47)+IF(Paraméterek!$D$143=1,Negyedéves!AA$40,Negyedéves!AA$35)","v":2101562.5},{"$f":"IF(Paraméterek!$D$129=1,Negyedéves!AB$59,IF(Paraméterek!$D$129=4,Negyedéves!AB$65,Negyedéves!AB$70))+IF(Paraméterek!$D$137=1,Negyedéves!AB$52,Negyedéves!AB$47)+IF(Paraméterek!$D$143=1,Negyedéves!AB$40,Negyedéves!AB$35)","v":-7.7416189014911656E-11},{"$f":"IF(Paraméterek!$D$129=1,Negyedéves!AC$59,IF(Paraméterek!$D$129=4,Negyedéves!AC$65,Negyedéves!AC$70))+IF(Paraméterek!$D$137=1,Negyedéves!AC$52,Negyedéves!AC$47)+IF(Paraméterek!$D$143=1,Negyedéves!AC$40,Negyedéves!AC$35)","v":-7.7416189014911656E-11},{"$f":"IF(Paraméterek!$D$129=1,Negyedéves!AD$59,IF(Paraméterek!$D$129=4,Negyedéves!AD$65,Negyedéves!AD$70))+IF(Paraméterek!$D$137=1,Negyedéves!AD$52,Negyedéves!AD$47)+IF(Paraméterek!$D$143=1,Negyedéves!AD$40,Negyedéves!AD$35)","v":-7.7416189014911656E-11},{"$f":"IF(Paraméterek!$D$129=1,Negyedéves!AE$59,IF(Paraméterek!$D$129=4,Negyedéves!AE$65,Negyedéves!AE$70))+IF(Paraméterek!$D$137=1,Negyedéves!AE$52,Negyedéves!AE$47)+IF(Paraméterek!$D$143=1,Negyedéves!AE$40,Negyedéves!AE$35)","v":-7.7416189014911656E-11},{"$f":"IF(Paraméterek!$D$129=1,Negyedéves!AF$59,IF(Paraméterek!$D$129=4,Negyedéves!AF$65,Negyedéves!AF$70))+IF(Paraméterek!$D$137=1,Negyedéves!AF$52,Negyedéves!AF$47)+IF(Paraméterek!$D$143=1,Negyedéves!AF$40,Negyedéves!AF$35)","v":-7.7416189014911656E-11},{"$f":"IF(Paraméterek!$D$129=1,Negyedéves!AG$59,IF(Paraméterek!$D$129=4,Negyedéves!AG$65,Negyedéves!AG$70))+IF(Paraméterek!$D$137=1,Negyedéves!AG$52,Negyedéves!AG$47)+IF(Paraméterek!$D$143=1,Negyedéves!AG$40,Negyedéves!AG$35)","v":-7.7416189014911656E-11},{"$f":"IF(Paraméterek!$D$129=1,Negyedéves!AH$59,IF(Paraméterek!$D$129=4,Negyedéves!AH$65,Negyedéves!AH$70))+IF(Paraméterek!$D$137=1,Negyedéves!AH$52,Negyedéves!AH$47)+IF(Paraméterek!$D$143=1,Negyedéves!AH$40,Negyedéves!AH$35)","v":-7.7416189014911656E-11},{"$f":"IF(Paraméterek!$D$129=1,Negyedéves!AI$59,IF(Paraméterek!$D$129=4,Negyedéves!AI$65,Negyedéves!AI$70))+IF(Paraméterek!$D$137=1,Negyedéves!AI$52,Negyedéves!AI$47)+IF(Paraméterek!$D$143=1,Negyedéves!AI$40,Negyedéves!AI$35)","v":-7.7416189014911656E-11},{"$f":"IF(Paraméterek!$D$129=1,Negyedéves!AJ$59,IF(Paraméterek!$D$129=4,Negyedéves!AJ$65,Negyedéves!AJ$70))+IF(Paraméterek!$D$137=1,Negyedéves!AJ$52,Negyedéves!AJ$47)+IF(Paraméterek!$D$143=1,Negyedéves!AJ$40,Negyedéves!AJ$35)","v":-7.7416189014911656E-11},{"$f":"IF(Paraméterek!$D$129=1,Negyedéves!AK$59,IF(Paraméterek!$D$129=4,Negyedéves!AK$65,Negyedéves!AK$70))+IF(Paraméterek!$D$137=1,Negyedéves!AK$52,Negyedéves!AK$47)+IF(Paraméterek!$D$143=1,Negyedéves!AK$40,Negyedéves!AK$35)","v":-7.7416189014911656E-11},{"$f":"IF(Paraméterek!$D$129=1,Negyedéves!AL$59,IF(Paraméterek!$D$129=4,Negyedéves!AL$65,Negyedéves!AL$70))+IF(Paraméterek!$D$137=1,Negyedéves!AL$52,Negyedéves!AL$47)+IF(Paraméterek!$D$143=1,Negyedéves!AL$40,Negyedéves!AL$35)","v":-7.7416189014911656E-11},{"$f":"IF(Paraméterek!$D$129=1,Negyedéves!AM$59,IF(Paraméterek!$D$129=4,Negyedéves!AM$65,Negyedéves!AM$70))+IF(Paraméterek!$D$137=1,Negyedéves!AM$52,Negyedéves!AM$47)+IF(Paraméterek!$D$143=1,Negyedéves!AM$40,Negyedéves!AM$35)","v":-7.7416189014911656E-11},{"$f":"IF(Paraméterek!$D$129=1,Negyedéves!AN$59,IF(Paraméterek!$D$129=4,Negyedéves!AN$65,Negyedéves!AN$70))+IF(Paraméterek!$D$137=1,Negyedéves!AN$52,Negyedéves!AN$47)+IF(Paraméterek!$D$143=1,Negyedéves!AN$40,Negyedéves!AN$35)","v":-7.7416189014911656E-11},{"$f":"IF(Paraméterek!$D$129=1,Negyedéves!AO$59,IF(Paraméterek!$D$129=4,Negyedéves!AO$65,Negyedéves!AO$70))+IF(Paraméterek!$D$137=1,Negyedéves!AO$52,Negyedéves!AO$47)+IF(Paraméterek!$D$143=1,Negyedéves!AO$40,Negyedéves!AO$35)","v":-7.7416189014911656E-11},{"$f":"IF(Paraméterek!$D$129=1,Negyedéves!AP$59,IF(Paraméterek!$D$129=4,Negyedéves!AP$65,Negyedéves!AP$70))+IF(Paraméterek!$D$137=1,Negyedéves!AP$52,Negyedéves!AP$47)+IF(Paraméterek!$D$143=1,Negyedéves!AP$40,Negyedéves!AP$35)","v":-7.7416189014911656E-11},{"$f":"IF(Paraméterek!$D$129=1,Negyedéves!AQ$59,IF(Paraméterek!$D$129=4,Negyedéves!AQ$65,Negyedéves!AQ$70))+IF(Paraméterek!$D$137=1,Negyedéves!AQ$52,Negyedéves!AQ$47)+IF(Paraméterek!$D$143=1,Negyedéves!AQ$40,Negyedéves!AQ$35)","v":-7.7416189014911656E-11},{"$f":"IF(Paraméterek!$D$129=1,Negyedéves!AR$59,IF(Paraméterek!$D$129=4,Negyedéves!AR$65,Negyedéves!AR$70))+IF(Paraméterek!$D$137=1,Negyedéves!AR$52,Negyedéves!AR$47)+IF(Paraméterek!$D$143=1,Negyedéves!AR$40,Negyedéves!AR$35)","v":-7.7416189014911656E-11},{"$f":"IF(Paraméterek!$D$129=1,Negyedéves!AS$59,IF(Paraméterek!$D$129=4,Negyedéves!AS$65,Negyedéves!AS$70))+IF(Paraméterek!$D$137=1,Negyedéves!AS$52,Negyedéves!AS$47)+IF(Paraméterek!$D$143=1,Negyedéves!AS$40,Negyedéves!AS$35)","v":-7.7416189014911656E-11},{"$f":"IF(Paraméterek!$D$129=1,Negyedéves!AT$59,IF(Paraméterek!$D$129=4,Negyedéves!AT$65,Negyedéves!AT$70))+IF(Paraméterek!$D$137=1,Negyedéves!AT$52,Negyedéves!AT$47)+IF(Paraméterek!$D$143=1,Negyedéves!AT$40,Negyedéves!AT$35)","v":-7.7416189014911656E-11},{"$f":"IF(Paraméterek!$D$129=1,Negyedéves!AU$59,IF(Paraméterek!$D$129=4,Negyedéves!AU$65,Negyedéves!AU$70))+IF(Paraméterek!$D$137=1,Negyedéves!AU$52,Negyedéves!AU$47)+IF(Paraméterek!$D$143=1,Negyedéves!AU$40,Negyedéves!AU$35)","v":-7.7416189014911656E-11},{"$f":"IF(Paraméterek!$D$129=1,Negyedéves!AV$59,IF(Paraméterek!$D$129=4,Negyedéves!AV$65,Negyedéves!AV$70))+IF(Paraméterek!$D$137=1,Negyedéves!AV$52,Negyedéves!AV$47)+IF(Paraméterek!$D$143=1,Negyedéves!AV$40,Negyedéves!AV$35)","v":-7.7416189014911656E-11},{"$f":"IF(Paraméterek!$D$129=1,Negyedéves!AW$59,IF(Paraméterek!$D$129=4,Negyedéves!AW$65,Negyedéves!AW$70))+IF(Paraméterek!$D$137=1,Negyedéves!AW$52,Negyedéves!AW$47)+IF(Paraméterek!$D$143=1,Negyedéves!AW$40,Negyedéves!AW$35)","v":-7.7416189014911656E-11},{"$f":"IF(Paraméterek!$D$129=1,Negyedéves!AX$59,IF(Paraméterek!$D$129=4,Negyedéves!AX$65,Negyedéves!AX$70))+IF(Paraméterek!$D$137=1,Negyedéves!AX$52,Negyedéves!AX$47)+IF(Paraméterek!$D$143=1,Negyedéves!AX$40,Negyedéves!AX$35)","v":-7.7416189014911656E-11},{"$f":"IF(Paraméterek!$D$129=1,Negyedéves!AY$59,IF(Paraméterek!$D$129=4,Negyedéves!AY$65,Negyedéves!AY$70))+IF(Paraméterek!$D$137=1,Negyedéves!AY$52,Negyedéves!AY$47)+IF(Paraméterek!$D$143=1,Negyedéves!AY$40,Negyedéves!AY$35)","v":-7.7416189014911656E-11},{"$f":"IF(Paraméterek!$D$129=1,Negyedéves!AZ$59,IF(Paraméterek!$D$129=4,Negyedéves!AZ$65,Negyedéves!AZ$70))+IF(Paraméterek!$D$137=1,Negyedéves!AZ$52,Negyedéves!AZ$47)+IF(Paraméterek!$D$143=1,Negyedéves!AZ$40,Negyedéves!AZ$35)","v":-7.7416189014911656E-11},{"$f":"IF(Paraméterek!$D$129=1,Negyedéves!BA$59,IF(Paraméterek!$D$129=4,Negyedéves!BA$65,Negyedéves!BA$70))+IF(Paraméterek!$D$137=1,Negyedéves!BA$52,Negyedéves!BA$47)+IF(Paraméterek!$D$143=1,Negyedéves!BA$40,Negyedéves!BA$35)","v":-7.7416189014911656E-11},{"$f":"IF(Paraméterek!$D$129=1,Negyedéves!BB$59,IF(Paraméterek!$D$129=4,Negyedéves!BB$65,Negyedéves!BB$70))+IF(Paraméterek!$D$137=1,Negyedéves!BB$52,Negyedéves!BB$47)+IF(Paraméterek!$D$143=1,Negyedéves!BB$40,Negyedéves!BB$35)","v":-7.7416189014911656E-11},{"$f":"IF(Paraméterek!$D$129=1,Negyedéves!BC$59,IF(Paraméterek!$D$129=4,Negyedéves!BC$65,Negyedéves!BC$70))+IF(Paraméterek!$D$137=1,Negyedéves!BC$52,Negyedéves!BC$47)+IF(Paraméterek!$D$143=1,Negyedéves!BC$40,Negyedéves!BC$35)","v":-7.7416189014911656E-11},{"$f":"IF(Paraméterek!$D$129=1,Negyedéves!BD$59,IF(Paraméterek!$D$129=4,Negyedéves!BD$65,Negyedéves!BD$70))+IF(Paraméterek!$D$137=1,Negyedéves!BD$52,Negyedéves!BD$47)+IF(Paraméterek!$D$143=1,Negyedéves!BD$40,Negyedéves!BD$35)","v":-7.7416189014911656E-11},{"$f":"IF(Paraméterek!$D$129=1,Negyedéves!BE$59,IF(Paraméterek!$D$129=4,Negyedéves!BE$65,Negyedéves!BE$70))+IF(Paraméterek!$D$137=1,Negyedéves!BE$52,Negyedéves!BE$47)+IF(Paraméterek!$D$143=1,Negyedéves!BE$40,Negyedéves!BE$35)","v":-7.7416189014911656E-11},{"$f":"IF(Paraméterek!$D$129=1,Negyedéves!BF$59,IF(Paraméterek!$D$129=4,Negyedéves!BF$65,Negyedéves!BF$70))+IF(Paraméterek!$D$137=1,Negyedéves!BF$52,Negyedéves!BF$47)+IF(Paraméterek!$D$143=1,Negyedéves!BF$40,Negyedéves!BF$35)","v":-7.7416189014911656E-11},{"$f":"IF(Paraméterek!$D$129=1,Negyedéves!BG$59,IF(Paraméterek!$D$129=4,Negyedéves!BG$65,Negyedéves!BG$70))+IF(Paraméterek!$D$137=1,Negyedéves!BG$52,Negyedéves!BG$47)+IF(Paraméterek!$D$143=1,Negyedéves!BG$40,Negyedéves!BG$35)","v":-7.7416189014911656E-11},{"$f":"IF(Paraméterek!$D$129=1,Negyedéves!BH$59,IF(Paraméterek!$D$129=4,Negyedéves!BH$65,Negyedéves!BH$70))+IF(Paraméterek!$D$137=1,Negyedéves!BH$52,Negyedéves!BH$47)+IF(Paraméterek!$D$143=1,Negyedéves!BH$40,Negyedéves!BH$35)","v":-7.7416189014911656E-11},{"$f":"IF(Paraméterek!$D$129=1,Negyedéves!BI$59,IF(Paraméterek!$D$129=4,Negyedéves!BI$65,Negyedéves!BI$70))+IF(Paraméterek!$D$137=1,Negyedéves!BI$52,Negyedéves!BI$47)+IF(Paraméterek!$D$143=1,Negyedéves!BI$40,Negyedéves!BI$35)","v":-7.7416189014911656E-11},{"$f":"IF(Paraméterek!$D$129=1,Negyedéves!BJ$59,IF(Paraméterek!$D$129=4,Negyedéves!BJ$65,Negyedéves!BJ$70))+IF(Paraméterek!$D$137=1,Negyedéves!BJ$52,Negyedéves!BJ$47)+IF(Paraméterek!$D$143=1,Negyedéves!BJ$40,Negyedéves!BJ$35)","v":-7.7416189014911656E-11},{"$f":"IF(Paraméterek!$D$129=1,Negyedéves!BK$59,IF(Paraméterek!$D$129=4,Negyedéves!BK$65,Negyedéves!BK$70))+IF(Paraméterek!$D$137=1,Negyedéves!BK$52,Negyedéves!BK$47)+IF(Paraméterek!$D$143=1,Negyedéves!BK$40,Negyedéves!BK$35)","v":-7.7416189014911656E-11},{"$f":"IF(Paraméterek!$D$129=1,Negyedéves!BL$59,IF(Paraméterek!$D$129=4,Negyedéves!BL$65,Negyedéves!BL$70))+IF(Paraméterek!$D$137=1,Negyedéves!BL$52,Negyedéves!BL$47)+IF(Paraméterek!$D$143=1,Negyedéves!BL$40,Negyedéves!BL$35)","v":-7.7416189014911656E-11},{"$f":"IF(Paraméterek!$D$129=1,Negyedéves!BM$59,IF(Paraméterek!$D$129=4,Negyedéves!BM$65,Negyedéves!BM$70))+IF(Paraméterek!$D$137=1,Negyedéves!BM$52,Negyedéves!BM$47)+IF(Paraméterek!$D$143=1,Negyedéves!BM$40,Negyedéves!BM$35)","v":-7.7416189014911656E-11},{"$f":"IF(Paraméterek!$D$129=1,Negyedéves!BN$59,IF(Paraméterek!$D$129=4,Negyedéves!BN$65,Negyedéves!BN$70))+IF(Paraméterek!$D$137=1,Negyedéves!BN$52,Negyedéves!BN$47)+IF(Paraméterek!$D$143=1,Negyedéves!BN$40,Negyedéves!BN$35)","v":-7.7416189014911656E-11},{"$f":"IF(Paraméterek!$D$129=1,Negyedéves!BO$59,IF(Paraméterek!$D$129=4,Negyedéves!BO$65,Negyedéves!BO$70))+IF(Paraméterek!$D$137=1,Negyedéves!BO$52,Negyedéves!BO$47)+IF(Paraméterek!$D$143=1,Negyedéves!BO$40,Negyedéves!BO$35)","v":-7.7416189014911656E-11},{"$f":"IF(Paraméterek!$D$129=1,Negyedéves!BP$59,IF(Paraméterek!$D$129=4,Negyedéves!BP$65,Negyedéves!BP$70))+IF(Paraméterek!$D$137=1,Negyedéves!BP$52,Negyedéves!BP$47)+IF(Paraméterek!$D$143=1,Negyedéves!BP$40,Negyedéves!BP$35)","v":-7.7416189014911656E-11},{"$f":"IF(Paraméterek!$D$129=1,Negyedéves!BQ$59,IF(Paraméterek!$D$129=4,Negyedéves!BQ$65,Negyedéves!BQ$70))+IF(Paraméterek!$D$137=1,Negyedéves!BQ$52,Negyedéves!BQ$47)+IF(Paraméterek!$D$143=1,Negyedéves!BQ$40,Negyedéves!BQ$35)","v":-7.7416189014911656E-11},{"$f":"IF(Paraméterek!$D$129=1,Negyedéves!BR$59,IF(Paraméterek!$D$129=4,Negyedéves!BR$65,Negyedéves!BR$70))+IF(Paraméterek!$D$137=1,Negyedéves!BR$52,Negyedéves!BR$47)+IF(Paraméterek!$D$143=1,Negyedéves!BR$40,Negyedéves!BR$35)","v":{"$error":"#VALUE!"}},{"$f":"IF(Paraméterek!$D$129=1,Negyedéves!BS$59,IF(Paraméterek!$D$129=4,Negyedéves!BS$65,Negyedéves!BS$70))+IF(Paraméterek!$D$137=1,Negyedéves!BS$52,Negyedéves!BS$47)+IF(Paraméterek!$D$143=1,Negyedéves!BS$40,Negyedéves!BS$35)","v":{"$error":"#VALUE!"}},"x"]
["Tőketörlesztés",null,null,{"$f":"IF(Paraméterek!$D$129=1,Negyedéves!D$60,IF(Paraméterek!$D$129=4,Negyedéves!D$66,Negyedéves!D$71))+IF(Paraméterek!$D$137=1,Negyedéves!D$53,Negyedéves!D$48)+IF(Paraméterek!$D$143=1,Negyedéves!D$41,Negyedéves!D$36)","v":2083333.3333333333},{"$f":"IF(Paraméterek!$D$129=1,Negyedéves!E$60,IF(Paraméterek!$D$129=4,Negyedéves!E$66,Negyedéves!E$71))+IF(Paraméterek!$D$137=1,Negyedéves!E$53,Negyedéves!E$48)+IF(Paraméterek!$D$143=1,Negyedéves!E$41,Negyedéves!E$36)","v":129952645.63333333},{"$f":"IF(Paraméterek!$D$129=1,Negyedéves!F$60,IF(Paraméterek!$D$129=4,Negyedéves!F$66,Negyedéves!F$71))+IF(Paraméterek!$D$137=1,Negyedéves!F$53,Negyedéves!F$48)+IF(Paraméterek!$D$143=1,Negyedéves!F$41,Negyedéves!F$36)","v":2083333.3333333333},{"$f":"IF(Paraméterek!$D$129=1,Negyedéves!G$60,IF(Paraméterek!$D$129=4,Negyedéves!G$66,Negyedéves!G$71))+IF(Paraméterek!$D$137=1,Negyedéves!G$53,Negyedéves!G$48)+IF(Paraméterek!$D$143=1,Negyedéves!G$41,Negyedéves!G$36)","v":2083333.3333333333},{"$f":"IF(Paraméterek!$D$129=1,Negyedéves!H$60,IF(Paraméterek!$D$129=4,Negyedéves!H$66,Negyedéves!H$71))+IF(Paraméterek!$D$137=1,Negyedéves!H$53,Negyedéves!H$48)+IF(Paraméterek!$D$143=1,Negyedéves!H$41,Negyedéves!H$36)","v":2083333.3333333333},{"$f":"IF(Paraméterek!$D$129=1,Negyedéves!I$60,IF(Paraméterek!$D$129=4,Negyedéves!I$66,Negyedéves!I$71))+IF(Paraméterek!$D$137=1,Negyedéves!I$53,Negyedéves!I$48)+IF(Paraméterek!$D$143=1,Negyedéves!I$41,Negyedéves!I$36)","v":2083333.3333333333},{"$f":"IF(Paraméterek!$D$129=1,Negyedéves!J$60,IF(Paraméterek!$D$129=4,Negyedéves!J$66,Negyedéves!J$71))+IF(Paraméterek!$D$137=1,Negyedéves!J$53,Negyedéves!J$48)+IF(Paraméterek!$D$143=1,Negyedéves!J$41,Negyedéves!J$36)","v":2083333.3333333333},{"$f":"IF(Paraméterek!$D$129=1,Negyedéves!K$60,IF(Paraméterek!$D$129=4,Negyedéves!K$66,Negyedéves!K$71))+IF(Paraméterek!$D$137=1,Negyedéves!K$53,Negyedéves!K$48)+IF(Paraméterek!$D$143=1,Negyedéves!K$41,Negyedéves!K$36)","v":2083333.3333333333},{"$f":"IF(Paraméterek!$D$129=1,Negyedéves!L$60,IF(Paraméterek!$D$129=4,Negyedéves!L$66,Negyedéves!L$71))+IF(Paraméterek!$D$137=1,Negyedéves!L$53,Negyedéves!L$48)+IF(Paraméterek!$D$143=1,Negyedéves!L$41,Negyedéves!L$36)","v":2083333.3333333333},{"$f":"IF(Paraméterek!$D$129=1,Negyedéves!M$60,IF(Paraméterek!$D$129=4,Negyedéves!M$66,Negyedéves!M$71))+IF(Paraméterek!$D$137=1,Negyedéves!M$53,Negyedéves!M$48)+IF(Paraméterek!$D$143=1,Negyedéves!M$41,Negyedéves!M$36)","v":2083333.3333333333},{"$f":"IF(Paraméterek!$D$129=1,Negyedéves!N$60,IF(Paraméterek!$D$129=4,Negyedéves!N$66,Negyedéves!N$71))+IF(Paraméterek!$D$137=1,Negyedéves!N$53,Negyedéves!N$48)+IF(Paraméterek!$D$143=1,Negyedéves!N$41,Negyedéves!N$36)","v":2083333.3333333333},{"$f":"IF(Paraméterek!$D$129=1,Negyedéves!O$60,IF(Paraméterek!$D$129=4,Negyedéves!O$66,Negyedéves!O$71))+IF(Paraméterek!$D$137=1,Negyedéves!O$53,Negyedéves!O$48)+IF(Paraméterek!$D$143=1,Negyedéves!O$41,Negyedéves!O$36)","v":2083333.3333333333},{"$f":"IF(Paraméterek!$D$129=1,Negyedéves!P$60,IF(Paraméterek!$D$129=4,Negyedéves!P$66,Negyedéves!P$71))+IF(Paraméterek!$D$137=1,Negyedéves!P$53,Negyedéves!P$48)+IF(Paraméterek!$D$143=1,Negyedéves!P$41,Negyedéves!P$36)","v":2083333.3333333333},{"$f":"IF(Paraméterek!$D$129=1,Negyedéves!Q$60,IF(Paraméterek!$D$129=4,Negyedéves!Q$66,Negyedéves!Q$71))+IF(Paraméterek!$D$137=1,Negyedéves!Q$53,Negyedéves!Q$48)+IF(Paraméterek!$D$143=1,Negyedéves!Q$41,Negyedéves!Q$36)","v":2083333.3333333333},{"$f":"IF(Paraméterek!$D$129=1,Negyedéves!R$60,IF(Paraméterek!$D$129=4,Negyedéves!R$66,Negyedéves!R$71))+IF(Paraméterek!$D$137=1,Negyedéves!R$53,Negyedéves!R$48)+IF(Paraméterek!$D$143=1,Negyedéves!R$41,Negyedéves!R$36)","v":2083333.3333333333},{"$f":"IF(Paraméterek!$D$129=1,Negyedéves!S$60,IF(Paraméterek!$D$129=4,Negyedéves!S$66,Negyedéves!S$71))+IF(Paraméterek!$D$137=1,Negyedéves!S$53,Negyedéves!S$48)+IF(Paraméterek!$D$143=1,Negyedéves!S$41,Negyedéves!S$36)","v":2083333.3333333333},{"$f":"IF(Paraméterek!$D$129=1,Negyedéves!T$60,IF(Paraméterek!$D$129=4,Negyedéves!T$66,Negyedéves!T$71))+IF(Paraméterek!$D$137=1,Negyedéves!T$53,Negyedéves!T$48)+IF(Paraméterek!$D$143=1,Negyedéves!T$41,Negyedéves!T$36)","v":2083333.3333333333},{"$f":"IF(Paraméterek!$D$129=1,Negyedéves!U$60,IF(Paraméterek!$D$129=4,Negyedéves!U$66,Negyedéves!U$71))+IF(Paraméterek!$D$137=1,Negyedéves!U$53,Negyedéves!U$48)+IF(Paraméterek!$D$143=1,Negyedéves!U$41,Negyedéves!U$36)","v":2083333.3333333333},{"$f":"IF(Paraméterek!$D$129=1,Negyedéves!V$60,IF(Paraméterek!$D$129=4,Negyedéves!V$66,Negyedéves!V$71))+IF(Paraméterek!$D$137=1,Negyedéves!V$53,Negyedéves!V$48)+IF(Paraméterek!$D$143=1,Negyedéves!V$41,Negyedéves!V$36)","v":2083333.3333333333},{"$f":"IF(Paraméterek!$D$129=1,Negyedéves!W$60,IF(Paraméterek!$D$129=4,Negyedéves!W$66,Negyedéves!W$71))+IF(Paraméterek!$D$137=1,Negyedéves!W$53,Negyedéves!W$48)+IF(Paraméterek!$D$143=1,Negyedéves!W$41,Negyedéves!W$36)","v":2083333.3333333333},{"$f":"IF(Paraméterek!$D$129=1,Negyedéves!X$60,IF(Paraméterek!$D$129=4,Negyedéves!X$66,Negyedéves!X$71))+IF(Paraméterek!$D$137=1,Negyedéves!X$53,Negyedéves!X$48)+IF(Paraméterek!$D$143=1,Negyedéves!X$41,Negyedéves!X$36)","v":2083333.3333333333},{"$f":"IF(Paraméterek!$D$129=1,Negyedéves!Y$60,IF(Paraméterek!$D$129=4,Negyedéves!Y$66,Negyedéves!Y$71))+IF(Paraméterek!$D$137=1,Negyedéves!Y$53,Negyedéves!Y$48)+IF(Paraméterek!$D$143=1,Negyedéves!Y$41,Negyedéves!Y$36)","v":2083333.3333333333},{"$f":"IF(Paraméterek!$D$129=1,Negyedéves!Z$60,IF(Paraméterek!$D$129=4,Negyedéves!Z$66,Negyedéves!Z$71))+IF(Paraméterek!$D$137=1,Negyedéves!Z$53,Negyedéves!Z$48)+IF(Paraméterek!$D$143=1,Negyedéves!Z$41,Negyedéves!Z$36)","v":2083333.3333333333},{"$f":"IF(Paraméterek!$D$129=1,Negyedéves!AA$60,IF(Paraméterek!$D$129=4,Negyedéves!AA$66,Negyedéves!AA$71))+IF(Paraméterek!$D$137=1,Negyedéves!AA$53,Negyedéves!AA$48)+IF(Paraméterek!$D$143=1,Negyedéves!AA$41,Negyedéves!AA$36)","v":2083333.3333333333},{"$f":"IF(Paraméterek!$D$129=1,Negyedéves!AB$60,IF(Paraméterek!$D$129=4,Negyedéves!AB$66,Negyedéves!AB$71))+IF(Paraméterek!$D$137=1,Negyedéves!AB$53,Negyedéves!AB$48)+IF(Paraméterek!$D$143=1,Negyedéves!AB$41,Negyedéves!AB$36)","v":0},{"$f":"IF(Paraméterek!$D$129=1,Negyedéves!AC$60,IF(Paraméterek!$D$129=4,Negyedéves!AC$66,Negyedéves!AC$71))+IF(Paraméterek!$D$137=1,Negyedéves!AC$53,Negyedéves!AC$48)+IF(Paraméterek!$D$143=1,Negyedéves!AC$41,Negyedéves!AC$36)","v":0},{"$f":"IF(Paraméterek!$D$129=1,Negyedéves!AD$60,IF(Paraméterek!$D$129=4,Negyedéves!AD$66,Negyedéves!AD$71))+IF(Paraméterek!$D$137=1,Negyedéves!AD$53,Negyedéves!AD$48)+IF(Paraméterek!$D$143=1,Negyedéves!AD$41,Negyedéves!AD$36)","v":0},{"$f":"IF(Paraméterek!$D$129=1,Negyedéves!AE$60,IF(Paraméterek!$D$129=4,Negyedéves!AE$66,Negyedéves!AE$71))+IF(Paraméterek!$D$137=1,Negyedéves!AE$53,Negyedéves!AE$48)+IF(Paraméterek!$D$143=1,Negyedéves!AE$41,Negyedéves!AE$36)","v":0},{"$f":"IF(Paraméterek!$D$129=1,Negyedéves!AF$60,IF(Paraméterek!$D$129=4,Negyedéves!AF$66,Negyedéves!AF$71))+IF(Paraméterek!$D$137=1,Negyedéves!AF$53,Negyedéves!AF$48)+IF(Paraméterek!$D$143=1,Negyedéves!AF$41,Negyedéves!AF$36)","v":0},{"$f":"IF(Paraméterek!$D$129=1,Negyedéves!AG$60,IF(Paraméterek!$D$129=4,Negyedéves!AG$66,Negyedéves!AG$71))+IF(Paraméterek!$D$137=1,Negyedéves!AG$53,Negyedéves!AG$48)+IF(Paraméterek!$D$143=1,Negyedéves!AG$41,Negyedéves!AG$36)","v":0},{"$f":"IF(Paraméterek!$D$129=1,Negyedéves!AH$60,IF(Paraméterek!$D$129=4,Negyedéves!AH$66,Negyedéves!AH$71))+IF(Paraméterek!$D$137=1,Negyedéves!AH$53,Negyedéves!AH$48)+IF(Paraméterek!$D$143=1,Negyedéves!AH$41,Negyedéves!AH$36)","v":0},{"$f":"IF(Paraméterek!$D$129=1,Negyedéves!AI$60,IF(Paraméterek!$D$129=4,Negyedéves!AI$66,Negyedéves!AI$71))+IF(Paraméterek!$D$137=1,Negyedéves!AI$53,Negyedéves!AI$48)+IF(Paraméterek!$D$143=1,Negyedéves!AI$41,Negyedéves!AI$36)","v":0},{"$f":"IF(Paraméterek!$D$129=1,Negyedéves!AJ$60,IF(Paraméterek!$D$129=4,Negyedéves!AJ$66,Negyedéves!AJ$71))+IF(Paraméterek!$D$137=1,Negyedéves!AJ$53,Negyedéves!AJ$48)+IF(Paraméterek!$D$143=1,Negyedéves!AJ$41,Negyedéves!AJ$36)","v":0},{"$f":"IF(Paraméterek!$D$129=1,Negyedéves!AK$60,IF(Paraméterek!$D$129=4,Negyedéves!AK$66,Negyedéves!AK$71))+IF(Paraméterek!$D$137=1,Negyedéves!AK$53,Negyedéves!AK$48)+IF(Paraméterek!$D$143=1,Negyedéves!AK$41,Negyedéves!AK$36)","v":0},{"$f":"IF(Paraméterek!$D$129=1,Negyedéves!AL$60,IF(Paraméterek!$D$129=4,Negyedéves!AL$66,Negyedéves!AL$71))+IF(Paraméterek!$D$137=1,Negyedéves!AL$53,Negyedéves!AL$48)+IF(Paraméterek!$D$143=1,Negyedéves!AL$41,Negyedéves!AL$36)","v":0},{"$f":"IF(Paraméterek!$D$129=1,Negyedéves!AM$60,IF(Paraméterek!$D$129=4,Negyedéves!AM$66,Negyedéves!AM$71))+IF(Paraméterek!$D$137=1,Negyedéves!AM$53,Negyedéves!AM$48)+IF(Paraméterek!$D$143=1,Negyedéves!AM$41,Negyedéves!AM$36)","v":0},{"$f":"IF(Paraméterek!$D$129=1,Negyedéves!AN$60,IF(Paraméterek!$D$129=4,Negyedéves!AN$66,Negyedéves!AN$71))+IF(Paraméterek!$D$137=1,Negyedéves!AN$53,Negyedéves!AN$48)+IF(Paraméterek!$D$143=1,Negyedéves!AN$41,Negyedéves!AN$36)","v":0},{"$f":"IF(Paraméterek!$D$129=1,Negyedéves!AO$60,IF(Paraméterek!$D$129=4,Negyedéves!AO$66,Negyedéves!AO$71))+IF(Paraméterek!$D$137=1,Negyedéves!AO$53,Negyedéves!AO$48)+IF(Paraméterek!$D$143=1,Negyedéves!AO$41,Negyedéves!AO$36)","v":0},{"$f":"IF(Paraméterek!$D$129=1,Negyedéves!AP$60,IF(Paraméterek!$D$129=4,Negyedéves!AP$66,Negyedéves!AP$71))+IF(Paraméterek!$D$137=1,Negyedéves!AP$53,Negyedéves!AP$48)+IF(Paraméterek!$D$143=1,Negyedéves!AP$41,Negyedéves!AP$36)","v":0},{"$f":"IF(Paraméterek!$D$129=1,Negyedéves!AQ$60,IF(Paraméterek!$D$129=4,Negyedéves!AQ$66,Negyedéves!AQ$71))+IF(Paraméterek!$D$137=1,Negyedéves!AQ$53,Negyedéves!AQ$48)+IF(Paraméterek!$D$143=1,Negyedéves!AQ$41,Negyedéves!AQ$36)","v":0},{"$f":"IF(Paraméterek!$D$129=1,Negyedéves!AR$60,IF(Paraméterek!$D$129=4,Negyedéves!AR$66,Negyedéves!AR$71))+IF(Paraméterek!$D$137=1,Negyedéves!AR$53,Negyedéves!AR$48)+IF(Paraméterek!$D$143=1,Negyedéves!AR$41,Negyedéves!AR$36)","v":0},{"$f":"IF(Paraméterek!$D$129=1,Negyedéves!AS$60,IF(Paraméterek!$D$129=4,Negyedéves!AS$66,Negyedéves!AS$71))+IF(Paraméterek!$D$137=1,Negyedéves!AS$53,Negyedéves!AS$48)+IF(Paraméterek!$D$143=1,Negyedéves!AS$41,Negyedéves!AS$36)","v":0},{"$f":"IF(Paraméterek!$D$129=1,Negyedéves!AT$60,IF(Paraméterek!$D$129=4,Negyedéves!AT$66,Negyedéves!AT$71))+IF(Paraméterek!$D$137=1,Negyedéves!AT$53,Negyedéves!AT$48)+IF(Paraméterek!$D$143=1,Negyedéves!AT$41,Negyedéves!AT$36)","v":0},{"$f":"IF(Paraméterek!$D$129=1,Negyedéves!AU$60,IF(Paraméterek!$D$129=4,Negyedéves!AU$66,Negyedéves!AU$71))+IF(Paraméterek!$D$137=1,Negyedéves!AU$53,Negyedéves!AU$48)+IF(Paraméterek!$D$143=1,Negyedéves!AU$41,Negyedéves!AU$36)","v":0},{"$f":"IF(Paraméterek!$D$129=1,Negyedéves!AV$60,IF(Paraméterek!$D$129=4,Negyedéves!AV$66,Negyedéves!AV$71))+IF(Paraméterek!$D$137=1,Negyedéves!AV$53,Negyedéves!AV$48)+IF(Paraméterek!$D$143=1,Negyedéves!AV$41,Negyedéves!AV$36)","v":0},{"$f":"IF(Paraméterek!$D$129=1,Negyedéves!AW$60,IF(Paraméterek!$D$129=4,Negyedéves!AW$66,Negyedéves!AW$71))+IF(Paraméterek!$D$137=1,Negyedéves!AW$53,Negyedéves!AW$48)+IF(Paraméterek!$D$143=1,Negyedéves!AW$41,Negyedéves!AW$36)","v":0},{"$f":"IF(Paraméterek!$D$129=1,Negyedéves!AX$60,IF(Paraméterek!$D$129=4,Negyedéves!AX$66,Negyedéves!AX$71))+IF(Paraméterek!$D$137=1,Negyedéves!AX$53,Negyedéves!AX$48)+IF(Paraméterek!$D$143=1,Negyedéves!AX$41,Negyedéves!AX$36)","v":0},{"$f":"IF(Paraméterek!$D$129=1,Negyedéves!AY$60,IF(Paraméterek!$D$129=4,Negyedéves!AY$66,Negyedéves!AY$71))+IF(Paraméterek!$D$137=1,Negyedéves!AY$53,Negyedéves!AY$48)+IF(Paraméterek!$D$143=1,Negyedéves!AY$41,Negyedéves!AY$36)","v":0},{"$f":"IF(Paraméterek!$D$129=1,Negyedéves!AZ$60,IF(Paraméterek!$D$129=4,Negyedéves!AZ$66,Negyedéves!AZ$71))+IF(Paraméterek!$D$137=1,Negyedéves!AZ$53,Negyedéves!AZ$48)+IF(Paraméterek!$D$143=1,Negyedéves!AZ$41,Negyedéves!AZ$36)","v":0},{"$f":"IF(Paraméterek!$D$129=1,Negyedéves!BA$60,IF(Paraméterek!$D$129=4,Negyedéves!BA$66,Negyedéves!BA$71))+IF(Paraméterek!$D$137=1,Negyedéves!BA$53,Negyedéves!BA$48)+IF(Paraméterek!$D$143=1,Negyedéves!BA$41,Negyedéves!BA$36)","v":0},{"$f":"IF(Paraméterek!$D$129=1,Negyedéves!BB$60,IF(Paraméterek!$D$129=4,Negyedéves!BB$66,Negyedéves!BB$71))+IF(Paraméterek!$D$137=1,Negyedéves!BB$53,Negyedéves!BB$48)+IF(Paraméterek!$D$143=1,Negyedéves!BB$41,Negyedéves!BB$36)","v":0},{"$f":"IF(Paraméterek!$D$129=1,Negyedéves!BC$60,IF(Paraméterek!$D$129=4,Negyedéves!BC$66,Negyedéves!BC$71))+IF(Paraméterek!$D$137=1,Negyedéves!BC$53,Negyedéves!BC$48)+IF(Paraméterek!$D$143=1,Negyedéves!BC$41,Negyedéves!BC$36)","v":0},{"$f":"IF(Paraméterek!$D$129=1,Negyedéves!BD$60,IF(Paraméterek!$D$129=4,Negyedéves!BD$66,Negyedéves!BD$71))+IF(Paraméterek!$D$137=1,Negyedéves!BD$53,Negyedéves!BD$48)+IF(Paraméterek!$D$143=1,Negyedéves!BD$41,Negyedéves!BD$36)","v":0},{"$f":"IF(Paraméterek!$D$129=1,Negyedéves!BE$60,IF(Paraméterek!$D$129=4,Negyedéves!BE$66,Negyedéves!BE$71))+IF(Paraméterek!$D$137=1,Negyedéves!BE$53,Negyedéves!BE$48)+IF(Paraméterek!$D$143=1,Negyedéves!BE$41,Negyedéves!BE$36)","v":0},{"$f":"IF(Paraméterek!$D$129=1,Negyedéves!BF$60,IF(Paraméterek!$D$129=4,Negyedéves!BF$66,Negyedéves!BF$71))+IF(Paraméterek!$D$137=1,Negyedéves!BF$53,Negyedéves!BF$48)+IF(Paraméterek!$D$143=1,Negyedéves!BF$41,Negyedéves!BF$36)","v":0},{"$f":"IF(Paraméterek!$D$129=1,Negyedéves!BG$60,IF(Paraméterek!$D$129=4,Negyedéves!BG$66,Negyedéves!BG$71))+IF(Paraméterek!$D$137=1,Negyedéves!BG$53,Negyedéves!BG$48)+IF(Paraméterek!$D$143=1,Negyedéves!BG$41,Negyedéves!BG$36)","v":0},{"$f":"IF(Paraméterek!$D$129=1,Negyedéves!BH$60,IF(Paraméterek!$D$129=4,Negyedéves!BH$66,Negyedéves!BH$71))+IF(Paraméterek!$D$137=1,Negyedéves!BH$53,Negyedéves!BH$48)+IF(Paraméterek!$D$143=1,Negyedéves!BH$41,Negyedéves!BH$36)","v":0},{"$f":"IF(Paraméterek!$D$129=1,Negyedéves!BI$60,IF(Paraméterek!$D$129=4,Negyedéves!BI$66,Negyedéves!BI$71))+IF(Paraméterek!$D$137=1,Negyedéves!BI$53,Negyedéves!BI$48)+IF(Paraméterek!$D$143=1,Negyedéves!BI$41,Negyedéves!BI$36)","v":0},{"$f":"IF(Paraméterek!$D$129=1,Negyedéves!BJ$60,IF(Paraméterek!$D$129=4,Negyedéves!BJ$66,Negyedéves!BJ$71))+IF(Paraméterek!$D$137=1,Negyedéves!BJ$53,Negyedéves!BJ$48)+IF(Paraméterek!$D$143=1,Negyedéves!BJ$41,Negyedéves!BJ$36)","v":0},{"$f":"IF(Paraméterek!$D$129=1,Negyedéves!BK$60,IF(Paraméterek!$D$129=4,Negyedéves!BK$66,Negyedéves!BK$71))+IF(Paraméterek!$D$137=1,Negyedéves!BK$53,Negyedéves!BK$48)+IF(Paraméterek!$D$143=1,Negyedéves!BK$41,Negyedéves!BK$36)","v":0},{"$f":"IF(Paraméterek!$D$129=1,Negyedéves!BL$60,IF(Paraméterek!$D$129=4,Negyedéves!BL$66,Negyedéves!BL$71))+IF(Paraméterek!$D$137=1,Negyedéves!BL$53,Negyedéves!BL$48)+IF(Paraméterek!$D$143=1,Negyedéves!BL$41,Negyedéves!BL$36)","v":0},{"$f":"IF(Paraméterek!$D$129=1,Negyedéves!BM$60,IF(Paraméterek!$D$129=4,Negyedéves!BM$66,Negyedéves!BM$71))+IF(Paraméterek!$D$137=1,Negyedéves!BM$53,Negyedéves!BM$48)+IF(Paraméterek!$D$143=1,Negyedéves!BM$41,Negyedéves!BM$36)","v":0},{"$f":"IF(Paraméterek!$D$129=1,Negyedéves!BN$60,IF(Paraméterek!$D$129=4,Negyedéves!BN$66,Negyedéves!BN$71))+IF(Paraméterek!$D$137=1,Negyedéves!BN$53,Negyedéves!BN$48)+IF(Paraméterek!$D$143=1,Negyedéves!BN$41,Negyedéves!BN$36)","v":0},{"$f":"IF(Paraméterek!$D$129=1,Negyedéves!BO$60,IF(Paraméterek!$D$129=4,Negyedéves!BO$66,Negyedéves!BO$71))+IF(Paraméterek!$D$137=1,Negyedéves!BO$53,Negyedéves!BO$48)+IF(Paraméterek!$D$143=1,Negyedéves!BO$41,Negyedéves!BO$36)","v":0},{"$f":"IF(Paraméterek!$D$129=1,Negyedéves!BP$60,IF(Paraméterek!$D$129=4,Negyedéves!BP$66,Negyedéves!BP$71))+IF(Paraméterek!$D$137=1,Negyedéves!BP$53,Negyedéves!BP$48)+IF(Paraméterek!$D$143=1,Negyedéves!BP$41,Negyedéves!BP$36)","v":0},{"$f":"IF(Paraméterek!$D$129=1,Negyedéves!BQ$60,IF(Paraméterek!$D$129=4,Negyedéves!BQ$66,Negyedéves!BQ$71))+IF(Paraméterek!$D$137=1,Negyedéves!BQ$53,Negyedéves!BQ$48)+IF(Paraméterek!$D$143=1,Negyedéves!BQ$41,Negyedéves!BQ$36)","v":0},{"$f":"IF(Paraméterek!$D$129=1,Negyedéves!BR$60,IF(Paraméterek!$D$129=4,Negyedéves!BR$66,Negyedéves!BR$71))+IF(Paraméterek!$D$137=1,Negyedéves!BR$53,Negyedéves!BR$48)+IF(Paraméterek!$D$143=1,Negyedéves!BR$41,Negyedéves!BR$36)","v":0},{"$f":"IF(Paraméterek!$D$129=1,Negyedéves!BS$60,IF(Paraméterek!$D$129=4,Negyedéves!BS$66,Negyedéves!BS$71))+IF(Paraméterek!$D$137=1,Negyedéves!BS$53,Negyedéves!BS$48)+IF(Paraméterek!$D$143=1,Negyedéves!BS$41,Negyedéves!BS$36)","v":{"$error":"#VALUE!"}},"x"]
["Kamattörlesztés",null,null,{"$f":"IF(Paraméterek!$D$129=1,Negyedéves!D$62,IF(Paraméterek!$D$129=4,Negyedéves!D$68,Negyedéves!D$73))+IF(Paraméterek!$D$137=1,Negyedéves!D$55,Negyedéves!D$50)+IF(Paraméterek!$D$143=1,Negyedéves!D$43,Negyedéves!D$38)","v":1556356.4826250002},{"$f":"IF(Paraméterek!$D$129=1,Negyedéves!E$62,IF(Paraméterek!$D$129=4,Negyedéves!E$68,Negyedéves!E$73))+IF(Paraméterek!$D$137=1,Negyedéves!E$55,Negyedéves!E$50)+IF(Paraméterek!$D$143=1,Negyedéves!E$43,Negyedéves!E$38)","v":1165175.1550833336},{"$f":"IF(Paraméterek!$D$129=1,Negyedéves!F$62,IF(Paraméterek!$D$129=4,Negyedéves!F$68,Negyedéves!F$73))+IF(Paraméterek!$D$137=1,Negyedéves!F$55,Negyedéves!F$50)+IF(Paraméterek!$D$143=1,Negyedéves!F$43,Negyedéves!F$38)","v":401041.66666666669},{"$f":"IF(Paraméterek!$D$129=1,Negyedéves!G$62,IF(Paraméterek!$D$129=4,Negyedéves!G$68,Negyedéves!G$73))+IF(Paraméterek!$D$137=1,Negyedéves!G$55,Negyedéves!G$50)+IF(Paraméterek!$D$143=1,Negyedéves!G$43,Negyedéves!G$38)","v":382812.5},{"$f":"IF(Paraméterek!$D$129=1,Negyedéves!H$62,IF(Paraméterek!$D$129=4,Negyedéves!H$68,Negyedéves!H$73))+IF(Paraméterek!$D$137=1,Negyedéves!H$55,Negyedéves!H$50)+IF(Paraméterek!$D$143=1,Negyedéves!H$43,Negyedéves!H$38)","v":364583.33333333326},{"$f":"IF(Paraméterek!$D$129=1,Negyedéves!I$62,IF(Paraméterek!$D$129=4,Negyedéves!I$68,Negyedéves!I$73))+IF(Paraméterek!$D$137=1,Negyedéves!I$55,Negyedéves!I$50)+IF(Paraméterek!$D$143=1,Negyedéves!I$43,Negyedéves!I$38)","v":346354.16666666657},{"$f":"IF(Paraméterek!$D$129=1,Negyedéves!J$62,IF(Paraméterek!$D$129=4,Negyedéves!J$68,Negyedéves!J$73))+IF(Paraméterek!$D$137=1,Negyedéves!J$55,Negyedéves!J$50)+IF(Paraméterek!$D$143=1,Negyedéves!J$43,Negyedéves!J$38)","v":328124.99999999988},{"$f":"IF(Paraméterek!$D$129=1,Negyedéves!K$62,IF(Paraméterek!$D$129=4,Negyedéves!K$68,Negyedéves!K$73))+IF(Paraméterek!$D$137=1,Negyedéves!K$55,Negyedéves!K$50)+IF(Paraméterek!$D$143=1,Negyedéves!K$43,Negyedéves!K$38)","v":309895.8333333332},{"$f":"IF(Paraméterek!$D$129=1,Negyedéves!L$62,IF(Paraméterek!$D$129=4,Negyedéves!L$68,Negyedéves!L$73))+IF(Paraméterek!$D$137=1,Negyedéves!L$55,Negyedéves!L$50)+IF(Paraméterek!$D$143=1,Negyedéves!L$43,Negyedéves!L$38)","v":291666.66666666657},{"$f":"IF(Paraméterek!$D$129=1,Negyedéves!M$62,IF(Paraméterek!$D$129=4,Negyedéves!M$68,Negyedéves!M$73))+IF(Paraméterek!$D$137=1,Negyedéves!M$55,Negyedéves!M$50)+IF(Paraméterek!$D$143=1,Negyedéves!M$43,Negyedéves!M$38)","v":273437.49999999988},{"$f":"IF(Paraméterek!$D$129=1,Negyedéves!N$62,IF(Paraméterek!$D$129=4,Negyedéves!N$68,Negyedéves!N$73))+IF(Paraméterek!$D$137=1,Negyedéves!N$55,Negyedéves!N$50)+IF(Paraméterek!$D$143=1,Negyedéves!N$43,Negyedéves!N$38)","v":255208.33333333323},{"$f":"IF(Paraméterek!$D$129=1,Negyedéves!O$62,IF(Paraméterek!$D$129=4,Negyedéves!O$68,Negyedéves!O$73))+IF(Paraméterek!$D$137=1,Negyedéves!O$55,Negyedéves!O$50)+IF(Paraméterek!$D$143=1,Negyedéves!O$43,Negyedéves!O$38)","v":236979.16666666657},{"$f":"IF(Paraméterek!$D$129=1,Negyedéves!P$62,IF(Paraméterek!$D$129=4,Negyedéves!P$68,Negyedéves!P$73))+IF(Paraméterek!$D$137=1,Negyedéves!P$55,Negyedéves!P$50)+IF(Paraméterek!$D$143=1,Negyedéves!P$43,Negyedéves!P$38)","v":218749.99999999991},{"$f":"IF(Paraméterek!$D$129=1,Negyedéves!Q$62,IF(Paraméterek!$D$129=4,Negyedéves!Q$68,Negyedéves!Q$73))+IF(Paraméterek!$D$137=1,Negyedéves!Q$55,Negyedéves!Q$50)+IF(Paraméterek!$D$143=1,Negyedéves!Q$43,Negyedéves!Q$38)","v":200520.83333333326},{"$f":"IF(Paraméterek!$D$129=1,Negyedéves!R$62,IF(Paraméterek!$D$129=4,Negyedéves!R$68,Negyedéves!R$73))+IF(Paraméterek!$D$137=1,Negyedéves!R$55,Negyedéves!R$50)+IF(Paraméterek!$D$143=1,Negyedéves!R$43,Negyedéves!R$38)","v":182291.6666666666},{"$f":"IF(Paraméterek!$D$129=1,Negyedéves!S$62,IF(Paraméterek!$D$129=4,Negyedéves!S$68,Negyedéves!S$73))+IF(Paraméterek!$D$137=1,Negyedéves!S$55,Negyedéves!S$50)+IF(Paraméterek!$D$143=1,Negyedéves!S$43,Negyedéves!S$38)","v":164062.49999999994},{"$f":"IF(Paraméterek!$D$129=1,Negyedéves!T$62,IF(Paraméterek!$D$129=4,Negyedéves!T$68,Negyedéves!T$73))+IF(Paraméterek!$D$137=1,Negyedéves!T$55,Negyedéves!T$50)+IF(Paraméterek!$D$143=1,Negyedéves!T$43,Negyedéves!T$38)","v":145833.33333333328},{"$f":"IF(Paraméterek!$D$129=1,Negyedéves!U$62,IF(Paraméterek!$D$129=4,Negyedéves!U$68,Negyedéves!U$73))+IF(Paraméterek!$D$137=1,Negyedéves!U$55,Negyedéves!U$50)+IF(Paraméterek!$D$143=1,Negyedéves!U$43,Negyedéves!U$38)","v":127604.1666666666},{"$f":"IF(Paraméterek!$D$129=1,Negyedéves!V$62,IF(Paraméterek!$D$129=4,Negyedéves!V$68,Negyedéves!V$73))+IF(Paraméterek!$D$137=1,Negyedéves!V$55,Negyedéves!V$50)+IF(Paraméterek!$D$143=1,Negyedéves!V$43,Negyedéves!V$38)","v":109374.99999999993},{"$f":"IF(Paraméterek!$D$129=1,Negyedéves!W$62,IF(Paraméterek!$D$129=4,Negyedéves!W$68,Negyedéves!W$73))+IF(Paraméterek!$D$137=1,Negyedéves!W$55,Negyedéves!W$50)+IF(Paraméterek!$D$143=1,Negyedéves!W$43,Negyedéves!W$38)","v":91145.833333333256},{"$f":"IF(Paraméterek!$D$129=1,Negyedéves!X$62,IF(Paraméterek!$D$129=4,Negyedéves!X$68,Negyedéves!X$73))+IF(Paraméterek!$D$137=1,Negyedéves!X$55,Negyedéves!X$50)+IF(Paraméterek!$D$143=1,Negyedéves!X$43,Negyedéves!X$38)","v":72916.666666666584},{"$f":"IF(Paraméterek!$D$129=1,Negyedéves!Y$62,IF(Paraméterek!$D$129=4,Negyedéves!Y$68,Negyedéves!Y$73))+IF(Paraméterek!$D$137=1,Negyedéves!Y$55,Negyedéves!Y$50)+IF(Paraméterek!$D$143=1,Negyedéves!Y$43,Negyedéves!Y$38)","v":54687.499999999927},{"$f":"IF(Paraméterek!$D$129=1,Negyedéves!Z$62,IF(Paraméterek!$D$129=4,Negyedéves!Z$68,Negyedéves!Z$73))+IF(Paraméterek!$D$137=1,Negyedéves!Z$55,Negyedéves!Z$50)+IF(Paraméterek!$D$143=1,Negyedéves!Z$43,Negyedéves!Z$38)","v":36458.333333333256},{"$f":"IF(Paraméterek!$D$129=1,Negyedéves!AA$62,IF(Paraméterek!$D$129=4,Negyedéves!AA$68,Negyedéves!AA$73))+IF(Paraméterek!$D$137=1,Negyedéves!AA$55,Negyedéves!AA$50)+IF(Paraméterek!$D$143=1,Negyedéves!AA$43,Negyedéves!AA$38)","v":18229.166666666591},{"$f":"IF(Paraméterek!$D$129=1,Negyedéves!AB$62,IF(Paraméterek!$D$129=4,Negyedéves!AB$68,Negyedéves!AB$73))+IF(Paraméterek!$D$137=1,Negyedéves!AB$55,Negyedéves!AB$50)+IF(Paraméterek!$D$143=1,Negyedéves!AB$43,Negyedéves!AB$38)","v":-7.7416189014911656E-11},{"$f":"IF(Paraméterek!$D$129=1,Negyedéves!AC$62,IF(Paraméterek!$D$129=4,Negyedéves!AC$68,Negyedéves!AC$73))+IF(Paraméterek!$D$137=1,Negyedéves!AC$55,Negyedéves!AC$50)+IF(Paraméterek!$D$143=1,Negyedéves!AC$43,Negyedéves!AC$38)","v":-7.7416189014911656E-11},{"$f":"IF(Paraméterek!$D$129=1,Negyedéves!AD$62,IF(Paraméterek!$D$129=4,Negyedéves!AD$68,Negyedéves!AD$73))+IF(Paraméterek!$D$137=1,Negyedéves!AD$55,Negyedéves!AD$50)+IF(Paraméterek!$D$143=1,Negyedéves!AD$43,Negyedéves!AD$38)","v":-7.7416189014911656E-11},{"$f":"IF(Paraméterek!$D$129=1,Negyedéves!AE$62,IF(Paraméterek!$D$129=4,Negyedéves!AE$68,Negyedéves!AE$73))+IF(Paraméterek!$D$137=1,Negyedéves!AE$55,Negyedéves!AE$50)+IF(Paraméterek!$D$143=1,Negyedéves!AE$43,Negyedéves!AE$38)","v":-7.7416189014911656E-11},{"$f":"IF(Paraméterek!$D$129=1,Negyedéves!AF$62,IF(Paraméterek!$D$129=4,Negyedéves!AF$68,Negyedéves!AF$73))+IF(Paraméterek!$D$137=1,Negyedéves!AF$55,Negyedéves!AF$50)+IF(Paraméterek!$D$143=1,Negyedéves!AF$43,Negyedéves!AF$38)","v":-7.7416189014911656E-11},{"$f":"IF(Paraméterek!$D$129=1,Negyedéves!AG$62,IF(Paraméterek!$D$129=4,Negyedéves!AG$68,Negyedéves!AG$73))+IF(Paraméterek!$D$137=1,Negyedéves!AG$55,Negyedéves!AG$50)+IF(Paraméterek!$D$143=1,Negyedéves!AG$43,Negyedéves!AG$38)","v":-7.7416189014911656E-11},{"$f":"IF(Paraméterek!$D$129=1,Negyedéves!AH$62,IF(Paraméterek!$D$129=4,Negyedéves!AH$68,Negyedéves!AH$73))+IF(Paraméterek!$D$137=1,Negyedéves!AH$55,Negyedéves!AH$50)+IF(Paraméterek!$D$143=1,Negyedéves!AH$43,Negyedéves!AH$38)","v":-7.7416189014911656E-11},{"$f":"IF(Paraméterek!$D$129=1,Negyedéves!AI$62,IF(Paraméterek!$D$129=4,Negyedéves!AI$68,Negyedéves!AI$73))+IF(Paraméterek!$D$137=1,Negyedéves!AI$55,Negyedéves!AI$50)+IF(Paraméterek!$D$143=1,Negyedéves!AI$43,Negyedéves!AI$38)","v":-7.7416189014911656E-11},{"$f":"IF(Paraméterek!$D$129=1,Negyedéves!AJ$62,IF(Paraméterek!$D$129=4,Negyedéves!AJ$68,Negyedéves!AJ$73))+IF(Paraméterek!$D$137=1,Negyedéves!AJ$55,Negyedéves!AJ$50)+IF(Paraméterek!$D$143=1,Negyedéves!AJ$43,Negyedéves!AJ$38)","v":-7.7416189014911656E-11},{"$f":"IF(Paraméterek!$D$129=1,Negyedéves!AK$62,IF(Paraméterek!$D$129=4,Negyedéves!AK$68,Negyedéves!AK$73))+IF(Paraméterek!$D$137=1,Negyedéves!AK$55,Negyedéves!AK$50)+IF(Paraméterek!$D$143=1,Negyedéves!AK$43,Negyedéves!AK$38)","v":-7.7416189014911656E-11},{"$f":"IF(Paraméterek!$D$129=1,Negyedéves!AL$62,IF(Paraméterek!$D$129=4,Negyedéves!AL$68,Negyedéves!AL$73))+IF(Paraméterek!$D$137=1,Negyedéves!AL$55,Negyedéves!AL$50)+IF(Paraméterek!$D$143=1,Negyedéves!AL$43,Negyedéves!AL$38)","v":-7.7416189014911656E-11},{"$f":"IF(Paraméterek!$D$129=1,Negyedéves!AM$62,IF(Paraméterek!$D$129=4,Negyedéves!AM$68,Negyedéves!AM$73))+IF(Paraméterek!$D$137=1,Negyedéves!AM$55,Negyedéves!AM$50)+IF(Paraméterek!$D$143=1,Negyedéves!AM$43,Negyedéves!AM$38)","v":-7.7416189014911656E-11},{"$f":"IF(Paraméterek!$D$129=1,Negyedéves!AN$62,IF(Paraméterek!$D$129=4,Negyedéves!AN$68,Negyedéves!AN$73))+IF(Paraméterek!$D$137=1,Negyedéves!AN$55,Negyedéves!AN$50)+IF(Paraméterek!$D$143=1,Negyedéves!AN$43,Negyedéves!AN$38)","v":-7.7416189014911656E-11},{"$f":"IF(Paraméterek!$D$129=1,Negyedéves!AO$62,IF(Paraméterek!$D$129=4,Negyedéves!AO$68,Negyedéves!AO$73))+IF(Paraméterek!$D$137=1,Negyedéves!AO$55,Negyedéves!AO$50)+IF(Paraméterek!$D$143=1,Negyedéves!AO$43,Negyedéves!AO$38)","v":-7.7416189014911656E-11},{"$f":"IF(Paraméterek!$D$129=1,Negyedéves!AP$62,IF(Paraméterek!$D$129=4,Negyedéves!AP$68,Negyedéves!AP$73))+IF(Paraméterek!$D$137=1,Negyedéves!AP$55,Negyedéves!AP$50)+IF(Paraméterek!$D$143=1,Negyedéves!AP$43,Negyedéves!AP$38)","v":-7.7416189014911656E-11},{"$f":"IF(Paraméterek!$D$129=1,Negyedéves!AQ$62,IF(Paraméterek!$D$129=4,Negyedéves!AQ$68,Negyedéves!AQ$73))+IF(Paraméterek!$D$137=1,Negyedéves!AQ$55,Negyedéves!AQ$50)+IF(Paraméterek!$D$143=1,Negyedéves!AQ$43,Negyedéves!AQ$38)","v":-7.7416189014911656E-11},{"$f":"IF(Paraméterek!$D$129=1,Negyedéves!AR$62,IF(Paraméterek!$D$129=4,Negyedéves!AR$68,Negyedéves!AR$73))+IF(Paraméterek!$D$137=1,Negyedéves!AR$55,Negyedéves!AR$50)+IF(Paraméterek!$D$143=1,Negyedéves!AR$43,Negyedéves!AR$38)","v":-7.7416189014911656E-11},{"$f":"IF(Paraméterek!$D$129=1,Negyedéves!AS$62,IF(Paraméterek!$D$129=4,Negyedéves!AS$68,Negyedéves!AS$73))+IF(Paraméterek!$D$137=1,Negyedéves!AS$55,Negyedéves!AS$50)+IF(Paraméterek!$D$143=1,Negyedéves!AS$43,Negyedéves!AS$38)","v":-7.7416189014911656E-11},{"$f":"IF(Paraméterek!$D$129=1,Negyedéves!AT$62,IF(Paraméterek!$D$129=4,Negyedéves!AT$68,Negyedéves!AT$73))+IF(Paraméterek!$D$137=1,Negyedéves!AT$55,Negyedéves!AT$50)+IF(Paraméterek!$D$143=1,Negyedéves!AT$43,Negyedéves!AT$38)","v":-7.7416189014911656E-11},{"$f":"IF(Paraméterek!$D$129=1,Negyedéves!AU$62,IF(Paraméterek!$D$129=4,Negyedéves!AU$68,Negyedéves!AU$73))+IF(Paraméterek!$D$137=1,Negyedéves!AU$55,Negyedéves!AU$50)+IF(Paraméterek!$D$143=1,Negyedéves!AU$43,Negyedéves!AU$38)","v":-7.7416189014911656E-11},{"$f":"IF(Paraméterek!$D$129=1,Negyedéves!AV$62,IF(Paraméterek!$D$129=4,Negyedéves!AV$68,Negyedéves!AV$73))+IF(Paraméterek!$D$137=1,Negyedéves!AV$55,Negyedéves!AV$50)+IF(Paraméterek!$D$143=1,Negyedéves!AV$43,Negyedéves!AV$38)","v":-7.7416189014911656E-11},{"$f":"IF(Paraméterek!$D$129=1,Negyedéves!AW$62,IF(Paraméterek!$D$129=4,Negyedéves!AW$68,Negyedéves!AW$73))+IF(Paraméterek!$D$137=1,Negyedéves!AW$55,Negyedéves!AW$50)+IF(Paraméterek!$D$143=1,Negyedéves!AW$43,Negyedéves!AW$38)","v":-7.7416189014911656E-11},{"$f":"IF(Paraméterek!$D$129=1,Negyedéves!AX$62,IF(Paraméterek!$D$129=4,Negyedéves!AX$68,Negyedéves!AX$73))+IF(Paraméterek!$D$137=1,Negyedéves!AX$55,Negyedéves!AX$50)+IF(Paraméterek!$D$143=1,Negyedéves!AX$43,Negyedéves!AX$38)","v":-7.7416189014911656E-11},{"$f":"IF(Paraméterek!$D$129=1,Negyedéves!AY$62,IF(Paraméterek!$D$129=4,Negyedéves!AY$68,Negyedéves!AY$73))+IF(Paraméterek!$D$137=1,Negyedéves!AY$55,Negyedéves!AY$50)+IF(Paraméterek!$D$143=1,Negyedéves!AY$43,Negyedéves!AY$38)","v":-7.7416189014911656E-11},{"$f":"IF(Paraméterek!$D$129=1,Negyedéves!AZ$62,IF(Paraméterek!$D$129=4,Negyedéves!AZ$68,Negyedéves!AZ$73))+IF(Paraméterek!$D$137=1,Negyedéves!AZ$55,Negyedéves!AZ$50)+IF(Paraméterek!$D$143=1,Negyedéves!AZ$43,Negyedéves!AZ$38)","v":-7.7416189014911656E-11},{"$f":"IF(Paraméterek!$D$129=1,Negyedéves!BA$62,IF(Paraméterek!$D$129=4,Negyedéves!BA$68,Negyedéves!BA$73))+IF(Paraméterek!$D$137=1,Negyedéves!BA$55,Negyedéves!BA$50)+IF(Paraméterek!$D$143=1,Negyedéves!BA$43,Negyedéves!BA$38)","v":-7.7416189014911656E-11},{"$f":"IF(Paraméterek!$D$129=1,Negyedéves!BB$62,IF(Paraméterek!$D$129=4,Negyedéves!BB$68,Negyedéves!BB$73))+IF(Paraméterek!$D$137=1,Negyedéves!BB$55,Negyedéves!BB$50)+IF(Paraméterek!$D$143=1,Negyedéves!BB$43,Negyedéves!BB$38)","v":-7.7416189014911656E-11},{"$f":"IF(Paraméterek!$D$129=1,Negyedéves!BC$62,IF(Paraméterek!$D$129=4,Negyedéves!BC$68,Negyedéves!BC$73))+IF(Paraméterek!$D$137=1,Negyedéves!BC$55,Negyedéves!BC$50)+IF(Paraméterek!$D$143=1,Negyedéves!BC$43,Negyedéves!BC$38)","v":-7.7416189014911656E-11},{"$f":"IF(Paraméterek!$D$129=1,Negyedéves!BD$62,IF(Paraméterek!$D$129=4,Negyedéves!BD$68,Negyedéves!BD$73))+IF(Paraméterek!$D$137=1,Negyedéves!BD$55,Negyedéves!BD$50)+IF(Paraméterek!$D$143=1,Negyedéves!BD$43,Negyedéves!BD$38)","v":-7.7416189014911656E-11},{"$f":"IF(Paraméterek!$D$129=1,Negyedéves!BE$62,IF(Paraméterek!$D$129=4,Negyedéves!BE$68,Negyedéves!BE$73))+IF(Paraméterek!$D$137=1,Negyedéves!BE$55,Negyedéves!BE$50)+IF(Paraméterek!$D$143=1,Negyedéves!BE$43,Negyedéves!BE$38)","v":-7.7416189014911656E-11},{"$f":"IF(Paraméterek!$D$129=1,Negyedéves!BF$62,IF(Paraméterek!$D$129=4,Negyedéves!BF$68,Negyedéves!BF$73))+IF(Paraméterek!$D$137=1,Negyedéves!BF$55,Negyedéves!BF$50)+IF(Paraméterek!$D$143=1,Negyedéves!BF$43,Negyedéves!BF$38)","v":-7.7416189014911656E-11},{"$f":"IF(Paraméterek!$D$129=1,Negyedéves!BG$62,IF(Paraméterek!$D$129=4,Negyedéves!BG$68,Negyedéves!BG$73))+IF(Paraméterek!$D$137=1,Negyedéves!BG$55,Negyedéves!BG$50)+IF(Paraméterek!$D$143=1,Negyedéves!BG$43,Negyedéves!BG$38)","v":-7.7416189014911656E-11},{"$f":"IF(Paraméterek!$D$129=1,Negyedéves!BH$62,IF(Paraméterek!$D$129=4,Negyedéves!BH$68,Negyedéves!BH$73))+IF(Paraméterek!$D$137=1,Negyedéves!BH$55,Negyedéves!BH$50)+IF(Paraméterek!$D$143=1,Negyedéves!BH$43,Negyedéves!BH$38)","v":-7.7416189014911656E-11},{"$f":"IF(Paraméterek!$D$129=1,Negyedéves!BI$62,IF(Paraméterek!$D$129=4,Negyedéves!BI$68,Negyedéves!BI$73))+IF(Paraméterek!$D$137=1,Negyedéves!BI$55,Negyedéves!BI$50)+IF(Paraméterek!$D$143=1,Negyedéves!BI$43,Negyedéves!BI$38)","v":-7.7416189014911656E-11},{"$f":"IF(Paraméterek!$D$129=1,Negyedéves!BJ$62,IF(Paraméterek!$D$129=4,Negyedéves!BJ$68,Negyedéves!BJ$73))+IF(Paraméterek!$D$137=1,Negyedéves!BJ$55,Negyedéves!BJ$50)+IF(Paraméterek!$D$143=1,Negyedéves!BJ$43,Negyedéves!BJ$38)","v":-7.7416189014911656E-11},{"$f":"IF(Paraméterek!$D$129=1,Negyedéves!BK$62,IF(Paraméterek!$D$129=4,Negyedéves!BK$68,Negyedéves!BK$73))+IF(Paraméterek!$D$137=1,Negyedéves!BK$55,Negyedéves!BK$50)+IF(Paraméterek!$D$143=1,Negyedéves!BK$43,Negyedéves!BK$38)","v":-7.7416189014911656E-11},{"$f":"IF(Paraméterek!$D$129=1,Negyedéves!BL$62,IF(Paraméterek!$D$129=4,Negyedéves!BL$68,Negyedéves!BL$73))+IF(Paraméterek!$D$137=1,Negyedéves!BL$55,Negyedéves!BL$50)+IF(Paraméterek!$D$143=1,Negyedéves!BL$43,Negyedéves!BL$38)","v":-7.7416189014911656E-11},{"$f":"IF(Paraméterek!$D$129=1,Negyedéves!BM$62,IF(Paraméterek!$D$129=4,Negyedéves!BM$68,Negyedéves!BM$73))+IF(Paraméterek!$D$137=1,Negyedéves!BM$55,Negyedéves!BM$50)+IF(Paraméterek!$D$143=1,Negyedéves!BM$43,Negyedéves!BM$38)","v":-7.7416189014911656E-11},{"$f":"IF(Paraméterek!$D$129=1,Negyedéves!BN$62,IF(Paraméterek!$D$129=4,Negyedéves!BN$68,Negyedéves!BN$73))+IF(Paraméterek!$D$137=1,Negyedéves!BN$55,Negyedéves!BN$50)+IF(Paraméterek!$D$143=1,Negyedéves!BN$43,Negyedéves!BN$38)","v":-7.7416189014911656E-11},{"$f":"IF(Paraméterek!$D$129=1,Negyedéves!BO$62,IF(Paraméterek!$D$129=4,Negyedéves!BO$68,Negyedéves!BO$73))+IF(Paraméterek!$D$137=1,Negyedéves!BO$55,Negyedéves!BO$50)+IF(Paraméterek!$D$143=1,Negyedéves!BO$43,Negyedéves!BO$38)","v":-7.7416189014911656E-11},{"$f":"IF(Paraméterek!$D$129=1,Negyedéves!BP$62,IF(Paraméterek!$D$129=4,Negyedéves!BP$68,Negyedéves!BP$73))+IF(Paraméterek!$D$137=1,Negyedéves!BP$55,Negyedéves!BP$50)+IF(Paraméterek!$D$143=1,Negyedéves!BP$43,Negyedéves!BP$38)","v":-7.7416189014911656E-11},{"$f":"IF(Paraméterek!$D$129=1,Negyedéves!BQ$62,IF(Paraméterek!$D$129=4,Negyedéves!BQ$68,Negyedéves!BQ$73))+IF(Paraméterek!$D$137=1,Negyedéves!BQ$55,Negyedéves!BQ$50)+IF(Paraméterek!$D$143=1,Negyedéves!BQ$43,Negyedéves!BQ$38)","v":-7.7416189014911656E-11},{"$f":"IF(Paraméterek!$D$129=1,Negyedéves!BR$62,IF(Paraméterek!$D$129=4,Negyedéves!BR$68,Negyedéves!BR$73))+IF(Paraméterek!$D$137=1,Negyedéves!BR$55,Negyedéves!BR$50)+IF(Paraméterek!$D$143=1,Negyedéves!BR$43,Negyedéves!BR$38)","v":{"$error":"#VALUE!"}},{"$f":"IF(Paraméterek!$D$129=1,Negyedéves!BS$62,IF(Paraméterek!$D$129=4,Negyedéves!BS$68,Negyedéves!BS$73))+IF(Paraméterek!$D$137=1,Negyedéves!BS$55,Negyedéves!BS$50)+IF(Paraméterek!$D$143=1,Negyedéves!BS$43,Negyedéves!BS$38)","v":{"$error":"#VALUE!"}},"x"]
["Fennálló tőketartozás",0,{"$f":"Paraméterek!$C$128+Paraméterek!$C$138+Paraméterek!$C$144","v":177869312.30000001},{"$f":"IF(Paraméterek!$D$129=1,Negyedéves!D$61,IF(Paraméterek!$D$129=4,Negyedéves!D$67,Negyedéves!D$72))+IF(Paraméterek!$D$137=1,Negyedéves!D$54,Negyedéves!D$49)+IF(Paraméterek!$D$143=1,Negyedéves!D$42,Negyedéves!D$37)","v":175785978.96666667},{"$f":"IF(Paraméterek!$D$129=1,Negyedéves!E$61,IF(Paraméterek!$D$129=4,Negyedéves!E$67,Negyedéves!E$72))+IF(Paraméterek!$D$137=1,Negyedéves!E$54,Negyedéves!E$49)+IF(Paraméterek!$D$143=1,Negyedéves!E$42,Negyedéves!E$37)","v":45833333.333333328},{"$f":"IF(Paraméterek!$D$129=1,Negyedéves!F$61,IF(Paraméterek!$D$129=4,Negyedéves!F$67,Negyedéves!F$72))+IF(Paraméterek!$D$137=1,Negyedéves!F$54,Negyedéves!F$49)+IF(Paraméterek!$D$143=1,Negyedéves!F$42,Negyedéves!F$37)","v":43749999.999999993},{"$f":"IF(Paraméterek!$D$129=1,Negyedéves!G$61,IF(Paraméterek!$D$129=4,Negyedéves!G$67,Negyedéves!G$72))+IF(Paraméterek!$D$137=1,Negyedéves!G$54,Negyedéves!G$49)+IF(Paraméterek!$D$143=1,Negyedéves!G$42,Negyedéves!G$37)","v":41666666.666666657},{"$f":"IF(Paraméterek!$D$129=1,Negyedéves!H$61,IF(Paraméterek!$D$129=4,Negyedéves!H$67,Negyedéves!H$72))+IF(Paraméterek!$D$137=1,Negyedéves!H$54,Negyedéves!H$49)+IF(Paraméterek!$D$143=1,Negyedéves!H$42,Negyedéves!H$37)","v":39583333.333333321},{"$f":"IF(Paraméterek!$D$129=1,Negyedéves!I$61,IF(Paraméterek!$D$129=4,Negyedéves!I$67,Negyedéves!I$72))+IF(Paraméterek!$D$137=1,Negyedéves!I$54,Negyedéves!I$49)+IF(Paraméterek!$D$143=1,Negyedéves!I$42,Negyedéves!I$37)","v":37499999.999999985},{"$f":"IF(Paraméterek!$D$129=1,Negyedéves!J$61,IF(Paraméterek!$D$129=4,Negyedéves!J$67,Negyedéves!J$72))+IF(Paraméterek!$D$137=1,Negyedéves!J$54,Negyedéves!J$49)+IF(Paraméterek!$D$143=1,Negyedéves!J$42,Negyedéves!J$37)","v":35416666.666666649},{"$f":"IF(Paraméterek!$D$129=1,Negyedéves!K$61,IF(Paraméterek!$D$129=4,Negyedéves!K$67,Negyedéves!K$72))+IF(Paraméterek!$D$137=1,Negyedéves!K$54,Negyedéves!K$49)+IF(Paraméterek!$D$143=1,Negyedéves!K$42,Negyedéves!K$37)","v":33333333.333333317},{"$f":"IF(Paraméterek!$D$129=1,Negyedéves!L$61,IF(Paraméterek!$D$129=4,Negyedéves!L$67,Negyedéves!L$72))+IF(Paraméterek!$D$137=1,Negyedéves!L$54,Negyedéves!L$49)+IF(Paraméterek!$D$143=1,Negyedéves!L$42,Negyedéves!L$37)","v":31249999.999999985},{"$f":"IF(Paraméterek!$D$129=1,Negyedéves!M$61,IF(Paraméterek!$D$129=4,Negyedéves!M$67,Negyedéves!M$72))+IF(Paraméterek!$D$137=1,Negyedéves!M$54,Negyedéves!M$49)+IF(Paraméterek!$D$143=1,Negyedéves!M$42,Negyedéves!M$37)","v":29166666.666666653},{"$f":"IF(Paraméterek!$D$129=1,Negyedéves!N$61,IF(Paraméterek!$D$129=4,Negyedéves!N$67,Negyedéves!N$72))+IF(Paraméterek!$D$137=1,Negyedéves!N$54,Negyedéves!N$49)+IF(Paraméterek!$D$143=1,Negyedéves!N$42,Negyedéves!N$37)","v":27083333.333333321},{"$f":"IF(Paraméterek!$D$129=1,Negyedéves!O$61,IF(Paraméterek!$D$129=4,Negyedéves!O$67,Negyedéves!O$72))+IF(Paraméterek!$D$137=1,Negyedéves!O$54,Negyedéves!O$49)+IF(Paraméterek!$D$143=1,Negyedéves!O$42,Negyedéves!O$37)","v":24999999.999999989},{"$f":"IF(Paraméterek!$D$129=1,Negyedéves!P$61,IF(Paraméterek!$D$129=4,Negyedéves!P$67,Negyedéves!P$72))+IF(Paraméterek!$D$137=1,Negyedéves!P$54,Negyedéves!P$49)+IF(Paraméterek!$D$143=1,Negyedéves!P$42,Negyedéves!P$37)","v":22916666.666666657},{"$f":"IF(Paraméterek!$D$129=1,Negyedéves!Q$61,IF(Paraméterek!$D$129=4,Negyedéves!Q$67,Negyedéves!Q$72))+IF(Paraméterek!$D$137=1,Negyedéves!Q$54,Negyedéves!Q$49)+IF(Paraméterek!$D$143=1,Negyedéves!Q$42,Negyedéves!Q$37)","v":20833333.333333325},{"$f":"IF(Paraméterek!$D$129=1,Negyedéves!R$61,IF(Paraméterek!$D$129=4,Negyedéves!R$67,Negyedéves!R$72))+IF(Paraméterek!$D$137=1,Negyedéves!R$54,Negyedéves!R$49)+IF(Paraméterek!$D$143=1,Negyedéves!R$42,Negyedéves!R$37)","v":18749999.999999993},{"$f":"IF(Paraméterek!$D$129=1,Negyedéves!S$61,IF(Paraméterek!$D$129=4,Negyedéves!S$67,Negyedéves!S$72))+IF(Paraméterek!$D$137=1,Negyedéves!S$54,Negyedéves!S$49)+IF(Paraméterek!$D$143=1,Negyedéves!S$42,Negyedéves!S$37)","v":16666666.666666659},{"$f":"IF(Paraméterek!$D$129=1,Negyedéves!T$61,IF(Paraméterek!$D$129=4,Negyedéves!T$67,Negyedéves!T$72))+IF(Paraméterek!$D$137=1,Negyedéves!T$54,Negyedéves!T$49)+IF(Paraméterek!$D$143=1,Negyedéves!T$42,Negyedéves!T$37)","v":14583333.333333325},{"$f":"IF(Paraméterek!$D$129=1,Negyedéves!U$61,IF(Paraméterek!$D$129=4,Negyedéves!U$67,Negyedéves!U$72))+IF(Paraméterek!$D$137=1,Negyedéves!U$54,Negyedéves!U$49)+IF(Paraméterek!$D$143=1,Negyedéves!U$42,Negyedéves!U$37)","v":12499999.999999991},{"$f":"IF(Paraméterek!$D$129=1,Negyedéves!V$61,IF(Paraméterek!$D$129=4,Negyedéves!V$67,Negyedéves!V$72))+IF(Paraméterek!$D$137=1,Negyedéves!V$54,Negyedéves!V$49)+IF(Paraméterek!$D$143=1,Negyedéves!V$42,Negyedéves!V$37)","v":10416666.666666657},{"$f":"IF(Paraméterek!$D$129=1,Negyedéves!W$61,IF(Paraméterek!$D$129=4,Negyedéves!W$67,Negyedéves!W$72))+IF(Paraméterek!$D$137=1,Negyedéves!W$54,Negyedéves!W$49)+IF(Paraméterek!$D$143=1,Negyedéves!W$42,Negyedéves!W$37)","v":8333333.3333333237},{"$f":"IF(Paraméterek!$D$129=1,Negyedéves!X$61,IF(Paraméterek!$D$129=4,Negyedéves!X$67,Negyedéves!X$72))+IF(Paraméterek!$D$137=1,Negyedéves!X$54,Negyedéves!X$49)+IF(Paraméterek!$D$143=1,Negyedéves!X$42,Negyedéves!X$37)","v":6249999.9999999907},{"$f":"IF(Paraméterek!$D$129=1,Negyedéves!Y$61,IF(Paraméterek!$D$129=4,Negyedéves!Y$67,Negyedéves!Y$72))+IF(Paraméterek!$D$137=1,Negyedéves!Y$54,Negyedéves!Y$49)+IF(Paraméterek!$D$143=1,Negyedéves!Y$42,Negyedéves!Y$37)","v":4166666.6666666577},{"$f":"IF(Paraméterek!$D$129=1,Negyedéves!Z$61,IF(Paraméterek!$D$129=4,Negyedéves!Z$67,Negyedéves!Z$72))+IF(Paraméterek!$D$137=1,Negyedéves!Z$54,Negyedéves!Z$49)+IF(Paraméterek!$D$143=1,Negyedéves!Z$42,Negyedéves!Z$37)","v":2083333.3333333244},{"$f":"IF(Paraméterek!$D$129=1,Negyedéves!AA$61,IF(Paraméterek!$D$129=4,Negyedéves!AA$67,Negyedéves!AA$72))+IF(Paraméterek!$D$137=1,Negyedéves!AA$54,Negyedéves!AA$49)+IF(Paraméterek!$D$143=1,Negyedéves!AA$42,Negyedéves!AA$37)","v":-8.8475644588470459E-9},{"$f":"IF(Paraméterek!$D$129=1,Negyedéves!AB$61,IF(Paraméterek!$D$129=4,Negyedéves!AB$67,Negyedéves!AB$72))+IF(Paraméterek!$D$137=1,Negyedéves!AB$54,Negyedéves!AB$49)+IF(Paraméterek!$D$143=1,Negyedéves!AB$42,Negyedéves!AB$37)","v":-8.8475644588470459E-9},{"$f":"IF(Paraméterek!$D$129=1,Negyedéves!AC$61,IF(Paraméterek!$D$129=4,Negyedéves!AC$67,Negyedéves!AC$72))+IF(Paraméterek!$D$137=1,Negyedéves!AC$54,Negyedéves!AC$49)+IF(Paraméterek!$D$143=1,Negyedéves!AC$42,Negyedéves!AC$37)","v":-8.8475644588470459E-9},{"$f":"IF(Paraméterek!$D$129=1,Negyedéves!AD$61,IF(Paraméterek!$D$129=4,Negyedéves!AD$67,Negyedéves!AD$72))+IF(Paraméterek!$D$137=1,Negyedéves!AD$54,Negyedéves!AD$49)+IF(Paraméterek!$D$143=1,Negyedéves!AD$42,Negyedéves!AD$37)","v":-8.8475644588470459E-9},{"$f":"IF(Paraméterek!$D$129=1,Negyedéves!AE$61,IF(Paraméterek!$D$129=4,Negyedéves!AE$67,Negyedéves!AE$72))+IF(Paraméterek!$D$137=1,Negyedéves!AE$54,Negyedéves!AE$49)+IF(Paraméterek!$D$143=1,Negyedéves!AE$42,Negyedéves!AE$37)","v":-8.8475644588470459E-9},{"$f":"IF(Paraméterek!$D$129=1,Negyedéves!AF$61,IF(Paraméterek!$D$129=4,Negyedéves!AF$67,Negyedéves!AF$72))+IF(Paraméterek!$D$137=1,Negyedéves!AF$54,Negyedéves!AF$49)+IF(Paraméterek!$D$143=1,Negyedéves!AF$42,Negyedéves!AF$37)","v":-8.8475644588470459E-9},{"$f":"IF(Paraméterek!$D$129=1,Negyedéves!AG$61,IF(Paraméterek!$D$129=4,Negyedéves!AG$67,Negyedéves!AG$72))+IF(Paraméterek!$D$137=1,Negyedéves!AG$54,Negyedéves!AG$49)+IF(Paraméterek!$D$143=1,Negyedéves!AG$42,Negyedéves!AG$37)","v":-8.8475644588470459E-9},{"$f":"IF(Paraméterek!$D$129=1,Negyedéves!AH$61,IF(Paraméterek!$D$129=4,Negyedéves!AH$67,Negyedéves!AH$72))+IF(Paraméterek!$D$137=1,Negyedéves!AH$54,Negyedéves!AH$49)+IF(Paraméterek!$D$143=1,Negyedéves!AH$42,Negyedéves!AH$37)","v":-8.8475644588470459E-9},{"$f":"IF(Paraméterek!$D$129=1,Negyedéves!AI$61,IF(Paraméterek!$D$129=4,Negyedéves!AI$67,Negyedéves!AI$72))+IF(Paraméterek!$D$137=1,Negyedéves!AI$54,Negyedéves!AI$49)+IF(Paraméterek!$D$143=1,Negyedéves!AI$42,Negyedéves!AI$37)","v":-8.8475644588470459E-9},{"$f":"IF(Paraméterek!$D$129=1,Negyedéves!AJ$61,IF(Paraméterek!$D$129=4,Negyedéves!AJ$67,Negyedéves!AJ$72))+IF(Paraméterek!$D$137=1,Negyedéves!AJ$54,Negyedéves!AJ$49)+IF(Paraméterek!$D$143=1,Negyedéves!AJ$42,Negyedéves!AJ$37)","v":-8.8475644588470459E-9},{"$f":"IF(Paraméterek!$D$129=1,Negyedéves!AK$61,IF(Paraméterek!$D$129=4,Negyedéves!AK$67,Negyedéves!AK$72))+IF(Paraméterek!$D$137=1,Negyedéves!AK$54,Negyedéves!AK$49)+IF(Paraméterek!$D$143=1,Negyedéves!AK$42,Negyedéves!AK$37)","v":-8.8475644588470459E-9},{"$f":"IF(Paraméterek!$D$129=1,Negyedéves!AL$61,IF(Paraméterek!$D$129=4,Negyedéves!AL$67,Negyedéves!AL$72))+IF(Paraméterek!$D$137=1,Negyedéves!AL$54,Negyedéves!AL$49)+IF(Paraméterek!$D$143=1,Negyedéves!AL$42,Negyedéves!AL$37)","v":-8.8475644588470459E-9},{"$f":"IF(Paraméterek!$D$129=1,Negyedéves!AM$61,IF(Paraméterek!$D$129=4,Negyedéves!AM$67,Negyedéves!AM$72))+IF(Paraméterek!$D$137=1,Negyedéves!AM$54,Negyedéves!AM$49)+IF(Paraméterek!$D$143=1,Negyedéves!AM$42,Negyedéves!AM$37)","v":-8.8475644588470459E-9},{"$f":"IF(Paraméterek!$D$129=1,Negyedéves!AN$61,IF(Paraméterek!$D$129=4,Negyedéves!AN$67,Negyedéves!AN$72))+IF(Paraméterek!$D$137=1,Negyedéves!AN$54,Negyedéves!AN$49)+IF(Paraméterek!$D$143=1,Negyedéves!AN$42,Negyedéves!AN$37)","v":-8.8475644588470459E-9},{"$f":"IF(Paraméterek!$D$129=1,Negyedéves!AO$61,IF(Paraméterek!$D$129=4,Negyedéves!AO$67,Negyedéves!AO$72))+IF(Paraméterek!$D$137=1,Negyedéves!AO$54,Negyedéves!AO$49)+IF(Paraméterek!$D$143=1,Negyedéves!AO$42,Negyedéves!AO$37)","v":-8.8475644588470459E-9},{"$f":"IF(Paraméterek!$D$129=1,Negyedéves!AP$61,IF(Paraméterek!$D$129=4,Negyedéves!AP$67,Negyedéves!AP$72))+IF(Paraméterek!$D$137=1,Negyedéves!AP$54,Negyedéves!AP$49)+IF(Paraméterek!$D$143=1,Negyedéves!AP$42,Negyedéves!AP$37)","v":-8.8475644588470459E-9},{"$f":"IF(Paraméterek!$D$129=1,Negyedéves!AQ$61,IF(Paraméterek!$D$129=4,Negyedéves!AQ$67,Negyedéves!AQ$72))+IF(Paraméterek!$D$137=1,Negyedéves!AQ$54,Negyedéves!AQ$49)+IF(Paraméterek!$D$143=1,Negyedéves!AQ$42,Negyedéves!AQ$37)","v":-8.8475644588470459E-9},{"$f":"IF(Paraméterek!$D$129=1,Negyedéves!AR$61,IF(Paraméterek!$D$129=4,Negyedéves!AR$67,Negyedéves!AR$72))+IF(Paraméterek!$D$137=1,Negyedéves!AR$54,Negyedéves!AR$49)+IF(Paraméterek!$D$143=1,Negyedéves!AR$42,Negyedéves!AR$37)","v":-8.8475644588470459E-9},{"$f":"IF(Paraméterek!$D$129=1,Negyedéves!AS$61,IF(Paraméterek!$D$129=4,Negyedéves!AS$67,Negyedéves!AS$72))+IF(Paraméterek!$D$137=1,Negyedéves!AS$54,Negyedéves!AS$49)+IF(Paraméterek!$D$143=1,Negyedéves!AS$42,Negyedéves!AS$37)","v":-8.8475644588470459E-9},{"$f":"IF(Paraméterek!$D$129=1,Negyedéves!AT$61,IF(Paraméterek!$D$129=4,Negyedéves!AT$67,Negyedéves!AT$72))+IF(Paraméterek!$D$137=1,Negyedéves!AT$54,Negyedéves!AT$49)+IF(Paraméterek!$D$143=1,Negyedéves!AT$42,Negyedéves!AT$37)","v":-8.8475644588470459E-9},{"$f":"IF(Paraméterek!$D$129=1,Negyedéves!AU$61,IF(Paraméterek!$D$129=4,Negyedéves!AU$67,Negyedéves!AU$72))+IF(Paraméterek!$D$137=1,Negyedéves!AU$54,Negyedéves!AU$49)+IF(Paraméterek!$D$143=1,Negyedéves!AU$42,Negyedéves!AU$37)","v":-8.8475644588470459E-9},{"$f":"IF(Paraméterek!$D$129=1,Negyedéves!AV$61,IF(Paraméterek!$D$129=4,Negyedéves!AV$67,Negyedéves!AV$72))+IF(Paraméterek!$D$137=1,Negyedéves!AV$54,Negyedéves!AV$49)+IF(Paraméterek!$D$143=1,Negyedéves!AV$42,Negyedéves!AV$37)","v":-8.8475644588470459E-9},{"$f":"IF(Paraméterek!$D$129=1,Negyedéves!AW$61,IF(Paraméterek!$D$129=4,Negyedéves!AW$67,Negyedéves!AW$72))+IF(Paraméterek!$D$137=1,Negyedéves!AW$54,Negyedéves!AW$49)+IF(Paraméterek!$D$143=1,Negyedéves!AW$42,Negyedéves!AW$37)","v":-8.8475644588470459E-9},{"$f":"IF(Paraméterek!$D$129=1,Negyedéves!AX$61,IF(Paraméterek!$D$129=4,Negyedéves!AX$67,Negyedéves!AX$72))+IF(Paraméterek!$D$137=1,Negyedéves!AX$54,Negyedéves!AX$49)+IF(Paraméterek!$D$143=1,Negyedéves!AX$42,Negyedéves!AX$37)","v":-8.8475644588470459E-9},{"$f":"IF(Paraméterek!$D$129=1,Negyedéves!AY$61,IF(Paraméterek!$D$129=4,Negyedéves!AY$67,Negyedéves!AY$72))+IF(Paraméterek!$D$137=1,Negyedéves!AY$54,Negyedéves!AY$49)+IF(Paraméterek!$D$143=1,Negyedéves!AY$42,Negyedéves!AY$37)","v":-8.8475644588470459E-9},{"$f":"IF(Paraméterek!$D$129=1,Negyedéves!AZ$61,IF(Paraméterek!$D$129=4,Negyedéves!AZ$67,Negyedéves!AZ$72))+IF(Paraméterek!$D$137=1,Negyedéves!AZ$54,Negyedéves!AZ$49)+IF(Paraméterek!$D$143=1,Negyedéves!AZ$42,Negyedéves!AZ$37)","v":-8.8475644588470459E-9},{"$f":"IF(Paraméterek!$D$129=1,Negyedéves!BA$61,IF(Paraméterek!$D$129=4,Negyedéves!BA$67,Negyedéves!BA$72))+IF(Paraméterek!$D$137=1,Negyedéves!BA$54,Negyedéves!BA$49)+IF(Paraméterek!$D$143=1,Negyedéves!BA$42,Negyedéves!BA$37)","v":-8.8475644588470459E-9},{"$f":"IF(Paraméterek!$D$129=1,Negyedéves!BB$61,IF(Paraméterek!$D$129=4,Negyedéves!BB$67,Negyedéves!BB$72))+IF(Paraméterek!$D$137=1,Negyedéves!BB$54,Negyedéves!BB$49)+IF(Paraméterek!$D$143=1,Negyedéves!BB$42,Negyedéves!BB$37)","v":-8.8475644588470459E-9},{"$f":"IF(Paraméterek!$D$129=1,Negyedéves!BC$61,IF(Paraméterek!$D$129=4,Negyedéves!BC$67,Negyedéves!BC$72))+IF(Paraméterek!$D$137=1,Negyedéves!BC$54,Negyedéves!BC$49)+IF(Paraméterek!$D$143=1,Negyedéves!BC$42,Negyedéves!BC$37)","v":-8.8475644588470459E-9},{"$f":"IF(Paraméterek!$D$129=1,Negyedéves!BD$61,IF(Paraméterek!$D$129=4,Negyedéves!BD$67,Negyedéves!BD$72))+IF(Paraméterek!$D$137=1,Negyedéves!BD$54,Negyedéves!BD$49)+IF(Paraméterek!$D$143=1,Negyedéves!BD$42,Negyedéves!BD$37)","v":-8.8475644588470459E-9},{"$f":"IF(Paraméterek!$D$129=1,Negyedéves!BE$61,IF(Paraméterek!$D$129=4,Negyedéves!BE$67,Negyedéves!BE$72))+IF(Paraméterek!$D$137=1,Negyedéves!BE$54,Negyedéves!BE$49)+IF(Paraméterek!$D$143=1,Negyedéves!BE$42,Negyedéves!BE$37)","v":-8.8475644588470459E-9},{"$f":"IF(Paraméterek!$D$129=1,Negyedéves!BF$61,IF(Paraméterek!$D$129=4,Negyedéves!BF$67,Negyedéves!BF$72))+IF(Paraméterek!$D$137=1,Negyedéves!BF$54,Negyedéves!BF$49)+IF(Paraméterek!$D$143=1,Negyedéves!BF$42,Negyedéves!BF$37)","v":-8.8475644588470459E-9},{"$f":"IF(Paraméterek!$D$129=1,Negyedéves!BG$61,IF(Paraméterek!$D$129=4,Negyedéves!BG$67,Negyedéves!BG$72))+IF(Paraméterek!$D$137=1,Negyedéves!BG$54,Negyedéves!BG$49)+IF(Paraméterek!$D$143=1,Negyedéves!BG$42,Negyedéves!BG$37)","v":-8.8475644588470459E-9},{"$f":"IF(Paraméterek!$D$129=1,Negyedéves!BH$61,IF(Paraméterek!$D$129=4,Negyedéves!BH$67,Negyedéves!BH$72))+IF(Paraméterek!$D$137=1,Negyedéves!BH$54,Negyedéves!BH$49)+IF(Paraméterek!$D$143=1,Negyedéves!BH$42,Negyedéves!BH$37)","v":-8.8475644588470459E-9},{"$f":"IF(Paraméterek!$D$129=1,Negyedéves!BI$61,IF(Paraméterek!$D$129=4,Negyedéves!BI$67,Negyedéves!BI$72))+IF(Paraméterek!$D$137=1,Negyedéves!BI$54,Negyedéves!BI$49)+IF(Paraméterek!$D$143=1,Negyedéves!BI$42,Negyedéves!BI$37)","v":-8.8475644588470459E-9},{"$f":"IF(Paraméterek!$D$129=1,Negyedéves!BJ$61,IF(Paraméterek!$D$129=4,Negyedéves!BJ$67,Negyedéves!BJ$72))+IF(Paraméterek!$D$137=1,Negyedéves!BJ$54,Negyedéves!BJ$49)+IF(Paraméterek!$D$143=1,Negyedéves!BJ$42,Negyedéves!BJ$37)","v":-8.8475644588470459E-9},{"$f":"IF(Paraméterek!$D$129=1,Negyedéves!BK$61,IF(Paraméterek!$D$129=4,Negyedéves!BK$67,Negyedéves!BK$72))+IF(Paraméterek!$D$137=1,Negyedéves!BK$54,Negyedéves!BK$49)+IF(Paraméterek!$D$143=1,Negyedéves!BK$42,Negyedéves!BK$37)","v":-8.8475644588470459E-9},{"$f":"IF(Paraméterek!$D$129=1,Negyedéves!BL$61,IF(Paraméterek!$D$129=4,Negyedéves!BL$67,Negyedéves!BL$72))+IF(Paraméterek!$D$137=1,Negyedéves!BL$54,Negyedéves!BL$49)+IF(Paraméterek!$D$143=1,Negyedéves!BL$42,Negyedéves!BL$37)","v":-8.8475644588470459E-9},{"$f":"IF(Paraméterek!$D$129=1,Negyedéves!BM$61,IF(Paraméterek!$D$129=4,Negyedéves!BM$67,Negyedéves!BM$72))+IF(Paraméterek!$D$137=1,Negyedéves!BM$54,Negyedéves!BM$49)+IF(Paraméterek!$D$143=1,Negyedéves!BM$42,Negyedéves!BM$37)","v":-8.8475644588470459E-9},{"$f":"IF(Paraméterek!$D$129=1,Negyedéves!BN$61,IF(Paraméterek!$D$129=4,Negyedéves!BN$67,Negyedéves!BN$72))+IF(Paraméterek!$D$137=1,Negyedéves!BN$54,Negyedéves!BN$49)+IF(Paraméterek!$D$143=1,Negyedéves!BN$42,Negyedéves!BN$37)","v":-8.8475644588470459E-9},{"$f":"IF(Paraméterek!$D$129=1,Negyedéves!BO$61,IF(Paraméterek!$D$129=4,Negyedéves!BO$67,Negyedéves!BO$72))+IF(Paraméterek!$D$137=1,Negyedéves!BO$54,Negyedéves!BO$49)+IF(Paraméterek!$D$143=1,Negyedéves!BO$42,Negyedéves!BO$37)","v":-8.8475644588470459E-9},{"$f":"IF(Paraméterek!$D$129=1,Negyedéves!BP$61,IF(Paraméterek!$D$129=4,Negyedéves!BP$67,Negyedéves!BP$72))+IF(Paraméterek!$D$137=1,Negyedéves!BP$54,Negyedéves!BP$49)+IF(Paraméterek!$D$143=1,Negyedéves!BP$42,Negyedéves!BP$37)","v":-8.8475644588470459E-9},{"$f":"IF(Paraméterek!$D$129=1,Negyedéves!BQ$61,IF(Paraméterek!$D$129=4,Negyedéves!BQ$67,Negyedéves!BQ$72))+IF(Paraméterek!$D$137=1,Negyedéves!BQ$54,Negyedéves!BQ$49)+IF(Paraméterek!$D$143=1,Negyedéves!BQ$42,Negyedéves!BQ$37)","v":-8.8475644588470459E-9},{"$f":"IF(Paraméterek!$D$129=1,Negyedéves!BR$61,IF(Paraméterek!$D$129=4,Negyedéves!BR$67,Negyedéves!BR$72))+IF(Paraméterek!$D$137=1,Negyedéves!BR$54,Negyedéves!BR$49)+IF(Paraméterek!$D$143=1,Negyedéves!BR$42,Negyedéves!BR$37)","v":-8.8475644588470459E-9},{"$f":"IF(Paraméterek!$D$129=1,Negyedéves!BS$61,IF(Paraméterek!$D$129=4,Negyedéves!BS$67,Negyedéves!BS$72))+IF(Paraméterek!$D$137=1,Negyedéves!BS$54,Negyedéves!BS$49)+IF(Paraméterek!$D$143=1,Negyedéves!BS$42,Negyedéves!BS$37)","v":{"$error":"#VALUE!"}},"x"]
[null,null,null,null,null,null,null,null,null,null,null,null,null,null,null,null,null,null,null,null,null,null,null,null,null,null,null,null,null,null,null,null,null,null,null,null,null,null,null,null,null,null,null,null,null,null,null,null,null,null,null,null,null,null,null,null,null,null,null,null,null,null,null,null,null,null,null,null,null,null,null,"x"]
["Beruházási hitel összegzés (Forrásdeviza)",null,null,null,null,null,null,null,null,null,null,null,null,null,null,null,null,null,null,null,null,null,null,null,null,null,null,null,null,null,null,null,null,null,null,null,null,null,null,null,null,null,null,null,null,null,null,null,null,null,null,null,null,null,null,null,null,null,null,null,null,null,null,null,null,null,null,null,null,null,null,"x"]
["Hitel CF",null,null,{"$f":"IF(Paraméterek!$D$129=1,Negyedéves!D$59,IF(Paraméterek!$D$129=4,Negyedéves!D$65,Negyedéves!D$70))","v":2520833.3333333335},{"$f":"IF(Paraméterek!$D$129=1,Negyedéves!E$59,IF(Paraméterek!$D$129=4,Negyedéves!E$65,Negyedéves!E$70))","v":2502604.1666666665},{"$f":"IF(Paraméterek!$D$129=1,Negyedéves!F$59,IF(Paraméterek!$D$129=4,Negyedéves!F$65,Negyedéves!F$70))","v":2484375},{"$f":"IF(Paraméterek!$D$129=1,Negyedéves!G$59,IF(Paraméterek!$D$129=4,Negyedéves!G$65,Negyedéves!G$70))","v":2466145.833333333},{"$f":"IF(Paraméterek!$D$129=1,Negyedéves!H$59,IF(Paraméterek!$D$129=4,Negyedéves!H$65,Negyedéves!H$70))","v":2447916.6666666665},{"$f":"IF(Paraméterek!$D$129=1,Negyedéves!I$59,IF(Paraméterek!$D$129=4,Negyedéves!I$65,Negyedéves!I$70))","v":2429687.5},{"$f":"IF(Paraméterek!$D$129=1,Negyedéves!J$59,IF(Paraméterek!$D$129=4,Negyedéves!J$65,Negyedéves!J$70))","v":2411458.333333333},{"$f":"IF(Paraméterek!$D$129=1,Negyedéves!K$59,IF(Paraméterek!$D$129=4,Negyedéves!K$65,Negyedéves!K$70))","v":2393229.1666666665},{"$f":"IF(Paraméterek!$D$129=1,Negyedéves!L$59,IF(Paraméterek!$D$129=4,Negyedéves!L$65,Negyedéves!L$70))","v":2375000},{"$f":"IF(Paraméterek!$D$129=1,Negyedéves!M$59,IF(Paraméterek!$D$129=4,Negyedéves!M$65,Negyedéves!M$70))","v":2356770.833333333},{"$f":"IF(Paraméterek!$D$129=1,Negyedéves!N$59,IF(Paraméterek!$D$129=4,Negyedéves!N$65,Negyedéves!N$70))","v":2338541.6666666665},{"$f":"IF(Paraméterek!$D$129=1,Negyedéves!O$59,IF(Paraméterek!$D$129=4,Negyedéves!O$65,Negyedéves!O$70))","v":2320312.5},{"$f":"IF(Paraméterek!$D$129=1,Negyedéves!P$59,IF(Paraméterek!$D$129=4,Negyedéves!P$65,Negyedéves!P$70))","v":2302083.333333333},{"$f":"IF(Paraméterek!$D$129=1,Negyedéves!Q$59,IF(Paraméterek!$D$129=4,Negyedéves!Q$65,Negyedéves!Q$70))","v":2283854.1666666665},{"$f":"IF(Paraméterek!$D$129=1,Negyedéves!R$59,IF(Paraméterek!$D$129=4,Negyedéves!R$65,Negyedéves!R$70))","v":2265625},{"$f":"IF(Paraméterek!$D$129=1,Negyedéves!S$59,IF(Paraméterek!$D$129=4,Negyedéves!S$65,Negyedéves!S$70))","v":2247395.833333333},{"$f":"IF(Paraméterek!$D$129=1,Negyedéves!T$59,IF(Paraméterek!$D$129=4,Negyedéves!T$65,Negyedéves!T$70))","v":2229166.6666666665},{"$f":"IF(Paraméterek!$D$129=1,Negyedéves!U$59,IF(Paraméterek!$D$129=4,Negyedéves!U$65,Negyedéves!U$70))","v":2210937.5},{"$f":"IF(Paraméterek!$D$129=1,Negyedéves!V$59,IF(Paraméterek!$D$129=4,Negyedéves!V$65,Negyedéves!V$70))","v":2192708.333333333},{"$f":"IF(Paraméterek!$D$129=1,Negyedéves!W$59,IF(Paraméterek!$D$129=4,Negyedéves!W$65,Negyedéves!W$70))","v":2174479.1666666665},{"$f":"IF(Paraméterek!$D$129=1,Negyedéves!X$59,IF(Paraméterek!$D$129=4,Negyedéves!X$65,Negyedéves!X$70))","v":2156250},{"$f":"IF(Paraméterek!$D$129=1,Negyedéves!Y$59,IF(Paraméterek!$D$129=4,Negyedéves!Y$65,Negyedéves!Y$70))","v":2138020.833333333},{"$f":"IF(Paraméterek!$D$129=1,Negyedéves!Z$59,IF(Paraméterek!$D$129=4,Negyedéves!Z$65,Negyedéves!Z$70))","v":2119791.6666666665},{"$f":"IF(Paraméterek!$D$129=1,Negyedéves!AA$59,IF(Paraméterek!$D$129=4,Negyedéves!AA$65,Negyedéves!AA$70))","v":2101562.5},{"$f":"IF(Paraméterek!$D$129=1,Negyedéves!AB$59,IF(Paraméterek!$D$129=4,Negyedéves!AB$65,Negyedéves!AB$70))","v":-7.7416189014911656E-11},{"$f":"IF(Paraméterek!$D$129=1,Negyedéves!AC$59,IF(Paraméterek!$D$129=4,Negyedéves!AC$65,Negyedéves!AC$70))","v":-7.7416189014911656E-11},{"$f":"IF(Paraméterek!$D$129=1,Negyedéves!AD$59,IF(Paraméterek!$D$129=4,Negyedéves!AD$65,Negyedéves!AD$70))","v":-7.7416189014911656E-11},{"$f":"IF(Paraméterek!$D$129=1,Negyedéves!AE$59,IF(Paraméterek!$D$129=4,Negyedéves!AE$65,Negyedéves!AE$70))","v":-7.7416189014911656E-11},{"$f":"IF(Paraméterek!$D$129=1,Negyedéves!AF$59,IF(Paraméterek!$D$129=4,Negyedéves!AF$65,Negyedéves!AF$70))","v":-7.7416189014911656E-11},{"$f":"IF(Paraméterek!$D$129=1,Negyedéves!AG$59,IF(Paraméterek!$D$129=4,Negyedéves!AG$65,Negyedéves!AG$70))","v":-7.7416189014911656E-11},{"$f":"IF(Paraméterek!$D$129=1,Negyedéves!AH$59,IF(Paraméterek!$D$129=4,Negyedéves!AH$65,Negyedéves!AH$70))","v":-7.7416189014911656E-11},{"$f":"IF(Paraméterek!$D$129=1,Negyedéves!AI$59,IF(Paraméterek!$D$129=4,Negyedéves!AI$65,Negyedéves!AI$70))","v":-7.7416189014911656E-11},{"$f":"IF(Paraméterek!$D$129=1,Negyedéves!AJ$59,IF(Paraméterek!$D$129=4,Negyedéves!AJ$65,Negyedéves!AJ$70))","v":-7.7416189014911656E-11},{"$f":"IF(Paraméterek!$D$129=1,Negyedéves!AK$59,IF(Paraméterek!$D$129=4,Negyedéves!AK$65,Negyedéves!AK$70))","v":-7.7416189014911656E-11},{"$f":"IF(Paraméterek!$D$129=1,Negyedéves!AL$59,IF(Paraméterek!$D$129=4,Negyedéves!AL$65,Negyedéves!AL$70))","v":-7.7416189014911656E-11},{"$f":"IF(Paraméterek!$D$129=1,Negyedéves!AM$59,IF(Paraméterek!$D$129=4,Negyedéves!AM$65,Negyedéves!AM$70))","v":-7.7416189014911656E-11},{"$f":"IF(Paraméterek!$D$129=1,Negyedéves!AN$59,IF(Paraméterek!$D$129=4,Negyedéves!AN$65,Negyedéves!AN$70))","v":-7.7416189014911656E-11},{"$f":"IF(Paraméterek!$D$129=1,Negyedéves!AO$59,IF(Paraméterek!$D$129=4,Negyedéves!AO$65,Negyedéves!AO$70))","v":-7.7416189014911656E-11},{"$f":"IF(Paraméterek!$D$129=1,Negyedéves!AP$59,IF(Paraméterek!$D$129=4,Negyedéves!AP$65,Negyedéves!AP$70))","v":-7.7416189014911656E-11},{"$f":"IF(Paraméterek!$D$129=1,Negyedéves!AQ$59,IF(Paraméterek!$D$129=4,Negyedéves!AQ$65,Negyedéves!AQ$70))","v":-7.7416189014911656E-11},{"$f":"IF(Paraméterek!$D$129=1,Negyedéves!AR$59,IF(Paraméterek!$D$129=4,Negyedéves!AR$65,Negyedéves!AR$70))","v":-7.7416189014911656E-11},{"$f":"IF(Paraméterek!$D$129=1,Negyedéves!AS$59,IF(Paraméterek!$D$129=4,Negyedéves!AS$65,Negyedéves!AS$70))","v":-7.7416189014911656E-11},{"$f":"IF(Paraméterek!$D$129=1,Negyedéves!AT$59,IF(Paraméterek!$D$129=4,Negyedéves!AT$65,Negyedéves!AT$70))","v":-7.7416189014911656E-11},{"$f":"IF(Paraméterek!$D$129=1,Negyedéves!AU$59,IF(Paraméterek!$D$129=4,Negyedéves!AU$65,Negyedéves!AU$70))","v":-7.7416189014911656E-11},{"$f":"IF(Paraméterek!$D$129=1,Negyedéves!AV$59,IF(Paraméterek!$D$129=4,Negyedéves!AV$65,Negyedéves!AV$70))","v":-7.7416189014911656E-11},{"$f":"IF(Paraméterek!$D$129=1,Negyedéves!AW$59,IF(Paraméterek!$D$129=4,Negyedéves!AW$65,Negyedéves!AW$70))","v":-7.7416189014911656E-11},{"$f":"IF(Paraméterek!$D$129=1,Negyedéves!AX$59,IF(Paraméterek!$D$129=4,Negyedéves!AX$65,Negyedéves!AX$70))","v":-7.7416189014911656E-11},{"$f":"IF(Paraméterek!$D$129=1,Negyedéves!AY$59,IF(Paraméterek!$D$129=4,Negyedéves!AY$65,Negyedéves!AY$70))","v":-7.7416189014911656E-11},{"$f":"IF(Paraméterek!$D$129=1,Negyedéves!AZ$59,IF(Paraméterek!$D$129=4,Negyedéves!AZ$65,Negyedéves!AZ$70))","v":-7.7416189014911656E-11},{"$f":"IF(Paraméterek!$D$129=1,Negyedéves!BA$59,IF(Paraméterek!$D$129=4,Negyedéves!BA$65,Negyedéves!BA$70))","v":-7.7416189014911656E-11},{"$f":"IF(Paraméterek!$D$129=1,Negyedéves!BB$59,IF(Paraméterek!$D$129=4,Negyedéves!BB$65,Negyedéves!BB$70))","v":-7.7416189014911656E-11},{"$f":"IF(Paraméterek!$D$129=1,Negyedéves!BC$59,IF(Paraméterek!$D$129=4,Negyedéves!BC$65,Negyedéves!BC$70))","v":-7.7416189014911656E-11},{"$f":"IF(Paraméterek!$D$129=1,Negyedéves!BD$59,IF(Paraméterek!$D$129=4,Negyedéves!BD$65,Negyedéves!BD$70))","v":-7.7416189014911656E-11},{"$f":"IF(Paraméterek!$D$129=1,Negyedéves!BE$59,IF(Paraméterek!$D$129=4,Negyedéves!BE$65,Negyedéves!BE$70))","v":-7.7416189014911656E-11},{"$f":"IF(Paraméterek!$D$129=1,Negyedéves!BF$59,IF(Paraméterek!$D$129=4,Negyedéves!BF$65,Negyedéves!BF$70))","v":-7.7416189014911656E-11},{"$f":"IF(Paraméterek!$D$129=1,Negyedéves!BG$59,IF(Paraméterek!$D$129=4,Negyedéves!BG$65,Negyedéves!BG$70))","v":-7.7416189014911656E-11},{"$f":"IF(Paraméterek!$D$129=1,Negyedéves!BH$59,IF(Paraméterek!$D$129=4,Negyedéves!BH$65,Negyedéves!BH$70))","v":-7.7416189014911656E-11},{"$f":"IF(Paraméterek!$D$129=1,Negyedéves!BI$59,IF(Paraméterek!$D$129=4,Negyedéves!BI$65,Negyedéves!BI$70))","v":-7.7416189014911656E-11},{"$f":"IF(Paraméterek!$D$129=1,Negyedéves!BJ$59,IF(Paraméterek!$D$129=4,Negyedéves!BJ$65,Negyedéves!BJ$70))","v":-7.7416189014911656E-11},{"$f":"IF(Paraméterek!$D$129=1,Negyedéves!BK$59,IF(Paraméterek!$D$129=4,Negyedéves!BK$65,Negyedéves!BK$70))","v":-7.7416189014911656E-11},{"$f":"IF(Paraméterek!$D$129=1,Negyedéves!BL$59,IF(Paraméterek!$D$129=4,Negyedéves!BL$65,Negyedéves!BL$70))","v":-7.7416189014911656E-11},{"$f":"IF(Paraméterek!$D$129=1,Negyedéves!BM$59,IF(Paraméterek!$D$129=4,Negyedéves!BM$65,Negyedéves!BM$70))","v":-7.7416189014911656E-11},{"$f":"IF(Paraméterek!$D$129=1,Negyedéves!BN$59,IF(Paraméterek!$D$129=4,Negyedéves!BN$65,Negyedéves!BN$70))","v":-7.7416189014911656E-11},{"$f":"IF(Paraméterek!$D$129=1,Negyedéves!BO$59,IF(Paraméterek!$D$129=4,Negyedéves!BO$65,Negyedéves!BO$70))","v":-7.7416189014911656E-11},{"$f":"IF(Paraméterek!$D$129=1,Negyedéves!BP$59,IF(Paraméterek!$D$129=4,Negyedéves!BP$65,Negyedéves!BP$70))","v":-7.7416189014911656E-11},{"$f":"IF(Paraméterek!$D$129=1,Negyedéves!BQ$59,IF(Paraméterek!$D$129=4,Negyedéves!BQ$65,Negyedéves!BQ$70))","v":-7.7416189014911656E-11},{"$f":"IF(Paraméterek!$D$129=1,Negyedéves!BR$59,IF(Paraméterek!$D$129=4,Negyedéves!BR$65,Negyedéves!BR$70))","v":-7.7416189014911656E-11},{"$f":"IF(Paraméterek!$D$129=1,Negyedéves!BS$59,IF(Paraméterek!$D$129=4,Negyedéves!BS$65,Negyedéves!BS$70))","v":-7.7416189014911656E-11},"x"]
["Tőketörlesztés",null,null,{"$f":"IF(Paraméterek!$D$129=1,Negyedéves!D$60,IF(Paraméterek!$D$129=4,Negyedéves!D$66,Negyedéves!D$71))","v":2083333.3333333333},{"$f":"IF(Paraméterek!$D$129=1,Negyedéves!E$60,IF(Paraméterek!$D$129=4,Negyedéves!E$66,Negyedéves!E$71))","v":2083333.3333333333},{"$f":"IF(Paraméterek!$D$129=1,Negyedéves!F$60,IF(Paraméterek!$D$129=4,Negyedéves!F$66,Negyedéves!F$71))","v":2083333.3333333333},{"$f":"IF(Paraméterek!$D$129=1,Negyedéves!G$60,IF(Paraméterek!$D$129=4,Negyedéves!G$66,Negyedéves!G$71))","v":2083333.3333333333},{"$f":"IF(Paraméterek!$D$129=1,Negyedéves!H$60,IF(Paraméterek!$D$129=4,Negyedéves!H$66,Negyedéves!H$71))","v":2083333.3333333333},{"$f":"IF(Paraméterek!$D$129=1,Negyedéves!I$60,IF(Paraméterek!$D$129=4,Negyedéves!I$66,Negyedéves!I$71))","v":2083333.3333333333},{"$f":"IF(Paraméterek!$D$129=1,Negyedéves!J$60,IF(Paraméterek!$D$129=4,Negyedéves!J$66,Negyedéves!J$71))","v":2083333.3333333333},{"$f":"IF(Paraméterek!$D$129=1,Negyedéves!K$60,IF(Paraméterek!$D$129=4,Negyedéves!K$66,Negyedéves!K$71))","v":2083333.3333333333},{"$f":"IF(Paraméterek!$D$129=1,Negyedéves!L$60,IF(Paraméterek!$D$129=4,Negyedéves!L$66,Negyedéves!L$71))","v":2083333.3333333333},{"$f":"IF(Paraméterek!$D$129=1,Negyedéves!M$60,IF(Paraméterek!$D$129=4,Negyedéves!M$66,Negyedéves!M$71))","v":2083333.3333333333},{"$f":"IF(Paraméterek!$D$129=1,Negyedéves!N$60,IF(Paraméterek!$D$129=4,Negyedéves!N$66,Negyedéves!N$71))","v":2083333.3333333333},{"$f":"IF(Paraméterek!$D$129=1,Negyedéves!O$60,IF(Paraméterek!$D$129=4,Negyedéves!O$66,Negyedéves!O$71))","v":2083333.3333333333},{"$f":"IF(Paraméterek!$D$129=1,Negyedéves!P$60,IF(Paraméterek!$D$129=4,Negyedéves!P$66,Negyedéves!P$71))","v":2083333.3333333333},{"$f":"IF(Paraméterek!$D$129=1,Negyedéves!Q$60,IF(Paraméterek!$D$129=4,Negyedéves!Q$66,Negyedéves!Q$71))","v":2083333.3333333333},{"$f":"IF(Paraméterek!$D$129=1,Negyedéves!R$60,IF(Paraméterek!$D$129=4,Negyedéves!R$66,Negyedéves!R$71))","v":2083333.3333333333},{"$f":"IF(Paraméterek!$D$129=1,Negyedéves!S$60,IF(Paraméterek!$D$129=4,Negyedéves!S$66,Negyedéves!S$71))","v":2083333.3333333333},{"$f":"IF(Paraméterek!$D$129=1,Negyedéves!T$60,IF(Paraméterek!$D$129=4,Negyedéves!T$66,Negyedéves!T$71))","v":2083333.3333333333},{"$f":"IF(Paraméterek!$D$129=1,Negyedéves!U$60,IF(Paraméterek!$D$129=4,Negyedéves!U$66,Negyedéves!U$71))","v":2083333.3333333333},{"$f":"IF(Paraméterek!$D$129=1,Negyedéves!V$60,IF(Paraméterek!$D$129=4,Negyedéves!V$66,Negyedéves!V$71))","v":2083333.3333333333},{"$f":"IF(Paraméterek!$D$129=1,Negyedéves!W$60,IF(Paraméterek!$D$129=4,Negyedéves!W$66,Negyedéves!W$71))","v":2083333.3333333333},{"$f":"IF(Paraméterek!$D$129=1,Negyedéves!X$60,IF(Paraméterek!$D$129=4,Negyedéves!X$66,Negyedéves!X$71))","v":2083333.3333333333},{"$f":"IF(Paraméterek!$D$129=1,Negyedéves!Y$60,IF(Paraméterek!$D$129=4,Negyedéves!Y$66,Negyedéves!Y$71))","v":2083333.3333333333},{"$f":"IF(Paraméterek!$D$129=1,Negyedéves!Z$60,IF(Paraméterek!$D$129=4,Negyedéves!Z$66,Negyedéves!Z$71))","v":2083333.3333333333},{"$f":"IF(Paraméterek!$D$129=1,Negyedéves!AA$60,IF(Paraméterek!$D$129=4,Negyedéves!AA$66,Negyedéves!AA$71))","v":2083333.3333333333},{"$f":"IF(Paraméterek!$D$129=1,Negyedéves!AB$60,IF(Paraméterek!$D$129=4,Negyedéves!AB$66,Negyedéves!AB$71))","v":0},{"$f":"IF(Paraméterek!$D$129=1,Negyedéves!AC$60,IF(Paraméterek!$D$129=4,Negyedéves!AC$66,Negyedéves!AC$71))","v":0},{"$f":"IF(Paraméterek!$D$129=1,Negyedéves!AD$60,IF(Paraméterek!$D$129=4,Negyedéves!AD$66,Negyedéves!AD$71))","v":0},{"$f":"IF(Paraméterek!$D$129=1,Negyedéves!AE$60,IF(Paraméterek!$D$129=4,Negyedéves!AE$66,Negyedéves!AE$71))","v":0},{"$f":"IF(Paraméterek!$D$129=1,Negyedéves!AF$60,IF(Paraméterek!$D$129=4,Negyedéves!AF$66,Negyedéves!AF$71))","v":0},{"$f":"IF(Paraméterek!$D$129=1,Negyedéves!AG$60,IF(Paraméterek!$D$129=4,Negyedéves!AG$66,Negyedéves!AG$71))","v":0},{"$f":"IF(Paraméterek!$D$129=1,Negyedéves!AH$60,IF(Paraméterek!$D$129=4,Negyedéves!AH$66,Negyedéves!AH$71))","v":0},{"$f":"IF(Paraméterek!$D$129=1,Negyedéves!AI$60,IF(Paraméterek!$D$129=4,Negyedéves!AI$66,Negyedéves!AI$71))","v":0},{"$f":"IF(Paraméterek!$D$129=1,Negyedéves!AJ$60,IF(Paraméterek!$D$129=4,Negyedéves!AJ$66,Negyedéves!AJ$71))","v":0},{"$f":"IF(Paraméterek!$D$129=1,Negyedéves!AK$60,IF(Paraméterek!$D$129=4,Negyedéves!AK$66,Negyedéves!AK$71))","v":0},{"$f":"IF(Paraméterek!$D$129=1,Negyedéves!AL$60,IF(Paraméterek!$D$129=4,Negyedéves!AL$66,Negyedéves!AL$71))","v":0},{"$f":"IF(Paraméterek!$D$129=1,Negyedéves!AM$60,IF(Paraméterek!$D$129=4,Negyedéves!AM$66,Negyedéves!AM$71))","v":0},{"$f":"IF(Paraméterek!$D$129=1,Negyedéves!AN$60,IF(Paraméterek!$D$129=4,Negyedéves!AN$66,Negyedéves!AN$71))","v":0},{"$f":"IF(Paraméterek!$D$129=1,Negyedéves!AO$60,IF(Paraméterek!$D$129=4,Negyedéves!AO$66,Negyedéves!AO$71))","v":0},{"$f":"IF(Paraméterek!$D$129=1,Negyedéves!AP$60,IF(Paraméterek!$D$129=4,Negyedéves!AP$66,Negyedéves!AP$71))","v":0},{"$f":"IF(Paraméterek!$D$129=1,Negyedéves!AQ$60,IF(Paraméterek!$D$129=4,Negyedéves!AQ$66,Negyedéves!AQ$71))","v":0},{"$f":"IF(Paraméterek!$D$129=1,Negyedéves!AR$60,IF(Paraméterek!$D$129=4,Negyedéves!AR$66,Negyedéves!AR$71))","v":0},{"$f":"IF(Paraméterek!$D$129=1,Negyedéves!AS$60,IF(Paraméterek!$D$129=4,Negyedéves!AS$66,Negyedéves!AS$71))","v":0},{"$f":"IF(Paraméterek!$D$129=1,Negyedéves!AT$60,IF(Paraméterek!$D$129=4,Negyedéves!AT$66,Negyedéves!AT$71))","v":0},{"$f":"IF(Paraméterek!$D$129=1,Negyedéves!AU$60,IF(Paraméterek!$D$129=4,Negyedéves!AU$66,Negyedéves!AU$71))","v":0},{"$f":"IF(Paraméterek!$D$129=1,Negyedéves!AV$60,IF(Paraméterek!$D$129=4,Negyedéves!AV$66,Negyedéves!AV$71))","v":0},{"$f":"IF(Paraméterek!$D$129=1,Negyedéves!AW$60,IF(Paraméterek!$D$129=4,Negyedéves!AW$66,Negyedéves!AW$71))","v":0},{"$f":"IF(Paraméterek!$D$129=1,Negyedéves!AX$60,IF(Paraméterek!$D$129=4,Negyedéves!AX$66,Negyedéves!AX$71))","v":0},{"$f":"IF(Paraméterek!$D$129=1,Negyedéves!AY$60,IF(Paraméterek!$D$129=4,Negyedéves!AY$66,Negyedéves!AY$71))","v":0},{"$f":"IF(Paraméterek!$D$129=1,Negyedéves!AZ$60,IF(Paraméterek!$D$129=4,Negyedéves!AZ$66,Negyedéves!AZ$71))","v":0},{"$f":"IF(Paraméterek!$D$129=1,Negyedéves!BA$60,IF(Paraméterek!$D$129=4,Negyedéves!BA$66,Negyedéves!BA$71))","v":0},{"$f":"IF(Paraméterek!$D$129=1,Negyedéves!BB$60,IF(Paraméterek!$D$129=4,Negyedéves!BB$66,Negyedéves!BB$71))","v":0},{"$f":"IF(Paraméterek!$D$129=1,Negyedéves!BC$60,IF(Paraméterek!$D$129=4,Negyedéves!BC$66,Negyedéves!BC$71))","v":0},{"$f":"IF(Paraméterek!$D$129=1,Negyedéves!BD$60,IF(Paraméterek!$D$129=4,Negyedéves!BD$66,Negyedéves!BD$71))","v":0},{"$f":"IF(Paraméterek!$D$129=1,Negyedéves!BE$60,IF(Paraméterek!$D$129=4,Negyedéves!BE$66,Negyedéves!BE$71))","v":0},{"$f":"IF(Paraméterek!$D$129=1,Negyedéves!BF$60,IF(Paraméterek!$D$129=4,Negyedéves!BF$66,Negyedéves!BF$71))","v":0},{"$f":"IF(Paraméterek!$D$129=1,Negyedéves!BG$60,IF(Paraméterek!$D$129=4,Negyedéves!BG$66,Negyedéves!BG$71))","v":0},{"$f":"IF(Paraméterek!$D$129=1,Negyedéves!BH$60,IF(Paraméterek!$D$129=4,Negyedéves!BH$66,Negyedéves!BH$71))","v":0},{"$f":"IF(Paraméterek!$D$129=1,Negyedéves!BI$60,IF(Paraméterek!$D$129=4,Negyedéves!BI$66,Negyedéves!BI$71))","v":0},{"$f":"IF(Paraméterek!$D$129=1,Negyedéves!BJ$60,IF(Paraméterek!$D$129=4,Negyedéves!BJ$66,Negyedéves!BJ$71))","v":0},{"$f":"IF(Paraméterek!$D$129=1,Negyedéves!BK$60,IF(Paraméterek!$D$129=4,Negyedéves!BK$66,Negyedéves!BK$71))","v":0},{"$f":"IF(Paraméterek!$D$129=1,Negyedéves!BL$60,IF(Paraméterek!$D$129=4,Negyedéves!BL$66,Negyedéves!BL$71))","v":0},{"$f":"IF(Paraméterek!$D$129=1,Negyedéves!BM$60,IF(Paraméterek!$D$129=4,Negyedéves!BM$66,Negyedéves!BM$71))","v":0},{"$f":"IF(Paraméterek!$D$129=1,Negyedéves!BN$60,IF(Paraméterek!$D$129=4,Negyedéves!BN$66,Negyedéves!BN$71))","v":0},{"$f":"IF(Paraméterek!$D$129=1,Negyedéves!BO$60,IF(Paraméterek!$D$129=4,Negyedéves!BO$66,Negyedéves!BO$71))","v":0},{"$f":"IF(Paraméterek!$D$129=1,Negyedéves!BP$60,IF(Paraméterek!$D$129=4,Negyedéves!BP$66,Negyedéves!BP$71))","v":0},{"$f":"IF(Paraméterek!$D$129=1,Negyedéves!BQ$60,IF(Paraméterek!$D$129=4,Negyedéves!BQ$66,Negyedéves!BQ$71))","v":0},{"$f":"IF(Paraméterek!$D$129=1,Negyedéves!BR$60,IF(Paraméterek!$D$129=4,Negyedéves!BR$66,Negyedéves!BR$71))","v":0},{"$f":"IF(Paraméterek!$D$129=1,Negyedéves!BS$60,IF(Paraméterek!$D$129=4,Negyedéves!BS$66,Negyedéves!BS$71))","v":0},"x"]
["Kamattörlesztés",null,null,{"$f":"IF(Paraméterek!$D$129=1,Negyedéves!D$62,IF(Paraméterek!$D$129=4,Negyedéves!D$68,Negyedéves!D$73))","v":437500.00000000006},{"$f":"IF(Paraméterek!$D$129=1,Negyedéves!E$62,IF(Paraméterek!$D$129=4,Negyedéves!E$68,Negyedéves!E$73))","v":419270.83333333337},{"$f":"IF(Paraméterek!$D$129=1,Negyedéves!F$62,IF(Paraméterek!$D$129=4,Negyedéves!F$68,Negyedéves!F$73))","v":401041.66666666669},{"$f":"IF(Paraméterek!$D$129=1,Negyedéves!G$62,IF(Paraméterek!$D$129=4,Negyedéves!G$68,Negyedéves!G$73))","v":382812.5},{"$f":"IF(Paraméterek!$D$129=1,Negyedéves!H$62,IF(Paraméterek!$D$129=4,Negyedéves!H$68,Negyedéves!H$73))","v":364583.33333333326},{"$f":"IF(Paraméterek!$D$129=1,Negyedéves!I$62,IF(Paraméterek!$D$129=4,Negyedéves!I$68,Negyedéves!I$73))","v":346354.16666666657},{"$f":"IF(Paraméterek!$D$129=1,Negyedéves!J$62,IF(Paraméterek!$D$129=4,Negyedéves!J$68,Negyedéves!J$73))","v":328124.99999999988},{"$f":"IF(Paraméterek!$D$129=1,Negyedéves!K$62,IF(Paraméterek!$D$129=4,Negyedéves!K$68,Negyedéves!K$73))","v":309895.8333333332},{"$f":"IF(Paraméterek!$D$129=1,Negyedéves!L$62,IF(Paraméterek!$D$129=4,Negyedéves!L$68,Negyedéves!L$73))","v":291666.66666666657},{"$f":"IF(Paraméterek!$D$129=1,Negyedéves!M$62,IF(Paraméterek!$D$129=4,Negyedéves!M$68,Negyedéves!M$73))","v":273437.49999999988},{"$f":"IF(Paraméterek!$D$129=1,Negyedéves!N$62,IF(Paraméterek!$D$129=4,Negyedéves!N$68,Negyedéves!N$73))","v":255208.33333333323},{"$f":"IF(Paraméterek!$D$129=1,Negyedéves!O$62,IF(Paraméterek!$D$129=4,Negyedéves!O$68,Negyedéves!O$73))","v":236979.16666666657},{"$f":"IF(Paraméterek!$D$129=1,Negyedéves!P$62,IF(Paraméterek!$D$129=4,Negyedéves!P$68,Negyedéves!P$73))","v":218749.99999999991},{"$f":"IF(Paraméterek!$D$129=1,Negyedéves!Q$62,IF(Paraméterek!$D$129=4,Negyedéves!Q$68,Negyedéves!Q$73))","v":200520.83333333326},{"$f":"IF(Paraméterek!$D$129=1,Negyedéves!R$62,IF(Paraméterek!$D$129=4,Negyedéves!R$68,Negyedéves!R$73))","v":182291.6666666666},{"$f":"IF(Paraméterek!$D$129=1,Negyedéves!S$62,IF(Paraméterek!$D$129=4,Negyedéves!S$68,Negyedéves!S$73))","v":164062.49999999994},{"$f":"IF(Paraméterek!$D$129=1,Negyedéves!T$62,IF(Paraméterek!$D$129=4,Negyedéves!T$68,Negyedéves!T$73))","v":145833.33333333328},{"$f":"IF(Paraméterek!$D$129=1,Negyedéves!U$62,IF(Paraméterek!$D$129=4,Negyedéves!U$68,Negyedéves!U$73))","v":127604.1666666666},{"$f":"IF(Paraméterek!$D$129=1,Negyedéves!V$62,IF(Paraméterek!$D$129=4,Negyedéves!V$68,Negyedéves!V$73))","v":109374.99999999993},{"$f":"IF(Paraméterek!$D$129=1,Negyedéves!W$62,IF(Paraméterek!$D$129=4,Negyedéves!W$68,Negyedéves!W$73))","v":91145.833333333256},{"$f":"IF(Paraméterek!$D$129=1,Negyedéves!X$62,IF(Paraméterek!$D$129=4,Negyedéves!X$68,Negyedéves!X$73))","v":72916.666666666584},{"$f":"IF(Paraméterek!$D$129=1,Negyedéves!Y$62,IF(Paraméterek!$D$129=4,Negyedéves!Y$68,Negyedéves!Y$73))","v":54687.499999999927},{"$f":"IF(Paraméterek!$D$129=1,Negyedéves!Z$62,IF(Paraméterek!$D$129=4,Negyedéves!Z$68,Negyedéves!Z$73))","v":36458.333333333256},{"$f":"IF(Paraméterek!$D$129=1,Negyedéves!AA$62,IF(Paraméterek!$D$129=4,Negyedéves!AA$68,Negyedéves!AA$73))","v":18229.166666666591},{"$f":"IF(Paraméterek!$D$129=1,Negyedéves!AB$62,IF(Paraméterek!$D$129=4,Negyedéves!AB$68,Negyedéves!AB$73))","v":-7.7416189014911656E-11},{"$f":"IF(Paraméterek!$D$129=1,Negyedéves!AC$62,IF(Paraméterek!$D$129=4,Negyedéves!AC$68,Negyedéves!AC$73))","v":-7.7416189014911656E-11},{"$f":"IF(Paraméterek!$D$129=1,Negyedéves!AD$62,IF(Paraméterek!$D$129=4,Negyedéves!AD$68,Negyedéves!AD$73))","v":-7.7416189014911656E-11},{"$f":"IF(Paraméterek!$D$129=1,Negyedéves!AE$62,IF(Paraméterek!$D$129=4,Negyedéves!AE$68,Negyedéves!AE$73))","v":-7.7416189014911656E-11},{"$f":"IF(Paraméterek!$D$129=1,Negyedéves!AF$62,IF(Paraméterek!$D$129=4,Negyedéves!AF$68,Negyedéves!AF$73))","v":-7.7416189014911656E-11},{"$f":"IF(Paraméterek!$D$129=1,Negyedéves!AG$62,IF(Paraméterek!$D$129=4,Negyedéves!AG$68,Negyedéves!AG$73))","v":-7.7416189014911656E-11},{"$f":"IF(Paraméterek!$D$129=1,Negyedéves!AH$62,IF(Paraméterek!$D$129=4,Negyedéves!AH$68,Negyedéves!AH$73))","v":-7.7416189014911656E-11},{"$f":"IF(Paraméterek!$D$129=1,Negyedéves!AI$62,IF(Paraméterek!$D$129=4,Negyedéves!AI$68,Negyedéves!AI$73))","v":-7.7416189014911656E-11},{"$f":"IF(Paraméterek!$D$129=1,Negyedéves!AJ$62,IF(Paraméterek!$D$129=4,Negyedéves!AJ$68,Negyedéves!AJ$73))","v":-7.7416189014911656E-11},{"$f":"IF(Paraméterek!$D$129=1,Negyedéves!AK$62,IF(Paraméterek!$D$129=4,Negyedéves!AK$68,Negyedéves!AK$73))","v":-7.7416189014911656E-11},{"$f":"IF(Paraméterek!$D$129=1,Negyedéves!AL$62,IF(Paraméterek!$D$129=4,Negyedéves!AL$68,Negyedéves!AL$73))","v":-7.7416189014911656E-11},{"$f":"IF(Paraméterek!$D$129=1,Negyedéves!AM$62,IF(Paraméterek!$D$129=4,Negyedéves!AM$68,Negyedéves!AM$73))","v":-7.7416189014911656E-11},{"$f":"IF(Paraméterek!$D$129=1,Negyedéves!AN$62,IF(Paraméterek!$D$129=4,Negyedéves!AN$68,Negyedéves!AN$73))","v":-7.7416189014911656E-11},{"$f":"IF(Paraméterek!$D$129=1,Negyedéves!AO$62,IF(Paraméterek!$D$129=4,Negyedéves!AO$68,Negyedéves!AO$73))","v":-7.7416189014911656E-11},{"$f":"IF(Paraméterek!$D$129=1,Negyedéves!AP$62,IF(Paraméterek!$D$129=4,Negyedéves!AP$68,Negyedéves!AP$73))","v":-7.7416189014911656E-11},{"$f":"IF(Paraméterek!$D$129=1,Negyedéves!AQ$62,IF(Paraméterek!$D$129=4,Negyedéves!AQ$68,Negyedéves!AQ$73))","v":-7.7416189014911656E-11},{"$f":"IF(Paraméterek!$D$129=1,Negyedéves!AR$62,IF(Paraméterek!$D$129=4,Negyedéves!AR$68,Negyedéves!AR$73))","v":-7.7416189014911656E-11},{"$f":"IF(Paraméterek!$D$129=1,Negyedéves!AS$62,IF(Paraméterek!$D$129=4,Negyedéves!AS$68,Negyedéves!AS$73))","v":-7.7416189014911656E-11},{"$f":"IF(Paraméterek!$D$129=1,Negyedéves!AT$62,IF(Paraméterek!$D$129=4,Negyedéves!AT$68,Negyedéves!AT$73))","v":-7.7416189014911656E-11},{"$f":"IF(Paraméterek!$D$129=1,Negyedéves!AU$62,IF(Paraméterek!$D$129=4,Negyedéves!AU$68,Negyedéves!AU$73))","v":-7.7416189014911656E-11},{"$f":"IF(Paraméterek!$D$129=1,Negyedéves!AV$62,IF(Paraméterek!$D$129=4,Negyedéves!AV$68,Negyedéves!AV$73))","v":-7.7416189014911656E-11},{"$f":"IF(Paraméterek!$D$129=1,Negyedéves!AW$62,IF(Paraméterek!$D$129=4,Negyedéves!AW$68,Negyedéves!AW$73))","v":-7.7416189014911656E-11},{"$f":"IF(Paraméterek!$D$129=1,Negyedéves!AX$62,IF(Paraméterek!$D$129=4,Negyedéves!AX$68,Negyedéves!AX$73))","v":-7.7416189014911656E-11},{"$f":"IF(Paraméterek!$D$129=1,Negyedéves!AY$62,IF(Paraméterek!$D$129=4,Negyedéves!AY$68,Negyedéves!AY$73))","v":-7.7416189014911656E-11},{"$f":"IF(Paraméterek!$D$129=1,Negyedéves!AZ$62,IF(Paraméterek!$D$129=4,Negyedéves!AZ$68,Negyedéves!AZ$73))","v":-7.7416189014911656E-11},{"$f":"IF(Paraméterek!$D$129=1,Negyedéves!BA$62,IF(Paraméterek!$D$129=4,Negyedéves!BA$68,Negyedéves!BA$73))","v":-7.7416189014911656E-11},{"$f":"IF(Paraméterek!$D$129=1,Negyedéves!BB$62,IF(Paraméterek!$D$129=4,Negyedéves!BB$68,Negyedéves!BB$73))","v":-7.7416189014911656E-11},{"$f":"IF(Paraméterek!$D$129=1,Negyedéves!BC$62,IF(Paraméterek!$D$129=4,Negyedéves!BC$68,Negyedéves!BC$73))","v":-7.7416189014911656E-11},{"$f":"IF(Paraméterek!$D$129=1,Negyedéves!BD$62,IF(Paraméterek!$D$129=4,Negyedéves!BD$68,Negyedéves!BD$73))","v":-7.7416189014911656E-11},{"$f":"IF(Paraméterek!$D$129=1,Negyedéves!BE$62,IF(Paraméterek!$D$129=4,Negyedéves!BE$68,Negyedéves!BE$73))","v":-7.7416189014911656E-11},{"$f":"IF(Paraméterek!$D$129=1,Negyedéves!BF$62,IF(Paraméterek!$D$129=4,Negyedéves!BF$68,Negyedéves!BF$73))","v":-7.7416189014911656E-11},{"$f":"IF(Paraméterek!$D$129=1,Negyedéves!BG$62,IF(Paraméterek!$D$129=4,Negyedéves!BG$68,Negyedéves!BG$73))","v":-7.7416189014911656E-11},{"$f":"IF(Paraméterek!$D$129=1,Negyedéves!BH$62,IF(Paraméterek!$D$129=4,Negyedéves!BH$68,Negyedéves!BH$73))","v":-7.7416189014911656E-11},{"$f":"IF(Paraméterek!$D$129=1,Negyedéves!BI$62,IF(Paraméterek!$D$129=4,Negyedéves!BI$68,Negyedéves!BI$73))","v":-7.7416189014911656E-11},{"$f":"IF(Paraméterek!$D$129=1,Negyedéves!BJ$62,IF(Paraméterek!$D$129=4,Negyedéves!BJ$68,Negyedéves!BJ$73))","v":-7.7416189014911656E-11},{"$f":"IF(Paraméterek!$D$129=1,Negyedéves!BK$62,IF(Paraméterek!$D$129=4,Negyedéves!BK$68,Negyedéves!BK$73))","v":-7.7416189014911656E-11},{"$f":"IF(Paraméterek!$D$129=1,Negyedéves!BL$62,IF(Paraméterek!$D$129=4,Negyedéves!BL$68,Negyedéves!BL$73))","v":-7.7416189014911656E-11},{"$f":"IF(Paraméterek!$D$129=1,Negyedéves!BM$62,IF(Paraméterek!$D$129=4,Negyedéves!BM$68,Negyedéves!BM$73))","v":-7.7416189014911656E-11},{"$f":"IF(Paraméterek!$D$129=1,Negyedéves!BN$62,IF(Paraméterek!$D$129=4,Negyedéves!BN$68,Negyedéves!BN$73))","v":-7.7416189014911656E-11},{"$f":"IF(Paraméterek!$D$129=1,Negyedéves!BO$62,IF(Paraméterek!$D$129=4,Negyedéves!BO$68,Negyedéves!BO$73))","v":-7.7416189014911656E-11},{"$f":"IF(Paraméterek!$D$129=1,Negyedéves!BP$62,IF(Paraméterek!$D$129=4,Negyedéves!BP$68,Negyedéves!BP$73))","v":-7.7416189014911656E-11},{"$f":"IF(Paraméterek!$D$129=1,Negyedéves!BQ$62,IF(Paraméterek!$D$129=4,Negyedéves!BQ$68,Negyedéves!BQ$73))","v":-7.7416189014911656E-11},{"$f":"IF(Paraméterek!$D$129=1,Negyedéves!BR$62,IF(Paraméterek!$D$129=4,Negyedéves!BR$68,Negyedéves!BR$73))","v":-7.7416189014911656E-11},{"$f":"IF(Paraméterek!$D$129=1,Negyedéves!BS$62,IF(Paraméterek!$D$129=4,Negyedéves!BS$68,Negyedéves!BS$73))","v":-7.7416189014911656E-11},"x"]
["Fennálló tőketartozás",null,{"$f":"C61","v":50000000},{"$f":"IF(Paraméterek!$D$129=1,Negyedéves!D$61,IF(Paraméterek!$D$129=4,Negyedéves!D$67,Negyedéves!D$72))","v":47916666.666666664},{"$f":"IF(Paraméterek!$D$129=1,Negyedéves!E$61,IF(Paraméterek!$D$129=4,Negyedéves!E$67,Negyedéves!E$72))","v":45833333.333333328},{"$f":"IF(Paraméterek!$D$129=1,Negyedéves!F$61,IF(Paraméterek!$D$129=4,Negyedéves!F$67,Negyedéves!F$72))","v":43749999.999999993},{"$f":"IF(Paraméterek!$D$129=1,Negyedéves!G$61,IF(Paraméterek!$D$129=4,Negyedéves!G$67,Negyedéves!G$72))","v":41666666.666666657},{"$f":"IF(Paraméterek!$D$129=1,Negyedéves!H$61,IF(Paraméterek!$D$129=4,Negyedéves!H$67,Negyedéves!H$72))","v":39583333.333333321},{"$f":"IF(Paraméterek!$D$129=1,Negyedéves!I$61,IF(Paraméterek!$D$129=4,Negyedéves!I$67,Negyedéves!I$72))","v":37499999.999999985},{"$f":"IF(Paraméterek!$D$129=1,Negyedéves!J$61,IF(Paraméterek!$D$129=4,Negyedéves!J$67,Negyedéves!J$72))","v":35416666.666666649},{"$f":"IF(Paraméterek!$D$129=1,Negyedéves!K$61,IF(Paraméterek!$D$129=4,Negyedéves!K$67,Negyedéves!K$72))","v":33333333.333333317},{"$f":"IF(Paraméterek!$D$129=1,Negyedéves!L$61,IF(Paraméterek!$D$129=4,Negyedéves!L$67,Negyedéves!L$72))","v":31249999.999999985},{"$f":"IF(Paraméterek!$D$129=1,Negyedéves!M$61,IF(Paraméterek!$D$129=4,Negyedéves!M$67,Negyedéves!M$72))","v":29166666.666666653},{"$f":"IF(Paraméterek!$D$129=1,Negyedéves!N$61,IF(Paraméterek!$D$129=4,Negyedéves!N$67,Negyedéves!N$72))","v":27083333.333333321},{"$f":"IF(Paraméterek!$D$129=1,Negyedéves!O$61,IF(Paraméterek!$D$129=4,Negyedéves!O$67,Negyedéves!O$72))","v":24999999.999999989},{"$f":"IF(Paraméterek!$D$129=1,Negyedéves!P$61,IF(Paraméterek!$D$129=4,Negyedéves!P$67,Negyedéves!P$72))","v":22916666.666666657},{"$f":"IF(Paraméterek!$D$129=1,Negyedéves!Q$61,IF(Paraméterek!$D$129=4,Negyedéves!Q$67,Negyedéves!Q$72))","v":20833333.333333325},{"$f":"IF(Paraméterek!$D$129=1,Negyedéves!R$61,IF(Paraméterek!$D$129=4,Negyedéves!R$67,Negyedéves!R$72))","v":18749999.999999993},{"$f":"IF(Paraméterek!$D$129=1,Negyedéves!S$61,IF(Paraméterek!$D$129=4,Negyedéves!S$67,Negyedéves!S$72))","v":16666666.666666659},{"$f":"IF(Paraméterek!$D$129=1,Negyedéves!T$61,IF(Paraméterek!$D$129=4,Negyedéves!T$67,Negyedéves!T$72))","v":14583333.333333325},{"$f":"IF(Paraméterek!$D$129=1,Negyedéves!U$61,IF(Paraméterek!$D$129=4,Negyedéves!U$67,Negyedéves!U$72))","v":12499999.999999991},{"$f":"IF(Paraméterek!$D$129=1,Negyedéves!V$61,IF(Paraméterek!$D$129=4,Negyedéves!V$67,Negyedéves!V$72))","v":10416666.666666657},{"$f":"IF(Paraméterek!$D$129=1,Negyedéves!W$61,IF(Paraméterek!$D$129=4,Negyedéves!W$67,Negyedéves!W$72))","v":8333333.3333333237},{"$f":"IF(Paraméterek!$D$129=1,Negyedéves!X$61,IF(Paraméterek!$D$129=4,Negyedéves!X$67,Negyedéves!X$72))","v":6249999.9999999907},{"$f":"IF(Paraméterek!$D$129=1,Negyedéves!Y$61,IF(Paraméterek!$D$129=4,Negyedéves!Y$67,Negyedéves!Y$72))","v":4166666.6666666577},{"$f":"IF(Paraméterek!$D$129=1,Negyedéves!Z$61,IF(Paraméterek!$D$129=4,Negyedéves!Z$67,Negyedéves!Z$72))","v":2083333.3333333244},{"$f":"IF(Paraméterek!$D$129=1,Negyedéves!AA$61,IF(Paraméterek!$D$129=4,Negyedéves!AA$67,Negyedéves!AA$72))","v":-8.8475644588470459E-9},{"$f":"IF(Paraméterek!$D$129=1,Negyedéves!AB$61,IF(Paraméterek!$D$129=4,Negyedéves!AB$67,Negyedéves!AB$72))","v":-8.8475644588470459E-9},{"$f":"IF(Paraméterek!$D$129=1,Negyedéves!AC$61,IF(Paraméterek!$D$129=4,Negyedéves!AC$67,Negyedéves!AC$72))","v":-8.8475644588470459E-9},{"$f":"IF(Paraméterek!$D$129=1,Negyedéves!AD$61,IF(Paraméterek!$D$129=4,Negyedéves!AD$67,Negyedéves!AD$72))","v":-8.8475644588470459E-9},{"$f":"IF(Paraméterek!$D$129=1,Negyedéves!AE$61,IF(Paraméterek!$D$129=4,Negyedéves!AE$67,Negyedéves!AE$72))","v":-8.8475644588470459E-9},{"$f":"IF(Paraméterek!$D$129=1,Negyedéves!AF$61,IF(Paraméterek!$D$129=4,Negyedéves!AF$67,Negyedéves!AF$72))","v":-8.8475644588470459E-9},{"$f":"IF(Paraméterek!$D$129=1,Negyedéves!AG$61,IF(Paraméterek!$D$129=4,Negyedéves!AG$67,Negyedéves!AG$72))","v":-8.8475644588470459E-9},{"$f":"IF(Paraméterek!$D$129=1,Negyedéves!AH$61,IF(Paraméterek!$D$129=4,Negyedéves!AH$67,Negyedéves!AH$72))","v":-8.8475644588470459E-9},{"$f":"IF(Paraméterek!$D$129=1,Negyedéves!AI$61,IF(Paraméterek!$D$129=4,Negyedéves!AI$67,Negyedéves!AI$72))","v":-8.8475644588470459E-9},{"$f":"IF(Paraméterek!$D$129=1,Negyedéves!AJ$61,IF(Paraméterek!$D$129=4,Negyedéves!AJ$67,Negyedéves!AJ$72))","v":-8.8475644588470459E-9},{"$f":"IF(Paraméterek!$D$129=1,Negyedéves!AK$61,IF(Paraméterek!$D$129=4,Negyedéves!AK$67,Negyedéves!AK$72))","v":-8.8475644588470459E-9},{"$f":"IF(Paraméterek!$D$129=1,Negyedéves!AL$61,IF(Paraméterek!$D$129=4,Negyedéves!AL$67,Negyedéves!AL$72))","v":-8.8475644588470459E-9},{"$f":"IF(Paraméterek!$D$129=1,Negyedéves!AM$61,IF(Paraméterek!$D$129=4,Negyedéves!AM$67,Negyedéves!AM$72))","v":-8.8475644588470459E-9},{"$f":"IF(Paraméterek!$D$129=1,Negyedéves!AN$61,IF(Paraméterek!$D$129=4,Negyedéves!AN$67,Negyedéves!AN$72))","v":-8.8475644588470459E-9},{"$f":"IF(Paraméterek!$D$129=1,Negyedéves!AO$61,IF(Paraméterek!$D$129=4,Negyedéves!AO$67,Negyedéves!AO$72))","v":-8.8475644588470459E-9},{"$f":"IF(Paraméterek!$D$129=1,Negyedéves!AP$61,IF(Paraméterek!$D$129=4,Negyedéves!AP$67,Negyedéves!AP$72))","v":-8.8475644588470459E-9},{"$f":"IF(Paraméterek!$D$129=1,Negyedéves!AQ$61,IF(Paraméterek!$D$129=4,Negyedéves!AQ$67,Negyedéves!AQ$72))","v":-8.8475644588470459E-9},{"$f":"IF(Paraméterek!$D$129=1,Negyedéves!AR$61,IF(Paraméterek!$D$129=4,Negyedéves!AR$67,Negyedéves!AR$72))","v":-8.8475644588470459E-9},{"$f":"IF(Paraméterek!$D$129=1,Negyedéves!AS$61,IF(Paraméterek!$D$129=4,Negyedéves!AS$67,Negyedéves!AS$72))","v":-8.8475644588470459E-9},{"$f":"IF(Paraméterek!$D$129=1,Negyedéves!AT$61,IF(Paraméterek!$D$129=4,Negyedéves!AT$67,Negyedéves!AT$72))","v":-8.8475644588470459E-9},{"$f":"IF(Paraméterek!$D$129=1,Negyedéves!AU$61,IF(Paraméterek!$D$129=4,Negyedéves!AU$67,Negyedéves!AU$72))","v":-8.8475644588470459E-9},{"$f":"IF(Paraméterek!$D$129=1,Negyedéves!AV$61,IF(Paraméterek!$D$129=4,Negyedéves!AV$67,Negyedéves!AV$72))","v":-8.8475644588470459E-9},{"$f":"IF(Paraméterek!$D$129=1,Negyedéves!AW$61,IF(Paraméterek!$D$129=4,Negyedéves!AW$67,Negyedéves!AW$72))","v":-8.8475644588470459E-9},{"$f":"IF(Paraméterek!$D$129=1,Negyedéves!AX$61,IF(Paraméterek!$D$129=4,Negyedéves!AX$67,Negyedéves!AX$72))","v":-8.8475644588470459E-9},{"$f":"IF(Paraméterek!$D$129=1,Negyedéves!AY$61,IF(Paraméterek!$D$129=4,Negyedéves!AY$67,Negyedéves!AY$72))","v":-8.8475644588470459E-9},{"$f":"IF(Paraméterek!$D$129=1,Negyedéves!AZ$61,IF(Paraméterek!$D$129=4,Negyedéves!AZ$67,Negyedéves!AZ$72))","v":-8.8475644588470459E-9},{"$f":"IF(Paraméterek!$D$129=1,Negyedéves!BA$61,IF(Paraméterek!$D$129=4,Negyedéves!BA$67,Negyedéves!BA$72))","v":-8.8475644588470459E-9},{"$f":"IF(Paraméterek!$D$129=1,Negyedéves!BB$61,IF(Paraméterek!$D$129=4,Negyedéves!BB$67,Negyedéves!BB$72))","v":-8.8475644588470459E-9},{"$f":"IF(Paraméterek!$D$129=1,Negyedéves!BC$61,IF(Paraméterek!$D$129=4,Negyedéves!BC$67,Negyedéves!BC$72))","v":-8.8475644588470459E-9},{"$f":"IF(Paraméterek!$D$129=1,Negyedéves!BD$61,IF(Paraméterek!$D$129=4,Negyedéves!BD$67,Negyedéves!BD$72))","v":-8.8475644588470459E-9},{"$f":"IF(Paraméterek!$D$129=1,Negyedéves!BE$61,IF(Paraméterek!$D$129=4,Negyedéves!BE$67,Negyedéves!BE$72))","v":-8.8475644588470459E-9},{"$f":"IF(Paraméterek!$D$129=1,Negyedéves!BF$61,IF(Paraméterek!$D$129=4,Negyedéves!BF$67,Negyedéves!BF$72))","v":-8.8475644588470459E-9},{"$f":"IF(Paraméterek!$D$129=1,Negyedéves!BG$61,IF(Paraméterek!$D$129=4,Negyedéves!BG$67,Negyedéves!BG$72))","v":-8.8475644588470459E-9},{"$f":"IF(Paraméterek!$D$129=1,Negyedéves!BH$61,IF(Paraméterek!$D$129=4,Negyedéves!BH$67,Negyedéves!BH$72))","v":-8.8475644588470459E-9},{"$f":"IF(Paraméterek!$D$129=1,Negyedéves!BI$61,IF(Paraméterek!$D$129=4,Negyedéves!BI$67,Negyedéves!BI$72))","v":-8.8475644588470459E-9},{"$f":"IF(Paraméterek!$D$129=1,Negyedéves!BJ$61,IF(Paraméterek!$D$129=4,Negyedéves!BJ$67,Negyedéves!BJ$72))","v":-8.8475644588470459E-9},{"$f":"IF(Paraméterek!$D$129=1,Negyedéves!BK$61,IF(Paraméterek!$D$129=4,Negyedéves!BK$67,Negyedéves!BK$72))","v":-8.8475644588470459E-9},{"$f":"IF(Paraméterek!$D$129=1,Negyedéves!BL$61,IF(Paraméterek!$D$129=4,Negyedéves!BL$67,Negyedéves!BL$72))","v":-8.8475644588470459E-9},{"$f":"IF(Paraméterek!$D$129=1,Negyedéves!BM$61,IF(Paraméterek!$D$129=4,Negyedéves!BM$67,Negyedéves!BM$72))","v":-8.8475644588470459E-9},{"$f":"IF(Paraméterek!$D$129=1,Negyedéves!BN$61,IF(Paraméterek!$D$129=4,Negyedéves!BN$67,Negyedéves!BN$72))","v":-8.8475644588470459E-9},{"$f":"IF(Paraméterek!$D$129=1,Negyedéves!BO$61,IF(Paraméterek!$D$129=4,Negyedéves!BO$67,Negyedéves!BO$72))","v":-8.8475644588470459E-9},{"$f":"IF(Paraméterek!$D$129=1,Negyedéves!BP$61,IF(Paraméterek!$D$129=4,Negyedéves!BP$67,Negyedéves!BP$72))","v":-8.8475644588470459E-9},{"$f":"IF(Paraméterek!$D$129=1,Negyedéves!BQ$61,IF(Paraméterek!$D$129=4,Negyedéves!BQ$67,Negyedéves!BQ$72))","v":-8.8475644588470459E-9},{"$f":"IF(Paraméterek!$D$129=1,Negyedéves!BR$61,IF(Paraméterek!$D$129=4,Negyedéves!BR$67,Negyedéves!BR$72))","v":-8.8475644588470459E-9},{"$f":"IF(Paraméterek!$D$129=1,Negyedéves!BS$61,IF(Paraméterek!$D$129=4,Negyedéves!BS$67,Negyedéves!BS$72))","v":-8.8475644588470459E-9},"x"]
[null,null,null,null,null,null,null,null,null,null,null,null,null,null,null,null,null,null,null,null,null,null,null,null,null,null,null,null,null,null,null,null,null,null,null,null,null,null,null,null,null,null,null,null,null,null,null,null,null,null,null,null,null,null,null,null,null,null,null,null,null,null,null,null,null,null,null,null,null,null,null,"x"]
[null,null,null,null,null,null,null,null,null,null,null,null,null,null,null,null,null,null,null,null,null,null,null,null,null,null,null,null,null,null,null,null,null,null,null,null,null,null,null,null,null,null,null,null,null,null,null,null,null,null,null,null,null,null,null,null,null,null,null,null,null,null,null,null,null,null,null,null,null,null,null,"x"]
[null,null,null,null,null,null,null,null,null,null,null,null,null,null,null,null,null,null,null,null,null,null,null,null,null,null,null,null,null,null,null,null,null,null,null,null,null,null,null,null,null,null,null,null,null,null,null,null,null,null,null,null,null,null,null,null,null,null,null,null,null,null,null,null,null,null,null,null,null,null,null,"x"]
["Árfolyamkülönbözet (HUF)",null,null,null,null,null,null,null,null,null,null,null,null,null,null,null,null,null,null,null,null,null,null,null,null,null,null,null,null,null,null,null,null,null,null,null,null,null,null,null,null,null,null,null,null,null,null,null,null,null,null,null,null,null,null,null,null,null,null,null,null,null,null,null,null,null,null,null,null,null,null,"x"]
["Tőketörlesztés árfolyamkülönbözete",null,null,{"$f":"IF(MOD(D$2,4)=0,($C$5-D$5)*($C$13-D$13),0)","v":0},{"$f":"IF(MOD(E$2,4)=0,($C$5-E$5)*($C$13-E$13),0)","v":0},0,0,0,0,0,0,0,0,0,0,0,0,0,0,0,0,0,0,0,0,0,0,0,0,0,0,0,0,0,0,0,0,0,0,0,0,0,0,0,0,0,0,0,0,0,0,0,0,0,0,0,0,0,0,0,0,0,0,0,0,0,0,0,{"$f":"IF(MOD(BQ$2,4)=0,($C$5-BQ$5)*($C$13-BQ$13),0)","v":0},{"$f":"IF(MOD(BR$2,4)=0,($C$5-BR$5)*($C$13-BR$13),0)","v":0},{"$f":"IF(MOD(BS$2,4)=0,($C$5-BS$5)*($C$13-BS$13),0)","v":{"$error":"#VALUE!"}},"x"]
["Hitelátértékelésés árfolyamkülönbözete",null,null,{"$f":"IF(MOD(D$2,4)=0,($C$5-D$5)*D$13,0)","v":0},{"$f":"IF(MOD(E$2,4)=0,($C$5-E$5)*E$13,0)","v":0},0,0,0,0,0,0,0,0,0,0,0,0,0,0,0,0,0,0,0,0,0,0,0,0,0,0,0,0,0,0,0,0,0,0,0,0,0,0,0,0,0,0,0,0,0,0,0,0,0,0,0,0,0,0,0,0,0,0,0,0,0,0,0,{"$f":"IF(MOD(BQ$2,4)=0,($C$5-BQ$5)*BQ$13,0)","v":0},{"$f":"IF(MOD(BR$2,4)=0,($C$5-BR$5)*BR$13,0)","v":0},{"$f":"IF(MOD(BS$2,4)=0,($C$5-BS$5)*BS$13,0)","v":{"$error":"#VALUE!"}},"x"]
["Garancia díja (HUF)",null,null,null,null,null,null,null,null,null,null,null,null,null,null,null,null,null,null,null,null,null,null,null,null,null,null,null,null,null,null,null,null,null,null,null,null,null,null,null,null,null,null,null,null,null,null,null,null,null,null,null,null,null,null,null,null,null,null,null,null,null,null,null,null,null,null,null,null,null,null,"x"]
[null,null,{"$f":"Paraméterek!C150","v":127869312.3},{"$f":"IF(D1*3<=Paraméterek!$C$145,Negyedéves!$C$27*Paraméterek!$C$151/4,IF(AND(Paraméterek!$C$145>Negyedéves!C$1*3,Paraméterek!$C$145<Negyedéves!E$1*3),Negyedéves!$C$27*Paraméterek!$C$151/4*(3-(Negyedéves!D$1*3-Paraméterek!$C$145))/3,0))","v":0},{"$f":"IF(E1*3<=Paraméterek!$C$145,Negyedéves!$C$27*Paraméterek!$C$151/4,IF(AND(Paraméterek!$C$145>Negyedéves!D$1*3,Paraméterek!$C$145<Negyedéves!F$1*3),Negyedéves!$C$27*Paraméterek!$C$151/4*(3-(Negyedéves!E$1*3-Paraméterek!$C$145))/3,0))","v":0},{"$f":"IF(F1*3<=Paraméterek!$C$145,Negyedéves!$C$27*Paraméterek!$C$151/4,IF(AND(Paraméterek!$C$145>Negyedéves!E$1*3,Paraméterek!$C$145<Negyedéves!G$1*3),Negyedéves!$C$27*Paraméterek!$C$151/4*(3-(Negyedéves!F$1*3-Paraméterek!$C$145))/3,0))","v":0},{"$f":"IF(G1*3<=Paraméterek!$C$145,Negyedéves!$C$27*Paraméterek!$C$151/4,IF(AND(Paraméterek!$C$145>Negyedéves!F$1*3,Paraméterek!$C$145<Negyedéves!H$1*3),Negyedéves!$C$27*Paraméterek!$C$151/4*(3-(Negyedéves!G$1*3-Paraméterek!$C$145))/3,0))","v":0},{"$f":"IF(H1*3<=Paraméterek!$C$145,Negyedéves!$C$27*Paraméterek!$C$151/4,IF(AND(Paraméterek!$C$145>Negyedéves!G$1*3,Paraméterek!$C$145<Negyedéves!I$1*3),Negyedéves!$C$27*Paraméterek!$C$151/4*(3-(Negyedéves!H$1*3-Paraméterek!$C$145))/3,0))","v":0},{"$f":"IF(I1*3<=Paraméterek!$C$145,Negyedéves!$C$27*Paraméterek!$C$151/4,IF(AND(Paraméterek!$C$145>Negyedéves!H$1*3,Paraméterek!$C$145<Negyedéves!J$1*3),Negyedéves!$C$27*Paraméterek!$C$151/4*(3-(Negyedéves!I$1*3-Paraméterek!$C$145))/3,0))","v":0},{"$f":"IF(J1*3<=Paraméterek!$C$145,Negyedéves!$C$27*Paraméterek!$C$151/4,IF(AND(Paraméterek!$C$145>Negyedéves!I$1*3,Paraméterek!$C$145<Negyedéves!K$1*3),Negyedéves!$C$27*Paraméterek!$C$151/4*(3-(Negyedéves!J$1*3-Paraméterek!$C$145))/3,0))","v":0},{"$f":"IF(K1*3<=Paraméterek!$C$145,Negyedéves!$C$27*Paraméterek!$C$151/4,IF(AND(Paraméterek!$C$145>Negyedéves!J$1*3,Paraméterek!$C$145<Negyedéves!L$1*3),Negyedéves!$C$27*Paraméterek!$C$151/4*(3-(Negyedéves!K$1*3-Paraméterek!$C$145))/3,0))","v":0},{"$f":"IF(L1*3<=Paraméterek!$C$145,Negyedéves!$C$27*Paraméterek!$C$151/4,IF(AND(Paraméterek!$C$145>Negyedéves!K$1*3,Paraméterek!$C$145<Negyedéves!M$1*3),Negyedéves!$C$27*Paraméterek!$C$151/4*(3-(Negyedéves!L$1*3-Paraméterek!$C$145))/3,0))","v":0},{"$f":"IF(M1*3<=Paraméterek!$C$145,Negyedéves!$C$27*Paraméterek!$C$151/4,IF(AND(Paraméterek!$C$145>Negyedéves!L$1*3,Paraméterek!$C$145<Negyedéves!N$1*3),Negyedéves!$C$27*Paraméterek!$C$151/4*(3-(Negyedéves!M$1*3-Paraméterek!$C$145))/3,0))","v":0},{"$f":"IF(N1*3<=Paraméterek!$C$145,Negyedéves!$C$27*Paraméterek!$C$151/4,IF(AND(Paraméterek!$C$145>Negyedéves!M$1*3,Paraméterek!$C$145<Negyedéves!O$1*3),Negyedéves!$C$27*Paraméterek!$C$151/4*(3-(Negyedéves!N$1*3-Paraméterek!$C$145))/3,0))","v":0},{"$f":"IF(O1*3<=Paraméterek!$C$145,Negyedéves!$C$27*Paraméterek!$C$151/4,IF(AND(Paraméterek!$C$145>Negyedéves!N$1*3,Paraméterek!$C$145<Negyedéves!P$1*3),Negyedéves!$C$27*Paraméterek!$C$151/4*(3-(Negyedéves!O$1*3-Paraméterek!$C$145))/3,0))","v":0},{"$f":"IF(P1*3<=Paraméterek!$C$145,Negyedéves!$C$27*Paraméterek!$C$151/4,IF(AND(Paraméterek!$C$145>Negyedéves!O$1*3,Paraméterek!$C$145<Negyedéves!Q$1*3),Negyedéves!$C$27*Paraméterek!$C$151/4*(3-(Negyedéves!P$1*3-Paraméterek!$C$145))/3,0))","v":0},{"$f":"IF(Q1*3<=Paraméterek!$C$145,Negyedéves!$C$27*Paraméterek!$C$151/4,IF(AND(Paraméterek!$C$145>Negyedéves!P$1*3,Paraméterek!$C$145<Negyedéves!R$1*3),Negyedéves!$C$27*Paraméterek!$C$151/4*(3-(Negyedéves!Q$1*3-Paraméterek!$C$145))/3,0))","v":0},{"$f":"IF(R1*3<=Paraméterek!$C$145,Negyedéves!$C$27*Paraméterek!$C$151/4,IF(AND(Paraméterek!$C$145>Negyedéves!Q$1*3,Paraméterek!$C$145<Negyedéves!S$1*3),Negyedéves!$C$27*Paraméterek!$C$151/4*(3-(Negyedéves!R$1*3-Paraméterek!$C$145))/3,0))","v":0},{"$f":"IF(S1*3<=Paraméterek!$C$145,Negyedéves!$C$27*Paraméterek!$C$151/4,IF(AND(Paraméterek!$C$145>Negyedéves!R$1*3,Paraméterek!$C$145<Negyedéves!T$1*3),Negyedéves!$C$27*Paraméterek!$C$151/4*(3-(Negyedéves!S$1*3-Paraméterek!$C$145))/3,0))","v":0},{"$f":"IF(T1*3<=Paraméterek!$C$145,Negyedéves!$C$27*Paraméterek!$C$151/4,IF(AND(Paraméterek!$C$145>Negyedéves!S$1*3,Paraméterek!$C$145<Negyedéves!U$1*3),Negyedéves!$C$27*Paraméterek!$C$151/4*(3-(Negyedéves!T$1*3-Paraméterek!$C$145))/3,0))","v":0},{"$f":"IF(U1*3<=Paraméterek!$C$145,Negyedéves!$C$27*Paraméterek!$C$151/4,IF(AND(Paraméterek!$C$145>Negyedéves!T$1*3,Paraméterek!$C$145<Negyedéves!V$1*3),Negyedéves!$C$27*Paraméterek!$C$151/4*(3-(Negyedéves!U$1*3-Paraméterek!$C$145))/3,0))","v":0},{"$f":"IF(V1*3<=Paraméterek!$C$145,Negyedéves!$C$27*Paraméterek!$C$151/4,IF(AND(Paraméterek!$C$145>Negyedéves!U$1*3,Paraméterek!$C$145<Negyedéves!W$1*3),Negyedéves!$C$27*Paraméterek!$C$151/4*(3-(Negyedéves!V$1*3-Paraméterek!$C$145))/3,0))","v":0},{"$f":"IF(W1*3<=Paraméterek!$C$145,Negyedéves!$C$27*Paraméterek!$C$151/4,IF(AND(Paraméterek!$C$145>Negyedéves!V$1*3,Paraméterek!$C$145<Negyedéves!X$1*3),Negyedéves!$C$27*Paraméterek!$C$151/4*(3-(Negyedéves!W$1*3-Paraméterek!$C$145))/3,0))","v":0},{"$f":"IF(X1*3<=Paraméterek!$C$145,Negyedéves!$C$27*Paraméterek!$C$151/4,IF(AND(Paraméterek!$C$145>Negyedéves!W$1*3,Paraméterek!$C$145<Negyedéves!Y$1*3),Negyedéves!$C$27*Paraméterek!$C$151/4*(3-(Negyedéves!X$1*3-Paraméterek!$C$145))/3,0))","v":0},{"$f":"IF(Y1*3<=Paraméterek!$C$145,Negyedéves!$C$27*Paraméterek!$C$151/4,IF(AND(Paraméterek!$C$145>Negyedéves!X$1*3,Paraméterek!$C$145<Negyedéves!Z$1*3),Negyedéves!$C$27*Paraméterek!$C$151/4*(3-(Negyedéves!Y$1*3-Paraméterek!$C$145))/3,0))","v":0},{"$f":"IF(Z1*3<=Paraméterek!$C$145,Negyedéves!$C$27*Paraméterek!$C$151/4,IF(AND(Paraméterek!$C$145>Negyedéves!Y$1*3,Paraméterek!$C$145<Negyedéves!AA$1*3),Negyedéves!$C$27*Paraméterek!$C$151/4*(3-(Negyedéves!Z$1*3-Paraméterek!$C$145))/3,0))","v":0},{"$f":"IF(AA1*3<=Paraméterek!$C$145,Negyedéves!$C$27*Paraméterek!$C$151/4,IF(AND(Paraméterek!$C$145>Negyedéves!Z$1*3,Paraméterek!$C$145<Negyedéves!AB$1*3),Negyedéves!$C$27*Paraméterek!$C$151/4*(3-(Negyedéves!AA$1*3-Paraméterek!$C$145))/3,0))","v":0},{"$f":"IF(AB1*3<=Paraméterek!$C$145,Negyedéves!$C$27*Paraméterek!$C$151/4,IF(AND(Paraméterek!$C$145>Negyedéves!AA$1*3,Paraméterek!$C$145<Negyedéves!AC$1*3),Negyedéves!$C$27*Paraméterek!$C$151/4*(3-(Negyedéves!AB$1*3-Paraméterek!$C$145))/3,0))","v":0},{"$f":"IF(AC1*3<=Paraméterek!$C$145,Negyedéves!$C$27*Paraméterek!$C$151/4,IF(AND(Paraméterek!$C$145>Negyedéves!AB$1*3,Paraméterek!$C$145<Negyedéves!AD$1*3),Negyedéves!$C$27*Paraméterek!$C$151/4*(3-(Negyedéves!AC$1*3-Paraméterek!$C$145))/3,0))","v":0},{"$f":"IF(AD1*3<=Paraméterek!$C$145,Negyedéves!$C$27*Paraméterek!$C$151/4,IF(AND(Paraméterek!$C$145>Negyedéves!AC$1*3,Paraméterek!$C$145<Negyedéves!AE$1*3),Negyedéves!$C$27*Paraméterek!$C$151/4*(3-(Negyedéves!AD$1*3-Paraméterek!$C$145))/3,0))","v":0},{"$f":"IF(AE1*3<=Paraméterek!$C$145,Negyedéves!$C$27*Paraméterek!$C$151/4,IF(AND(Paraméterek!$C$145>Negyedéves!AD$1*3,Paraméterek!$C$145<Negyedéves!AF$1*3),Negyedéves!$C$27*Paraméterek!$C$151/4*(3-(Negyedéves!AE$1*3-Paraméterek!$C$145))/3,0))","v":0},{"$f":"IF(AF1*3<=Paraméterek!$C$145,Negyedéves!$C$27*Paraméterek!$C$151/4,IF(AND(Paraméterek!$C$145>Negyedéves!AE$1*3,Paraméterek!$C$145<Negyedéves!AG$1*3),Negyedéves!$C$27*Paraméterek!$C$151/4*(3-(Negyedéves!AF$1*3-Paraméterek!$C$145))/3,0))","v":0},{"$f":"IF(AG1*3<=Paraméterek!$C$145,Negyedéves!$C$27*Paraméterek!$C$151/4,IF(AND(Paraméterek!$C$145>Negyedéves!AF$1*3,Paraméterek!$C$145<Negyedéves!AH$1*3),Negyedéves!$C$27*Paraméterek!$C$151/4*(3-(Negyedéves!AG$1*3-Paraméterek!$C$145))/3,0))","v":0},{"$f":"IF(AH1*3<=Paraméterek!$C$145,Negyedéves!$C$27*Paraméterek!$C$151/4,IF(AND(Paraméterek!$C$145>Negyedéves!AG$1*3,Paraméterek!$C$145<Negyedéves!AI$1*3),Negyedéves!$C$27*Paraméterek!$C$151/4*(3-(Negyedéves!AH$1*3-Paraméterek!$C$145))/3,0))","v":0},{"$f":"IF(AI1*3<=Paraméterek!$C$145,Negyedéves!$C$27*Paraméterek!$C$151/4,IF(AND(Paraméterek!$C$145>Negyedéves!AH$1*3,Paraméterek!$C$145<Negyedéves!AJ$1*3),Negyedéves!$C$27*Paraméterek!$C$151/4*(3-(Negyedéves!AI$1*3-Paraméterek!$C$145))/3,0))","v":0},{"$f":"IF(AJ1*3<=Paraméterek!$C$145,Negyedéves!$C$27*Paraméterek!$C$151/4,IF(AND(Paraméterek!$C$145>Negyedéves!AI$1*3,Paraméterek!$C$145<Negyedéves!AK$1*3),Negyedéves!$C$27*Paraméterek!$C$151/4*(3-(Negyedéves!AJ$1*3-Paraméterek!$C$145))/3,0))","v":0},{"$f":"IF(AK1*3<=Paraméterek!$C$145,Negyedéves!$C$27*Paraméterek!$C$151/4,IF(AND(Paraméterek!$C$145>Negyedéves!AJ$1*3,Paraméterek!$C$145<Negyedéves!AL$1*3),Negyedéves!$C$27*Paraméterek!$C$151/4*(3-(Negyedéves!AK$1*3-Paraméterek!$C$145))/3,0))","v":0},{"$f":"IF(AL1*3<=Paraméterek!$C$145,Negyedéves!$C$27*Paraméterek!$C$151/4,IF(AND(Paraméterek!$C$145>Negyedéves!AK$1*3,Paraméterek!$C$145<Negyedéves!AM$1*3),Negyedéves!$C$27*Paraméterek!$C$151/4*(3-(Negyedéves!AL$1*3-Paraméterek!$C$145))/3,0))","v":0},{"$f":"IF(AM1*3<=Paraméterek!$C$145,Negyedéves!$C$27*Paraméterek!$C$151/4,IF(AND(Paraméterek!$C$145>Negyedéves!AL$1*3,Paraméterek!$C$145<Negyedéves!AN$1*3),Negyedéves!$C$27*Paraméterek!$C$151/4*(3-(Negyedéves!AM$1*3-Paraméterek!$C$145))/3,0))","v":0},{"$f":"IF(AN1*3<=Paraméterek!$C$145,Negyedéves!$C$27*Paraméterek!$C$151/4,IF(AND(Paraméterek!$C$145>Negyedéves!AM$1*3,Paraméterek!$C$145<Negyedéves!AO$1*3),Negyedéves!$C$27*Paraméterek!$C$151/4*(3-(Negyedéves!AN$1*3-Paraméterek!$C$145))/3,0))","v":0},{"$f":"IF(AO1*3<=Paraméterek!$C$145,Negyedéves!$C$27*Paraméterek!$C$151/4,IF(AND(Paraméterek!$C$145>Negyedéves!AN$1*3,Paraméterek!$C$145<Negyedéves!AP$1*3),Negyedéves!$C$27*Paraméterek!$C$151/4*(3-(Negyedéves!AO$1*3-Paraméterek!$C$145))/3,0))","v":0},{"$f":"IF(AP1*3<=Paraméterek!$C$145,Negyedéves!$C$27*Paraméterek!$C$151/4,IF(AND(Paraméterek!$C$145>Negyedéves!AO$1*3,Paraméterek!$C$145<Negyedéves!AQ$1*3),Negyedéves!$C$27*Paraméterek!$C$151/4*(3-(Negyedéves!AP$1*3-Paraméterek!$C$145))/3,0))","v":0},{"$f":"IF(AQ1*3<=Paraméterek!$C$145,Negyedéves!$C$27*Paraméterek!$C$151/4,IF(AND(Paraméterek!$C$145>Negyedéves!AP$1*3,Paraméterek!$C$145<Negyedéves!AR$1*3),Negyedéves!$C$27*Paraméterek!$C$151/4*(3-(Negyedéves!AQ$1*3-Paraméterek!$C$145))/3,0))","v":0},{"$f":"IF(AR1*3<=Paraméterek!$C$145,Negyedéves!$C$27*Paraméterek!$C$151/4,IF(AND(Paraméterek!$C$145>Negyedéves!AQ$1*3,Paraméterek!$C$145<Negyedéves!AS$1*3),Negyedéves!$C$27*Paraméterek!$C$151/4*(3-(Negyedéves!AR$1*3-Paraméterek!$C$145))/3,0))","v":0},{"$f":"IF(AS1*3<=Paraméterek!$C$145,Negyedéves!$C$27*Paraméterek!$C$151/4,IF(AND(Paraméterek!$C$145>Negyedéves!AR$1*3,Paraméterek!$C$145<Negyedéves!AT$1*3),Negyedéves!$C$27*Paraméterek!$C$151/4*(3-(Negyedéves!AS$1*3-Paraméterek!$C$145))/3,0))","v":0},{"$f":"IF(AT1*3<=Paraméterek!$C$145,Negyedéves!$C$27*Paraméterek!$C$151/4,IF(AND(Paraméterek!$C$145>Negyedéves!AS$1*3,Paraméterek!$C$145<Negyedéves!AU$1*3),Negyedéves!$C$27*Paraméterek!$C$151/4*(3-(Negyedéves!AT$1*3-Paraméterek!$C$145))/3,0))","v":0},{"$f":"IF(AU1*3<=Paraméterek!$C$145,Negyedéves!$C$27*Paraméterek!$C$151/4,IF(AND(Paraméterek!$C$145>Negyedéves!AT$1*3,Paraméterek!$C$145<Negyedéves!AV$1*3),Negyedéves!$C$27*Paraméterek!$C$151/4*(3-(Negyedéves!AU$1*3-Paraméterek!$C$145))/3,0))","v":0},{"$f":"IF(AV1*3<=Paraméterek!$C$145,Negyedéves!$C$27*Paraméterek!$C$151/4,IF(AND(Paraméterek!$C$145>Negyedéves!AU$1*3,Paraméterek!$C$145<Negyedéves!AW$1*3),Negyedéves!$C$27*Paraméterek!$C$151/4*(3-(Negyedéves!AV$1*3-Paraméterek!$C$145))/3,0))","v":0},{"$f":"IF(AW1*3<=Paraméterek!$C$145,Negyedéves!$C$27*Paraméterek!$C$151/4,IF(AND(Paraméterek!$C$145>Negyedéves!AV$1*3,Paraméterek!$C$145<Negyedéves!AX$1*3),Negyedéves!$C$27*Paraméterek!$C$151/4*(3-(Negyedéves!AW$1*3-Paraméterek!$C$145))/3,0))","v":0},{"$f":"IF(AX1*3<=Paraméterek!$C$145,Negyedéves!$C$27*Paraméterek!$C$151/4,IF(AND(Paraméterek!$C$145>Negyedéves!AW$1*3,Paraméterek!$C$145<Negyedéves!AY$1*3),Negyedéves!$C$27*Paraméterek!$C$151/4*(3-(Negyedéves!AX$1*3-Paraméterek!$C$145))/3,0))","v":0},{"$f":"IF(AY1*3<=Paraméterek!$C$145,Negyedéves!$C$27*Paraméterek!$C$151/4,IF(AND(Paraméterek!$C$145>Negyedéves!AX$1*3,Paraméterek!$C$145<Negyedéves!AZ$1*3),Negyedéves!$C$27*Paraméterek!$C$151/4*(3-(Negyedéves!AY$1*3-Paraméterek!$C$145))/3,0))","v":0},{"$f":"IF(AZ1*3<=Paraméterek!$C$145,Negyedéves!$C$27*Paraméterek!$C$151/4,IF(AND(Paraméterek!$C$145>Negyedéves!AY$1*3,Paraméterek!$C$145<Negyedéves!BA$1*3),Negyedéves!$C$27*Paraméterek!$C$151/4*(3-(Negyedéves!AZ$1*3-Paraméterek!$C$145))/3,0))","v":0},{"$f":"IF(BA1*3<=Paraméterek!$C$145,Negyedéves!$C$27*Paraméterek!$C$151/4,IF(AND(Paraméterek!$C$145>Negyedéves!AZ$1*3,Paraméterek!$C$145<Negyedéves!BB$1*3),Negyedéves!$C$27*Paraméterek!$C$151/4*(3-(Negyedéves!BA$1*3-Paraméterek!$C$145))/3,0))","v":0},{"$f":"IF(BB1*3<=Paraméterek!$C$145,Negyedéves!$C$27*Paraméterek!$C$151/4,IF(AND(Paraméterek!$C$145>Negyedéves!BA$1*3,Paraméterek!$C$145<Negyedéves!BC$1*3),Negyedéves!$C$27*Paraméterek!$C$151/4*(3-(Negyedéves!BB$1*3-Paraméterek!$C$145))/3,0))","v":0},{"$f":"IF(BC1*3<=Paraméterek!$C$145,Negyedéves!$C$27*Paraméterek!$C$151/4,IF(AND(Paraméterek!$C$145>Negyedéves!BB$1*3,Paraméterek!$C$145<Negyedéves!BD$1*3),Negyedéves!$C$27*Paraméterek!$C$151/4*(3-(Negyedéves!BC$1*3-Paraméterek!$C$145))/3,0))","v":0},{"$f":"IF(BD1*3<=Paraméterek!$C$145,Negyedéves!$C$27*Paraméterek!$C$151/4,IF(AND(Paraméterek!$C$145>Negyedéves!BC$1*3,Paraméterek!$C$145<Negyedéves!BE$1*3),Negyedéves!$C$27*Paraméterek!$C$151/4*(3-(Negyedéves!BD$1*3-Paraméterek!$C$145))/3,0))","v":0},{"$f":"IF(BE1*3<=Paraméterek!$C$145,Negyedéves!$C$27*Paraméterek!$C$151/4,IF(AND(Paraméterek!$C$145>Negyedéves!BD$1*3,Paraméterek!$C$145<Negyedéves!BF$1*3),Negyedéves!$C$27*Paraméterek!$C$151/4*(3-(Negyedéves!BE$1*3-Paraméterek!$C$145))/3,0))","v":0},{"$f":"IF(BF1*3<=Paraméterek!$C$145,Negyedéves!$C$27*Paraméterek!$C$151/4,IF(AND(Paraméterek!$C$145>Negyedéves!BE$1*3,Paraméterek!$C$145<Negyedéves!BG$1*3),Negyedéves!$C$27*Paraméterek!$C$151/4*(3-(Negyedéves!BF$1*3-Paraméterek!$C$145))/3,0))","v":0},{"$f":"IF(BG1*3<=Paraméterek!$C$145,Negyedéves!$C$27*Paraméterek!$C$151/4,IF(AND(Paraméterek!$C$145>Negyedéves!BF$1*3,Paraméterek!$C$145<Negyedéves!BH$1*3),Negyedéves!$C$27*Paraméterek!$C$151/4*(3-(Negyedéves!BG$1*3-Paraméterek!$C$145))/3,0))","v":0},{"$f":"IF(BH1*3<=Paraméterek!$C$145,Negyedéves!$C$27*Paraméterek!$C$151/4,IF(AND(Paraméterek!$C$145>Negyedéves!BG$1*3,Paraméterek!$C$145<Negyedéves!BI$1*3),Negyedéves!$C$27*Paraméterek!$C$151/4*(3-(Negyedéves!BH$1*3-Paraméterek!$C$145))/3,0))","v":0},{"$f":"IF(BI1*3<=Paraméterek!$C$145,Negyedéves!$C$27*Paraméterek!$C$151/4,IF(AND(Paraméterek!$C$145>Negyedéves!BH$1*3,Paraméterek!$C$145<Negyedéves!BJ$1*3),Negyedéves!$C$27*Paraméterek!$C$151/4*(3-(Negyedéves!BI$1*3-Paraméterek!$C$145))/3,0))","v":0},{"$f":"IF(BJ1*3<=Paraméterek!$C$145,Negyedéves!$C$27*Paraméterek!$C$151/4,IF(AND(Paraméterek!$C$145>Negyedéves!BI$1*3,Paraméterek!$C$145<Negyedéves!BK$1*3),Negyedéves!$C$27*Paraméterek!$C$151/4*(3-(Negyedéves!BJ$1*3-Paraméterek!$C$145))/3,0))","v":0},{"$f":"IF(BK1*3<=Paraméterek!$C$145,Negyedéves!$C$27*Paraméterek!$C$151/4,IF(AND(Paraméterek!$C$145>Negyedéves!BJ$1*3,Paraméterek!$C$145<Negyedéves!BL$1*3),Negyedéves!$C$27*Paraméterek!$C$151/4*(3-(Negyedéves!BK$1*3-Paraméterek!$C$145))/3,0))","v":0},{"$f":"IF(BL1*3<=Paraméterek!$C$145,Negyedéves!$C$27*Paraméterek!$C$151/4,IF(AND(Paraméterek!$C$145>Negyedéves!BK$1*3,Paraméterek!$C$145<Negyedéves!BM$1*3),Negyedéves!$C$27*Paraméterek!$C$151/4*(3-(Negyedéves!BL$1*3-Paraméterek!$C$145))/3,0))","v":0},{"$f":"IF(BM1*3<=Paraméterek!$C$145,Negyedéves!$C$27*Paraméterek!$C$151/4,IF(AND(Paraméterek!$C$145>Negyedéves!BL$1*3,Paraméterek!$C$145<Negyedéves!BN$1*3),Negyedéves!$C$27*Paraméterek!$C$151/4*(3-(Negyedéves!BM$1*3-Paraméterek!$C$145))/3,0))","v":0},{"$f":"IF(BN1*3<=Paraméterek!$C$145,Negyedéves!$C$27*Paraméterek!$C$151/4,IF(AND(Paraméterek!$C$145>Negyedéves!BM$1*3,Paraméterek!$C$145<Negyedéves!BO$1*3),Negyedéves!$C$27*Paraméterek!$C$151/4*(3-(Negyedéves!BN$1*3-Paraméterek!$C$145))/3,0))","v":0},{"$f":"IF(BO1*3<=Paraméterek!$C$145,Negyedéves!$C$27*Paraméterek!$C$151/4,IF(AND(Paraméterek!$C$145>Negyedéves!BN$1*3,Paraméterek!$C$145<Negyedéves!BP$1*3),Negyedéves!$C$27*Paraméterek!$C$151/4*(3-(Negyedéves!BO$1*3-Paraméterek!$C$145))/3,0))","v":0},{"$f":"IF(BP1*3<=Paraméterek!$C$145,Negyedéves!$C$27*Paraméterek!$C$151/4,IF(AND(Paraméterek!$C$145>Negyedéves!BO$1*3,Paraméterek!$C$145<Negyedéves!BQ$1*3),Negyedéves!$C$27*Paraméterek!$C$151/4*(3-(Negyedéves!BP$1*3-Paraméterek!$C$145))/3,0))","v":0},{"$f":"IF(BQ1*3<=Paraméterek!$C$145,Negyedéves!$C$27*Paraméterek!$C$151/4,IF(AND(Paraméterek!$C$145>Negyedéves!BP$1*3,Paraméterek!$C$145<Negyedéves!BR$1*3),Negyedéves!$C$27*Paraméterek!$C$151/4*(3-(Negyedéves!BQ$1*3-Paraméterek!$C$145))/3,0))","v":0},{"$f":"IF(BR1*3<=Paraméterek!$C$145,Negyedéves!$C$27*Paraméterek!$C$151/4,IF(AND(Paraméterek!$C$145>Negyedéves!BQ$1*3,Paraméterek!$C$145<Negyedéves!BS$1*3),Negyedéves!$C$27*Paraméterek!$C$151/4*(3-(Negyedéves!BR$1*3-Paraméterek!$C$145))/3,0))","v":0},{"$f":"IF(BS1*3<=Paraméterek!$C$145,Negyedéves!$C$27*Paraméterek!$C$151/4,IF(AND(Paraméterek!$C$145>Negyedéves!BR$1*3,Paraméterek!$C$145<Negyedéves!BT$1*3),Negyedéves!$C$27*Paraméterek!$C$151/4*(3-(Negyedéves!BS$1*3-Paraméterek!$C$145))/3,0))","v":{"$error":"#VALUE!"}},"x"]
["Amortizáció (HUF)",null,null,null,null,null,null,null,null,null,null,null,null,null,null,null,null,null,null,null,null,null,null,null,null,null,null,null,null,null,null,null,null,null,null,null,null,null,null,null,null,null,null,null,null,null,null,null,null,null,null,null,null,null,null,null,null,null,null,null,null,null,null,null,null,null,null,null,null,null,null,"x"]
["Tárgyi eszközök mortizációja",null,null,{"$f":"IF(SUM($B$29:C29)<$C$30,$C$30/(Paraméterek!$C$5*4),0)","v":4957143.95},{"$f":"IF(SUM($B$29:D29)<$C$30,$C$30/(Paraméterek!$C$5*4),0)","v":4957143.95},{"$f":"IF(SUM($B$29:E29)<$C$30,$C$30/(Paraméterek!$C$5*4),0)","v":4957143.95},{"$f":"IF(SUM($B$29:F29)<$C$30,$C$30/(Paraméterek!$C$5*4),0)","v":4957143.95},{"$f":"IF(SUM($B$29:G29)<$C$30,$C$30/(Paraméterek!$C$5*4),0)","v":4957143.95},{"$f":"IF(SUM($B$29:H29)<$C$30,$C$30/(Paraméterek!$C$5*4),0)","v":4957143.95},{"$f":"IF(SUM($B$29:I29)<$C$30,$C$30/(Paraméterek!$C$5*4),0)","v":4957143.95},{"$f":"IF(SUM($B$29:J29)<$C$30,$C$30/(Paraméterek!$C$5*4),0)","v":4957143.95},{"$f":"IF(SUM($B$29:K29)<$C$30,$C$30/(Paraméterek!$C$5*4),0)","v":4957143.95},{"$f":"IF(SUM($B$29:L29)<$C$30,$C$30/(Paraméterek!$C$5*4),0)","v":4957143.95},{"$f":"IF(SUM($B$29:M29)<$C$30,$C$30/(Paraméterek!$C$5*4),0)","v":4957143.95},{"$f":"IF(SUM($B$29:N29)<$C$30,$C$30/(Paraméterek!$C$5*4),0)","v":4957143.95},{"$f":"IF(SUM($B$29:O29)<$C$30,$C$30/(Paraméterek!$C$5*4),0)","v":4957143.95},{"$f":"IF(SUM($B$29:P29)<$C$30,$C$30/(Paraméterek!$C$5*4),0)","v":4957143.95},{"$f":"IF(SUM($B$29:Q29)<$C$30,$C$30/(Paraméterek!$C$5*4),0)","v":4957143.95},{"$f":"IF(SUM($B$29:R29)<$C$30,$C$30/(Paraméterek!$C$5*4),0)","v":4957143.95},{"$f":"IF(SUM($B$29:S29)<$C$30,$C$30/(Paraméterek!$C$5*4),0)","v":4957143.95},{"$f":"IF(SUM($B$29:T29)<$C$30,$C$30/(Paraméterek!$C$5*4),0)","v":4957143.95},{"$f":"IF(SUM($B$29:U29)<$C$30,$C$30/(Paraméterek!$C$5*4),0)","v":4957143.95},{"$f":"IF(SUM($B$29:V29)<$C$30,$C$30/(Paraméterek!$C$5*4),0)","v":4957143.95},{"$f":"IF(SUM($B$29:W29)<$C$30,$C$30/(Paraméterek!$C$5*4),0)","v":4957143.95},{"$f":"IF(SUM($B$29:X29)<$C$30,$C$30/(Paraméterek!$C$5*4),0)","v":4957143.95},{"$f":"IF(SUM($B$29:Y29)<$C$30,$C$30/(Paraméterek!$C$5*4),0)","v":4957143.95},{"$f":"IF(SUM($B$29:Z29)<$C$30,$C$30/(Paraméterek!$C$5*4),0)","v":4957143.95},{"$f":"IF(SUM($B$29:AA29)<$C$30,$C$30/(Paraméterek!$C$5*4),0)","v":4957143.95},{"$f":"IF(SUM($B$29:AB29)<$C$30,$C$30/(Paraméterek!$C$5*4),0)","v":4957143.95},{"$f":"IF(SUM($B$29:AC29)<$C$30,$C$30/(Paraméterek!$C$5*4),0)","v":4957143.95},{"$f":"IF(SUM($B$29:AD29)<$C$30,$C$30/(Paraméterek!$C$5*4),0)","v":4957143.95},{"$f":"IF(SUM($B$29:AE29)<$C$30,$C$30/(Paraméterek!$C$5*4),0)","v":4957143.95},{"$f":"IF(SUM($B$29:AF29)<$C$30,$C$30/(Paraméterek!$C$5*4),0)","v":4957143.95},{"$f":"IF(SUM($B$29:AG29)<$C$30,$C$30/(Paraméterek!$C$5*4),0)","v":4957143.95},{"$f":"IF(SUM($B$29:AH29)<$C$30,$C$30/(Paraméterek!$C$5*4),0)","v":4957143.95},{"$f":"IF(SUM($B$29:AI29)<$C$30,$C$30/(Paraméterek!$C$5*4),0)","v":4957143.95},{"$f":"IF(SUM($B$29:AJ29)<$C$30,$C$30/(Paraméterek!$C$5*4),0)","v":4957143.95},{"$f":"IF(SUM($B$29:AK29)<$C$30,$C$30/(Paraméterek!$C$5*4),0)","v":4957143.95},{"$f":"IF(SUM($B$29:AL29)<$C$30,$C$30/(Paraméterek!$C$5*4),0)","v":4957143.95},{"$f":"IF(SUM($B$29:AM29)<$C$30,$C$30/(Paraméterek!$C$5*4),0)","v":4957143.95},{"$f":"IF(SUM($B$29:AN29)<$C$30,$C$30/(Paraméterek!$C$5*4),0)","v":4957143.95},{"$f":"IF(SUM($B$29:AO29)<$C$30,$C$30/(Paraméterek!$C$5*4),0)","v":4957143.95},{"$f":"IF(SUM($B$29:AP29)<$C$30,$C$30/(Paraméterek!$C$5*4),0)","v":4957143.95},{"$f":"IF(SUM($B$29:AQ29)<$C$30,$C$30/(Paraméterek!$C$5*4),0)","v":0},{"$f":"IF(SUM($B$29:AR29)<$C$30,$C$30/(Paraméterek!$C$5*4),0)","v":0},{"$f":"IF(SUM($B$29:AS29)<$C$30,$C$30/(Paraméterek!$C$5*4),0)","v":0},{"$f":"IF(SUM($B$29:AT29)<$C$30,$C$30/(Paraméterek!$C$5*4),0)","v":0},{"$f":"IF(SUM($B$29:AU29)<$C$30,$C$30/(Paraméterek!$C$5*4),0)","v":0},{"$f":"IF(SUM($B$29:AV29)<$C$30,$C$30/(Paraméterek!$C$5*4),0)","v":0},{"$f":"IF(SUM($B$29:AW29)<$C$30,$C$30/(Paraméterek!$C$5*4),0)","v":0},{"$f":"IF(SUM($B$29:AX29)<$C$30,$C$30/(Paraméterek!$C$5*4),0)","v":0},{"$f":"IF(SUM($B$29:AY29)<$C$30,$C$30/(Paraméterek!$C$5*4),0)","v":0},{"$f":"IF(SUM($B$29:AZ29)<$C$30,$C$30/(Paraméterek!$C$5*4),0)","v":0},{"$f":"IF(SUM($B$29:BA29)<$C$30,$C$30/(Paraméterek!$C$5*4),0)","v":0},{"$f":"IF(SUM($B$29:BB29)<$C$30,$C$30/(Paraméterek!$C$5*4),0)","v":0},{"$f":"IF(SUM($B$29:BC29)<$C$30,$C$30/(Paraméterek!$C$5*4),0)","v":0},{"$f":"IF(SUM($B$29:BD29)<$C$30,$C$30/(Paraméterek!$C$5*4),0)","v":0},{"$f":"IF(SUM($B$29:BE29)<$C$30,$C$30/(Paraméterek!$C$5*4),0)","v":0},{"$f":"IF(SUM($B$29:BF29)<$C$30,$C$30/(Paraméterek!$C$5*4),0)","v":0},{"$f":"IF(SUM($B$29:BG29)<$C$30,$C$30/(Paraméterek!$C$5*4),0)","v":0},{"$f":"IF(SUM($B$29:BH29)<$C$30,$C$30/(Paraméterek!$C$5*4),0)","v":0},{"$f":"IF(SUM($B$29:BI29)<$C$30,$C$30/(Paraméterek!$C$5*4),0)","v":0},{"$f":"IF(SUM($B$29:BJ29)<$C$30,$C$30/(Paraméterek!$C$5*4),0)","v":0},{"$f":"IF(SUM($B$29:BK29)<$C$30,$C$30/(Paraméterek!$C$5*4),0)","v":0},{"$f":"IF(SUM($B$29:BL29)<$C$30,$C$30/(Paraméterek!$C$5*4),0)","v":0},{"$f":"IF(SUM($B$29:BM29)<$C$30,$C$30/(Paraméterek!$C$5*4),0)","v":0},{"$f":"IF(SUM($B$29:BN29)<$C$30,$C$30/(Paraméterek!$C$5*4),0)","v":0},{"$f":"IF(SUM($B$29:BO29)<$C$30,$C$30/(Paraméterek!$C$5*4),0)","v":0},{"$f":"IF(SUM($B$29:BP29)<$C$30,$C$30/(Paraméterek!$C$5*4),0)","v":0},{"$f":"IF(SUM($B$29:BQ29)<$C$30,$C$30/(Paraméterek!$C$5*4),0)","v":0},{"$f":"IF(SUM($B$29:BR29)<$C$30,$C$30/(Paraméterek!$C$5*4),0)","v":0}]
["Tárgyi eszközök amortizált értéke",null,{"$f":"Paraméterek!E5","v":198285758},{"$f":"C30-D29","v":193328614.05000001},{"$f":"D30-E29","v":188371470.10000002},183414326.15000004,178457182.20000005,173500038.25000006,168542894.30000007,163585750.35000008,158628606.4000001,153671462.45000011,148714318.50000012,143757174.55000013,138800030.60000014,133842886.65000014,128885742.70000014,123928598.75000013,118971454.80000013,114014310.85000013,109057166.90000013,104100022.95000012,99142879.000000119,94185735.050000116,89228591.100000113,84271447.15000011,79314303.200000107,74357159.250000104,69400015.300000101,64442871.350000098,59485727.400000095,54528583.450000092,49571439.500000089,44614295.550000086,39657151.600000083,34700007.65000008,29742863.700000081,24785719.750000082,19828575.800000083,14871431.850000083,9914287.9000000842,4957143.950000084,8.3819031715393066E-8,8.3819031715393066E-8,8.3819031715393066E-8,8.3819031715393066E-8,8.3819031715393066E-8,8.3819031715393066E-8,8.3819031715393066E-8,8.3819031715393066E-8,8.3819031715393066E-8,8.3819031715393066E-8,8.3819031715393066E-8,8.3819031715393066E-8,8.3819031715393066E-8,8.3819031715393066E-8,8.3819031715393066E-8,8.3819031715393066E-8,8.3819031715393066E-8,8.3819031715393066E-8,8.3819031715393066E-8,8.3819031715393066E-8,8.3819031715393066E-8,8.3819031715393066E-8,8.3819031715393066E-8,8.3819031715393066E-8,8.3819031715393066E-8,8.3819031715393066E-8,{"$f":"BP30-BQ29","v":8.3819031715393066E-8},{"$f":"BQ30-BR29","v":8.3819031715393066E-8},{"$f":"BR30-BS29","v":8.3819031715393066E-8}]
["Ingatlan amortizált értéke",null,{"$f":"Paraméterek!E3","v":20000000},{"$f":"MAX(0,C$31-$C$31/(Paraméterek!$C$3*4))","v":19833333.333333332},{"$f":"MAX(0,D$31-$C$31/(Paraméterek!$C$3*4))","v":19666666.666666664},{"$f":"MAX(0,E$31-$C$31/(Paraméterek!$C$3*4))","v":19499999.999999996},{"$f":"MAX(0,F$31-$C$31/(Paraméterek!$C$3*4))","v":19333333.333333328},{"$f":"MAX(0,G$31-$C$31/(Paraméterek!$C$3*4))","v":19166666.66666666},{"$f":"MAX(0,H$31-$C$31/(Paraméterek!$C$3*4))","v":18999999.999999993},{"$f":"MAX(0,I$31-$C$31/(Paraméterek!$C$3*4))","v":18833333.333333325},{"$f":"MAX(0,J$31-$C$31/(Paraméterek!$C$3*4))","v":18666666.666666657},{"$f":"MAX(0,K$31-$C$31/(Paraméterek!$C$3*4))","v":18499999.999999989},{"$f":"MAX(0,L$31-$C$31/(Paraméterek!$C$3*4))","v":18333333.333333321},{"$f":"MAX(0,M$31-$C$31/(Paraméterek!$C$3*4))","v":18166666.666666653},{"$f":"MAX(0,N$31-$C$31/(Paraméterek!$C$3*4))","v":17999999.999999985},{"$f":"MAX(0,O$31-$C$31/(Paraméterek!$C$3*4))","v":17833333.333333317},{"$f":"MAX(0,P$31-$C$31/(Paraméterek!$C$3*4))","v":17666666.666666649},{"$f":"MAX(0,Q$31-$C$31/(Paraméterek!$C$3*4))","v":17499999.999999981},{"$f":"MAX(0,R$31-$C$31/(Paraméterek!$C$3*4))","v":17333333.333333313},{"$f":"MAX(0,S$31-$C$31/(Paraméterek!$C$3*4))","v":17166666.666666646},{"$f":"MAX(0,T$31-$C$31/(Paraméterek!$C$3*4))","v":16999999.999999978},{"$f":"MAX(0,U$31-$C$31/(Paraméterek!$C$3*4))","v":16833333.33333331},{"$f":"MAX(0,V$31-$C$31/(Paraméterek!$C$3*4))","v":16666666.666666644},{"$f":"MAX(0,W$31-$C$31/(Paraméterek!$C$3*4))","v":16499999.999999978},{"$f":"MAX(0,X$31-$C$31/(Paraméterek!$C$3*4))","v":16333333.333333312},{"$f":"MAX(0,Y$31-$C$31/(Paraméterek!$C$3*4))","v":16166666.666666646},{"$f":"MAX(0,Z$31-$C$31/(Paraméterek!$C$3*4))","v":15999999.99999998},{"$f":"MAX(0,AA$31-$C$31/(Paraméterek!$C$3*4))","v":15833333.333333313},{"$f":"MAX(0,AB$31-$C$31/(Paraméterek!$C$3*4))","v":15666666.666666647},{"$f":"MAX(0,AC$31-$C$31/(Paraméterek!$C$3*4))","v":15499999.999999981},{"$f":"MAX(0,AD$31-$C$31/(Paraméterek!$C$3*4))","v":15333333.333333315},{"$f":"MAX(0,AE$31-$C$31/(Paraméterek!$C$3*4))","v":15166666.666666649},{"$f":"MAX(0,AF$31-$C$31/(Paraméterek!$C$3*4))","v":14999999.999999983},{"$f":"MAX(0,AG$31-$C$31/(Paraméterek!$C$3*4))","v":14833333.333333317},{"$f":"MAX(0,AH$31-$C$31/(Paraméterek!$C$3*4))","v":14666666.666666651},{"$f":"MAX(0,AI$31-$C$31/(Paraméterek!$C$3*4))","v":14499999.999999985},{"$f":"MAX(0,AJ$31-$C$31/(Paraméterek!$C$3*4))","v":14333333.333333319},{"$f":"MAX(0,AK$31-$C$31/(Paraméterek!$C$3*4))","v":14166666.666666653},{"$f":"MAX(0,AL$31-$C$31/(Paraméterek!$C$3*4))","v":13999999.999999987},{"$f":"MAX(0,AM$31-$C$31/(Paraméterek!$C$3*4))","v":13833333.333333321},{"$f":"MAX(0,AN$31-$C$31/(Paraméterek!$C$3*4))","v":13666666.666666655},{"$f":"MAX(0,AO$31-$C$31/(Paraméterek!$C$3*4))","v":13499999.999999989},{"$f":"MAX(0,AP$31-$C$31/(Paraméterek!$C$3*4))","v":13333333.333333323},{"$f":"MAX(0,AQ$31-$C$31/(Paraméterek!$C$3*4))","v":13166666.666666657},{"$f":"MAX(0,AR$31-$C$31/(Paraméterek!$C$3*4))","v":12999999.999999991},{"$f":"MAX(0,AS$31-$C$31/(Paraméterek!$C$3*4))","v":12833333.333333325},{"$f":"MAX(0,AT$31-$C$31/(Paraméterek!$C$3*4))","v":12666666.666666659},{"$f":"MAX(0,AU$31-$C$31/(Paraméterek!$C$3*4))","v":12499999.999999993},{"$f":"MAX(0,AV$31-$C$31/(Paraméterek!$C$3*4))","v":12333333.333333327},{"$f":"MAX(0,AW$31-$C$31/(Paraméterek!$C$3*4))","v":12166666.66666666},{"$f":"MAX(0,AX$31-$C$31/(Paraméterek!$C$3*4))","v":11999999.999999994},{"$f":"MAX(0,AY$31-$C$31/(Paraméterek!$C$3*4))","v":11833333.333333328},{"$f":"MAX(0,AZ$31-$C$31/(Paraméterek!$C$3*4))","v":11666666.666666662},{"$f":"MAX(0,BA$31-$C$31/(Paraméterek!$C$3*4))","v":11499999.999999996},{"$f":"MAX(0,BB$31-$C$31/(Paraméterek!$C$3*4))","v":11333333.33333333},{"$f":"MAX(0,BC$31-$C$31/(Paraméterek!$C$3*4))","v":11166666.666666664},{"$f":"MAX(0,BD$31-$C$31/(Paraméterek!$C$3*4))","v":10999999.999999998},{"$f":"MAX(0,BE$31-$C$31/(Paraméterek!$C$3*4))","v":10833333.333333332},{"$f":"MAX(0,BF$31-$C$31/(Paraméterek!$C$3*4))","v":10666666.666666666},{"$f":"MAX(0,BG$31-$C$31/(Paraméterek!$C$3*4))","v":10500000},{"$f":"MAX(0,BH$31-$C$31/(Paraméterek!$C$3*4))","v":10333333.333333334},{"$f":"MAX(0,BI$31-$C$31/(Paraméterek!$C$3*4))","v":10166666.666666668},{"$f":"MAX(0,BJ$31-$C$31/(Paraméterek!$C$3*4))","v":10000000.000000002},{"$f":"MAX(0,BK$31-$C$31/(Paraméterek!$C$3*4))","v":9833333.3333333358},{"$f":"MAX(0,BL$31-$C$31/(Paraméterek!$C$3*4))","v":9666666.6666666698},{"$f":"MAX(0,BM$31-$C$31/(Paraméterek!$C$3*4))","v":9500000.0000000037},{"$f":"MAX(0,BN$31-$C$31/(Paraméterek!$C$3*4))","v":9333333.3333333377},{"$f":"MAX(0,BO$31-$C$31/(Paraméterek!$C$3*4))","v":9166666.6666666716},{"$f":"MAX(0,BP$31-$C$31/(Paraméterek!$C$3*4))","v":9000000.0000000056},{"$f":"MAX(0,BQ$31-$C$31/(Paraméterek!$C$3*4))","v":8833333.3333333395},{"$f":"MAX(0,BR$31-$C$31/(Paraméterek!$C$3*4))","v":8666666.6666666735}]
[null,null,null,null,null,null,null,null,null,null,null,null,null,null,null,null,null,null,null,null,null,null,null,null,null,null,null,null,null,null,null,null,null,null,null,null,null,null,null,null,null,null,null,null,null,null,null,null,null,null,null,null,null,null,null,null,null,null,null,null,null,null,null,null,null,null,null,null,null,null,null,"x"]
["Állami támogatás hitele (Forrásdeviza)",null,null,null,null,null,null,null,null,null,null,null,null,null,null,null,null,null,null,null,null,null,null,null,null,null,null,null,null,null,null,null,null,null,null,null,null,null,null,null,null,null,null,null,null,null,null,null,null,null,null,null,null,null,null,null,null,null,null,null,null,null,null,null,null,null,null,null,null,null,null,"x"]
["Negyedéves - Változó kamat",null,null,null,null,null,null,null,null,null,null,null,null,null,null,null,null,null,null,null,null,null,null,null,null,null,null,null,null,null,null,null,null,null,null,null,null,null,null,null,null,null,null,null,null,null,null,null,null,null,null,null,null,null,null,null,null,null,null,null,null,null,null,null,null,null,null,null,null,null,null,"x"]
["Törlesztőrészlet",null,null,{"$f":"D$36+D$38","v":1438529.7633749999},{"$f":"E$36+E$38","v":128828332.14225},0,0,0,0,0,0,0,0,0,0,0,0,0,0,0,0,0,0,0,0,0,0,0,0,0,0,0,0,0,0,0,0,0,0,0,0,0,0,0,0,0,0,0,0,0,0,0,0,0,0,0,0,0,0,0,0,0,0,0,0,0,0,0,{"$f":"BQ$36+BQ$38","v":0},{"$f":"BR$36+BR$38","v":{"$error":"#VALUE!"}},{"$f":"BS$36+BS$38","v":{"$error":"#VALUE!"}},"x"]
["Tőketörlesztés",null,null,{"$f":"IF(Paraméterek!$D$141=3,IF(AND(Paraméterek!$C$145>Negyedéves!C$1*3,Paraméterek!$C$145<Negyedéves!E$1*3-2),Negyedéves!$C$37,0),IF(Paraméterek!$D$141=1,IF(Paraméterek!$C$145/3>=Negyedéves!D$1,Paraméterek!$C$147*3,Paraméterek!$C$144-SUM($B$36:C$36)),IF(Paraméterek!$C$145/3>=Negyedéves!D$1,Paraméterek!$C$147,Paraméterek!$C$144-SUM($B$36:C$36))))","v":0},{"$f":"IF(Paraméterek!$D$141=3,IF(AND(Paraméterek!$C$145>Negyedéves!D$1*3,Paraméterek!$C$145<Negyedéves!F$1*3-2),Negyedéves!$C$37,0),IF(Paraméterek!$D$141=1,IF(Paraméterek!$C$145/3>=Negyedéves!E$1,Paraméterek!$C$147*3,Paraméterek!$C$144-SUM($B$36:D$36)),IF(Paraméterek!$C$145/3>=Negyedéves!E$1,Paraméterek!$C$147,Paraméterek!$C$144-SUM($B$36:D$36))))","v":127869312.3},{"$f":"IF(Paraméterek!$D$141=3,IF(AND(Paraméterek!$C$145>Negyedéves!E$1*3,Paraméterek!$C$145<Negyedéves!G$1*3-2),Negyedéves!$C$37,0),IF(Paraméterek!$D$141=1,IF(Paraméterek!$C$145/3>=Negyedéves!F$1,Paraméterek!$C$147*3,Paraméterek!$C$144-SUM($B$36:E$36)),IF(Paraméterek!$C$145/3>=Negyedéves!F$1,Paraméterek!$C$147,Paraméterek!$C$144-SUM($B$36:E$36))))","v":0},{"$f":"IF(Paraméterek!$D$141=3,IF(AND(Paraméterek!$C$145>Negyedéves!F$1*3,Paraméterek!$C$145<Negyedéves!H$1*3-2),Negyedéves!$C$37,0),IF(Paraméterek!$D$141=1,IF(Paraméterek!$C$145/3>=Negyedéves!G$1,Paraméterek!$C$147*3,Paraméterek!$C$144-SUM($B$36:F$36)),IF(Paraméterek!$C$145/3>=Negyedéves!G$1,Paraméterek!$C$147,Paraméterek!$C$144-SUM($B$36:F$36))))","v":0},{"$f":"IF(Paraméterek!$D$141=3,IF(AND(Paraméterek!$C$145>Negyedéves!G$1*3,Paraméterek!$C$145<Negyedéves!I$1*3-2),Negyedéves!$C$37,0),IF(Paraméterek!$D$141=1,IF(Paraméterek!$C$145/3>=Negyedéves!H$1,Paraméterek!$C$147*3,Paraméterek!$C$144-SUM($B$36:G$36)),IF(Paraméterek!$C$145/3>=Negyedéves!H$1,Paraméterek!$C$147,Paraméterek!$C$144-SUM($B$36:G$36))))","v":0},{"$f":"IF(Paraméterek!$D$141=3,IF(AND(Paraméterek!$C$145>Negyedéves!H$1*3,Paraméterek!$C$145<Negyedéves!J$1*3-2),Negyedéves!$C$37,0),IF(Paraméterek!$D$141=1,IF(Paraméterek!$C$145/3>=Negyedéves!I$1,Paraméterek!$C$147*3,Paraméterek!$C$144-SUM($B$36:H$36)),IF(Paraméterek!$C$145/3>=Negyedéves!I$1,Paraméterek!$C$147,Paraméterek!$C$144-SUM($B$36:H$36))))","v":0},{"$f":"IF(Paraméterek!$D$141=3,IF(AND(Paraméterek!$C$145>Negyedéves!I$1*3,Paraméterek!$C$145<Negyedéves!K$1*3-2),Negyedéves!$C$37,0),IF(Paraméterek!$D$141=1,IF(Paraméterek!$C$145/3>=Negyedéves!J$1,Paraméterek!$C$147*3,Paraméterek!$C$144-SUM($B$36:I$36)),IF(Paraméterek!$C$145/3>=Negyedéves!J$1,Paraméterek!$C$147,Paraméterek!$C$144-SUM($B$36:I$36))))","v":0},{"$f":"IF(Paraméterek!$D$141=3,IF(AND(Paraméterek!$C$145>Negyedéves!J$1*3,Paraméterek!$C$145<Negyedéves!L$1*3-2),Negyedéves!$C$37,0),IF(Paraméterek!$D$141=1,IF(Paraméterek!$C$145/3>=Negyedéves!K$1,Paraméterek!$C$147*3,Paraméterek!$C$144-SUM($B$36:J$36)),IF(Paraméterek!$C$145/3>=Negyedéves!K$1,Paraméterek!$C$147,Paraméterek!$C$144-SUM($B$36:J$36))))","v":0},{"$f":"IF(Paraméterek!$D$141=3,IF(AND(Paraméterek!$C$145>Negyedéves!K$1*3,Paraméterek!$C$145<Negyedéves!M$1*3-2),Negyedéves!$C$37,0),IF(Paraméterek!$D$141=1,IF(Paraméterek!$C$145/3>=Negyedéves!L$1,Paraméterek!$C$147*3,Paraméterek!$C$144-SUM($B$36:K$36)),IF(Paraméterek!$C$145/3>=Negyedéves!L$1,Paraméterek!$C$147,Paraméterek!$C$144-SUM($B$36:K$36))))","v":0},{"$f":"IF(Paraméterek!$D$141=3,IF(AND(Paraméterek!$C$145>Negyedéves!L$1*3,Paraméterek!$C$145<Negyedéves!N$1*3-2),Negyedéves!$C$37,0),IF(Paraméterek!$D$141=1,IF(Paraméterek!$C$145/3>=Negyedéves!M$1,Paraméterek!$C$147*3,Paraméterek!$C$144-SUM($B$36:L$36)),IF(Paraméterek!$C$145/3>=Negyedéves!M$1,Paraméterek!$C$147,Paraméterek!$C$144-SUM($B$36:L$36))))","v":0},{"$f":"IF(Paraméterek!$D$141=3,IF(AND(Paraméterek!$C$145>Negyedéves!M$1*3,Paraméterek!$C$145<Negyedéves!O$1*3-2),Negyedéves!$C$37,0),IF(Paraméterek!$D$141=1,IF(Paraméterek!$C$145/3>=Negyedéves!N$1,Paraméterek!$C$147*3,Paraméterek!$C$144-SUM($B$36:M$36)),IF(Paraméterek!$C$145/3>=Negyedéves!N$1,Paraméterek!$C$147,Paraméterek!$C$144-SUM($B$36:M$36))))","v":0},{"$f":"IF(Paraméterek!$D$141=3,IF(AND(Paraméterek!$C$145>Negyedéves!N$1*3,Paraméterek!$C$145<Negyedéves!P$1*3-2),Negyedéves!$C$37,0),IF(Paraméterek!$D$141=1,IF(Paraméterek!$C$145/3>=Negyedéves!O$1,Paraméterek!$C$147*3,Paraméterek!$C$144-SUM($B$36:N$36)),IF(Paraméterek!$C$145/3>=Negyedéves!O$1,Paraméterek!$C$147,Paraméterek!$C$144-SUM($B$36:N$36))))","v":0},{"$f":"IF(Paraméterek!$D$141=3,IF(AND(Paraméterek!$C$145>Negyedéves!O$1*3,Paraméterek!$C$145<Negyedéves!Q$1*3-2),Negyedéves!$C$37,0),IF(Paraméterek!$D$141=1,IF(Paraméterek!$C$145/3>=Negyedéves!P$1,Paraméterek!$C$147*3,Paraméterek!$C$144-SUM($B$36:O$36)),IF(Paraméterek!$C$145/3>=Negyedéves!P$1,Paraméterek!$C$147,Paraméterek!$C$144-SUM($B$36:O$36))))","v":0},{"$f":"IF(Paraméterek!$D$141=3,IF(AND(Paraméterek!$C$145>Negyedéves!P$1*3,Paraméterek!$C$145<Negyedéves!R$1*3-2),Negyedéves!$C$37,0),IF(Paraméterek!$D$141=1,IF(Paraméterek!$C$145/3>=Negyedéves!Q$1,Paraméterek!$C$147*3,Paraméterek!$C$144-SUM($B$36:P$36)),IF(Paraméterek!$C$145/3>=Negyedéves!Q$1,Paraméterek!$C$147,Paraméterek!$C$144-SUM($B$36:P$36))))","v":0},{"$f":"IF(Paraméterek!$D$141=3,IF(AND(Paraméterek!$C$145>Negyedéves!Q$1*3,Paraméterek!$C$145<Negyedéves!S$1*3-2),Negyedéves!$C$37,0),IF(Paraméterek!$D$141=1,IF(Paraméterek!$C$145/3>=Negyedéves!R$1,Paraméterek!$C$147*3,Paraméterek!$C$144-SUM($B$36:Q$36)),IF(Paraméterek!$C$145/3>=Negyedéves!R$1,Paraméterek!$C$147,Paraméterek!$C$144-SUM($B$36:Q$36))))","v":0},{"$f":"IF(Paraméterek!$D$141=3,IF(AND(Paraméterek!$C$145>Negyedéves!R$1*3,Paraméterek!$C$145<Negyedéves!T$1*3-2),Negyedéves!$C$37,0),IF(Paraméterek!$D$141=1,IF(Paraméterek!$C$145/3>=Negyedéves!S$1,Paraméterek!$C$147*3,Paraméterek!$C$144-SUM($B$36:R$36)),IF(Paraméterek!$C$145/3>=Negyedéves!S$1,Paraméterek!$C$147,Paraméterek!$C$144-SUM($B$36:R$36))))","v":0},{"$f":"IF(Paraméterek!$D$141=3,IF(AND(Paraméterek!$C$145>Negyedéves!S$1*3,Paraméterek!$C$145<Negyedéves!U$1*3-2),Negyedéves!$C$37,0),IF(Paraméterek!$D$141=1,IF(Paraméterek!$C$145/3>=Negyedéves!T$1,Paraméterek!$C$147*3,Paraméterek!$C$144-SUM($B$36:S$36)),IF(Paraméterek!$C$145/3>=Negyedéves!T$1,Paraméterek!$C$147,Paraméterek!$C$144-SUM($B$36:S$36))))","v":0},{"$f":"IF(Paraméterek!$D$141=3,IF(AND(Paraméterek!$C$145>Negyedéves!T$1*3,Paraméterek!$C$145<Negyedéves!V$1*3-2),Negyedéves!$C$37,0),IF(Paraméterek!$D$141=1,IF(Paraméterek!$C$145/3>=Negyedéves!U$1,Paraméterek!$C$147*3,Paraméterek!$C$144-SUM($B$36:T$36)),IF(Paraméterek!$C$145/3>=Negyedéves!U$1,Paraméterek!$C$147,Paraméterek!$C$144-SUM($B$36:T$36))))","v":0},{"$f":"IF(Paraméterek!$D$141=3,IF(AND(Paraméterek!$C$145>Negyedéves!U$1*3,Paraméterek!$C$145<Negyedéves!W$1*3-2),Negyedéves!$C$37,0),IF(Paraméterek!$D$141=1,IF(Paraméterek!$C$145/3>=Negyedéves!V$1,Paraméterek!$C$147*3,Paraméterek!$C$144-SUM($B$36:U$36)),IF(Paraméterek!$C$145/3>=Negyedéves!V$1,Paraméterek!$C$147,Paraméterek!$C$144-SUM($B$36:U$36))))","v":0},{"$f":"IF(Paraméterek!$D$141=3,IF(AND(Paraméterek!$C$145>Negyedéves!V$1*3,Paraméterek!$C$145<Negyedéves!X$1*3-2),Negyedéves!$C$37,0),IF(Paraméterek!$D$141=1,IF(Paraméterek!$C$145/3>=Negyedéves!W$1,Paraméterek!$C$147*3,Paraméterek!$C$144-SUM($B$36:V$36)),IF(Paraméterek!$C$145/3>=Negyedéves!W$1,Paraméterek!$C$147,Paraméterek!$C$144-SUM($B$36:V$36))))","v":0},{"$f":"IF(Paraméterek!$D$141=3,IF(AND(Paraméterek!$C$145>Negyedéves!W$1*3,Paraméterek!$C$145<Negyedéves!Y$1*3-2),Negyedéves!$C$37,0),IF(Paraméterek!$D$141=1,IF(Paraméterek!$C$145/3>=Negyedéves!X$1,Paraméterek!$C$147*3,Paraméterek!$C$144-SUM($B$36:W$36)),IF(Paraméterek!$C$145/3>=Negyedéves!X$1,Paraméterek!$C$147,Paraméterek!$C$144-SUM($B$36:W$36))))","v":0},{"$f":"IF(Paraméterek!$D$141=3,IF(AND(Paraméterek!$C$145>Negyedéves!X$1*3,Paraméterek!$C$145<Negyedéves!Z$1*3-2),Negyedéves!$C$37,0),IF(Paraméterek!$D$141=1,IF(Paraméterek!$C$145/3>=Negyedéves!Y$1,Paraméterek!$C$147*3,Paraméterek!$C$144-SUM($B$36:X$36)),IF(Paraméterek!$C$145/3>=Negyedéves!Y$1,Paraméterek!$C$147,Paraméterek!$C$144-SUM($B$36:X$36))))","v":0},{"$f":"IF(Paraméterek!$D$141=3,IF(AND(Paraméterek!$C$145>Negyedéves!Y$1*3,Paraméterek!$C$145<Negyedéves!AA$1*3-2),Negyedéves!$C$37,0),IF(Paraméterek!$D$141=1,IF(Paraméterek!$C$145/3>=Negyedéves!Z$1,Paraméterek!$C$147*3,Paraméterek!$C$144-SUM($B$36:Y$36)),IF(Paraméterek!$C$145/3>=Negyedéves!Z$1,Paraméterek!$C$147,Paraméterek!$C$144-SUM($B$36:Y$36))))","v":0},{"$f":"IF(Paraméterek!$D$141=3,IF(AND(Paraméterek!$C$145>Negyedéves!Z$1*3,Paraméterek!$C$145<Negyedéves!AB$1*3-2),Negyedéves!$C$37,0),IF(Paraméterek!$D$141=1,IF(Paraméterek!$C$145/3>=Negyedéves!AA$1,Paraméterek!$C$147*3,Paraméterek!$C$144-SUM($B$36:Z$36)),IF(Paraméterek!$C$145/3>=Negyedéves!AA$1,Paraméterek!$C$147,Paraméterek!$C$144-SUM($B$36:Z$36))))","v":0},{"$f":"IF(Paraméterek!$D$141=3,IF(AND(Paraméterek!$C$145>Negyedéves!AA$1*3,Paraméterek!$C$145<Negyedéves!AC$1*3-2),Negyedéves!$C$37,0),IF(Paraméterek!$D$141=1,IF(Paraméterek!$C$145/3>=Negyedéves!AB$1,Paraméterek!$C$147*3,Paraméterek!$C$144-SUM($B$36:AA$36)),IF(Paraméterek!$C$145/3>=Negyedéves!AB$1,Paraméterek!$C$147,Paraméterek!$C$144-SUM($B$36:AA$36))))","v":0},{"$f":"IF(Paraméterek!$D$141=3,IF(AND(Paraméterek!$C$145>Negyedéves!AB$1*3,Paraméterek!$C$145<Negyedéves!AD$1*3-2),Negyedéves!$C$37,0),IF(Paraméterek!$D$141=1,IF(Paraméterek!$C$145/3>=Negyedéves!AC$1,Paraméterek!$C$147*3,Paraméterek!$C$144-SUM($B$36:AB$36)),IF(Paraméterek!$C$145/3>=Negyedéves!AC$1,Paraméterek!$C$147,Paraméterek!$C$144-SUM($B$36:AB$36))))","v":0},{"$f":"IF(Paraméterek!$D$141=3,IF(AND(Paraméterek!$C$145>Negyedéves!AC$1*3,Paraméterek!$C$145<Negyedéves!AE$1*3-2),Negyedéves!$C$37,0),IF(Paraméterek!$D$141=1,IF(Paraméterek!$C$145/3>=Negyedéves!AD$1,Paraméterek!$C$147*3,Paraméterek!$C$144-SUM($B$36:AC$36)),IF(Paraméterek!$C$145/3>=Negyedéves!AD$1,Paraméterek!$C$147,Paraméterek!$C$144-SUM($B$36:AC$36))))","v":0},{"$f":"IF(Paraméterek!$D$141=3,IF(AND(Paraméterek!$C$145>Negyedéves!AD$1*3,Paraméterek!$C$145<Negyedéves!AF$1*3-2),Negyedéves!$C$37,0),IF(Paraméterek!$D$141=1,IF(Paraméterek!$C$145/3>=Negyedéves!AE$1,Paraméterek!$C$147*3,Paraméterek!$C$144-SUM($B$36:AD$36)),IF(Paraméterek!$C$145/3>=Negyedéves!AE$1,Paraméterek!$C$147,Paraméterek!$C$144-SUM($B$36:AD$36))))","v":0},{"$f":"IF(Paraméterek!$D$141=3,IF(AND(Paraméterek!$C$145>Negyedéves!AE$1*3,Paraméterek!$C$145<Negyedéves!AG$1*3-2),Negyedéves!$C$37,0),IF(Paraméterek!$D$141=1,IF(Paraméterek!$C$145/3>=Negyedéves!AF$1,Paraméterek!$C$147*3,Paraméterek!$C$144-SUM($B$36:AE$36)),IF(Paraméterek!$C$145/3>=Negyedéves!AF$1,Paraméterek!$C$147,Paraméterek!$C$144-SUM($B$36:AE$36))))","v":0},{"$f":"IF(Paraméterek!$D$141=3,IF(AND(Paraméterek!$C$145>Negyedéves!AF$1*3,Paraméterek!$C$145<Negyedéves!AH$1*3-2),Negyedéves!$C$37,0),IF(Paraméterek!$D$141=1,IF(Paraméterek!$C$145/3>=Negyedéves!AG$1,Paraméterek!$C$147*3,Paraméterek!$C$144-SUM($B$36:AF$36)),IF(Paraméterek!$C$145/3>=Negyedéves!AG$1,Paraméterek!$C$147,Paraméterek!$C$144-SUM($B$36:AF$36))))","v":0},{"$f":"IF(Paraméterek!$D$141=3,IF(AND(Paraméterek!$C$145>Negyedéves!AG$1*3,Paraméterek!$C$145<Negyedéves!AI$1*3-2),Negyedéves!$C$37,0),IF(Paraméterek!$D$141=1,IF(Paraméterek!$C$145/3>=Negyedéves!AH$1,Paraméterek!$C$147*3,Paraméterek!$C$144-SUM($B$36:AG$36)),IF(Paraméterek!$C$145/3>=Negyedéves!AH$1,Paraméterek!$C$147,Paraméterek!$C$144-SUM($B$36:AG$36))))","v":0},{"$f":"IF(Paraméterek!$D$141=3,IF(AND(Paraméterek!$C$145>Negyedéves!AH$1*3,Paraméterek!$C$145<Negyedéves!AJ$1*3-2),Negyedéves!$C$37,0),IF(Paraméterek!$D$141=1,IF(Paraméterek!$C$145/3>=Negyedéves!AI$1,Paraméterek!$C$147*3,Paraméterek!$C$144-SUM($B$36:AH$36)),IF(Paraméterek!$C$145/3>=Negyedéves!AI$1,Paraméterek!$C$147,Paraméterek!$C$144-SUM($B$36:AH$36))))","v":0},{"$f":"IF(Paraméterek!$D$141=3,IF(AND(Paraméterek!$C$145>Negyedéves!AI$1*3,Paraméterek!$C$145<Negyedéves!AK$1*3-2),Negyedéves!$C$37,0),IF(Paraméterek!$D$141=1,IF(Paraméterek!$C$145/3>=Negyedéves!AJ$1,Paraméterek!$C$147*3,Paraméterek!$C$144-SUM($B$36:AI$36)),IF(Paraméterek!$C$145/3>=Negyedéves!AJ$1,Paraméterek!$C$147,Paraméterek!$C$144-SUM($B$36:AI$36))))","v":0},{"$f":"IF(Paraméterek!$D$141=3,IF(AND(Paraméterek!$C$145>Negyedéves!AJ$1*3,Paraméterek!$C$145<Negyedéves!AL$1*3-2),Negyedéves!$C$37,0),IF(Paraméterek!$D$141=1,IF(Paraméterek!$C$145/3>=Negyedéves!AK$1,Paraméterek!$C$147*3,Paraméterek!$C$144-SUM($B$36:AJ$36)),IF(Paraméterek!$C$145/3>=Negyedéves!AK$1,Paraméterek!$C$147,Paraméterek!$C$144-SUM($B$36:AJ$36))))","v":0},{"$f":"IF(Paraméterek!$D$141=3,IF(AND(Paraméterek!$C$145>Negyedéves!AK$1*3,Paraméterek!$C$145<Negyedéves!AM$1*3-2),Negyedéves!$C$37,0),IF(Paraméterek!$D$141=1,IF(Paraméterek!$C$145/3>=Negyedéves!AL$1,Paraméterek!$C$147*3,Paraméterek!$C$144-SUM($B$36:AK$36)),IF(Paraméterek!$C$145/3>=Negyedéves!AL$1,Paraméterek!$C$147,Paraméterek!$C$144-SUM($B$36:AK$36))))","v":0},{"$f":"IF(Paraméterek!$D$141=3,IF(AND(Paraméterek!$C$145>Negyedéves!AL$1*3,Paraméterek!$C$145<Negyedéves!AN$1*3-2),Negyedéves!$C$37,0),IF(Paraméterek!$D$141=1,IF(Paraméterek!$C$145/3>=Negyedéves!AM$1,Paraméterek!$C$147*3,Paraméterek!$C$144-SUM($B$36:AL$36)),IF(Paraméterek!$C$145/3>=Negyedéves!AM$1,Paraméterek!$C$147,Paraméterek!$C$144-SUM($B$36:AL$36))))","v":0},{"$f":"IF(Paraméterek!$D$141=3,IF(AND(Paraméterek!$C$145>Negyedéves!AM$1*3,Paraméterek!$C$145<Negyedéves!AO$1*3-2),Negyedéves!$C$37,0),IF(Paraméterek!$D$141=1,IF(Paraméterek!$C$145/3>=Negyedéves!AN$1,Paraméterek!$C$147*3,Paraméterek!$C$144-SUM($B$36:AM$36)),IF(Paraméterek!$C$145/3>=Negyedéves!AN$1,Paraméterek!$C$147,Paraméterek!$C$144-SUM($B$36:AM$36))))","v":0},{"$f":"IF(Paraméterek!$D$141=3,IF(AND(Paraméterek!$C$145>Negyedéves!AN$1*3,Paraméterek!$C$145<Negyedéves!AP$1*3-2),Negyedéves!$C$37,0),IF(Paraméterek!$D$141=1,IF(Paraméterek!$C$145/3>=Negyedéves!AO$1,Paraméterek!$C$147*3,Paraméterek!$C$144-SUM($B$36:AN$36)),IF(Paraméterek!$C$145/3>=Negyedéves!AO$1,Paraméterek!$C$147,Paraméterek!$C$144-SUM($B$36:AN$36))))","v":0},{"$f":"IF(Paraméterek!$D$141=3,IF(AND(Paraméterek!$C$145>Negyedéves!AO$1*3,Paraméterek!$C$145<Negyedéves!AQ$1*3-2),Negyedéves!$C$37,0),IF(Paraméterek!$D$141=1,IF(Paraméterek!$C$145/3>=Negyedéves!AP$1,Paraméterek!$C$147*3,Paraméterek!$C$144-SUM($B$36:AO$36)),IF(Paraméterek!$C$145/3>=Negyedéves!AP$1,Paraméterek!$C$147,Paraméterek!$C$144-SUM($B$36:AO$36))))","v":0},{"$f":"IF(Paraméterek!$D$141=3,IF(AND(Paraméterek!$C$145>Negyedéves!AP$1*3,Paraméterek!$C$145<Negyedéves!AR$1*3-2),Negyedéves!$C$37,0),IF(Paraméterek!$D$141=1,IF(Paraméterek!$C$145/3>=Negyedéves!AQ$1,Paraméterek!$C$147*3,Paraméterek!$C$144-SUM($B$36:AP$36)),IF(Paraméterek!$C$145/3>=Negyedéves!AQ$1,Paraméterek!$C$147,Paraméterek!$C$144-SUM($B$36:AP$36))))","v":0},{"$f":"IF(Paraméterek!$D$141=3,IF(AND(Paraméterek!$C$145>Negyedéves!AQ$1*3,Paraméterek!$C$145<Negyedéves!AS$1*3-2),Negyedéves!$C$37,0),IF(Paraméterek!$D$141=1,IF(Paraméterek!$C$145/3>=Negyedéves!AR$1,Paraméterek!$C$147*3,Paraméterek!$C$144-SUM($B$36:AQ$36)),IF(Paraméterek!$C$145/3>=Negyedéves!AR$1,Paraméterek!$C$147,Paraméterek!$C$144-SUM($B$36:AQ$36))))","v":0},{"$f":"IF(Paraméterek!$D$141=3,IF(AND(Paraméterek!$C$145>Negyedéves!AR$1*3,Paraméterek!$C$145<Negyedéves!AT$1*3-2),Negyedéves!$C$37,0),IF(Paraméterek!$D$141=1,IF(Paraméterek!$C$145/3>=Negyedéves!AS$1,Paraméterek!$C$147*3,Paraméterek!$C$144-SUM($B$36:AR$36)),IF(Paraméterek!$C$145/3>=Negyedéves!AS$1,Paraméterek!$C$147,Paraméterek!$C$144-SUM($B$36:AR$36))))","v":0},{"$f":"IF(Paraméterek!$D$141=3,IF(AND(Paraméterek!$C$145>Negyedéves!AS$1*3,Paraméterek!$C$145<Negyedéves!AU$1*3-2),Negyedéves!$C$37,0),IF(Paraméterek!$D$141=1,IF(Paraméterek!$C$145/3>=Negyedéves!AT$1,Paraméterek!$C$147*3,Paraméterek!$C$144-SUM($B$36:AS$36)),IF(Paraméterek!$C$145/3>=Negyedéves!AT$1,Paraméterek!$C$147,Paraméterek!$C$144-SUM($B$36:AS$36))))","v":0},{"$f":"IF(Paraméterek!$D$141=3,IF(AND(Paraméterek!$C$145>Negyedéves!AT$1*3,Paraméterek!$C$145<Negyedéves!AV$1*3-2),Negyedéves!$C$37,0),IF(Paraméterek!$D$141=1,IF(Paraméterek!$C$145/3>=Negyedéves!AU$1,Paraméterek!$C$147*3,Paraméterek!$C$144-SUM($B$36:AT$36)),IF(Paraméterek!$C$145/3>=Negyedéves!AU$1,Paraméterek!$C$147,Paraméterek!$C$144-SUM($B$36:AT$36))))","v":0},{"$f":"IF(Paraméterek!$D$141=3,IF(AND(Paraméterek!$C$145>Negyedéves!AU$1*3,Paraméterek!$C$145<Negyedéves!AW$1*3-2),Negyedéves!$C$37,0),IF(Paraméterek!$D$141=1,IF(Paraméterek!$C$145/3>=Negyedéves!AV$1,Paraméterek!$C$147*3,Paraméterek!$C$144-SUM($B$36:AU$36)),IF(Paraméterek!$C$145/3>=Negyedéves!AV$1,Paraméterek!$C$147,Paraméterek!$C$144-SUM($B$36:AU$36))))","v":0},{"$f":"IF(Paraméterek!$D$141=3,IF(AND(Paraméterek!$C$145>Negyedéves!AV$1*3,Paraméterek!$C$145<Negyedéves!AX$1*3-2),Negyedéves!$C$37,0),IF(Paraméterek!$D$141=1,IF(Paraméterek!$C$145/3>=Negyedéves!AW$1,Paraméterek!$C$147*3,Paraméterek!$C$144-SUM($B$36:AV$36)),IF(Paraméterek!$C$145/3>=Negyedéves!AW$1,Paraméterek!$C$147,Paraméterek!$C$144-SUM($B$36:AV$36))))","v":0},{"$f":"IF(Paraméterek!$D$141=3,IF(AND(Paraméterek!$C$145>Negyedéves!AW$1*3,Paraméterek!$C$145<Negyedéves!AY$1*3-2),Negyedéves!$C$37,0),IF(Paraméterek!$D$141=1,IF(Paraméterek!$C$145/3>=Negyedéves!AX$1,Paraméterek!$C$147*3,Paraméterek!$C$144-SUM($B$36:AW$36)),IF(Paraméterek!$C$145/3>=Negyedéves!AX$1,Paraméterek!$C$147,Paraméterek!$C$144-SUM($B$36:AW$36))))","v":0},{"$f":"IF(Paraméterek!$D$141=3,IF(AND(Paraméterek!$C$145>Negyedéves!AX$1*3,Paraméterek!$C$145<Negyedéves!AZ$1*3-2),Negyedéves!$C$37,0),IF(Paraméterek!$D$141=1,IF(Paraméterek!$C$145/3>=Negyedéves!AY$1,Paraméterek!$C$147*3,Paraméterek!$C$144-SUM($B$36:AX$36)),IF(Paraméterek!$C$145/3>=Negyedéves!AY$1,Paraméterek!$C$147,Paraméterek!$C$144-SUM($B$36:AX$36))))","v":0},{"$f":"IF(Paraméterek!$D$141=3,IF(AND(Paraméterek!$C$145>Negyedéves!AY$1*3,Paraméterek!$C$145<Negyedéves!BA$1*3-2),Negyedéves!$C$37,0),IF(Paraméterek!$D$141=1,IF(Paraméterek!$C$145/3>=Negyedéves!AZ$1,Paraméterek!$C$147*3,Paraméterek!$C$144-SUM($B$36:AY$36)),IF(Paraméterek!$C$145/3>=Negyedéves!AZ$1,Paraméterek!$C$147,Paraméterek!$C$144-SUM($B$36:AY$36))))","v":0},{"$f":"IF(Paraméterek!$D$141=3,IF(AND(Paraméterek!$C$145>Negyedéves!AZ$1*3,Paraméterek!$C$145<Negyedéves!BB$1*3-2),Negyedéves!$C$37,0),IF(Paraméterek!$D$141=1,IF(Paraméterek!$C$145/3>=Negyedéves!BA$1,Paraméterek!$C$147*3,Paraméterek!$C$144-SUM($B$36:AZ$36)),IF(Paraméterek!$C$145/3>=Negyedéves!BA$1,Paraméterek!$C$147,Paraméterek!$C$144-SUM($B$36:AZ$36))))","v":0},{"$f":"IF(Paraméterek!$D$141=3,IF(AND(Paraméterek!$C$145>Negyedéves!BA$1*3,Paraméterek!$C$145<Negyedéves!BC$1*3-2),Negyedéves!$C$37,0),IF(Paraméterek!$D$141=1,IF(Paraméterek!$C$145/3>=Negyedéves!BB$1,Paraméterek!$C$147*3,Paraméterek!$C$144-SUM($B$36:BA$36)),IF(Paraméterek!$C$145/3>=Negyedéves!BB$1,Paraméterek!$C$147,Paraméterek!$C$144-SUM($B$36:BA$36))))","v":0},{"$f":"IF(Paraméterek!$D$141=3,IF(AND(Paraméterek!$C$145>Negyedéves!BB$1*3,Paraméterek!$C$145<Negyedéves!BD$1*3-2),Negyedéves!$C$37,0),IF(Paraméterek!$D$141=1,IF(Paraméterek!$C$145/3>=Negyedéves!BC$1,Paraméterek!$C$147*3,Paraméterek!$C$144-SUM($B$36:BB$36)),IF(Paraméterek!$C$145/3>=Negyedéves!BC$1,Paraméterek!$C$147,Paraméterek!$C$144-SUM($B$36:BB$36))))","v":0},{"$f":"IF(Paraméterek!$D$141=3,IF(AND(Paraméterek!$C$145>Negyedéves!BC$1*3,Paraméterek!$C$145<Negyedéves!BE$1*3-2),Negyedéves!$C$37,0),IF(Paraméterek!$D$141=1,IF(Paraméterek!$C$145/3>=Negyedéves!BD$1,Paraméterek!$C$147*3,Paraméterek!$C$144-SUM($B$36:BC$36)),IF(Paraméterek!$C$145/3>=Negyedéves!BD$1,Paraméterek!$C$147,Paraméterek!$C$144-SUM($B$36:BC$36))))","v":0},{"$f":"IF(Paraméterek!$D$141=3,IF(AND(Paraméterek!$C$145>Negyedéves!BD$1*3,Paraméterek!$C$145<Negyedéves!BF$1*3-2),Negyedéves!$C$37,0),IF(Paraméterek!$D$141=1,IF(Paraméterek!$C$145/3>=Negyedéves!BE$1,Paraméterek!$C$147*3,Paraméterek!$C$144-SUM($B$36:BD$36)),IF(Paraméterek!$C$145/3>=Negyedéves!BE$1,Paraméterek!$C$147,Paraméterek!$C$144-SUM($B$36:BD$36))))","v":0},{"$f":"IF(Paraméterek!$D$141=3,IF(AND(Paraméterek!$C$145>Negyedéves!BE$1*3,Paraméterek!$C$145<Negyedéves!BG$1*3-2),Negyedéves!$C$37,0),IF(Paraméterek!$D$141=1,IF(Paraméterek!$C$145/3>=Negyedéves!BF$1,Paraméterek!$C$147*3,Paraméterek!$C$144-SUM($B$36:BE$36)),IF(Paraméterek!$C$145/3>=Negyedéves!BF$1,Paraméterek!$C$147,Paraméterek!$C$144-SUM($B$36:BE$36))))","v":0},{"$f":"IF(Paraméterek!$D$141=3,IF(AND(Paraméterek!$C$145>Negyedéves!BF$1*3,Paraméterek!$C$145<Negyedéves!BH$1*3-2),Negyedéves!$C$37,0),IF(Paraméterek!$D$141=1,IF(Paraméterek!$C$145/3>=Negyedéves!BG$1,Paraméterek!$C$147*3,Paraméterek!$C$144-SUM($B$36:BF$36)),IF(Paraméterek!$C$145/3>=Negyedéves!BG$1,Paraméterek!$C$147,Paraméterek!$C$144-SUM($B$36:BF$36))))","v":0},{"$f":"IF(Paraméterek!$D$141=3,IF(AND(Paraméterek!$C$145>Negyedéves!BG$1*3,Paraméterek!$C$145<Negyedéves!BI$1*3-2),Negyedéves!$C$37,0),IF(Paraméterek!$D$141=1,IF(Paraméterek!$C$145/3>=Negyedéves!BH$1,Paraméterek!$C$147*3,Paraméterek!$C$144-SUM($B$36:BG$36)),IF(Paraméterek!$C$145/3>=Negyedéves!BH$1,Paraméterek!$C$147,Paraméterek!$C$144-SUM($B$36:BG$36))))","v":0},{"$f":"IF(Paraméterek!$D$141=3,IF(AND(Paraméterek!$C$145>Negyedéves!BH$1*3,Paraméterek!$C$145<Negyedéves!BJ$1*3-2),Negyedéves!$C$37,0),IF(Paraméterek!$D$141=1,IF(Paraméterek!$C$145/3>=Negyedéves!BI$1,Paraméterek!$C$147*3,Paraméterek!$C$144-SUM($B$36:BH$36)),IF(Paraméterek!$C$145/3>=Negyedéves!BI$1,Paraméterek!$C$147,Paraméterek!$C$144-SUM($B$36:BH$36))))","v":0},{"$f":"IF(Paraméterek!$D$141=3,IF(AND(Paraméterek!$C$145>Negyedéves!BI$1*3,Paraméterek!$C$145<Negyedéves!BK$1*3-2),Negyedéves!$C$37,0),IF(Paraméterek!$D$141=1,IF(Paraméterek!$C$145/3>=Negyedéves!BJ$1,Paraméterek!$C$147*3,Paraméterek!$C$144-SUM($B$36:BI$36)),IF(Paraméterek!$C$145/3>=Negyedéves!BJ$1,Paraméterek!$C$147,Paraméterek!$C$144-SUM($B$36:BI$36))))","v":0},{"$f":"IF(Paraméterek!$D$141=3,IF(AND(Paraméterek!$C$145>Negyedéves!BJ$1*3,Paraméterek!$C$145<Negyedéves!BL$1*3-2),Negyedéves!$C$37,0),IF(Paraméterek!$D$141=1,IF(Paraméterek!$C$145/3>=Negyedéves!BK$1,Paraméterek!$C$147*3,Paraméterek!$C$144-SUM($B$36:BJ$36)),IF(Paraméterek!$C$145/3>=Negyedéves!BK$1,Paraméterek!$C$147,Paraméterek!$C$144-SUM($B$36:BJ$36))))","v":0},{"$f":"IF(Paraméterek!$D$141=3,IF(AND(Paraméterek!$C$145>Negyedéves!BK$1*3,Paraméterek!$C$145<Negyedéves!BM$1*3-2),Negyedéves!$C$37,0),IF(Paraméterek!$D$141=1,IF(Paraméterek!$C$145/3>=Negyedéves!BL$1,Paraméterek!$C$147*3,Paraméterek!$C$144-SUM($B$36:BK$36)),IF(Paraméterek!$C$145/3>=Negyedéves!BL$1,Paraméterek!$C$147,Paraméterek!$C$144-SUM($B$36:BK$36))))","v":0},{"$f":"IF(Paraméterek!$D$141=3,IF(AND(Paraméterek!$C$145>Negyedéves!BL$1*3,Paraméterek!$C$145<Negyedéves!BN$1*3-2),Negyedéves!$C$37,0),IF(Paraméterek!$D$141=1,IF(Paraméterek!$C$145/3>=Negyedéves!BM$1,Paraméterek!$C$147*3,Paraméterek!$C$144-SUM($B$36:BL$36)),IF(Paraméterek!$C$145/3>=Negyedéves!BM$1,Paraméterek!$C$147,Paraméterek!$C$144-SUM($B$36:BL$36))))","v":0},{"$f":"IF(Paraméterek!$D$141=3,IF(AND(Paraméterek!$C$145>Negyedéves!BM$1*3,Paraméterek!$C$145<Negyedéves!BO$1*3-2),Negyedéves!$C$37,0),IF(Paraméterek!$D$141=1,IF(Paraméterek!$C$145/3>=Negyedéves!BN$1,Paraméterek!$C$147*3,Paraméterek!$C$144-SUM($B$36:BM$36)),IF(Paraméterek!$C$145/3>=Negyedéves!BN$1,Paraméterek!$C$147,Paraméterek!$C$144-SUM($B$36:BM$36))))","v":0},{"$f":"IF(Paraméterek!$D$141=3,IF(AND(Paraméterek!$C$145>Negyedéves!BN$1*3,Paraméterek!$C$145<Negyedéves!BP$1*3-2),Negyedéves!$C$37,0),IF(Paraméterek!$D$141=1,IF(Paraméterek!$C$145/3>=Negyedéves!BO$1,Paraméterek!$C$147*3,Paraméterek!$C$144-SUM($B$36:BN$36)),IF(Paraméterek!$C$145/3>=Negyedéves!BO$1,Paraméterek!$C$147,Paraméterek!$C$144-SUM($B$36:BN$36))))","v":0},{"$f":"IF(Paraméterek!$D$141=3,IF(AND(Paraméterek!$C$145>Negyedéves!BO$1*3,Paraméterek!$C$145<Negyedéves!BQ$1*3-2),Negyedéves!$C$37,0),IF(Paraméterek!$D$141=1,IF(Paraméterek!$C$145/3>=Negyedéves!BP$1,Paraméterek!$C$147*3,Paraméterek!$C$144-SUM($B$36:BO$36)),IF(Paraméterek!$C$145/3>=Negyedéves!BP$1,Paraméterek!$C$147,Paraméterek!$C$144-SUM($B$36:BO$36))))","v":0},{"$f":"IF(Paraméterek!$D$141=3,IF(AND(Paraméterek!$C$145>Negyedéves!BP$1*3,Paraméterek!$C$145<Negyedéves!BR$1*3-2),Negyedéves!$C$37,0),IF(Paraméterek!$D$141=1,IF(Paraméterek!$C$145/3>=Negyedéves!BQ$1,Paraméterek!$C$147*3,Paraméterek!$C$144-SUM($B$36:BP$36)),IF(Paraméterek!$C$145/3>=Negyedéves!BQ$1,Paraméterek!$C$147,Paraméterek!$C$144-SUM($B$36:BP$36))))","v":0},{"$f":"IF(Paraméterek!$D$141=3,IF(AND(Paraméterek!$C$145>Negyedéves!BQ$1*3,Paraméterek!$C$145<Negyedéves!BS$1*3-2),Negyedéves!$C$37,0),IF(Paraméterek!$D$141=1,IF(Paraméterek!$C$145/3>=Negyedéves!BR$1,Paraméterek!$C$147*3,Paraméterek!$C$144-SUM($B$36:BQ$36)),IF(Paraméterek!$C$145/3>=Negyedéves!BR$1,Paraméterek!$C$147,Paraméterek!$C$144-SUM($B$36:BQ$36))))","v":0},{"$f":"IF(Paraméterek!$D$141=3,IF(AND(Paraméterek!$C$145>Negyedéves!BR$1*3,Paraméterek!$C$145<Negyedéves!BT$1*3-2),Negyedéves!$C$37,0),IF(Paraméterek!$D$141=1,IF(Paraméterek!$C$145/3>=Negyedéves!BS$1,Paraméterek!$C$147*3,Paraméterek!$C$144-SUM($B$36:BR$36)),IF(Paraméterek!$C$145/3>=Negyedéves!BS$1,Paraméterek!$C$147,Paraméterek!$C$144-SUM($B$36:BR$36))))","v":{"$error":"#VALUE!"}},"x"]
["Tőketartozás",0,{"$f":"Paraméterek!$C$144","v":127869312.3},{"$f":"C$37-D$36","v":127869312.3},{"$f":"D$37-E$36","v":0},0,0,0,0,0,0,0,0,0,0,0,0,0,0,0,0,0,0,0,0,0,0,0,0,0,0,0,0,0,0,0,0,0,0,0,0,0,0,0,0,0,0,0,0,0,0,0,0,0,0,0,0,0,0,0,0,0,0,0,0,0,0,0,{"$f":"BP$37-BQ$36","v":0},{"$f":"BQ$37-BR$36","v":0},{"$f":"BR$37-BS$36","v":{"$error":"#VALUE!"}},"x"]
["Kamattörlesztés",null,null,{"$f":"C$37*D$7*IF(AND(E$36=0,D$36<>0),(3-(D$1*3-Paraméterek!$C$145))/3,1)","v":1438529.7633749999},{"$f":"D$37*E$7*IF(AND(F$36=0,E$36<>0),(3-(E$1*3-Paraméterek!$C$145))/3,1)","v":959019.84224999987},{"$f":"E$37*F$7*IF(AND(G$36=0,F$36<>0),(3-(F$1*3-Paraméterek!$C$145))/3,1)","v":0},{"$f":"F$37*G$7*IF(AND(H$36=0,G$36<>0),(3-(G$1*3-Paraméterek!$C$145))/3,1)","v":0},{"$f":"G$37*H$7*IF(AND(I$36=0,H$36<>0),(3-(H$1*3-Paraméterek!$C$145))/3,1)","v":0},{"$f":"H$37*I$7*IF(AND(J$36=0,I$36<>0),(3-(I$1*3-Paraméterek!$C$145))/3,1)","v":0},{"$f":"I$37*J$7*IF(AND(K$36=0,J$36<>0),(3-(J$1*3-Paraméterek!$C$145))/3,1)","v":0},{"$f":"J$37*K$7*IF(AND(L$36=0,K$36<>0),(3-(K$1*3-Paraméterek!$C$145))/3,1)","v":0},{"$f":"K$37*L$7*IF(AND(M$36=0,L$36<>0),(3-(L$1*3-Paraméterek!$C$145))/3,1)","v":0},{"$f":"L$37*M$7*IF(AND(N$36=0,M$36<>0),(3-(M$1*3-Paraméterek!$C$145))/3,1)","v":0},{"$f":"M$37*N$7*IF(AND(O$36=0,N$36<>0),(3-(N$1*3-Paraméterek!$C$145))/3,1)","v":0},{"$f":"N$37*O$7*IF(AND(P$36=0,O$36<>0),(3-(O$1*3-Paraméterek!$C$145))/3,1)","v":0},{"$f":"O$37*P$7*IF(AND(Q$36=0,P$36<>0),(3-(P$1*3-Paraméterek!$C$145))/3,1)","v":0},{"$f":"P$37*Q$7*IF(AND(R$36=0,Q$36<>0),(3-(Q$1*3-Paraméterek!$C$145))/3,1)","v":0},{"$f":"Q$37*R$7*IF(AND(S$36=0,R$36<>0),(3-(R$1*3-Paraméterek!$C$145))/3,1)","v":0},{"$f":"R$37*S$7*IF(AND(T$36=0,S$36<>0),(3-(S$1*3-Paraméterek!$C$145))/3,1)","v":0},{"$f":"S$37*T$7*IF(AND(U$36=0,T$36<>0),(3-(T$1*3-Paraméterek!$C$145))/3,1)","v":0},{"$f":"T$37*U$7*IF(AND(V$36=0,U$36<>0),(3-(U$1*3-Paraméterek!$C$145))/3,1)","v":0},{"$f":"U$37*V$7*IF(AND(W$36=0,V$36<>0),(3-(V$1*3-Paraméterek!$C$145))/3,1)","v":0},{"$f":"V$37*W$7*IF(AND(X$36=0,W$36<>0),(3-(W$1*3-Paraméterek!$C$145))/3,1)","v":0},{"$f":"W$37*X$7*IF(AND(Y$36=0,X$36<>0),(3-(X$1*3-Paraméterek!$C$145))/3,1)","v":0},{"$f":"X$37*Y$7*IF(AND(Z$36=0,Y$36<>0),(3-(Y$1*3-Paraméterek!$C$145))/3,1)","v":0},{"$f":"Y$37*Z$7*IF(AND(AA$36=0,Z$36<>0),(3-(Z$1*3-Paraméterek!$C$145))/3,1)","v":0},{"$f":"Z$37*AA$7*IF(AND(AB$36=0,AA$36<>0),(3-(AA$1*3-Paraméterek!$C$145))/3,1)","v":0},{"$f":"AA$37*AB$7*IF(AND(AC$36=0,AB$36<>0),(3-(AB$1*3-Paraméterek!$C$145))/3,1)","v":0},{"$f":"AB$37*AC$7*IF(AND(AD$36=0,AC$36<>0),(3-(AC$1*3-Paraméterek!$C$145))/3,1)","v":0},{"$f":"AC$37*AD$7*IF(AND(AE$36=0,AD$36<>0),(3-(AD$1*3-Paraméterek!$C$145))/3,1)","v":0},{"$f":"AD$37*AE$7*IF(AND(AF$36=0,AE$36<>0),(3-(AE$1*3-Paraméterek!$C$145))/3,1)","v":0},{"$f":"AE$37*AF$7*IF(AND(AG$36=0,AF$36<>0),(3-(AF$1*3-Paraméterek!$C$145))/3,1)","v":0},{"$f":"AF$37*AG$7*IF(AND(AH$36=0,AG$36<>0),(3-(AG$1*3-Paraméterek!$C$145))/3,1)","v":0},{"$f":"AG$37*AH$7*IF(AND(AI$36=0,AH$36<>0),(3-(AH$1*3-Paraméterek!$C$145))/3,1)","v":0},{"$f":"AH$37*AI$7*IF(AND(AJ$36=0,AI$36<>0),(3-(AI$1*3-Paraméterek!$C$145))/3,1)","v":0},{"$f":"AI$37*AJ$7*IF(AND(AK$36=0,AJ$36<>0),(3-(AJ$1*3-Paraméterek!$C$145))/3,1)","v":0},{"$f":"AJ$37*AK$7*IF(AND(AL$36=0,AK$36<>0),(3-(AK$1*3-Paraméterek!$C$145))/3,1)","v":0},{"$f":"AK$37*AL$7*IF(AND(AM$36=0,AL$36<>0),(3-(AL$1*3-Paraméterek!$C$145))/3,1)","v":0},{"$f":"AL$37*AM$7*IF(AND(AN$36=0,AM$36<>0),(3-(AM$1*3-Paraméterek!$C$145))/3,1)","v":0},{"$f":"AM$37*AN$7*IF(AND(AO$36=0,AN$36<>0),(3-(AN$1*3-Paraméterek!$C$145))/3,1)","v":0},{"$f":"AN$37*AO$7*IF(AND(AP$36=0,AO$36<>0),(3-(AO$1*3-Paraméterek!$C$145))/3,1)","v":0},{"$f":"AO$37*AP$7*IF(AND(AQ$36=0,AP$36<>0),(3-(AP$1*3-Paraméterek!$C$145))/3,1)","v":0},{"$f":"AP$37*AQ$7*IF(AND(AR$36=0,AQ$36<>0),(3-(AQ$1*3-Paraméterek!$C$145))/3,1)","v":0},{"$f":"AQ$37*AR$7*IF(AND(AS$36=0,AR$36<>0),(3-(AR$1*3-Paraméterek!$C$145))/3,1)","v":0},{"$f":"AR$37*AS$7*IF(AND(AT$36=0,AS$36<>0),(3-(AS$1*3-Paraméterek!$C$145))/3,1)","v":0},{"$f":"AS$37*AT$7*IF(AND(AU$36=0,AT$36<>0),(3-(AT$1*3-Paraméterek!$C$145))/3,1)","v":0},{"$f":"AT$37*AU$7*IF(AND(AV$36=0,AU$36<>0),(3-(AU$1*3-Paraméterek!$C$145))/3,1)","v":0},{"$f":"AU$37*AV$7*IF(AND(AW$36=0,AV$36<>0),(3-(AV$1*3-Paraméterek!$C$145))/3,1)","v":0},{"$f":"AV$37*AW$7*IF(AND(AX$36=0,AW$36<>0),(3-(AW$1*3-Paraméterek!$C$145))/3,1)","v":0},{"$f":"AW$37*AX$7*IF(AND(AY$36=0,AX$36<>0),(3-(AX$1*3-Paraméterek!$C$145))/3,1)","v":0},{"$f":"AX$37*AY$7*IF(AND(AZ$36=0,AY$36<>0),(3-(AY$1*3-Paraméterek!$C$145))/3,1)","v":0},{"$f":"AY$37*AZ$7*IF(AND(BA$36=0,AZ$36<>0),(3-(AZ$1*3-Paraméterek!$C$145))/3,1)","v":0},{"$f":"AZ$37*BA$7*IF(AND(BB$36=0,BA$36<>0),(3-(BA$1*3-Paraméterek!$C$145))/3,1)","v":0},{"$f":"BA$37*BB$7*IF(AND(BC$36=0,BB$36<>0),(3-(BB$1*3-Paraméterek!$C$145))/3,1)","v":0},{"$f":"BB$37*BC$7*IF(AND(BD$36=0,BC$36<>0),(3-(BC$1*3-Paraméterek!$C$145))/3,1)","v":0},{"$f":"BC$37*BD$7*IF(AND(BE$36=0,BD$36<>0),(3-(BD$1*3-Paraméterek!$C$145))/3,1)","v":0},{"$f":"BD$37*BE$7*IF(AND(BF$36=0,BE$36<>0),(3-(BE$1*3-Paraméterek!$C$145))/3,1)","v":0},{"$f":"BE$37*BF$7*IF(AND(BG$36=0,BF$36<>0),(3-(BF$1*3-Paraméterek!$C$145))/3,1)","v":0},{"$f":"BF$37*BG$7*IF(AND(BH$36=0,BG$36<>0),(3-(BG$1*3-Paraméterek!$C$145))/3,1)","v":0},{"$f":"BG$37*BH$7*IF(AND(BI$36=0,BH$36<>0),(3-(BH$1*3-Paraméterek!$C$145))/3,1)","v":0},{"$f":"BH$37*BI$7*IF(AND(BJ$36=0,BI$36<>0),(3-(BI$1*3-Paraméterek!$C$145))/3,1)","v":0},{"$f":"BI$37*BJ$7*IF(AND(BK$36=0,BJ$36<>0),(3-(BJ$1*3-Paraméterek!$C$145))/3,1)","v":0},{"$f":"BJ$37*BK$7*IF(AND(BL$36=0,BK$36<>0),(3-(BK$1*3-Paraméterek!$C$145))/3,1)","v":0},{"$f":"BK$37*BL$7*IF(AND(BM$36=0,BL$36<>0),(3-(BL$1*3-Paraméterek!$C$145))/3,1)","v":0},{"$f":"BL$37*BM$7*IF(AND(BN$36=0,BM$36<>0),(3-(BM$1*3-Paraméterek!$C$145))/3,1)","v":0},{"$f":"BM$37*BN$7*IF(AND(BO$36=0,BN$36<>0),(3-(BN$1*3-Paraméterek!$C$145))/3,1)","v":0},{"$f":"BN$37*BO$7*IF(AND(BP$36=0,BO$36<>0),(3-(BO$1*3-Paraméterek!$C$145))/3,1)","v":0},{"$f":"BO$37*BP$7*IF(AND(BQ$36=0,BP$36<>0),(3-(BP$1*3-Paraméterek!$C$145))/3,1)","v":0},{"$f":"BP$37*BQ$7*IF(AND(BR$36=0,BQ$36<>0),(3-(BQ$1*3-Paraméterek!$C$145))/3,1)","v":0},{"$f":"BQ$37*BR$7*IF(AND(BS$36=0,BR$36<>0),(3-(BR$1*3-Paraméterek!$C$145))/3,1)","v":{"$error":"#VALUE!"}},{"$f":"BR$37*BS$7*IF(AND(BT$36=0,BS$36<>0),(3-(BS$1*3-Paraméterek!$C$145))/3,1)","v":{"$error":"#VALUE!"}},"x"]
["Negyedéves - Fix kamat",null,null,null,null,null,null,null,null,null,null,null,null,null,null,null,null,null,null,null,null,null,null,null,null,null,null,null,null,null,null,null,null,null,null,null,null,null,null,null,null,null,null,null,null,null,null,null,null,null,null,null,null,null,null,null,null,null,null,null,null,null,null,null,null,null,null,null,null,null,null,"x"]
["Törlesztőrészlet",null,null,{"$f":"D$41+D$43","v":1118856.4826250002},{"$f":"E$41+E$43","v":128615216.62175},0,0,0,0,0,0,0,0,0,0,0,0,0,0,0,0,0,0,0,0,0,0,0,0,0,0,0,0,0,0,0,0,0,0,0,0,0,0,0,0,0,0,0,0,0,0,0,0,0,0,0,0,0,0,0,0,0,0,0,0,0,0,0,{"$f":"BQ$41+BQ$43","v":0},{"$f":"BR$41+BR$43","v":{"$error":"#VALUE!"}},{"$f":"BS$41+BS$43","v":{"$error":"#VALUE!"}},"x"]
["Tőketörlesztés",null,null,{"$f":"IF(Paraméterek!$D$141=3,IF(AND(Paraméterek!$C$145>Negyedéves!C$1*3,Paraméterek!$C$145<Negyedéves!E$1*3-2),Negyedéves!$C$42,0),IF(Paraméterek!$D$141=1,IF(Paraméterek!$C$145/3>=Negyedéves!D$1,Paraméterek!$C$147*3,Paraméterek!$C$144-SUM($B$41:C$41)),IF(Paraméterek!$C$145/3>=Negyedéves!D$1,Paraméterek!$C$147,Paraméterek!$C$144-SUM($B$41:C$41))))","v":0},{"$f":"IF(Paraméterek!$D$141=3,IF(AND(Paraméterek!$C$145>Negyedéves!D$1*3,Paraméterek!$C$145<Negyedéves!F$1*3-2),Negyedéves!$C$42,0),IF(Paraméterek!$D$141=1,IF(Paraméterek!$C$145/3>=Negyedéves!E$1,Paraméterek!$C$147*3,Paraméterek!$C$144-SUM($B$41:D$41)),IF(Paraméterek!$C$145/3>=Negyedéves!E$1,Paraméterek!$C$147,Paraméterek!$C$144-SUM($B$41:D$41))))","v":127869312.3},{"$f":"IF(Paraméterek!$D$141=3,IF(AND(Paraméterek!$C$145>Negyedéves!E$1*3,Paraméterek!$C$145<Negyedéves!G$1*3-2),Negyedéves!$C$42,0),IF(Paraméterek!$D$141=1,IF(Paraméterek!$C$145/3>=Negyedéves!F$1,Paraméterek!$C$147*3,Paraméterek!$C$144-SUM($B$41:E$41)),IF(Paraméterek!$C$145/3>=Negyedéves!F$1,Paraméterek!$C$147,Paraméterek!$C$144-SUM($B$41:E$41))))","v":0},{"$f":"IF(Paraméterek!$D$141=3,IF(AND(Paraméterek!$C$145>Negyedéves!F$1*3,Paraméterek!$C$145<Negyedéves!H$1*3-2),Negyedéves!$C$42,0),IF(Paraméterek!$D$141=1,IF(Paraméterek!$C$145/3>=Negyedéves!G$1,Paraméterek!$C$147*3,Paraméterek!$C$144-SUM($B$41:F$41)),IF(Paraméterek!$C$145/3>=Negyedéves!G$1,Paraméterek!$C$147,Paraméterek!$C$144-SUM($B$41:F$41))))","v":0},{"$f":"IF(Paraméterek!$D$141=3,IF(AND(Paraméterek!$C$145>Negyedéves!G$1*3,Paraméterek!$C$145<Negyedéves!I$1*3-2),Negyedéves!$C$42,0),IF(Paraméterek!$D$141=1,IF(Paraméterek!$C$145/3>=Negyedéves!H$1,Paraméterek!$C$147*3,Paraméterek!$C$144-SUM($B$41:G$41)),IF(Paraméterek!$C$145/3>=Negyedéves!H$1,Paraméterek!$C$147,Paraméterek!$C$144-SUM($B$41:G$41))))","v":0},{"$f":"IF(Paraméterek!$D$141=3,IF(AND(Paraméterek!$C$145>Negyedéves!H$1*3,Paraméterek!$C$145<Negyedéves!J$1*3-2),Negyedéves!$C$42,0),IF(Paraméterek!$D$141=1,IF(Paraméterek!$C$145/3>=Negyedéves!I$1,Paraméterek!$C$147*3,Paraméterek!$C$144-SUM($B$41:H$41)),IF(Paraméterek!$C$145/3>=Negyedéves!I$1,Paraméterek!$C$147,Paraméterek!$C$144-SUM($B$41:H$41))))","v":0},{"$f":"IF(Paraméterek!$D$141=3,IF(AND(Paraméterek!$C$145>Negyedéves!I$1*3,Paraméterek!$C$145<Negyedéves!K$1*3-2),Negyedéves!$C$42,0),IF(Paraméterek!$D$141=1,IF(Paraméterek!$C$145/3>=Negyedéves!J$1,Paraméterek!$C$147*3,Paraméterek!$C$144-SUM($B$41:I$41)),IF(Paraméterek!$C$145/3>=Negyedéves!J$1,Paraméterek!$C$147,Paraméterek!$C$144-SUM($B$41:I$41))))","v":0},{"$f":"IF(Paraméterek!$D$141=3,IF(AND(Paraméterek!$C$145>Negyedéves!J$1*3,Paraméterek!$C$145<Negyedéves!L$1*3-2),Negyedéves!$C$42,0),IF(Paraméterek!$D$141=1,IF(Paraméterek!$C$145/3>=Negyedéves!K$1,Paraméterek!$C$147*3,Paraméterek!$C$144-SUM($B$41:J$41)),IF(Paraméterek!$C$145/3>=Negyedéves!K$1,Paraméterek!$C$147,Paraméterek!$C$144-SUM($B$41:J$41))))","v":0},{"$f":"IF(Paraméterek!$D$141=3,IF(AND(Paraméterek!$C$145>Negyedéves!K$1*3,Paraméterek!$C$145<Negyedéves!M$1*3-2),Negyedéves!$C$42,0),IF(Paraméterek!$D$141=1,IF(Paraméterek!$C$145/3>=Negyedéves!L$1,Paraméterek!$C$147*3,Paraméterek!$C$144-SUM($B$41:K$41)),IF(Paraméterek!$C$145/3>=Negyedéves!L$1,Paraméterek!$C$147,Paraméterek!$C$144-SUM($B$41:K$41))))","v":0},{"$f":"IF(Paraméterek!$D$141=3,IF(AND(Paraméterek!$C$145>Negyedéves!L$1*3,Paraméterek!$C$145<Negyedéves!N$1*3-2),Negyedéves!$C$42,0),IF(Paraméterek!$D$141=1,IF(Paraméterek!$C$145/3>=Negyedéves!M$1,Paraméterek!$C$147*3,Paraméterek!$C$144-SUM($B$41:L$41)),IF(Paraméterek!$C$145/3>=Negyedéves!M$1,Paraméterek!$C$147,Paraméterek!$C$144-SUM($B$41:L$41))))","v":0},{"$f":"IF(Paraméterek!$D$141=3,IF(AND(Paraméterek!$C$145>Negyedéves!M$1*3,Paraméterek!$C$145<Negyedéves!O$1*3-2),Negyedéves!$C$42,0),IF(Paraméterek!$D$141=1,IF(Paraméterek!$C$145/3>=Negyedéves!N$1,Paraméterek!$C$147*3,Paraméterek!$C$144-SUM($B$41:M$41)),IF(Paraméterek!$C$145/3>=Negyedéves!N$1,Paraméterek!$C$147,Paraméterek!$C$144-SUM($B$41:M$41))))","v":0},{"$f":"IF(Paraméterek!$D$141=3,IF(AND(Paraméterek!$C$145>Negyedéves!N$1*3,Paraméterek!$C$145<Negyedéves!P$1*3-2),Negyedéves!$C$42,0),IF(Paraméterek!$D$141=1,IF(Paraméterek!$C$145/3>=Negyedéves!O$1,Paraméterek!$C$147*3,Paraméterek!$C$144-SUM($B$41:N$41)),IF(Paraméterek!$C$145/3>=Negyedéves!O$1,Paraméterek!$C$147,Paraméterek!$C$144-SUM($B$41:N$41))))","v":0},{"$f":"IF(Paraméterek!$D$141=3,IF(AND(Paraméterek!$C$145>Negyedéves!O$1*3,Paraméterek!$C$145<Negyedéves!Q$1*3-2),Negyedéves!$C$42,0),IF(Paraméterek!$D$141=1,IF(Paraméterek!$C$145/3>=Negyedéves!P$1,Paraméterek!$C$147*3,Paraméterek!$C$144-SUM($B$41:O$41)),IF(Paraméterek!$C$145/3>=Negyedéves!P$1,Paraméterek!$C$147,Paraméterek!$C$144-SUM($B$41:O$41))))","v":0},{"$f":"IF(Paraméterek!$D$141=3,IF(AND(Paraméterek!$C$145>Negyedéves!P$1*3,Paraméterek!$C$145<Negyedéves!R$1*3-2),Negyedéves!$C$42,0),IF(Paraméterek!$D$141=1,IF(Paraméterek!$C$145/3>=Negyedéves!Q$1,Paraméterek!$C$147*3,Paraméterek!$C$144-SUM($B$41:P$41)),IF(Paraméterek!$C$145/3>=Negyedéves!Q$1,Paraméterek!$C$147,Paraméterek!$C$144-SUM($B$41:P$41))))","v":0},{"$f":"IF(Paraméterek!$D$141=3,IF(AND(Paraméterek!$C$145>Negyedéves!Q$1*3,Paraméterek!$C$145<Negyedéves!S$1*3-2),Negyedéves!$C$42,0),IF(Paraméterek!$D$141=1,IF(Paraméterek!$C$145/3>=Negyedéves!R$1,Paraméterek!$C$147*3,Paraméterek!$C$144-SUM($B$41:Q$41)),IF(Paraméterek!$C$145/3>=Negyedéves!R$1,Paraméterek!$C$147,Paraméterek!$C$144-SUM($B$41:Q$41))))","v":0},{"$f":"IF(Paraméterek!$D$141=3,IF(AND(Paraméterek!$C$145>Negyedéves!R$1*3,Paraméterek!$C$145<Negyedéves!T$1*3-2),Negyedéves!$C$42,0),IF(Paraméterek!$D$141=1,IF(Paraméterek!$C$145/3>=Negyedéves!S$1,Paraméterek!$C$147*3,Paraméterek!$C$144-SUM($B$41:R$41)),IF(Paraméterek!$C$145/3>=Negyedéves!S$1,Paraméterek!$C$147,Paraméterek!$C$144-SUM($B$41:R$41))))","v":0},{"$f":"IF(Paraméterek!$D$141=3,IF(AND(Paraméterek!$C$145>Negyedéves!S$1*3,Paraméterek!$C$145<Negyedéves!U$1*3-2),Negyedéves!$C$42,0),IF(Paraméterek!$D$141=1,IF(Paraméterek!$C$145/3>=Negyedéves!T$1,Paraméterek!$C$147*3,Paraméterek!$C$144-SUM($B$41:S$41)),IF(Paraméterek!$C$145/3>=Negyedéves!T$1,Paraméterek!$C$147,Paraméterek!$C$144-SUM($B$41:S$41))))","v":0},{"$f":"IF(Paraméterek!$D$141=3,IF(AND(Paraméterek!$C$145>Negyedéves!T$1*3,Paraméterek!$C$145<Negyedéves!V$1*3-2),Negyedéves!$C$42,0),IF(Paraméterek!$D$141=1,IF(Paraméterek!$C$145/3>=Negyedéves!U$1,Paraméterek!$C$147*3,Paraméterek!$C$144-SUM($B$41:T$41)),IF(Paraméterek!$C$145/3>=Negyedéves!U$1,Paraméterek!$C$147,Paraméterek!$C$144-SUM($B$41:T$41))))","v":0},{"$f":"IF(Paraméterek!$D$141=3,IF(AND(Paraméterek!$C$145>Negyedéves!U$1*3,Paraméterek!$C$145<Negyedéves!W$1*3-2),Negyedéves!$C$42,0),IF(Paraméterek!$D$141=1,IF(Paraméterek!$C$145/3>=Negyedéves!V$1,Paraméterek!$C$147*3,Paraméterek!$C$144-SUM($B$41:U$41)),IF(Paraméterek!$C$145/3>=Negyedéves!V$1,Paraméterek!$C$147,Paraméterek!$C$144-SUM($B$41:U$41))))","v":0},{"$f":"IF(Paraméterek!$D$141=3,IF(AND(Paraméterek!$C$145>Negyedéves!V$1*3,Paraméterek!$C$145<Negyedéves!X$1*3-2),Negyedéves!$C$42,0),IF(Paraméterek!$D$141=1,IF(Paraméterek!$C$145/3>=Negyedéves!W$1,Paraméterek!$C$147*3,Paraméterek!$C$144-SUM($B$41:V$41)),IF(Paraméterek!$C$145/3>=Negyedéves!W$1,Paraméterek!$C$147,Paraméterek!$C$144-SUM($B$41:V$41))))","v":0},{"$f":"IF(Paraméterek!$D$141=3,IF(AND(Paraméterek!$C$145>Negyedéves!W$1*3,Paraméterek!$C$145<Negyedéves!Y$1*3-2),Negyedéves!$C$42,0),IF(Paraméterek!$D$141=1,IF(Paraméterek!$C$145/3>=Negyedéves!X$1,Paraméterek!$C$147*3,Paraméterek!$C$144-SUM($B$41:W$41)),IF(Paraméterek!$C$145/3>=Negyedéves!X$1,Paraméterek!$C$147,Paraméterek!$C$144-SUM($B$41:W$41))))","v":0},{"$f":"IF(Paraméterek!$D$141=3,IF(AND(Paraméterek!$C$145>Negyedéves!X$1*3,Paraméterek!$C$145<Negyedéves!Z$1*3-2),Negyedéves!$C$42,0),IF(Paraméterek!$D$141=1,IF(Paraméterek!$C$145/3>=Negyedéves!Y$1,Paraméterek!$C$147*3,Paraméterek!$C$144-SUM($B$41:X$41)),IF(Paraméterek!$C$145/3>=Negyedéves!Y$1,Paraméterek!$C$147,Paraméterek!$C$144-SUM($B$41:X$41))))","v":0},{"$f":"IF(Paraméterek!$D$141=3,IF(AND(Paraméterek!$C$145>Negyedéves!Y$1*3,Paraméterek!$C$145<Negyedéves!AA$1*3-2),Negyedéves!$C$42,0),IF(Paraméterek!$D$141=1,IF(Paraméterek!$C$145/3>=Negyedéves!Z$1,Paraméterek!$C$147*3,Paraméterek!$C$144-SUM($B$41:Y$41)),IF(Paraméterek!$C$145/3>=Negyedéves!Z$1,Paraméterek!$C$147,Paraméterek!$C$144-SUM($B$41:Y$41))))","v":0},{"$f":"IF(Paraméterek!$D$141=3,IF(AND(Paraméterek!$C$145>Negyedéves!Z$1*3,Paraméterek!$C$145<Negyedéves!AB$1*3-2),Negyedéves!$C$42,0),IF(Paraméterek!$D$141=1,IF(Paraméterek!$C$145/3>=Negyedéves!AA$1,Paraméterek!$C$147*3,Paraméterek!$C$144-SUM($B$41:Z$41)),IF(Paraméterek!$C$145/3>=Negyedéves!AA$1,Paraméterek!$C$147,Paraméterek!$C$144-SUM($B$41:Z$41))))","v":0},{"$f":"IF(Paraméterek!$D$141=3,IF(AND(Paraméterek!$C$145>Negyedéves!AA$1*3,Paraméterek!$C$145<Negyedéves!AC$1*3-2),Negyedéves!$C$42,0),IF(Paraméterek!$D$141=1,IF(Paraméterek!$C$145/3>=Negyedéves!AB$1,Paraméterek!$C$147*3,Paraméterek!$C$144-SUM($B$41:AA$41)),IF(Paraméterek!$C$145/3>=Negyedéves!AB$1,Paraméterek!$C$147,Paraméterek!$C$144-SUM($B$41:AA$41))))","v":0},{"$f":"IF(Paraméterek!$D$141=3,IF(AND(Paraméterek!$C$145>Negyedéves!AB$1*3,Paraméterek!$C$145<Negyedéves!AD$1*3-2),Negyedéves!$C$42,0),IF(Paraméterek!$D$141=1,IF(Paraméterek!$C$145/3>=Negyedéves!AC$1,Paraméterek!$C$147*3,Paraméterek!$C$144-SUM($B$41:AB$41)),IF(Paraméterek!$C$145/3>=Negyedéves!AC$1,Paraméterek!$C$147,Paraméterek!$C$144-SUM($B$41:AB$41))))","v":0},{"$f":"IF(Paraméterek!$D$141=3,IF(AND(Paraméterek!$C$145>Negyedéves!AC$1*3,Paraméterek!$C$145<Negyedéves!AE$1*3-2),Negyedéves!$C$42,0),IF(Paraméterek!$D$141=1,IF(Paraméterek!$C$145/3>=Negyedéves!AD$1,Paraméterek!$C$147*3,Paraméterek!$C$144-SUM($B$41:AC$41)),IF(Paraméterek!$C$145/3>=Negyedéves!AD$1,Paraméterek!$C$147,Paraméterek!$C$144-SUM($B$41:AC$41))))","v":0},{"$f":"IF(Paraméterek!$D$141=3,IF(AND(Paraméterek!$C$145>Negyedéves!AD$1*3,Paraméterek!$C$145<Negyedéves!AF$1*3-2),Negyedéves!$C$42,0),IF(Paraméterek!$D$141=1,IF(Paraméterek!$C$145/3>=Negyedéves!AE$1,Paraméterek!$C$147*3,Paraméterek!$C$144-SUM($B$41:AD$41)),IF(Paraméterek!$C$145/3>=Negyedéves!AE$1,Paraméterek!$C$147,Paraméterek!$C$144-SUM($B$41:AD$41))))","v":0},{"$f":"IF(Paraméterek!$D$141=3,IF(AND(Paraméterek!$C$145>Negyedéves!AE$1*3,Paraméterek!$C$145<Negyedéves!AG$1*3-2),Negyedéves!$C$42,0),IF(Paraméterek!$D$141=1,IF(Paraméterek!$C$145/3>=Negyedéves!AF$1,Paraméterek!$C$147*3,Paraméterek!$C$144-SUM($B$41:AE$41)),IF(Paraméterek!$C$145/3>=Negyedéves!AF$1,Paraméterek!$C$147,Paraméterek!$C$144-SUM($B$41:AE$41))))","v":0},{"$f":"IF(Paraméterek!$D$141=3,IF(AND(Paraméterek!$C$145>Negyedéves!AF$1*3,Paraméterek!$C$145<Negyedéves!AH$1*3-2),Negyedéves!$C$42,0),IF(Paraméterek!$D$141=1,IF(Paraméterek!$C$145/3>=Negyedéves!AG$1,Paraméterek!$C$147*3,Paraméterek!$C$144-SUM($B$41:AF$41)),IF(Paraméterek!$C$145/3>=Negyedéves!AG$1,Paraméterek!$C$147,Paraméterek!$C$144-SUM($B$41:AF$41))))","v":0},{"$f":"IF(Paraméterek!$D$141=3,IF(AND(Paraméterek!$C$145>Negyedéves!AG$1*3,Paraméterek!$C$145<Negyedéves!AI$1*3-2),Negyedéves!$C$42,0),IF(Paraméterek!$D$141=1,IF(Paraméterek!$C$145/3>=Negyedéves!AH$1,Paraméterek!$C$147*3,Paraméterek!$C$144-SUM($B$41:AG$41)),IF(Paraméterek!$C$145/3>=Negyedéves!AH$1,Paraméterek!$C$147,Paraméterek!$C$144-SUM($B$41:AG$41))))","v":0},{"$f":"IF(Paraméterek!$D$141=3,IF(AND(Paraméterek!$C$145>Negyedéves!AH$1*3,Paraméterek!$C$145<Negyedéves!AJ$1*3-2),Negyedéves!$C$42,0),IF(Paraméterek!$D$141=1,IF(Paraméterek!$C$145/3>=Negyedéves!AI$1,Paraméterek!$C$147*3,Paraméterek!$C$144-SUM($B$41:AH$41)),IF(Paraméterek!$C$145/3>=Negyedéves!AI$1,Paraméterek!$C$147,Paraméterek!$C$144-SUM($B$41:AH$41))))","v":0},{"$f":"IF(Paraméterek!$D$141=3,IF(AND(Paraméterek!$C$145>Negyedéves!AI$1*3,Paraméterek!$C$145<Negyedéves!AK$1*3-2),Negyedéves!$C$42,0),IF(Paraméterek!$D$141=1,IF(Paraméterek!$C$145/3>=Negyedéves!AJ$1,Paraméterek!$C$147*3,Paraméterek!$C$144-SUM($B$41:AI$41)),IF(Paraméterek!$C$145/3>=Negyedéves!AJ$1,Paraméterek!$C$147,Paraméterek!$C$144-SUM($B$41:AI$41))))","v":0},{"$f":"IF(Paraméterek!$D$141=3,IF(AND(Paraméterek!$C$145>Negyedéves!AJ$1*3,Paraméterek!$C$145<Negyedéves!AL$1*3-2),Negyedéves!$C$42,0),IF(Paraméterek!$D$141=1,IF(Paraméterek!$C$145/3>=Negyedéves!AK$1,Paraméterek!$C$147*3,Paraméterek!$C$144-SUM($B$41:AJ$41)),IF(Paraméterek!$C$145/3>=Negyedéves!AK$1,Paraméterek!$C$147,Paraméterek!$C$144-SUM($B$41:AJ$41))))","v":0},{"$f":"IF(Paraméterek!$D$141=3,IF(AND(Paraméterek!$C$145>Negyedéves!AK$1*3,Paraméterek!$C$145<Negyedéves!AM$1*3-2),Negyedéves!$C$42,0),IF(Paraméterek!$D$141=1,IF(Paraméterek!$C$145/3>=Negyedéves!AL$1,Paraméterek!$C$147*3,Paraméterek!$C$144-SUM($B$41:AK$41)),IF(Paraméterek!$C$145/3>=Negyedéves!AL$1,Paraméterek!$C$147,Paraméterek!$C$144-SUM($B$41:AK$41))))","v":0},{"$f":"IF(Paraméterek!$D$141=3,IF(AND(Paraméterek!$C$145>Negyedéves!AL$1*3,Paraméterek!$C$145<Negyedéves!AN$1*3-2),Negyedéves!$C$42,0),IF(Paraméterek!$D$141=1,IF(Paraméterek!$C$145/3>=Negyedéves!AM$1,Paraméterek!$C$147*3,Paraméterek!$C$144-SUM($B$41:AL$41)),IF(Paraméterek!$C$145/3>=Negyedéves!AM$1,Paraméterek!$C$147,Paraméterek!$C$144-SUM($B$41:AL$41))))","v":0},{"$f":"IF(Paraméterek!$D$141=3,IF(AND(Paraméterek!$C$145>Negyedéves!AM$1*3,Paraméterek!$C$145<Negyedéves!AO$1*3-2),Negyedéves!$C$42,0),IF(Paraméterek!$D$141=1,IF(Paraméterek!$C$145/3>=Negyedéves!AN$1,Paraméterek!$C$147*3,Paraméterek!$C$144-SUM($B$41:AM$41)),IF(Paraméterek!$C$145/3>=Negyedéves!AN$1,Paraméterek!$C$147,Paraméterek!$C$144-SUM($B$41:AM$41))))","v":0},{"$f":"IF(Paraméterek!$D$141=3,IF(AND(Paraméterek!$C$145>Negyedéves!AN$1*3,Paraméterek!$C$145<Negyedéves!AP$1*3-2),Negyedéves!$C$42,0),IF(Paraméterek!$D$141=1,IF(Paraméterek!$C$145/3>=Negyedéves!AO$1,Paraméterek!$C$147*3,Paraméterek!$C$144-SUM($B$41:AN$41)),IF(Paraméterek!$C$145/3>=Negyedéves!AO$1,Paraméterek!$C$147,Paraméterek!$C$144-SUM($B$41:AN$41))))","v":0},{"$f":"IF(Paraméterek!$D$141=3,IF(AND(Paraméterek!$C$145>Negyedéves!AO$1*3,Paraméterek!$C$145<Negyedéves!AQ$1*3-2),Negyedéves!$C$42,0),IF(Paraméterek!$D$141=1,IF(Paraméterek!$C$145/3>=Negyedéves!AP$1,Paraméterek!$C$147*3,Paraméterek!$C$144-SUM($B$41:AO$41)),IF(Paraméterek!$C$145/3>=Negyedéves!AP$1,Paraméterek!$C$147,Paraméterek!$C$144-SUM($B$41:AO$41))))","v":0},{"$f":"IF(Paraméterek!$D$141=3,IF(AND(Paraméterek!$C$145>Negyedéves!AP$1*3,Paraméterek!$C$145<Negyedéves!AR$1*3-2),Negyedéves!$C$42,0),IF(Paraméterek!$D$141=1,IF(Paraméterek!$C$145/3>=Negyedéves!AQ$1,Paraméterek!$C$147*3,Paraméterek!$C$144-SUM($B$41:AP$41)),IF(Paraméterek!$C$145/3>=Negyedéves!AQ$1,Paraméterek!$C$147,Paraméterek!$C$144-SUM($B$41:AP$41))))","v":0},{"$f":"IF(Paraméterek!$D$141=3,IF(AND(Paraméterek!$C$145>Negyedéves!AQ$1*3,Paraméterek!$C$145<Negyedéves!AS$1*3-2),Negyedéves!$C$42,0),IF(Paraméterek!$D$141=1,IF(Paraméterek!$C$145/3>=Negyedéves!AR$1,Paraméterek!$C$147*3,Paraméterek!$C$144-SUM($B$41:AQ$41)),IF(Paraméterek!$C$145/3>=Negyedéves!AR$1,Paraméterek!$C$147,Paraméterek!$C$144-SUM($B$41:AQ$41))))","v":0},{"$f":"IF(Paraméterek!$D$141=3,IF(AND(Paraméterek!$C$145>Negyedéves!AR$1*3,Paraméterek!$C$145<Negyedéves!AT$1*3-2),Negyedéves!$C$42,0),IF(Paraméterek!$D$141=1,IF(Paraméterek!$C$145/3>=Negyedéves!AS$1,Paraméterek!$C$147*3,Paraméterek!$C$144-SUM($B$41:AR$41)),IF(Paraméterek!$C$145/3>=Negyedéves!AS$1,Paraméterek!$C$147,Paraméterek!$C$144-SUM($B$41:AR$41))))","v":0},{"$f":"IF(Paraméterek!$D$141=3,IF(AND(Paraméterek!$C$145>Negyedéves!AS$1*3,Paraméterek!$C$145<Negyedéves!AU$1*3-2),Negyedéves!$C$42,0),IF(Paraméterek!$D$141=1,IF(Paraméterek!$C$145/3>=Negyedéves!AT$1,Paraméterek!$C$147*3,Paraméterek!$C$144-SUM($B$41:AS$41)),IF(Paraméterek!$C$145/3>=Negyedéves!AT$1,Paraméterek!$C$147,Paraméterek!$C$144-SUM($B$41:AS$41))))","v":0},{"$f":"IF(Paraméterek!$D$141=3,IF(AND(Paraméterek!$C$145>Negyedéves!AT$1*3,Paraméterek!$C$145<Negyedéves!AV$1*3-2),Negyedéves!$C$42,0),IF(Paraméterek!$D$141=1,IF(Paraméterek!$C$145/3>=Negyedéves!AU$1,Paraméterek!$C$147*3,Paraméterek!$C$144-SUM($B$41:AT$41)),IF(Paraméterek!$C$145/3>=Negyedéves!AU$1,Paraméterek!$C$147,Paraméterek!$C$144-SUM($B$41:AT$41))))","v":0},{"$f":"IF(Paraméterek!$D$141=3,IF(AND(Paraméterek!$C$145>Negyedéves!AU$1*3,Paraméterek!$C$145<Negyedéves!AW$1*3-2),Negyedéves!$C$42,0),IF(Paraméterek!$D$141=1,IF(Paraméterek!$C$145/3>=Negyedéves!AV$1,Paraméterek!$C$147*3,Paraméterek!$C$144-SUM($B$41:AU$41)),IF(Paraméterek!$C$145/3>=Negyedéves!AV$1,Paraméterek!$C$147,Paraméterek!$C$144-SUM($B$41:AU$41))))","v":0},{"$f":"IF(Paraméterek!$D$141=3,IF(AND(Paraméterek!$C$145>Negyedéves!AV$1*3,Paraméterek!$C$145<Negyedéves!AX$1*3-2),Negyedéves!$C$42,0),IF(Paraméterek!$D$141=1,IF(Paraméterek!$C$145/3>=Negyedéves!AW$1,Paraméterek!$C$147*3,Paraméterek!$C$144-SUM($B$41:AV$41)),IF(Paraméterek!$C$145/3>=Negyedéves!AW$1,Paraméterek!$C$147,Paraméterek!$C$144-SUM($B$41:AV$41))))","v":0},{"$f":"IF(Paraméterek!$D$141=3,IF(AND(Paraméterek!$C$145>Negyedéves!AW$1*3,Paraméterek!$C$145<Negyedéves!AY$1*3-2),Negyedéves!$C$42,0),IF(Paraméterek!$D$141=1,IF(Paraméterek!$C$145/3>=Negyedéves!AX$1,Paraméterek!$C$147*3,Paraméterek!$C$144-SUM($B$41:AW$41)),IF(Paraméterek!$C$145/3>=Negyedéves!AX$1,Paraméterek!$C$147,Paraméterek!$C$144-SUM($B$41:AW$41))))","v":0},{"$f":"IF(Paraméterek!$D$141=3,IF(AND(Paraméterek!$C$145>Negyedéves!AX$1*3,Paraméterek!$C$145<Negyedéves!AZ$1*3-2),Negyedéves!$C$42,0),IF(Paraméterek!$D$141=1,IF(Paraméterek!$C$145/3>=Negyedéves!AY$1,Paraméterek!$C$147*3,Paraméterek!$C$144-SUM($B$41:AX$41)),IF(Paraméterek!$C$145/3>=Negyedéves!AY$1,Paraméterek!$C$147,Paraméterek!$C$144-SUM($B$41:AX$41))))","v":0},{"$f":"IF(Paraméterek!$D$141=3,IF(AND(Paraméterek!$C$145>Negyedéves!AY$1*3,Paraméterek!$C$145<Negyedéves!BA$1*3-2),Negyedéves!$C$42,0),IF(Paraméterek!$D$141=1,IF(Paraméterek!$C$145/3>=Negyedéves!AZ$1,Paraméterek!$C$147*3,Paraméterek!$C$144-SUM($B$41:AY$41)),IF(Paraméterek!$C$145/3>=Negyedéves!AZ$1,Paraméterek!$C$147,Paraméterek!$C$144-SUM($B$41:AY$41))))","v":0},{"$f":"IF(Paraméterek!$D$141=3,IF(AND(Paraméterek!$C$145>Negyedéves!AZ$1*3,Paraméterek!$C$145<Negyedéves!BB$1*3-2),Negyedéves!$C$42,0),IF(Paraméterek!$D$141=1,IF(Paraméterek!$C$145/3>=Negyedéves!BA$1,Paraméterek!$C$147*3,Paraméterek!$C$144-SUM($B$41:AZ$41)),IF(Paraméterek!$C$145/3>=Negyedéves!BA$1,Paraméterek!$C$147,Paraméterek!$C$144-SUM($B$41:AZ$41))))","v":0},{"$f":"IF(Paraméterek!$D$141=3,IF(AND(Paraméterek!$C$145>Negyedéves!BA$1*3,Paraméterek!$C$145<Negyedéves!BC$1*3-2),Negyedéves!$C$42,0),IF(Paraméterek!$D$141=1,IF(Paraméterek!$C$145/3>=Negyedéves!BB$1,Paraméterek!$C$147*3,Paraméterek!$C$144-SUM($B$41:BA$41)),IF(Paraméterek!$C$145/3>=Negyedéves!BB$1,Paraméterek!$C$147,Paraméterek!$C$144-SUM($B$41:BA$41))))","v":0},{"$f":"IF(Paraméterek!$D$141=3,IF(AND(Paraméterek!$C$145>Negyedéves!BB$1*3,Paraméterek!$C$145<Negyedéves!BD$1*3-2),Negyedéves!$C$42,0),IF(Paraméterek!$D$141=1,IF(Paraméterek!$C$145/3>=Negyedéves!BC$1,Paraméterek!$C$147*3,Paraméterek!$C$144-SUM($B$41:BB$41)),IF(Paraméterek!$C$145/3>=Negyedéves!BC$1,Paraméterek!$C$147,Paraméterek!$C$144-SUM($B$41:BB$41))))","v":0},{"$f":"IF(Paraméterek!$D$141=3,IF(AND(Paraméterek!$C$145>Negyedéves!BC$1*3,Paraméterek!$C$145<Negyedéves!BE$1*3-2),Negyedéves!$C$42,0),IF(Paraméterek!$D$141=1,IF(Paraméterek!$C$145/3>=Negyedéves!BD$1,Paraméterek!$C$147*3,Paraméterek!$C$144-SUM($B$41:BC$41)),IF(Paraméterek!$C$145/3>=Negyedéves!BD$1,Paraméterek!$C$147,Paraméterek!$C$144-SUM($B$41:BC$41))))","v":0},{"$f":"IF(Paraméterek!$D$141=3,IF(AND(Paraméterek!$C$145>Negyedéves!BD$1*3,Paraméterek!$C$145<Negyedéves!BF$1*3-2),Negyedéves!$C$42,0),IF(Paraméterek!$D$141=1,IF(Paraméterek!$C$145/3>=Negyedéves!BE$1,Paraméterek!$C$147*3,Paraméterek!$C$144-SUM($B$41:BD$41)),IF(Paraméterek!$C$145/3>=Negyedéves!BE$1,Paraméterek!$C$147,Paraméterek!$C$144-SUM($B$41:BD$41))))","v":0},{"$f":"IF(Paraméterek!$D$141=3,IF(AND(Paraméterek!$C$145>Negyedéves!BE$1*3,Paraméterek!$C$145<Negyedéves!BG$1*3-2),Negyedéves!$C$42,0),IF(Paraméterek!$D$141=1,IF(Paraméterek!$C$145/3>=Negyedéves!BF$1,Paraméterek!$C$147*3,Paraméterek!$C$144-SUM($B$41:BE$41)),IF(Paraméterek!$C$145/3>=Negyedéves!BF$1,Paraméterek!$C$147,Paraméterek!$C$144-SUM($B$41:BE$41))))","v":0},{"$f":"IF(Paraméterek!$D$141=3,IF(AND(Paraméterek!$C$145>Negyedéves!BF$1*3,Paraméterek!$C$145<Negyedéves!BH$1*3-2),Negyedéves!$C$42,0),IF(Paraméterek!$D$141=1,IF(Paraméterek!$C$145/3>=Negyedéves!BG$1,Paraméterek!$C$147*3,Paraméterek!$C$144-SUM($B$41:BF$41)),IF(Paraméterek!$C$145/3>=Negyedéves!BG$1,Paraméterek!$C$147,Paraméterek!$C$144-SUM($B$41:BF$41))))","v":0},{"$f":"IF(Paraméterek!$D$141=3,IF(AND(Paraméterek!$C$145>Negyedéves!BG$1*3,Paraméterek!$C$145<Negyedéves!BI$1*3-2),Negyedéves!$C$42,0),IF(Paraméterek!$D$141=1,IF(Paraméterek!$C$145/3>=Negyedéves!BH$1,Paraméterek!$C$147*3,Paraméterek!$C$144-SUM($B$41:BG$41)),IF(Paraméterek!$C$145/3>=Negyedéves!BH$1,Paraméterek!$C$147,Paraméterek!$C$144-SUM($B$41:BG$41))))","v":0},{"$f":"IF(Paraméterek!$D$141=3,IF(AND(Paraméterek!$C$145>Negyedéves!BH$1*3,Paraméterek!$C$145<Negyedéves!BJ$1*3-2),Negyedéves!$C$42,0),IF(Paraméterek!$D$141=1,IF(Paraméterek!$C$145/3>=Negyedéves!BI$1,Paraméterek!$C$147*3,Paraméterek!$C$144-SUM($B$41:BH$41)),IF(Paraméterek!$C$145/3>=Negyedéves!BI$1,Paraméterek!$C$147,Paraméterek!$C$144-SUM($B$41:BH$41))))","v":0},{"$f":"IF(Paraméterek!$D$141=3,IF(AND(Paraméterek!$C$145>Negyedéves!BI$1*3,Paraméterek!$C$145<Negyedéves!BK$1*3-2),Negyedéves!$C$42,0),IF(Paraméterek!$D$141=1,IF(Paraméterek!$C$145/3>=Negyedéves!BJ$1,Paraméterek!$C$147*3,Paraméterek!$C$144-SUM($B$41:BI$41)),IF(Paraméterek!$C$145/3>=Negyedéves!BJ$1,Paraméterek!$C$147,Paraméterek!$C$144-SUM($B$41:BI$41))))","v":0},{"$f":"IF(Paraméterek!$D$141=3,IF(AND(Paraméterek!$C$145>Negyedéves!BJ$1*3,Paraméterek!$C$145<Negyedéves!BL$1*3-2),Negyedéves!$C$42,0),IF(Paraméterek!$D$141=1,IF(Paraméterek!$C$145/3>=Negyedéves!BK$1,Paraméterek!$C$147*3,Paraméterek!$C$144-SUM($B$41:BJ$41)),IF(Paraméterek!$C$145/3>=Negyedéves!BK$1,Paraméterek!$C$147,Paraméterek!$C$144-SUM($B$41:BJ$41))))","v":0},{"$f":"IF(Paraméterek!$D$141=3,IF(AND(Paraméterek!$C$145>Negyedéves!BK$1*3,Paraméterek!$C$145<Negyedéves!BM$1*3-2),Negyedéves!$C$42,0),IF(Paraméterek!$D$141=1,IF(Paraméterek!$C$145/3>=Negyedéves!BL$1,Paraméterek!$C$147*3,Paraméterek!$C$144-SUM($B$41:BK$41)),IF(Paraméterek!$C$145/3>=Negyedéves!BL$1,Paraméterek!$C$147,Paraméterek!$C$144-SUM($B$41:BK$41))))","v":0},{"$f":"IF(Paraméterek!$D$141=3,IF(AND(Paraméterek!$C$145>Negyedéves!BL$1*3,Paraméterek!$C$145<Negyedéves!BN$1*3-2),Negyedéves!$C$42,0),IF(Paraméterek!$D$141=1,IF(Paraméterek!$C$145/3>=Negyedéves!BM$1,Paraméterek!$C$147*3,Paraméterek!$C$144-SUM($B$41:BL$41)),IF(Paraméterek!$C$145/3>=Negyedéves!BM$1,Paraméterek!$C$147,Paraméterek!$C$144-SUM($B$41:BL$41))))","v":0},{"$f":"IF(Paraméterek!$D$141=3,IF(AND(Paraméterek!$C$145>Negyedéves!BM$1*3,Paraméterek!$C$145<Negyedéves!BO$1*3-2),Negyedéves!$C$42,0),IF(Paraméterek!$D$141=1,IF(Paraméterek!$C$145/3>=Negyedéves!BN$1,Paraméterek!$C$147*3,Paraméterek!$C$144-SUM($B$41:BM$41)),IF(Paraméterek!$C$145/3>=Negyedéves!BN$1,Paraméterek!$C$147,Paraméterek!$C$144-SUM($B$41:BM$41))))","v":0},{"$f":"IF(Paraméterek!$D$141=3,IF(AND(Paraméterek!$C$145>Negyedéves!BN$1*3,Paraméterek!$C$145<Negyedéves!BP$1*3-2),Negyedéves!$C$42,0),IF(Paraméterek!$D$141=1,IF(Paraméterek!$C$145/3>=Negyedéves!BO$1,Paraméterek!$C$147*3,Paraméterek!$C$144-SUM($B$41:BN$41)),IF(Paraméterek!$C$145/3>=Negyedéves!BO$1,Paraméterek!$C$147,Paraméterek!$C$144-SUM($B$41:BN$41))))","v":0},{"$f":"IF(Paraméterek!$D$141=3,IF(AND(Paraméterek!$C$145>Negyedéves!BO$1*3,Paraméterek!$C$145<Negyedéves!BQ$1*3-2),Negyedéves!$C$42,0),IF(Paraméterek!$D$141=1,IF(Paraméterek!$C$145/3>=Negyedéves!BP$1,Paraméterek!$C$147*3,Paraméterek!$C$144-SUM($B$41:BO$41)),IF(Paraméterek!$C$145/3>=Negyedéves!BP$1,Paraméterek!$C$147,Paraméterek!$C$144-SUM($B$41:BO$41))))","v":0},{"$f":"IF(Paraméterek!$D$141=3,IF(AND(Paraméterek!$C$145>Negyedéves!BP$1*3,Paraméterek!$C$145<Negyedéves!BR$1*3-2),Negyedéves!$C$42,0),IF(Paraméterek!$D$141=1,IF(Paraméterek!$C$145/3>=Negyedéves!BQ$1,Paraméterek!$C$147*3,Paraméterek!$C$144-SUM($B$41:BP$41)),IF(Paraméterek!$C$145/3>=Negyedéves!BQ$1,Paraméterek!$C$147,Paraméterek!$C$144-SUM($B$41:BP$41))))","v":0},{"$f":"IF(Paraméterek!$D$141=3,IF(AND(Paraméterek!$C$145>Negyedéves!BQ$1*3,Paraméterek!$C$145<Negyedéves!BS$1*3-2),Negyedéves!$C$42,0),IF(Paraméterek!$D$141=1,IF(Paraméterek!$C$145/3>=Negyedéves!BR$1,Paraméterek!$C$147*3,Paraméterek!$C$144-SUM($B$41:BQ$41)),IF(Paraméterek!$C$145/3>=Negyedéves!BR$1,Paraméterek!$C$147,Paraméterek!$C$144-SUM($B$41:BQ$41))))","v":0},{"$f":"IF(Paraméterek!$D$141=3,IF(AND(Paraméterek!$C$145>Negyedéves!BR$1*3,Paraméterek!$C$145<Negyedéves!BT$1*3-2),Negyedéves!$C$42,0),IF(Paraméterek!$D$141=1,IF(Paraméterek!$C$145/3>=Negyedéves!BS$1,Paraméterek!$C$147*3,Paraméterek!$C$144-SUM($B$41:BR$41)),IF(Paraméterek!$C$145/3>=Negyedéves!BS$1,Paraméterek!$C$147,Paraméterek!$C$144-SUM($B$41:BR$41))))","v":{"$error":"#VALUE!"}},"x"]
["Tőketartozás",0,{"$f":"Paraméterek!$C$144","v":127869312.3},{"$f":"C$42-D$41","v":127869312.3},{"$f":"D$42-E$41","v":0},0,0,0,0,0,0,0,0,0,0,0,0,0,0,0,0,0,0,0,0,0,0,0,0,0,0,0,0,0,0,0,0,0,0,0,0,0,0,0,0,0,0,0,0,0,0,0,0,0,0,0,0,0,0,0,0,0,0,0,0,0,0,0,{"$f":"BP$42-BQ$41","v":0},{"$f":"BQ$42-BR$41","v":0},{"$f":"BR$42-BS$41","v":{"$error":"#VALUE!"}},"x"]
["Kamattörlesztés",null,null,{"$f":"C$42*D$8*IF(AND(E$41=0,D$41<>0),(3-(D$1*3-Paraméterek!$C$145))/3,1)","v":1118856.4826250002},{"$f":"D$42*E$8*IF(AND(F$41=0,E$41<>0),(3-(E$1*3-Paraméterek!$C$145))/3,1)","v":745904.32175000012},{"$f":"E$42*F$8*IF(AND(G$41=0,F$41<>0),(3-(F$1*3-Paraméterek!$C$145))/3,1)","v":0},{"$f":"F$42*G$8*IF(AND(H$41=0,G$41<>0),(3-(G$1*3-Paraméterek!$C$145))/3,1)","v":0},{"$f":"G$42*H$8*IF(AND(I$41=0,H$41<>0),(3-(H$1*3-Paraméterek!$C$145))/3,1)","v":0},{"$f":"H$42*I$8*IF(AND(J$41=0,I$41<>0),(3-(I$1*3-Paraméterek!$C$145))/3,1)","v":0},{"$f":"I$42*J$8*IF(AND(K$41=0,J$41<>0),(3-(J$1*3-Paraméterek!$C$145))/3,1)","v":0},{"$f":"J$42*K$8*IF(AND(L$41=0,K$41<>0),(3-(K$1*3-Paraméterek!$C$145))/3,1)","v":0},{"$f":"K$42*L$8*IF(AND(M$41=0,L$41<>0),(3-(L$1*3-Paraméterek!$C$145))/3,1)","v":0},{"$f":"L$42*M$8*IF(AND(N$41=0,M$41<>0),(3-(M$1*3-Paraméterek!$C$145))/3,1)","v":0},{"$f":"M$42*N$8*IF(AND(O$41=0,N$41<>0),(3-(N$1*3-Paraméterek!$C$145))/3,1)","v":0},{"$f":"N$42*O$8*IF(AND(P$41=0,O$41<>0),(3-(O$1*3-Paraméterek!$C$145))/3,1)","v":0},{"$f":"O$42*P$8*IF(AND(Q$41=0,P$41<>0),(3-(P$1*3-Paraméterek!$C$145))/3,1)","v":0},{"$f":"P$42*Q$8*IF(AND(R$41=0,Q$41<>0),(3-(Q$1*3-Paraméterek!$C$145))/3,1)","v":0},{"$f":"Q$42*R$8*IF(AND(S$41=0,R$41<>0),(3-(R$1*3-Paraméterek!$C$145))/3,1)","v":0},{"$f":"R$42*S$8*IF(AND(T$41=0,S$41<>0),(3-(S$1*3-Paraméterek!$C$145))/3,1)","v":0},{"$f":"S$42*T$8*IF(AND(U$41=0,T$41<>0),(3-(T$1*3-Paraméterek!$C$145))/3,1)","v":0},{"$f":"T$42*U$8*IF(AND(V$41=0,U$41<>0),(3-(U$1*3-Paraméterek!$C$145))/3,1)","v":0},{"$f":"U$42*V$8*IF(AND(W$41=0,V$41<>0),(3-(V$1*3-Paraméterek!$C$145))/3,1)","v":0},{"$f":"V$42*W$8*IF(AND(X$41=0,W$41<>0),(3-(W$1*3-Paraméterek!$C$145))/3,1)","v":0},{"$f":"W$42*X$8*IF(AND(Y$41=0,X$41<>0),(3-(X$1*3-Paraméterek!$C$145))/3,1)","v":0},{"$f":"X$42*Y$8*IF(AND(Z$41=0,Y$41<>0),(3-(Y$1*3-Paraméterek!$C$145))/3,1)","v":0},{"$f":"Y$42*Z$8*IF(AND(AA$41=0,Z$41<>0),(3-(Z$1*3-Paraméterek!$C$145))/3,1)","v":0},{"$f":"Z$42*AA$8*IF(AND(AB$41=0,AA$41<>0),(3-(AA$1*3-Paraméterek!$C$145))/3,1)","v":0},{"$f":"AA$42*AB$8*IF(AND(AC$41=0,AB$41<>0),(3-(AB$1*3-Paraméterek!$C$145))/3,1)","v":0},{"$f":"AB$42*AC$8*IF(AND(AD$41=0,AC$41<>0),(3-(AC$1*3-Paraméterek!$C$145))/3,1)","v":0},{"$f":"AC$42*AD$8*IF(AND(AE$41=0,AD$41<>0),(3-(AD$1*3-Paraméterek!$C$145))/3,1)","v":0},{"$f":"AD$42*AE$8*IF(AND(AF$41=0,AE$41<>0),(3-(AE$1*3-Paraméterek!$C$145))/3,1)","v":0},{"$f":"AE$42*AF$8*IF(AND(AG$41=0,AF$41<>0),(3-(AF$1*3-Paraméterek!$C$145))/3,1)","v":0},{"$f":"AF$42*AG$8*IF(AND(AH$41=0,AG$41<>0),(3-(AG$1*3-Paraméterek!$C$145))/3,1)","v":0},{"$f":"AG$42*AH$8*IF(AND(AI$41=0,AH$41<>0),(3-(AH$1*3-Paraméterek!$C$145))/3,1)","v":0},{"$f":"AH$42*AI$8*IF(AND(AJ$41=0,AI$41<>0),(3-(AI$1*3-Paraméterek!$C$145))/3,1)","v":0},{"$f":"AI$42*AJ$8*IF(AND(AK$41=0,AJ$41<>0),(3-(AJ$1*3-Paraméterek!$C$145))/3,1)","v":0},{"$f":"AJ$42*AK$8*IF(AND(AL$41=0,AK$41<>0),(3-(AK$1*3-Paraméterek!$C$145))/3,1)","v":0},{"$f":"AK$42*AL$8*IF(AND(AM$41=0,AL$41<>0),(3-(AL$1*3-Paraméterek!$C$145))/3,1)","v":0},{"$f":"AL$42*AM$8*IF(AND(AN$41=0,AM$41<>0),(3-(AM$1*3-Paraméterek!$C$145))/3,1)","v":0},{"$f":"AM$42*AN$8*IF(AND(AO$41=0,AN$41<>0),(3-(AN$1*3-Paraméterek!$C$145))/3,1)","v":0},{"$f":"AN$42*AO$8*IF(AND(AP$41=0,AO$41<>0),(3-(AO$1*3-Paraméterek!$C$145))/3,1)","v":0},{"$f":"AO$42*AP$8*IF(AND(AQ$41=0,AP$41<>0),(3-(AP$1*3-Paraméterek!$C$145))/3,1)","v":0},{"$f":"AP$42*AQ$8*IF(AND(AR$41=0,AQ$41<>0),(3-(AQ$1*3-Paraméterek!$C$145))/3,1)","v":0},{"$f":"AQ$42*AR$8*IF(AND(AS$41=0,AR$41<>0),(3-(AR$1*3-Paraméterek!$C$145))/3,1)","v":0},{"$f":"AR$42*AS$8*IF(AND(AT$41=0,AS$41<>0),(3-(AS$1*3-Paraméterek!$C$145))/3,1)","v":0},{"$f":"AS$42*AT$8*IF(AND(AU$41=0,AT$41<>0),(3-(AT$1*3-Paraméterek!$C$145))/3,1)","v":0},{"$f":"AT$42*AU$8*IF(AND(AV$41=0,AU$41<>0),(3-(AU$1*3-Paraméterek!$C$145))/3,1)","v":0},{"$f":"AU$42*AV$8*IF(AND(AW$41=0,AV$41<>0),(3-(AV$1*3-Paraméterek!$C$145))/3,1)","v":0},{"$f":"AV$42*AW$8*IF(AND(AX$41=0,AW$41<>0),(3-(AW$1*3-Paraméterek!$C$145))/3,1)","v":0},{"$f":"AW$42*AX$8*IF(AND(AY$41=0,AX$41<>0),(3-(AX$1*3-Paraméterek!$C$145))/3,1)","v":0},{"$f":"AX$42*AY$8*IF(AND(AZ$41=0,AY$41<>0),(3-(AY$1*3-Paraméterek!$C$145))/3,1)","v":0},{"$f":"AY$42*AZ$8*IF(AND(BA$41=0,AZ$41<>0),(3-(AZ$1*3-Paraméterek!$C$145))/3,1)","v":0},{"$f":"AZ$42*BA$8*IF(AND(BB$41=0,BA$41<>0),(3-(BA$1*3-Paraméterek!$C$145))/3,1)","v":0},{"$f":"BA$42*BB$8*IF(AND(BC$41=0,BB$41<>0),(3-(BB$1*3-Paraméterek!$C$145))/3,1)","v":0},{"$f":"BB$42*BC$8*IF(AND(BD$41=0,BC$41<>0),(3-(BC$1*3-Paraméterek!$C$145))/3,1)","v":0},{"$f":"BC$42*BD$8*IF(AND(BE$41=0,BD$41<>0),(3-(BD$1*3-Paraméterek!$C$145))/3,1)","v":0},{"$f":"BD$42*BE$8*IF(AND(BF$41=0,BE$41<>0),(3-(BE$1*3-Paraméterek!$C$145))/3,1)","v":0},{"$f":"BE$42*BF$8*IF(AND(BG$41=0,BF$41<>0),(3-(BF$1*3-Paraméterek!$C$145))/3,1)","v":0},{"$f":"BF$42*BG$8*IF(AND(BH$41=0,BG$41<>0),(3-(BG$1*3-Paraméterek!$C$145))/3,1)","v":0},{"$f":"BG$42*BH$8*IF(AND(BI$41=0,BH$41<>0),(3-(BH$1*3-Paraméterek!$C$145))/3,1)","v":0},{"$f":"BH$42*BI$8*IF(AND(BJ$41=0,BI$41<>0),(3-(BI$1*3-Paraméterek!$C$145))/3,1)","v":0},{"$f":"BI$42*BJ$8*IF(AND(BK$41=0,BJ$41<>0),(3-(BJ$1*3-Paraméterek!$C$145))/3,1)","v":0},{"$f":"BJ$42*BK$8*IF(AND(BL$41=0,BK$41<>0),(3-(BK$1*3-Paraméterek!$C$145))/3,1)","v":0},{"$f":"BK$42*BL$8*IF(AND(BM$41=0,BL$41<>0),(3-(BL$1*3-Paraméterek!$C$145))/3,1)","v":0},{"$f":"BL$42*BM$8*IF(AND(BN$41=0,BM$41<>0),(3-(BM$1*3-Paraméterek!$C$145))/3,1)","v":0},{"$f":"BM$42*BN$8*IF(AND(BO$41=0,BN$41<>0),(3-(BN$1*3-Paraméterek!$C$145))/3,1)","v":0},{"$f":"BN$42*BO$8*IF(AND(BP$41=0,BO$41<>0),(3-(BO$1*3-Paraméterek!$C$145))/3,1)","v":0},{"$f":"BO$42*BP$8*IF(AND(BQ$41=0,BP$41<>0),(3-(BP$1*3-Paraméterek!$C$145))/3,1)","v":0},{"$f":"BP$42*BQ$8*IF(AND(BR$41=0,BQ$41<>0),(3-(BQ$1*3-Paraméterek!$C$145))/3,1)","v":0},{"$f":"BQ$42*BR$8*IF(AND(BS$41=0,BR$41<>0),(3-(BR$1*3-Paraméterek!$C$145))/3,1)","v":{"$error":"#VALUE!"}},{"$f":"BR$42*BS$8*IF(AND(BT$41=0,BS$41<>0),(3-(BS$1*3-Paraméterek!$C$145))/3,1)","v":{"$error":"#VALUE!"}},"x"]
[null,null,null,null,null,null,null,null,null,null,null,null,null,null,null,null,null,null,null,null,null,null,null,null,null,null,null,null,null,null,null,null,null,null,null,null,null,null,null,null,null,null,null,null,null,null,null,null,null,null,null,null,null,null,null,null,null,null,null,null,null,null,null,null,null,null,null,null,null,null,null,"x"]
["ÁFA-hitel (Forrásdeviza)",null,null,null,null,null,null,null,null,null,null,null,null,null,null,null,null,null,null,null,null,null,null,null,null,null,null,null,null,null,null,null,null,null,null,null,null,null,null,null,null,null,null,null,null,null,null,null,null,null,null,null,null,null,null,null,null,null,null,null,null,null,null,null,null,null,null,null,null,null,null,"x"]
["Negyedéves - Változó kamat",null,null,null,null,null,null,null,null,null,null,null,null,null,null,null,null,null,null,null,null,null,null,null,null,null,null,null,null,null,null,null,null,null,null,null,null,null,null,null,null,null,null,null,null,null,null,null,null,null,null,null,null,null,null,null,null,null,null,null,null,null,null,null,null,null,null,null,null,null,null,"x"]
["Törlesztőrészlet",null,null,{"$f":"D$48+D$50","v":0},{"$f":"E$48+E$50","v":0},0,0,0,0,0,0,0,0,0,0,0,0,0,0,0,0,0,0,0,0,0,0,0,0,0,0,0,0,0,0,0,0,0,0,0,0,0,0,0,0,0,0,0,0,0,0,0,0,0,0,0,0,0,0,0,0,0,0,0,0,0,0,0,{"$f":"BQ$48+BQ$50","v":0},{"$f":"BR$48+BR$50","v":{"$error":"#VALUE!"}},{"$f":"BS$48+BS$50","v":{"$error":"#VALUE!"}},"x"]
["Tőketörlesztés",null,null,{"$f":"IF(AND(Paraméterek!$C$141>Negyedéves!C$1*3,Paraméterek!$C$141<Negyedéves!E$1*3-2),Negyedéves!$C$49,0)","v":0},{"$f":"IF(AND(Paraméterek!$C$141>Negyedéves!D$1*3,Paraméterek!$C$141<Negyedéves!F$1*3-2),Negyedéves!$C$49,0)","v":0},{"$f":"IF(AND(Paraméterek!$C$141>Negyedéves!E$1*3,Paraméterek!$C$141<Negyedéves!G$1*3-2),Negyedéves!$C$49,0)","v":0},{"$f":"IF(AND(Paraméterek!$C$141>Negyedéves!F$1*3,Paraméterek!$C$141<Negyedéves!H$1*3-2),Negyedéves!$C$49,0)","v":0},{"$f":"IF(AND(Paraméterek!$C$141>Negyedéves!G$1*3,Paraméterek!$C$141<Negyedéves!I$1*3-2),Negyedéves!$C$49,0)","v":0},{"$f":"IF(AND(Paraméterek!$C$141>Negyedéves!H$1*3,Paraméterek!$C$141<Negyedéves!J$1*3-2),Negyedéves!$C$49,0)","v":0},{"$f":"IF(AND(Paraméterek!$C$141>Negyedéves!I$1*3,Paraméterek!$C$141<Negyedéves!K$1*3-2),Negyedéves!$C$49,0)","v":0},{"$f":"IF(AND(Paraméterek!$C$141>Negyedéves!J$1*3,Paraméterek!$C$141<Negyedéves!L$1*3-2),Negyedéves!$C$49,0)","v":0},{"$f":"IF(AND(Paraméterek!$C$141>Negyedéves!K$1*3,Paraméterek!$C$141<Negyedéves!M$1*3-2),Negyedéves!$C$49,0)","v":0},{"$f":"IF(AND(Paraméterek!$C$141>Negyedéves!L$1*3,Paraméterek!$C$141<Negyedéves!N$1*3-2),Negyedéves!$C$49,0)","v":0},{"$f":"IF(AND(Paraméterek!$C$141>Negyedéves!M$1*3,Paraméterek!$C$141<Negyedéves!O$1*3-2),Negyedéves!$C$49,0)","v":0},{"$f":"IF(AND(Paraméterek!$C$141>Negyedéves!N$1*3,Paraméterek!$C$141<Negyedéves!P$1*3-2),Negyedéves!$C$49,0)","v":0},{"$f":"IF(AND(Paraméterek!$C$141>Negyedéves!O$1*3,Paraméterek!$C$141<Negyedéves!Q$1*3-2),Negyedéves!$C$49,0)","v":0},{"$f":"IF(AND(Paraméterek!$C$141>Negyedéves!P$1*3,Paraméterek!$C$141<Negyedéves!R$1*3-2),Negyedéves!$C$49,0)","v":0},{"$f":"IF(AND(Paraméterek!$C$141>Negyedéves!Q$1*3,Paraméterek!$C$141<Negyedéves!S$1*3-2),Negyedéves!$C$49,0)","v":0},{"$f":"IF(AND(Paraméterek!$C$141>Negyedéves!R$1*3,Paraméterek!$C$141<Negyedéves!T$1*3-2),Negyedéves!$C$49,0)","v":0},{"$f":"IF(AND(Paraméterek!$C$141>Negyedéves!S$1*3,Paraméterek!$C$141<Negyedéves!U$1*3-2),Negyedéves!$C$49,0)","v":0},{"$f":"IF(AND(Paraméterek!$C$141>Negyedéves!T$1*3,Paraméterek!$C$141<Negyedéves!V$1*3-2),Negyedéves!$C$49,0)","v":0},{"$f":"IF(AND(Paraméterek!$C$141>Negyedéves!U$1*3,Paraméterek!$C$141<Negyedéves!W$1*3-2),Negyedéves!$C$49,0)","v":0},{"$f":"IF(AND(Paraméterek!$C$141>Negyedéves!V$1*3,Paraméterek!$C$141<Negyedéves!X$1*3-2),Negyedéves!$C$49,0)","v":0},{"$f":"IF(AND(Paraméterek!$C$141>Negyedéves!W$1*3,Paraméterek!$C$141<Negyedéves!Y$1*3-2),Negyedéves!$C$49,0)","v":0},{"$f":"IF(AND(Paraméterek!$C$141>Negyedéves!X$1*3,Paraméterek!$C$141<Negyedéves!Z$1*3-2),Negyedéves!$C$49,0)","v":0},{"$f":"IF(AND(Paraméterek!$C$141>Negyedéves!Y$1*3,Paraméterek!$C$141<Negyedéves!AA$1*3-2),Negyedéves!$C$49,0)","v":0},{"$f":"IF(AND(Paraméterek!$C$141>Negyedéves!Z$1*3,Paraméterek!$C$141<Negyedéves!AB$1*3-2),Negyedéves!$C$49,0)","v":0},{"$f":"IF(AND(Paraméterek!$C$141>Negyedéves!AA$1*3,Paraméterek!$C$141<Negyedéves!AC$1*3-2),Negyedéves!$C$49,0)","v":0},{"$f":"IF(AND(Paraméterek!$C$141>Negyedéves!AB$1*3,Paraméterek!$C$141<Negyedéves!AD$1*3-2),Negyedéves!$C$49,0)","v":0},{"$f":"IF(AND(Paraméterek!$C$141>Negyedéves!AC$1*3,Paraméterek!$C$141<Negyedéves!AE$1*3-2),Negyedéves!$C$49,0)","v":0},{"$f":"IF(AND(Paraméterek!$C$141>Negyedéves!AD$1*3,Paraméterek!$C$141<Negyedéves!AF$1*3-2),Negyedéves!$C$49,0)","v":0},{"$f":"IF(AND(Paraméterek!$C$141>Negyedéves!AE$1*3,Paraméterek!$C$141<Negyedéves!AG$1*3-2),Negyedéves!$C$49,0)","v":0},{"$f":"IF(AND(Paraméterek!$C$141>Negyedéves!AF$1*3,Paraméterek!$C$141<Negyedéves!AH$1*3-2),Negyedéves!$C$49,0)","v":0},{"$f":"IF(AND(Paraméterek!$C$141>Negyedéves!AG$1*3,Paraméterek!$C$141<Negyedéves!AI$1*3-2),Negyedéves!$C$49,0)","v":0},{"$f":"IF(AND(Paraméterek!$C$141>Negyedéves!AH$1*3,Paraméterek!$C$141<Negyedéves!AJ$1*3-2),Negyedéves!$C$49,0)","v":0},{"$f":"IF(AND(Paraméterek!$C$141>Negyedéves!AI$1*3,Paraméterek!$C$141<Negyedéves!AK$1*3-2),Negyedéves!$C$49,0)","v":0},{"$f":"IF(AND(Paraméterek!$C$141>Negyedéves!AJ$1*3,Paraméterek!$C$141<Negyedéves!AL$1*3-2),Negyedéves!$C$49,0)","v":0},{"$f":"IF(AND(Paraméterek!$C$141>Negyedéves!AK$1*3,Paraméterek!$C$141<Negyedéves!AM$1*3-2),Negyedéves!$C$49,0)","v":0},{"$f":"IF(AND(Paraméterek!$C$141>Negyedéves!AL$1*3,Paraméterek!$C$141<Negyedéves!AN$1*3-2),Negyedéves!$C$49,0)","v":0},{"$f":"IF(AND(Paraméterek!$C$141>Negyedéves!AM$1*3,Paraméterek!$C$141<Negyedéves!AO$1*3-2),Negyedéves!$C$49,0)","v":0},{"$f":"IF(AND(Paraméterek!$C$141>Negyedéves!AN$1*3,Paraméterek!$C$141<Negyedéves!AP$1*3-2),Negyedéves!$C$49,0)","v":0},{"$f":"IF(AND(Paraméterek!$C$141>Negyedéves!AO$1*3,Paraméterek!$C$141<Negyedéves!AQ$1*3-2),Negyedéves!$C$49,0)","v":0},{"$f":"IF(AND(Paraméterek!$C$141>Negyedéves!AP$1*3,Paraméterek!$C$141<Negyedéves!AR$1*3-2),Negyedéves!$C$49,0)","v":0},{"$f":"IF(AND(Paraméterek!$C$141>Negyedéves!AQ$1*3,Paraméterek!$C$141<Negyedéves!AS$1*3-2),Negyedéves!$C$49,0)","v":0},{"$f":"IF(AND(Paraméterek!$C$141>Negyedéves!AR$1*3,Paraméterek!$C$141<Negyedéves!AT$1*3-2),Negyedéves!$C$49,0)","v":0},{"$f":"IF(AND(Paraméterek!$C$141>Negyedéves!AS$1*3,Paraméterek!$C$141<Negyedéves!AU$1*3-2),Negyedéves!$C$49,0)","v":0},{"$f":"IF(AND(Paraméterek!$C$141>Negyedéves!AT$1*3,Paraméterek!$C$141<Negyedéves!AV$1*3-2),Negyedéves!$C$49,0)","v":0},{"$f":"IF(AND(Paraméterek!$C$141>Negyedéves!AU$1*3,Paraméterek!$C$141<Negyedéves!AW$1*3-2),Negyedéves!$C$49,0)","v":0},{"$f":"IF(AND(Paraméterek!$C$141>Negyedéves!AV$1*3,Paraméterek!$C$141<Negyedéves!AX$1*3-2),Negyedéves!$C$49,0)","v":0},{"$f":"IF(AND(Paraméterek!$C$141>Negyedéves!AW$1*3,Paraméterek!$C$141<Negyedéves!AY$1*3-2),Negyedéves!$C$49,0)","v":0},{"$f":"IF(AND(Paraméterek!$C$141>Negyedéves!AX$1*3,Paraméterek!$C$141<Negyedéves!AZ$1*3-2),Negyedéves!$C$49,0)","v":0},{"$f":"IF(AND(Paraméterek!$C$141>Negyedéves!AY$1*3,Paraméterek!$C$141<Negyedéves!BA$1*3-2),Negyedéves!$C$49,0)","v":0},{"$f":"IF(AND(Paraméterek!$C$141>Negyedéves!AZ$1*3,Paraméterek!$C$141<Negyedéves!BB$1*3-2),Negyedéves!$C$49,0)","v":0},{"$f":"IF(AND(Paraméterek!$C$141>Negyedéves!BA$1*3,Paraméterek!$C$141<Negyedéves!BC$1*3-2),Negyedéves!$C$49,0)","v":0},{"$f":"IF(AND(Paraméterek!$C$141>Negyedéves!BB$1*3,Paraméterek!$C$141<Negyedéves!BD$1*3-2),Negyedéves!$C$49,0)","v":0},{"$f":"IF(AND(Paraméterek!$C$141>Negyedéves!BC$1*3,Paraméterek!$C$141<Negyedéves!BE$1*3-2),Negyedéves!$C$49,0)","v":0},{"$f":"IF(AND(Paraméterek!$C$141>Negyedéves!BD$1*3,Paraméterek!$C$141<Negyedéves!BF$1*3-2),Negyedéves!$C$49,0)","v":0},{"$f":"IF(AND(Paraméterek!$C$141>Negyedéves!BE$1*3,Paraméterek!$C$141<Negyedéves!BG$1*3-2),Negyedéves!$C$49,0)","v":0},{"$f":"IF(AND(Paraméterek!$C$141>Negyedéves!BF$1*3,Paraméterek!$C$141<Negyedéves!BH$1*3-2),Negyedéves!$C$49,0)","v":0},{"$f":"IF(AND(Paraméterek!$C$141>Negyedéves!BG$1*3,Paraméterek!$C$141<Negyedéves!BI$1*3-2),Negyedéves!$C$49,0)","v":0},{"$f":"IF(AND(Paraméterek!$C$141>Negyedéves!BH$1*3,Paraméterek!$C$141<Negyedéves!BJ$1*3-2),Negyedéves!$C$49,0)","v":0},{"$f":"IF(AND(Paraméterek!$C$141>Negyedéves!BI$1*3,Paraméterek!$C$141<Negyedéves!BK$1*3-2),Negyedéves!$C$49,0)","v":0},{"$f":"IF(AND(Paraméterek!$C$141>Negyedéves!BJ$1*3,Paraméterek!$C$141<Negyedéves!BL$1*3-2),Negyedéves!$C$49,0)","v":0},{"$f":"IF(AND(Paraméterek!$C$141>Negyedéves!BK$1*3,Paraméterek!$C$141<Negyedéves!BM$1*3-2),Negyedéves!$C$49,0)","v":0},{"$f":"IF(AND(Paraméterek!$C$141>Negyedéves!BL$1*3,Paraméterek!$C$141<Negyedéves!BN$1*3-2),Negyedéves!$C$49,0)","v":0},{"$f":"IF(AND(Paraméterek!$C$141>Negyedéves!BM$1*3,Paraméterek!$C$141<Negyedéves!BO$1*3-2),Negyedéves!$C$49,0)","v":0},{"$f":"IF(AND(Paraméterek!$C$141>Negyedéves!BN$1*3,Paraméterek!$C$141<Negyedéves!BP$1*3-2),Negyedéves!$C$49,0)","v":0},{"$f":"IF(AND(Paraméterek!$C$141>Negyedéves!BO$1*3,Paraméterek!$C$141<Negyedéves!BQ$1*3-2),Negyedéves!$C$49,0)","v":0},{"$f":"IF(AND(Paraméterek!$C$141>Negyedéves!BP$1*3,Paraméterek!$C$141<Negyedéves!BR$1*3-2),Negyedéves!$C$49,0)","v":0},{"$f":"IF(AND(Paraméterek!$C$141>Negyedéves!BQ$1*3,Paraméterek!$C$141<Negyedéves!BS$1*3-2),Negyedéves!$C$49,0)","v":0},{"$f":"IF(AND(Paraméterek!$C$141>Negyedéves!BR$1*3,Paraméterek!$C$141<Negyedéves!BT$1*3-2),Negyedéves!$C$49,0)","v":{"$error":"#VALUE!"}},"x"]
["Tőketartozás",null,{"$f":"Paraméterek!$C$138","v":0},{"$f":"C$49-D$48","v":0},{"$f":"D$49-E$48","v":0},0,0,0,0,0,0,0,0,0,0,0,0,0,0,0,0,0,0,0,0,0,0,0,0,0,0,0,0,0,0,0,0,0,0,0,0,0,0,0,0,0,0,0,0,0,0,0,0,0,0,0,0,0,0,0,0,0,0,0,0,0,0,0,{"$f":"BP$49-BQ$48","v":0},{"$f":"BQ$49-BR$48","v":0},{"$f":"BR$49-BS$48","v":{"$error":"#VALUE!"}},"x"]
["Kamattörlesztés",null,null,{"$f":"C$49*D$7*IF(AND(E$48=0,D$48<>0),1,(3-(D$1*3-Paraméterek!$C$145))/3)","v":0},{"$f":"D$49*E$7*IF(AND(F$48=0,E$48<>0),1,(3-(E$1*3-Paraméterek!$C$145))/3)","v":0},{"$f":"E$49*F$7*IF(AND(G$48=0,F$48<>0),1,(3-(F$1*3-Paraméterek!$C$145))/3)","v":0},{"$f":"F$49*G$7*IF(AND(H$48=0,G$48<>0),1,(3-(G$1*3-Paraméterek!$C$145))/3)","v":0},{"$f":"G$49*H$7*IF(AND(I$48=0,H$48<>0),1,(3-(H$1*3-Paraméterek!$C$145))/3)","v":0},{"$f":"H$49*I$7*IF(AND(J$48=0,I$48<>0),1,(3-(I$1*3-Paraméterek!$C$145))/3)","v":0},{"$f":"I$49*J$7*IF(AND(K$48=0,J$48<>0),1,(3-(J$1*3-Paraméterek!$C$145))/3)","v":0},{"$f":"J$49*K$7*IF(AND(L$48=0,K$48<>0),1,(3-(K$1*3-Paraméterek!$C$145))/3)","v":0},{"$f":"K$49*L$7*IF(AND(M$48=0,L$48<>0),1,(3-(L$1*3-Paraméterek!$C$145))/3)","v":0},{"$f":"L$49*M$7*IF(AND(N$48=0,M$48<>0),1,(3-(M$1*3-Paraméterek!$C$145))/3)","v":0},{"$f":"M$49*N$7*IF(AND(O$48=0,N$48<>0),1,(3-(N$1*3-Paraméterek!$C$145))/3)","v":0},{"$f":"N$49*O$7*IF(AND(P$48=0,O$48<>0),1,(3-(O$1*3-Paraméterek!$C$145))/3)","v":0},{"$f":"O$49*P$7*IF(AND(Q$48=0,P$48<>0),1,(3-(P$1*3-Paraméterek!$C$145))/3)","v":0},{"$f":"P$49*Q$7*IF(AND(R$48=0,Q$48<>0),1,(3-(Q$1*3-Paraméterek!$C$145))/3)","v":0},{"$f":"Q$49*R$7*IF(AND(S$48=0,R$48<>0),1,(3-(R$1*3-Paraméterek!$C$145))/3)","v":0},{"$f":"R$49*S$7*IF(AND(T$48=0,S$48<>0),1,(3-(S$1*3-Paraméterek!$C$145))/3)","v":0},{"$f":"S$49*T$7*IF(AND(U$48=0,T$48<>0),1,(3-(T$1*3-Paraméterek!$C$145))/3)","v":0},{"$f":"T$49*U$7*IF(AND(V$48=0,U$48<>0),1,(3-(U$1*3-Paraméterek!$C$145))/3)","v":0},{"$f":"U$49*V$7*IF(AND(W$48=0,V$48<>0),1,(3-(V$1*3-Paraméterek!$C$145))/3)","v":0},{"$f":"V$49*W$7*IF(AND(X$48=0,W$48<>0),1,(3-(W$1*3-Paraméterek!$C$145))/3)","v":0},{"$f":"W$49*X$7*IF(AND(Y$48=0,X$48<>0),1,(3-(X$1*3-Paraméterek!$C$145))/3)","v":0},{"$f":"X$49*Y$7*IF(AND(Z$48=0,Y$48<>0),1,(3-(Y$1*3-Paraméterek!$C$145))/3)","v":0},{"$f":"Y$49*Z$7*IF(AND(AA$48=0,Z$48<>0),1,(3-(Z$1*3-Paraméterek!$C$145))/3)","v":0},{"$f":"Z$49*AA$7*IF(AND(AB$48=0,AA$48<>0),1,(3-(AA$1*3-Paraméterek!$C$145))/3)","v":0},{"$f":"AA$49*AB$7*IF(AND(AC$48=0,AB$48<>0),1,(3-(AB$1*3-Paraméterek!$C$145))/3)","v":0},{"$f":"AB$49*AC$7*IF(AND(AD$48=0,AC$48<>0),1,(3-(AC$1*3-Paraméterek!$C$145))/3)","v":0},{"$f":"AC$49*AD$7*IF(AND(AE$48=0,AD$48<>0),1,(3-(AD$1*3-Paraméterek!$C$145))/3)","v":0},{"$f":"AD$49*AE$7*IF(AND(AF$48=0,AE$48<>0),1,(3-(AE$1*3-Paraméterek!$C$145))/3)","v":0},{"$f":"AE$49*AF$7*IF(AND(AG$48=0,AF$48<>0),1,(3-(AF$1*3-Paraméterek!$C$145))/3)","v":0},{"$f":"AF$49*AG$7*IF(AND(AH$48=0,AG$48<>0),1,(3-(AG$1*3-Paraméterek!$C$145))/3)","v":0},{"$f":"AG$49*AH$7*IF(AND(AI$48=0,AH$48<>0),1,(3-(AH$1*3-Paraméterek!$C$145))/3)","v":0},{"$f":"AH$49*AI$7*IF(AND(AJ$48=0,AI$48<>0),1,(3-(AI$1*3-Paraméterek!$C$145))/3)","v":0},{"$f":"AI$49*AJ$7*IF(AND(AK$48=0,AJ$48<>0),1,(3-(AJ$1*3-Paraméterek!$C$145))/3)","v":0},{"$f":"AJ$49*AK$7*IF(AND(AL$48=0,AK$48<>0),1,(3-(AK$1*3-Paraméterek!$C$145))/3)","v":0},{"$f":"AK$49*AL$7*IF(AND(AM$48=0,AL$48<>0),1,(3-(AL$1*3-Paraméterek!$C$145))/3)","v":0},{"$f":"AL$49*AM$7*IF(AND(AN$48=0,AM$48<>0),1,(3-(AM$1*3-Paraméterek!$C$145))/3)","v":0},{"$f":"AM$49*AN$7*IF(AND(AO$48=0,AN$48<>0),1,(3-(AN$1*3-Paraméterek!$C$145))/3)","v":0},{"$f":"AN$49*AO$7*IF(AND(AP$48=0,AO$48<>0),1,(3-(AO$1*3-Paraméterek!$C$145))/3)","v":0},{"$f":"AO$49*AP$7*IF(AND(AQ$48=0,AP$48<>0),1,(3-(AP$1*3-Paraméterek!$C$145))/3)","v":0},{"$f":"AP$49*AQ$7*IF(AND(AR$48=0,AQ$48<>0),1,(3-(AQ$1*3-Paraméterek!$C$145))/3)","v":0},{"$f":"AQ$49*AR$7*IF(AND(AS$48=0,AR$48<>0),1,(3-(AR$1*3-Paraméterek!$C$145))/3)","v":0},{"$f":"AR$49*AS$7*IF(AND(AT$48=0,AS$48<>0),1,(3-(AS$1*3-Paraméterek!$C$145))/3)","v":0},{"$f":"AS$49*AT$7*IF(AND(AU$48=0,AT$48<>0),1,(3-(AT$1*3-Paraméterek!$C$145))/3)","v":0},{"$f":"AT$49*AU$7*IF(AND(AV$48=0,AU$48<>0),1,(3-(AU$1*3-Paraméterek!$C$145))/3)","v":0},{"$f":"AU$49*AV$7*IF(AND(AW$48=0,AV$48<>0),1,(3-(AV$1*3-Paraméterek!$C$145))/3)","v":0},{"$f":"AV$49*AW$7*IF(AND(AX$48=0,AW$48<>0),1,(3-(AW$1*3-Paraméterek!$C$145))/3)","v":0},{"$f":"AW$49*AX$7*IF(AND(AY$48=0,AX$48<>0),1,(3-(AX$1*3-Paraméterek!$C$145))/3)","v":0},{"$f":"AX$49*AY$7*IF(AND(AZ$48=0,AY$48<>0),1,(3-(AY$1*3-Paraméterek!$C$145))/3)","v":0},{"$f":"AY$49*AZ$7*IF(AND(BA$48=0,AZ$48<>0),1,(3-(AZ$1*3-Paraméterek!$C$145))/3)","v":0},{"$f":"AZ$49*BA$7*IF(AND(BB$48=0,BA$48<>0),1,(3-(BA$1*3-Paraméterek!$C$145))/3)","v":0},{"$f":"BA$49*BB$7*IF(AND(BC$48=0,BB$48<>0),1,(3-(BB$1*3-Paraméterek!$C$145))/3)","v":0},{"$f":"BB$49*BC$7*IF(AND(BD$48=0,BC$48<>0),1,(3-(BC$1*3-Paraméterek!$C$145))/3)","v":0},{"$f":"BC$49*BD$7*IF(AND(BE$48=0,BD$48<>0),1,(3-(BD$1*3-Paraméterek!$C$145))/3)","v":0},{"$f":"BD$49*BE$7*IF(AND(BF$48=0,BE$48<>0),1,(3-(BE$1*3-Paraméterek!$C$145))/3)","v":0},{"$f":"BE$49*BF$7*IF(AND(BG$48=0,BF$48<>0),1,(3-(BF$1*3-Paraméterek!$C$145))/3)","v":0},{"$f":"BF$49*BG$7*IF(AND(BH$48=0,BG$48<>0),1,(3-(BG$1*3-Paraméterek!$C$145))/3)","v":0},{"$f":"BG$49*BH$7*IF(AND(BI$48=0,BH$48<>0),1,(3-(BH$1*3-Paraméterek!$C$145))/3)","v":0},{"$f":"BH$49*BI$7*IF(AND(BJ$48=0,BI$48<>0),1,(3-(BI$1*3-Paraméterek!$C$145))/3)","v":0},{"$f":"BI$49*BJ$7*IF(AND(BK$48=0,BJ$48<>0),1,(3-(BJ$1*3-Paraméterek!$C$145))/3)","v":0},{"$f":"BJ$49*BK$7*IF(AND(BL$48=0,BK$48<>0),1,(3-(BK$1*3-Paraméterek!$C$145))/3)","v":0},{"$f":"BK$49*BL$7*IF(AND(BM$48=0,BL$48<>0),1,(3-(BL$1*3-Paraméterek!$C$145))/3)","v":0},{"$f":"BL$49*BM$7*IF(AND(BN$48=0,BM$48<>0),1,(3-(BM$1*3-Paraméterek!$C$145))/3)","v":0},{"$f":"BM$49*BN$7*IF(AND(BO$48=0,BN$48<>0),1,(3-(BN$1*3-Paraméterek!$C$145))/3)","v":0},{"$f":"BN$49*BO$7*IF(AND(BP$48=0,BO$48<>0),1,(3-(BO$1*3-Paraméterek!$C$145))/3)","v":0},{"$f":"BO$49*BP$7*IF(AND(BQ$48=0,BP$48<>0),1,(3-(BP$1*3-Paraméterek!$C$145))/3)","v":0},{"$f":"BP$49*BQ$7*IF(AND(BR$48=0,BQ$48<>0),1,(3-(BQ$1*3-Paraméterek!$C$145))/3)","v":0},{"$f":"BQ$49*BR$7*IF(AND(BS$48=0,BR$48<>0),1,(3-(BR$1*3-Paraméterek!$C$145))/3)","v":{"$error":"#VALUE!"}},{"$f":"BR$49*BS$7*IF(AND(BT$48=0,BS$48<>0),1,(3-(BS$1*3-Paraméterek!$C$145))/3)","v":{"$error":"#VALUE!"}},"x"]
["Negyedéves - Fix kamat",null,null,null,null,null,null,null,null,null,null,null,null,null,null,null,null,null,null,null,null,null,null,null,null,null,null,null,null,null,null,null,null,null,null,null,null,null,null,null,null,null,null,null,null,null,null,null,null,null,null,null,null,null,null,null,null,null,null,null,null,null,null,null,null,null,null,null,null,null,null,"x"]
["Törlesztőrészlet",null,null,{"$f":"D$53+D$55","v":0},{"$f":"E$53+E$55","v":0},0,0,0,0,0,0,0,0,0,0,0,0,0,0,0,0,0,0,0,0,0,0,0,0,0,0,0,0,0,0,0,0,0,0,0,0,0,0,0,0,0,0,0,0,0,0,0,0,0,0,0,0,0,0,0,0,0,0,0,0,0,0,0,{"$f":"BQ$53+BQ$55","v":0},{"$f":"BR$53+BR$55","v":{"$error":"#VALUE!"}},{"$f":"BS$53+BS$55","v":{"$error":"#VALUE!"}},"x"]
["Tőketörlesztés",null,null,{"$f":"IF(AND(Paraméterek!$C$141>Negyedéves!C$1*3,Paraméterek!$C$141<Negyedéves!E$1*3-2),Negyedéves!$C$54,0)","v":0},{"$f":"IF(AND(Paraméterek!$C$141>Negyedéves!D$1*3,Paraméterek!$C$141<Negyedéves!F$1*3-2),Negyedéves!$C$54,0)","v":0},{"$f":"IF(AND(Paraméterek!$C$141>Negyedéves!E$1*3,Paraméterek!$C$141<Negyedéves!G$1*3-2),Negyedéves!$C$54,0)","v":0},{"$f":"IF(AND(Paraméterek!$C$141>Negyedéves!F$1*3,Paraméterek!$C$141<Negyedéves!H$1*3-2),Negyedéves!$C$54,0)","v":0},{"$f":"IF(AND(Paraméterek!$C$141>Negyedéves!G$1*3,Paraméterek!$C$141<Negyedéves!I$1*3-2),Negyedéves!$C$54,0)","v":0},{"$f":"IF(AND(Paraméterek!$C$141>Negyedéves!H$1*3,Paraméterek!$C$141<Negyedéves!J$1*3-2),Negyedéves!$C$54,0)","v":0},{"$f":"IF(AND(Paraméterek!$C$141>Negyedéves!I$1*3,Paraméterek!$C$141<Negyedéves!K$1*3-2),Negyedéves!$C$54,0)","v":0},{"$f":"IF(AND(Paraméterek!$C$141>Negyedéves!J$1*3,Paraméterek!$C$141<Negyedéves!L$1*3-2),Negyedéves!$C$54,0)","v":0},{"$f":"IF(AND(Paraméterek!$C$141>Negyedéves!K$1*3,Paraméterek!$C$141<Negyedéves!M$1*3-2),Negyedéves!$C$54,0)","v":0},{"$f":"IF(AND(Paraméterek!$C$141>Negyedéves!L$1*3,Paraméterek!$C$141<Negyedéves!N$1*3-2),Negyedéves!$C$54,0)","v":0},{"$f":"IF(AND(Paraméterek!$C$141>Negyedéves!M$1*3,Paraméterek!$C$141<Negyedéves!O$1*3-2),Negyedéves!$C$54,0)","v":0},{"$f":"IF(AND(Paraméterek!$C$141>Negyedéves!N$1*3,Paraméterek!$C$141<Negyedéves!P$1*3-2),Negyedéves!$C$54,0)","v":0},{"$f":"IF(AND(Paraméterek!$C$141>Negyedéves!O$1*3,Paraméterek!$C$141<Negyedéves!Q$1*3-2),Negyedéves!$C$54,0)","v":0},{"$f":"IF(AND(Paraméterek!$C$141>Negyedéves!P$1*3,Paraméterek!$C$141<Negyedéves!R$1*3-2),Negyedéves!$C$54,0)","v":0},{"$f":"IF(AND(Paraméterek!$C$141>Negyedéves!Q$1*3,Paraméterek!$C$141<Negyedéves!S$1*3-2),Negyedéves!$C$54,0)","v":0},{"$f":"IF(AND(Paraméterek!$C$141>Negyedéves!R$1*3,Paraméterek!$C$141<Negyedéves!T$1*3-2),Negyedéves!$C$54,0)","v":0},{"$f":"IF(AND(Paraméterek!$C$141>Negyedéves!S$1*3,Paraméterek!$C$141<Negyedéves!U$1*3-2),Negyedéves!$C$54,0)","v":0},{"$f":"IF(AND(Paraméterek!$C$141>Negyedéves!T$1*3,Paraméterek!$C$141<Negyedéves!V$1*3-2),Negyedéves!$C$54,0)","v":0},{"$f":"IF(AND(Paraméterek!$C$141>Negyedéves!U$1*3,Paraméterek!$C$141<Negyedéves!W$1*3-2),Negyedéves!$C$54,0)","v":0},{"$f":"IF(AND(Paraméterek!$C$141>Negyedéves!V$1*3,Paraméterek!$C$141<Negyedéves!X$1*3-2),Negyedéves!$C$54,0)","v":0},{"$f":"IF(AND(Paraméterek!$C$141>Negyedéves!W$1*3,Paraméterek!$C$141<Negyedéves!Y$1*3-2),Negyedéves!$C$54,0)","v":0},{"$f":"IF(AND(Paraméterek!$C$141>Negyedéves!X$1*3,Paraméterek!$C$141<Negyedéves!Z$1*3-2),Negyedéves!$C$54,0)","v":0},{"$f":"IF(AND(Paraméterek!$C$141>Negyedéves!Y$1*3,Paraméterek!$C$141<Negyedéves!AA$1*3-2),Negyedéves!$C$54,0)","v":0},{"$f":"IF(AND(Paraméterek!$C$141>Negyedéves!Z$1*3,Paraméterek!$C$141<Negyedéves!AB$1*3-2),Negyedéves!$C$54,0)","v":0},{"$f":"IF(AND(Paraméterek!$C$141>Negyedéves!AA$1*3,Paraméterek!$C$141<Negyedéves!AC$1*3-2),Negyedéves!$C$54,0)","v":0},{"$f":"IF(AND(Paraméterek!$C$141>Negyedéves!AB$1*3,Paraméterek!$C$141<Negyedéves!AD$1*3-2),Negyedéves!$C$54,0)","v":0},{"$f":"IF(AND(Paraméterek!$C$141>Negyedéves!AC$1*3,Paraméterek!$C$141<Negyedéves!AE$1*3-2),Negyedéves!$C$54,0)","v":0},{"$f":"IF(AND(Paraméterek!$C$141>Negyedéves!AD$1*3,Paraméterek!$C$141<Negyedéves!AF$1*3-2),Negyedéves!$C$54,0)","v":0},{"$f":"IF(AND(Paraméterek!$C$141>Negyedéves!AE$1*3,Paraméterek!$C$141<Negyedéves!AG$1*3-2),Negyedéves!$C$54,0)","v":0},{"$f":"IF(AND(Paraméterek!$C$141>Negyedéves!AF$1*3,Paraméterek!$C$141<Negyedéves!AH$1*3-2),Negyedéves!$C$54,0)","v":0},{"$f":"IF(AND(Paraméterek!$C$141>Negyedéves!AG$1*3,Paraméterek!$C$141<Negyedéves!AI$1*3-2),Negyedéves!$C$54,0)","v":0},{"$f":"IF(AND(Paraméterek!$C$141>Negyedéves!AH$1*3,Paraméterek!$C$141<Negyedéves!AJ$1*3-2),Negyedéves!$C$54,0)","v":0},{"$f":"IF(AND(Paraméterek!$C$141>Negyedéves!AI$1*3,Paraméterek!$C$141<Negyedéves!AK$1*3-2),Negyedéves!$C$54,0)","v":0},{"$f":"IF(AND(Paraméterek!$C$141>Negyedéves!AJ$1*3,Paraméterek!$C$141<Negyedéves!AL$1*3-2),Negyedéves!$C$54,0)","v":0},{"$f":"IF(AND(Paraméterek!$C$141>Negyedéves!AK$1*3,Paraméterek!$C$141<Negyedéves!AM$1*3-2),Negyedéves!$C$54,0)","v":0},{"$f":"IF(AND(Paraméterek!$C$141>Negyedéves!AL$1*3,Paraméterek!$C$141<Negyedéves!AN$1*3-2),Negyedéves!$C$54,0)","v":0},{"$f":"IF(AND(Paraméterek!$C$141>Negyedéves!AM$1*3,Paraméterek!$C$141<Negyedéves!AO$1*3-2),Negyedéves!$C$54,0)","v":0},{"$f":"IF(AND(Paraméterek!$C$141>Negyedéves!AN$1*3,Paraméterek!$C$141<Negyedéves!AP$1*3-2),Negyedéves!$C$54,0)","v":0},{"$f":"IF(AND(Paraméterek!$C$141>Negyedéves!AO$1*3,Paraméterek!$C$141<Negyedéves!AQ$1*3-2),Negyedéves!$C$54,0)","v":0},{"$f":"IF(AND(Paraméterek!$C$141>Negyedéves!AP$1*3,Paraméterek!$C$141<Negyedéves!AR$1*3-2),Negyedéves!$C$54,0)","v":0},{"$f":"IF(AND(Paraméterek!$C$141>Negyedéves!AQ$1*3,Paraméterek!$C$141<Negyedéves!AS$1*3-2),Negyedéves!$C$54,0)","v":0},{"$f":"IF(AND(Paraméterek!$C$141>Negyedéves!AR$1*3,Paraméterek!$C$141<Negyedéves!AT$1*3-2),Negyedéves!$C$54,0)","v":0},{"$f":"IF(AND(Paraméterek!$C$141>Negyedéves!AS$1*3,Paraméterek!$C$141<Negyedéves!AU$1*3-2),Negyedéves!$C$54,0)","v":0},{"$f":"IF(AND(Paraméterek!$C$141>Negyedéves!AT$1*3,Paraméterek!$C$141<Negyedéves!AV$1*3-2),Negyedéves!$C$54,0)","v":0},{"$f":"IF(AND(Paraméterek!$C$141>Negyedéves!AU$1*3,Paraméterek!$C$141<Negyedéves!AW$1*3-2),Negyedéves!$C$54,0)","v":0},{"$f":"IF(AND(Paraméterek!$C$141>Negyedéves!AV$1*3,Paraméterek!$C$141<Negyedéves!AX$1*3-2),Negyedéves!$C$54,0)","v":0},{"$f":"IF(AND(Paraméterek!$C$141>Negyedéves!AW$1*3,Paraméterek!$C$141<Negyedéves!AY$1*3-2),Negyedéves!$C$54,0)","v":0},{"$f":"IF(AND(Paraméterek!$C$141>Negyedéves!AX$1*3,Paraméterek!$C$141<Negyedéves!AZ$1*3-2),Negyedéves!$C$54,0)","v":0},{"$f":"IF(AND(Paraméterek!$C$141>Negyedéves!AY$1*3,Paraméterek!$C$141<Negyedéves!BA$1*3-2),Negyedéves!$C$54,0)","v":0},{"$f":"IF(AND(Paraméterek!$C$141>Negyedéves!AZ$1*3,Paraméterek!$C$141<Negyedéves!BB$1*3-2),Negyedéves!$C$54,0)","v":0},{"$f":"IF(AND(Paraméterek!$C$141>Negyedéves!BA$1*3,Paraméterek!$C$141<Negyedéves!BC$1*3-2),Negyedéves!$C$54,0)","v":0},{"$f":"IF(AND(Paraméterek!$C$141>Negyedéves!BB$1*3,Paraméterek!$C$141<Negyedéves!BD$1*3-2),Negyedéves!$C$54,0)","v":0},{"$f":"IF(AND(Paraméterek!$C$141>Negyedéves!BC$1*3,Paraméterek!$C$141<Negyedéves!BE$1*3-2),Negyedéves!$C$54,0)","v":0},{"$f":"IF(AND(Paraméterek!$C$141>Negyedéves!BD$1*3,Paraméterek!$C$141<Negyedéves!BF$1*3-2),Negyedéves!$C$54,0)","v":0},{"$f":"IF(AND(Paraméterek!$C$141>Negyedéves!BE$1*3,Paraméterek!$C$141<Negyedéves!BG$1*3-2),Negyedéves!$C$54,0)","v":0},{"$f":"IF(AND(Paraméterek!$C$141>Negyedéves!BF$1*3,Paraméterek!$C$141<Negyedéves!BH$1*3-2),Negyedéves!$C$54,0)","v":0},{"$f":"IF(AND(Paraméterek!$C$141>Negyedéves!BG$1*3,Paraméterek!$C$141<Negyedéves!BI$1*3-2),Negyedéves!$C$54,0)","v":0},{"$f":"IF(AND(Paraméterek!$C$141>Negyedéves!BH$1*3,Paraméterek!$C$141<Negyedéves!BJ$1*3-2),Negyedéves!$C$54,0)","v":0},{"$f":"IF(AND(Paraméterek!$C$141>Negyedéves!BI$1*3,Paraméterek!$C$141<Negyedéves!BK$1*3-2),Negyedéves!$C$54,0)","v":0},{"$f":"IF(AND(Paraméterek!$C$141>Negyedéves!BJ$1*3,Paraméterek!$C$141<Negyedéves!BL$1*3-2),Negyedéves!$C$54,0)","v":0},{"$f":"IF(AND(Paraméterek!$C$141>Negyedéves!BK$1*3,Paraméterek!$C$141<Negyedéves!BM$1*3-2),Negyedéves!$C$54,0)","v":0},{"$f":"IF(AND(Paraméterek!$C$141>Negyedéves!BL$1*3,Paraméterek!$C$141<Negyedéves!BN$1*3-2),Negyedéves!$C$54,0)","v":0},{"$f":"IF(AND(Paraméterek!$C$141>Negyedéves!BM$1*3,Paraméterek!$C$141<Negyedéves!BO$1*3-2),Negyedéves!$C$54,0)","v":0},{"$f":"IF(AND(Paraméterek!$C$141>Negyedéves!BN$1*3,Paraméterek!$C$141<Negyedéves!BP$1*3-2),Negyedéves!$C$54,0)","v":0},{"$f":"IF(AND(Paraméterek!$C$141>Negyedéves!BO$1*3,Paraméterek!$C$141<Negyedéves!BQ$1*3-2),Negyedéves!$C$54,0)","v":0},{"$f":"IF(AND(Paraméterek!$C$141>Negyedéves!BP$1*3,Paraméterek!$C$141<Negyedéves!BR$1*3-2),Negyedéves!$C$54,0)","v":0},{"$f":"IF(AND(Paraméterek!$C$141>Negyedéves!BQ$1*3,Paraméterek!$C$141<Negyedéves!BS$1*3-2),Negyedéves!$C$54,0)","v":0},{"$f":"IF(AND(Paraméterek!$C$141>Negyedéves!BR$1*3,Paraméterek!$C$141<Negyedéves!BT$1*3-2),Negyedéves!$C$54,0)","v":{"$error":"#VALUE!"}},"x"]
["Tőketartozás",null,{"$f":"Paraméterek!$C$138","v":0},{"$f":"C$54-D$53","v":0},{"$f":"D$54-E$53","v":0},0,0,0,0,0,0,0,0,0,0,0,0,0,0,0,0,0,0,0,0,0,0,0,0,0,0,0,0,0,0,0,0,0,0,0,0,0,0,0,0,0,0,0,0,0,0,0,0,0,0,0,0,0,0,0,0,0,0,0,0,0,0,0,{"$f":"BP$54-BQ$53","v":0},{"$f":"BQ$54-BR$53","v":0},{"$f":"BR$54-BS$53","v":{"$error":"#VALUE!"}},"x"]
["Kamattörlesztés",null,null,{"$f":"C$54*D$8*IF(AND(E$48=0,D$48<>0),1,(3-(D$1*3-Paraméterek!$C$145))/3)","v":0},{"$f":"D$54*E$8*IF(AND(F$48=0,E$48<>0),1,(3-(E$1*3-Paraméterek!$C$145))/3)","v":0},{"$f":"E$54*F$8*IF(AND(G$48=0,F$48<>0),1,(3-(F$1*3-Paraméterek!$C$145))/3)","v":0},{"$f":"F$54*G$8*IF(AND(H$48=0,G$48<>0),1,(3-(G$1*3-Paraméterek!$C$145))/3)","v":0},{"$f":"G$54*H$8*IF(AND(I$48=0,H$48<>0),1,(3-(H$1*3-Paraméterek!$C$145))/3)","v":0},{"$f":"H$54*I$8*IF(AND(J$48=0,I$48<>0),1,(3-(I$1*3-Paraméterek!$C$145))/3)","v":0},{"$f":"I$54*J$8*IF(AND(K$48=0,J$48<>0),1,(3-(J$1*3-Paraméterek!$C$145))/3)","v":0},{"$f":"J$54*K$8*IF(AND(L$48=0,K$48<>0),1,(3-(K$1*3-Paraméterek!$C$145))/3)","v":0},{"$f":"K$54*L$8*IF(AND(M$48=0,L$48<>0),1,(3-(L$1*3-Paraméterek!$C$145))/3)","v":0},{"$f":"L$54*M$8*IF(AND(N$48=0,M$48<>0),1,(3-(M$1*3-Paraméterek!$C$145))/3)","v":0},{"$f":"M$54*N$8*IF(AND(O$48=0,N$48<>0),1,(3-(N$1*3-Paraméterek!$C$145))/3)","v":0},{"$f":"N$54*O$8*IF(AND(P$48=0,O$48<>0),1,(3-(O$1*3-Paraméterek!$C$145))/3)","v":0},{"$f":"O$54*P$8*IF(AND(Q$48=0,P$48<>0),1,(3-(P$1*3-Paraméterek!$C$145))/3)","v":0},{"$f":"P$54*Q$8*IF(AND(R$48=0,Q$48<>0),1,(3-(Q$1*3-Paraméterek!$C$145))/3)","v":0},{"$f":"Q$54*R$8*IF(AND(S$48=0,R$48<>0),1,(3-(R$1*3-Paraméterek!$C$145))/3)","v":0},{"$f":"R$54*S$8*IF(AND(T$48=0,S$48<>0),1,(3-(S$1*3-Paraméterek!$C$145))/3)","v":0},{"$f":"S$54*T$8*IF(AND(U$48=0,T$48<>0),1,(3-(T$1*3-Paraméterek!$C$145))/3)","v":0},{"$f":"T$54*U$8*IF(AND(V$48=0,U$48<>0),1,(3-(U$1*3-Paraméterek!$C$145))/3)","v":0},{"$f":"U$54*V$8*IF(AND(W$48=0,V$48<>0),1,(3-(V$1*3-Paraméterek!$C$145))/3)","v":0},{"$f":"V$54*W$8*IF(AND(X$48=0,W$48<>0),1,(3-(W$1*3-Paraméterek!$C$145))/3)","v":0},{"$f":"W$54*X$8*IF(AND(Y$48=0,X$48<>0),1,(3-(X$1*3-Paraméterek!$C$145))/3)","v":0},{"$f":"X$54*Y$8*IF(AND(Z$48=0,Y$48<>0),1,(3-(Y$1*3-Paraméterek!$C$145))/3)","v":0},{"$f":"Y$54*Z$8*IF(AND(AA$48=0,Z$48<>0),1,(3-(Z$1*3-Paraméterek!$C$145))/3)","v":0},{"$f":"Z$54*AA$8*IF(AND(AB$48=0,AA$48<>0),1,(3-(AA$1*3-Paraméterek!$C$145))/3)","v":0},{"$f":"AA$54*AB$8*IF(AND(AC$48=0,AB$48<>0),1,(3-(AB$1*3-Paraméterek!$C$145))/3)","v":0},{"$f":"AB$54*AC$8*IF(AND(AD$48=0,AC$48<>0),1,(3-(AC$1*3-Paraméterek!$C$145))/3)","v":0},{"$f":"AC$54*AD$8*IF(AND(AE$48=0,AD$48<>0),1,(3-(AD$1*3-Paraméterek!$C$145))/3)","v":0},{"$f":"AD$54*AE$8*IF(AND(AF$48=0,AE$48<>0),1,(3-(AE$1*3-Paraméterek!$C$145))/3)","v":0},{"$f":"AE$54*AF$8*IF(AND(AG$48=0,AF$48<>0),1,(3-(AF$1*3-Paraméterek!$C$145))/3)","v":0},{"$f":"AF$54*AG$8*IF(AND(AH$48=0,AG$48<>0),1,(3-(AG$1*3-Paraméterek!$C$145))/3)","v":0},{"$f":"AG$54*AH$8*IF(AND(AI$48=0,AH$48<>0),1,(3-(AH$1*3-Paraméterek!$C$145))/3)","v":0},{"$f":"AH$54*AI$8*IF(AND(AJ$48=0,AI$48<>0),1,(3-(AI$1*3-Paraméterek!$C$145))/3)","v":0},{"$f":"AI$54*AJ$8*IF(AND(AK$48=0,AJ$48<>0),1,(3-(AJ$1*3-Paraméterek!$C$145))/3)","v":0},{"$f":"AJ$54*AK$8*IF(AND(AL$48=0,AK$48<>0),1,(3-(AK$1*3-Paraméterek!$C$145))/3)","v":0},{"$f":"AK$54*AL$8*IF(AND(AM$48=0,AL$48<>0),1,(3-(AL$1*3-Paraméterek!$C$145))/3)","v":0},{"$f":"AL$54*AM$8*IF(AND(AN$48=0,AM$48<>0),1,(3-(AM$1*3-Paraméterek!$C$145))/3)","v":0},{"$f":"AM$54*AN$8*IF(AND(AO$48=0,AN$48<>0),1,(3-(AN$1*3-Paraméterek!$C$145))/3)","v":0},{"$f":"AN$54*AO$8*IF(AND(AP$48=0,AO$48<>0),1,(3-(AO$1*3-Paraméterek!$C$145))/3)","v":0},{"$f":"AO$54*AP$8*IF(AND(AQ$48=0,AP$48<>0),1,(3-(AP$1*3-Paraméterek!$C$145))/3)","v":0},{"$f":"AP$54*AQ$8*IF(AND(AR$48=0,AQ$48<>0),1,(3-(AQ$1*3-Paraméterek!$C$145))/3)","v":0},{"$f":"AQ$54*AR$8*IF(AND(AS$48=0,AR$48<>0),1,(3-(AR$1*3-Paraméterek!$C$145))/3)","v":0},{"$f":"AR$54*AS$8*IF(AND(AT$48=0,AS$48<>0),1,(3-(AS$1*3-Paraméterek!$C$145))/3)","v":0},{"$f":"AS$54*AT$8*IF(AND(AU$48=0,AT$48<>0),1,(3-(AT$1*3-Paraméterek!$C$145))/3)","v":0},{"$f":"AT$54*AU$8*IF(AND(AV$48=0,AU$48<>0),1,(3-(AU$1*3-Paraméterek!$C$145))/3)","v":0},{"$f":"AU$54*AV$8*IF(AND(AW$48=0,AV$48<>0),1,(3-(AV$1*3-Paraméterek!$C$145))/3)","v":0},{"$f":"AV$54*AW$8*IF(AND(AX$48=0,AW$48<>0),1,(3-(AW$1*3-Paraméterek!$C$145))/3)","v":0},{"$f":"AW$54*AX$8*IF(AND(AY$48=0,AX$48<>0),1,(3-(AX$1*3-Paraméterek!$C$145))/3)","v":0},{"$f":"AX$54*AY$8*IF(AND(AZ$48=0,AY$48<>0),1,(3-(AY$1*3-Paraméterek!$C$145))/3)","v":0},{"$f":"AY$54*AZ$8*IF(AND(BA$48=0,AZ$48<>0),1,(3-(AZ$1*3-Paraméterek!$C$145))/3)","v":0},{"$f":"AZ$54*BA$8*IF(AND(BB$48=0,BA$48<>0),1,(3-(BA$1*3-Paraméterek!$C$145))/3)","v":0},{"$f":"BA$54*BB$8*IF(AND(BC$48=0,BB$48<>0),1,(3-(BB$1*3-Paraméterek!$C$145))/3)","v":0},{"$f":"BB$54*BC$8*IF(AND(BD$48=0,BC$48<>0),1,(3-(BC$1*3-Paraméterek!$C$145))/3)","v":0},{"$f":"BC$54*BD$8*IF(AND(BE$48=0,BD$48<>0),1,(3-(BD$1*3-Paraméterek!$C$145))/3)","v":0},{"$f":"BD$54*BE$8*IF(AND(BF$48=0,BE$48<>0),1,(3-(BE$1*3-Paraméterek!$C$145))/3)","v":0},{"$f":"BE$54*BF$8*IF(AND(BG$48=0,BF$48<>0),1,(3-(BF$1*3-Paraméterek!$C$145))/3)","v":0},{"$f":"BF$54*BG$8*IF(AND(BH$48=0,BG$48<>0),1,(3-(BG$1*3-Paraméterek!$C$145))/3)","v":0},{"$f":"BG$54*BH$8*IF(AND(BI$48=0,BH$48<>0),1,(3-(BH$1*3-Paraméterek!$C$145))/3)","v":0},{"$f":"BH$54*BI$8*IF(AND(BJ$48=0,BI$48<>0),1,(3-(BI$1*3-Paraméterek!$C$145))/3)","v":0},{"$f":"BI$54*BJ$8*IF(AND(BK$48=0,BJ$48<>0),1,(3-(BJ$1*3-Paraméterek!$C$145))/3)","v":0},{"$f":"BJ$54*BK$8*IF(AND(BL$48=0,BK$48<>0),1,(3-(BK$1*3-Paraméterek!$C$145))/3)","v":0},{"$f":"BK$54*BL$8*IF(AND(BM$48=0,BL$48<>0),1,(3-(BL$1*3-Paraméterek!$C$145))/3)","v":0},{"$f":"BL$54*BM$8*IF(AND(BN$48=0,BM$48<>0),1,(3-(BM$1*3-Paraméterek!$C$145))/3)","v":0},{"$f":"BM$54*BN$8*IF(AND(BO$48=0,BN$48<>0),1,(3-(BN$1*3-Paraméterek!$C$145))/3)","v":0},{"$f":"BN$54*BO$8*IF(AND(BP$48=0,BO$48<>0),1,(3-(BO$1*3-Paraméterek!$C$145))/3)","v":0},{"$f":"BO$54*BP$8*IF(AND(BQ$48=0,BP$48<>0),1,(3-(BP$1*3-Paraméterek!$C$145))/3)","v":0},{"$f":"BP$54*BQ$8*IF(AND(BR$48=0,BQ$48<>0),1,(3-(BQ$1*3-Paraméterek!$C$145))/3)","v":0},{"$f":"BQ$54*BR$8*IF(AND(BS$48=0,BR$48<>0),1,(3-(BR$1*3-Paraméterek!$C$145))/3)","v":{"$error":"#VALUE!"}},{"$f":"BR$54*BS$8*IF(AND(BT$48=0,BS$48<>0),1,(3-(BS$1*3-Paraméterek!$C$145))/3)","v":{"$error":"#VALUE!"}},"x"]
[null,null,null,null,null,null,null,null,null,null,null,null,null,null,null,null,null,null,null,null,null,null,null,null,null,null,null,null,null,null,null,null,null,null,null,null,null,null,null,null,null,null,null,null,null,null,null,null,null,null,null,null,null,null,null,null,null,null,null,null,null,null,null,null,null,null,null,null,null,null,null,"x"]
["Beruházási hitel annuitással (Forrásdeviza)",null,null,null,null,null,null,null,null,null,null,null,null,null,null,null,null,null,null,null,null,null,null,null,null,null,null,null,null,null,null,null,null,null,null,null,null,null,null,null,null,null,null,null,null,null,null,null,null,null,null,null,null,null,null,null,null,null,null,null,null,null,null,null,null,null,null,null,null,null,null,"x"]
["Negyedéves - Fix kamat",null,null,null,null,null,null,null,null,null,null,null,null,null,null,null,null,null,null,null,null,null,null,null,null,null,null,null,null,null,null,null,null,null,null,null,null,null,null,null,null,null,null,null,null,null,null,null,null,null,null,null,null,null,null,null,null,null,null,null,null,null,null,null,null,null,null,null,null,null,null,"x"]
["Törlesztőrészlet",null,null,{"$f":"IF(D$1>Paraméterek!$C$131*4,0,PMT(Paraméterek!$C$133/4,Paraméterek!$C$131*4,-$C$61))","v":2318802.0819685822},{"$f":"IF(E$1>Paraméterek!$C$131*4,0,PMT(Paraméterek!$C$133/4,Paraméterek!$C$131*4,-$C$61))","v":2318802.0819685822},{"$f":"IF(F$1>Paraméterek!$C$131*4,0,PMT(Paraméterek!$C$133/4,Paraméterek!$C$131*4,-$C$61))","v":2318802.0819685822},{"$f":"IF(G$1>Paraméterek!$C$131*4,0,PMT(Paraméterek!$C$133/4,Paraméterek!$C$131*4,-$C$61))","v":2318802.0819685822},{"$f":"IF(H$1>Paraméterek!$C$131*4,0,PMT(Paraméterek!$C$133/4,Paraméterek!$C$131*4,-$C$61))","v":2318802.0819685822},{"$f":"IF(I$1>Paraméterek!$C$131*4,0,PMT(Paraméterek!$C$133/4,Paraméterek!$C$131*4,-$C$61))","v":2318802.0819685822},{"$f":"IF(J$1>Paraméterek!$C$131*4,0,PMT(Paraméterek!$C$133/4,Paraméterek!$C$131*4,-$C$61))","v":2318802.0819685822},{"$f":"IF(K$1>Paraméterek!$C$131*4,0,PMT(Paraméterek!$C$133/4,Paraméterek!$C$131*4,-$C$61))","v":2318802.0819685822},{"$f":"IF(L$1>Paraméterek!$C$131*4,0,PMT(Paraméterek!$C$133/4,Paraméterek!$C$131*4,-$C$61))","v":2318802.0819685822},{"$f":"IF(M$1>Paraméterek!$C$131*4,0,PMT(Paraméterek!$C$133/4,Paraméterek!$C$131*4,-$C$61))","v":2318802.0819685822},{"$f":"IF(N$1>Paraméterek!$C$131*4,0,PMT(Paraméterek!$C$133/4,Paraméterek!$C$131*4,-$C$61))","v":2318802.0819685822},{"$f":"IF(O$1>Paraméterek!$C$131*4,0,PMT(Paraméterek!$C$133/4,Paraméterek!$C$131*4,-$C$61))","v":2318802.0819685822},{"$f":"IF(P$1>Paraméterek!$C$131*4,0,PMT(Paraméterek!$C$133/4,Paraméterek!$C$131*4,-$C$61))","v":2318802.0819685822},{"$f":"IF(Q$1>Paraméterek!$C$131*4,0,PMT(Paraméterek!$C$133/4,Paraméterek!$C$131*4,-$C$61))","v":2318802.0819685822},{"$f":"IF(R$1>Paraméterek!$C$131*4,0,PMT(Paraméterek!$C$133/4,Paraméterek!$C$131*4,-$C$61))","v":2318802.0819685822},{"$f":"IF(S$1>Paraméterek!$C$131*4,0,PMT(Paraméterek!$C$133/4,Paraméterek!$C$131*4,-$C$61))","v":2318802.0819685822},{"$f":"IF(T$1>Paraméterek!$C$131*4,0,PMT(Paraméterek!$C$133/4,Paraméterek!$C$131*4,-$C$61))","v":2318802.0819685822},{"$f":"IF(U$1>Paraméterek!$C$131*4,0,PMT(Paraméterek!$C$133/4,Paraméterek!$C$131*4,-$C$61))","v":2318802.0819685822},{"$f":"IF(V$1>Paraméterek!$C$131*4,0,PMT(Paraméterek!$C$133/4,Paraméterek!$C$131*4,-$C$61))","v":2318802.0819685822},{"$f":"IF(W$1>Paraméterek!$C$131*4,0,PMT(Paraméterek!$C$133/4,Paraméterek!$C$131*4,-$C$61))","v":2318802.0819685822},{"$f":"IF(X$1>Paraméterek!$C$131*4,0,PMT(Paraméterek!$C$133/4,Paraméterek!$C$131*4,-$C$61))","v":2318802.0819685822},{"$f":"IF(Y$1>Paraméterek!$C$131*4,0,PMT(Paraméterek!$C$133/4,Paraméterek!$C$131*4,-$C$61))","v":2318802.0819685822},{"$f":"IF(Z$1>Paraméterek!$C$131*4,0,PMT(Paraméterek!$C$133/4,Paraméterek!$C$131*4,-$C$61))","v":2318802.0819685822},{"$f":"IF(AA$1>Paraméterek!$C$131*4,0,PMT(Paraméterek!$C$133/4,Paraméterek!$C$131*4,-$C$61))","v":2318802.0819685822},{"$f":"IF(AB$1>Paraméterek!$C$131*4,0,PMT(Paraméterek!$C$133/4,Paraméterek!$C$131*4,-$C$61))","v":0},{"$f":"IF(AC$1>Paraméterek!$C$131*4,0,PMT(Paraméterek!$C$133/4,Paraméterek!$C$131*4,-$C$61))","v":0},{"$f":"IF(AD$1>Paraméterek!$C$131*4,0,PMT(Paraméterek!$C$133/4,Paraméterek!$C$131*4,-$C$61))","v":0},{"$f":"IF(AE$1>Paraméterek!$C$131*4,0,PMT(Paraméterek!$C$133/4,Paraméterek!$C$131*4,-$C$61))","v":0},{"$f":"IF(AF$1>Paraméterek!$C$131*4,0,PMT(Paraméterek!$C$133/4,Paraméterek!$C$131*4,-$C$61))","v":0},{"$f":"IF(AG$1>Paraméterek!$C$131*4,0,PMT(Paraméterek!$C$133/4,Paraméterek!$C$131*4,-$C$61))","v":0},{"$f":"IF(AH$1>Paraméterek!$C$131*4,0,PMT(Paraméterek!$C$133/4,Paraméterek!$C$131*4,-$C$61))","v":0},{"$f":"IF(AI$1>Paraméterek!$C$131*4,0,PMT(Paraméterek!$C$133/4,Paraméterek!$C$131*4,-$C$61))","v":0},{"$f":"IF(AJ$1>Paraméterek!$C$131*4,0,PMT(Paraméterek!$C$133/4,Paraméterek!$C$131*4,-$C$61))","v":0},{"$f":"IF(AK$1>Paraméterek!$C$131*4,0,PMT(Paraméterek!$C$133/4,Paraméterek!$C$131*4,-$C$61))","v":0},{"$f":"IF(AL$1>Paraméterek!$C$131*4,0,PMT(Paraméterek!$C$133/4,Paraméterek!$C$131*4,-$C$61))","v":0},{"$f":"IF(AM$1>Paraméterek!$C$131*4,0,PMT(Paraméterek!$C$133/4,Paraméterek!$C$131*4,-$C$61))","v":0},{"$f":"IF(AN$1>Paraméterek!$C$131*4,0,PMT(Paraméterek!$C$133/4,Paraméterek!$C$131*4,-$C$61))","v":0},{"$f":"IF(AO$1>Paraméterek!$C$131*4,0,PMT(Paraméterek!$C$133/4,Paraméterek!$C$131*4,-$C$61))","v":0},{"$f":"IF(AP$1>Paraméterek!$C$131*4,0,PMT(Paraméterek!$C$133/4,Paraméterek!$C$131*4,-$C$61))","v":0},{"$f":"IF(AQ$1>Paraméterek!$C$131*4,0,PMT(Paraméterek!$C$133/4,Paraméterek!$C$131*4,-$C$61))","v":0},{"$f":"IF(AR$1>Paraméterek!$C$131*4,0,PMT(Paraméterek!$C$133/4,Paraméterek!$C$131*4,-$C$61))","v":0},{"$f":"IF(AS$1>Paraméterek!$C$131*4,0,PMT(Paraméterek!$C$133/4,Paraméterek!$C$131*4,-$C$61))","v":0},{"$f":"IF(AT$1>Paraméterek!$C$131*4,0,PMT(Paraméterek!$C$133/4,Paraméterek!$C$131*4,-$C$61))","v":0},{"$f":"IF(AU$1>Paraméterek!$C$131*4,0,PMT(Paraméterek!$C$133/4,Paraméterek!$C$131*4,-$C$61))","v":0},{"$f":"IF(AV$1>Paraméterek!$C$131*4,0,PMT(Paraméterek!$C$133/4,Paraméterek!$C$131*4,-$C$61))","v":0},{"$f":"IF(AW$1>Paraméterek!$C$131*4,0,PMT(Paraméterek!$C$133/4,Paraméterek!$C$131*4,-$C$61))","v":0},{"$f":"IF(AX$1>Paraméterek!$C$131*4,0,PMT(Paraméterek!$C$133/4,Paraméterek!$C$131*4,-$C$61))","v":0},{"$f":"IF(AY$1>Paraméterek!$C$131*4,0,PMT(Paraméterek!$C$133/4,Paraméterek!$C$131*4,-$C$61))","v":0},{"$f":"IF(AZ$1>Paraméterek!$C$131*4,0,PMT(Paraméterek!$C$133/4,Paraméterek!$C$131*4,-$C$61))","v":0},{"$f":"IF(BA$1>Paraméterek!$C$131*4,0,PMT(Paraméterek!$C$133/4,Paraméterek!$C$131*4,-$C$61))","v":0},{"$f":"IF(BB$1>Paraméterek!$C$131*4,0,PMT(Paraméterek!$C$133/4,Paraméterek!$C$131*4,-$C$61))","v":0},{"$f":"IF(BC$1>Paraméterek!$C$131*4,0,PMT(Paraméterek!$C$133/4,Paraméterek!$C$131*4,-$C$61))","v":0},{"$f":"IF(BD$1>Paraméterek!$C$131*4,0,PMT(Paraméterek!$C$133/4,Paraméterek!$C$131*4,-$C$61))","v":0},{"$f":"IF(BE$1>Paraméterek!$C$131*4,0,PMT(Paraméterek!$C$133/4,Paraméterek!$C$131*4,-$C$61))","v":0},{"$f":"IF(BF$1>Paraméterek!$C$131*4,0,PMT(Paraméterek!$C$133/4,Paraméterek!$C$131*4,-$C$61))","v":0},{"$f":"IF(BG$1>Paraméterek!$C$131*4,0,PMT(Paraméterek!$C$133/4,Paraméterek!$C$131*4,-$C$61))","v":0},{"$f":"IF(BH$1>Paraméterek!$C$131*4,0,PMT(Paraméterek!$C$133/4,Paraméterek!$C$131*4,-$C$61))","v":0},{"$f":"IF(BI$1>Paraméterek!$C$131*4,0,PMT(Paraméterek!$C$133/4,Paraméterek!$C$131*4,-$C$61))","v":0},{"$f":"IF(BJ$1>Paraméterek!$C$131*4,0,PMT(Paraméterek!$C$133/4,Paraméterek!$C$131*4,-$C$61))","v":0},{"$f":"IF(BK$1>Paraméterek!$C$131*4,0,PMT(Paraméterek!$C$133/4,Paraméterek!$C$131*4,-$C$61))","v":0},{"$f":"IF(BL$1>Paraméterek!$C$131*4,0,PMT(Paraméterek!$C$133/4,Paraméterek!$C$131*4,-$C$61))","v":0},{"$f":"IF(BM$1>Paraméterek!$C$131*4,0,PMT(Paraméterek!$C$133/4,Paraméterek!$C$131*4,-$C$61))","v":0},{"$f":"IF(BN$1>Paraméterek!$C$131*4,0,PMT(Paraméterek!$C$133/4,Paraméterek!$C$131*4,-$C$61))","v":0},{"$f":"IF(BO$1>Paraméterek!$C$131*4,0,PMT(Paraméterek!$C$133/4,Paraméterek!$C$131*4,-$C$61))","v":0},{"$f":"IF(BP$1>Paraméterek!$C$131*4,0,PMT(Paraméterek!$C$133/4,Paraméterek!$C$131*4,-$C$61))","v":0},{"$f":"IF(BQ$1>Paraméterek!$C$131*4,0,PMT(Paraméterek!$C$133/4,Paraméterek!$C$131*4,-$C$61))","v":0},{"$f":"IF(BR$1>Paraméterek!$C$131*4,0,PMT(Paraméterek!$C$133/4,Paraméterek!$C$131*4,-$C$61))","v":0},{"$f":"IF(BS$1>Paraméterek!$C$131*4,0,PMT(Paraméterek!$C$133/4,Paraméterek!$C$131*4,-$C$61))","v":0},"x"]
["Tőketörlesztés",null,null,{"$f":"IF(D$1>Paraméterek!$C$131*4,0,PPMT(Paraméterek!$C$133/4,D$1,Paraméterek!$C$131*4,-$C$61))","v":1881302.0819685822},{"$f":"IF(E$1>Paraméterek!$C$131*4,0,PPMT(Paraméterek!$C$133/4,E$1,Paraméterek!$C$131*4,-$C$61))","v":1897763.4751858073},{"$f":"IF(F$1>Paraméterek!$C$131*4,0,PPMT(Paraméterek!$C$133/4,F$1,Paraméterek!$C$131*4,-$C$61))","v":1914368.905593683},{"$f":"IF(G$1>Paraméterek!$C$131*4,0,PPMT(Paraméterek!$C$133/4,G$1,Paraméterek!$C$131*4,-$C$61))","v":1931119.6335176276},{"$f":"IF(H$1>Paraméterek!$C$131*4,0,PPMT(Paraméterek!$C$133/4,H$1,Paraméterek!$C$131*4,-$C$61))","v":1948016.9303109068},{"$f":"IF(I$1>Paraméterek!$C$131*4,0,PPMT(Paraméterek!$C$133/4,I$1,Paraméterek!$C$131*4,-$C$61))","v":1965062.0784511275},{"$f":"IF(J$1>Paraméterek!$C$131*4,0,PPMT(Paraméterek!$C$133/4,J$1,Paraméterek!$C$131*4,-$C$61))","v":1982256.3716375749},{"$f":"IF(K$1>Paraméterek!$C$131*4,0,PPMT(Paraméterek!$C$133/4,K$1,Paraméterek!$C$131*4,-$C$61))","v":1999601.1148894038},{"$f":"IF(L$1>Paraméterek!$C$131*4,0,PPMT(Paraméterek!$C$133/4,L$1,Paraméterek!$C$131*4,-$C$61))","v":2017097.624644686},{"$f":"IF(M$1>Paraméterek!$C$131*4,0,PPMT(Paraméterek!$C$133/4,M$1,Paraméterek!$C$131*4,-$C$61))","v":2034747.2288603266},{"$f":"IF(N$1>Paraméterek!$C$131*4,0,PPMT(Paraméterek!$C$133/4,N$1,Paraméterek!$C$131*4,-$C$61))","v":2052551.2671128546},{"$f":"IF(O$1>Paraméterek!$C$131*4,0,PPMT(Paraméterek!$C$133/4,O$1,Paraméterek!$C$131*4,-$C$61))","v":2070511.0907000925},{"$f":"IF(P$1>Paraméterek!$C$131*4,0,PPMT(Paraméterek!$C$133/4,P$1,Paraméterek!$C$131*4,-$C$61))","v":2088628.062743718},{"$f":"IF(Q$1>Paraméterek!$C$131*4,0,PPMT(Paraméterek!$C$133/4,Q$1,Paraméterek!$C$131*4,-$C$61))","v":2106903.5582927256},{"$f":"IF(R$1>Paraméterek!$C$131*4,0,PPMT(Paraméterek!$C$133/4,R$1,Paraméterek!$C$131*4,-$C$61))","v":2125338.9644277869},{"$f":"IF(S$1>Paraméterek!$C$131*4,0,PPMT(Paraméterek!$C$133/4,S$1,Paraméterek!$C$131*4,-$C$61))","v":2143935.6803665301},{"$f":"IF(T$1>Paraméterek!$C$131*4,0,PPMT(Paraméterek!$C$133/4,T$1,Paraméterek!$C$131*4,-$C$61))","v":2162695.1175697371},{"$f":"IF(U$1>Paraméterek!$C$131*4,0,PPMT(Paraméterek!$C$133/4,U$1,Paraméterek!$C$131*4,-$C$61))","v":2181618.6998484721},{"$f":"IF(V$1>Paraméterek!$C$131*4,0,PPMT(Paraméterek!$C$133/4,V$1,Paraméterek!$C$131*4,-$C$61))","v":2200707.8634721464},{"$f":"IF(W$1>Paraméterek!$C$131*4,0,PPMT(Paraméterek!$C$133/4,W$1,Paraméterek!$C$131*4,-$C$61))","v":2219964.0572775281},{"$f":"IF(X$1>Paraméterek!$C$131*4,0,PPMT(Paraméterek!$C$133/4,X$1,Paraméterek!$C$131*4,-$C$61))","v":2239388.7427787059},{"$f":"IF(Y$1>Paraméterek!$C$131*4,0,PPMT(Paraméterek!$C$133/4,Y$1,Paraméterek!$C$131*4,-$C$61))","v":2258983.3942780197},{"$f":"IF(Z$1>Paraméterek!$C$131*4,0,PPMT(Paraméterek!$C$133/4,Z$1,Paraméterek!$C$131*4,-$C$61))","v":2278749.4989779526},{"$f":"IF(AA$1>Paraméterek!$C$131*4,0,PPMT(Paraméterek!$C$133/4,AA$1,Paraméterek!$C$131*4,-$C$61))","v":2298688.5570940096},{"$f":"IF(AB$1>Paraméterek!$C$131*4,0,PPMT(Paraméterek!$C$133/4,AB$1,Paraméterek!$C$131*4,-$C$61))","v":0},{"$f":"IF(AC$1>Paraméterek!$C$131*4,0,PPMT(Paraméterek!$C$133/4,AC$1,Paraméterek!$C$131*4,-$C$61))","v":0},{"$f":"IF(AD$1>Paraméterek!$C$131*4,0,PPMT(Paraméterek!$C$133/4,AD$1,Paraméterek!$C$131*4,-$C$61))","v":0},{"$f":"IF(AE$1>Paraméterek!$C$131*4,0,PPMT(Paraméterek!$C$133/4,AE$1,Paraméterek!$C$131*4,-$C$61))","v":0},{"$f":"IF(AF$1>Paraméterek!$C$131*4,0,PPMT(Paraméterek!$C$133/4,AF$1,Paraméterek!$C$131*4,-$C$61))","v":0},{"$f":"IF(AG$1>Paraméterek!$C$131*4,0,PPMT(Paraméterek!$C$133/4,AG$1,Paraméterek!$C$131*4,-$C$61))","v":0},{"$f":"IF(AH$1>Paraméterek!$C$131*4,0,PPMT(Paraméterek!$C$133/4,AH$1,Paraméterek!$C$131*4,-$C$61))","v":0},{"$f":"IF(AI$1>Paraméterek!$C$131*4,0,PPMT(Paraméterek!$C$133/4,AI$1,Paraméterek!$C$131*4,-$C$61))","v":0},{"$f":"IF(AJ$1>Paraméterek!$C$131*4,0,PPMT(Paraméterek!$C$133/4,AJ$1,Paraméterek!$C$131*4,-$C$61))","v":0},{"$f":"IF(AK$1>Paraméterek!$C$131*4,0,PPMT(Paraméterek!$C$133/4,AK$1,Paraméterek!$C$131*4,-$C$61))","v":0},{"$f":"IF(AL$1>Paraméterek!$C$131*4,0,PPMT(Paraméterek!$C$133/4,AL$1,Paraméterek!$C$131*4,-$C$61))","v":0},{"$f":"IF(AM$1>Paraméterek!$C$131*4,0,PPMT(Paraméterek!$C$133/4,AM$1,Paraméterek!$C$131*4,-$C$61))","v":0},{"$f":"IF(AN$1>Paraméterek!$C$131*4,0,PPMT(Paraméterek!$C$133/4,AN$1,Paraméterek!$C$131*4,-$C$61))","v":0},{"$f":"IF(AO$1>Paraméterek!$C$131*4,0,PPMT(Paraméterek!$C$133/4,AO$1,Paraméterek!$C$131*4,-$C$61))","v":0},{"$f":"IF(AP$1>Paraméterek!$C$131*4,0,PPMT(Paraméterek!$C$133/4,AP$1,Paraméterek!$C$131*4,-$C$61))","v":0},{"$f":"IF(AQ$1>Paraméterek!$C$131*4,0,PPMT(Paraméterek!$C$133/4,AQ$1,Paraméterek!$C$131*4,-$C$61))","v":0},{"$f":"IF(AR$1>Paraméterek!$C$131*4,0,PPMT(Paraméterek!$C$133/4,AR$1,Paraméterek!$C$131*4,-$C$61))","v":0},{"$f":"IF(AS$1>Paraméterek!$C$131*4,0,PPMT(Paraméterek!$C$133/4,AS$1,Paraméterek!$C$131*4,-$C$61))","v":0},{"$f":"IF(AT$1>Paraméterek!$C$131*4,0,PPMT(Paraméterek!$C$133/4,AT$1,Paraméterek!$C$131*4,-$C$61))","v":0},{"$f":"IF(AU$1>Paraméterek!$C$131*4,0,PPMT(Paraméterek!$C$133/4,AU$1,Paraméterek!$C$131*4,-$C$61))","v":0},{"$f":"IF(AV$1>Paraméterek!$C$131*4,0,PPMT(Paraméterek!$C$133/4,AV$1,Paraméterek!$C$131*4,-$C$61))","v":0},{"$f":"IF(AW$1>Paraméterek!$C$131*4,0,PPMT(Paraméterek!$C$133/4,AW$1,Paraméterek!$C$131*4,-$C$61))","v":0},{"$f":"IF(AX$1>Paraméterek!$C$131*4,0,PPMT(Paraméterek!$C$133/4,AX$1,Paraméterek!$C$131*4,-$C$61))","v":0},{"$f":"IF(AY$1>Paraméterek!$C$131*4,0,PPMT(Paraméterek!$C$133/4,AY$1,Paraméterek!$C$131*4,-$C$61))","v":0},{"$f":"IF(AZ$1>Paraméterek!$C$131*4,0,PPMT(Paraméterek!$C$133/4,AZ$1,Paraméterek!$C$131*4,-$C$61))","v":0},{"$f":"IF(BA$1>Paraméterek!$C$131*4,0,PPMT(Paraméterek!$C$133/4,BA$1,Paraméterek!$C$131*4,-$C$61))","v":0},{"$f":"IF(BB$1>Paraméterek!$C$131*4,0,PPMT(Paraméterek!$C$133/4,BB$1,Paraméterek!$C$131*4,-$C$61))","v":0},{"$f":"IF(BC$1>Paraméterek!$C$131*4,0,PPMT(Paraméterek!$C$133/4,BC$1,Paraméterek!$C$131*4,-$C$61))","v":0},{"$f":"IF(BD$1>Paraméterek!$C$131*4,0,PPMT(Paraméterek!$C$133/4,BD$1,Paraméterek!$C$131*4,-$C$61))","v":0},{"$f":"IF(BE$1>Paraméterek!$C$131*4,0,PPMT(Paraméterek!$C$133/4,BE$1,Paraméterek!$C$131*4,-$C$61))","v":0},{"$f":"IF(BF$1>Paraméterek!$C$131*4,0,PPMT(Paraméterek!$C$133/4,BF$1,Paraméterek!$C$131*4,-$C$61))","v":0},{"$f":"IF(BG$1>Paraméterek!$C$131*4,0,PPMT(Paraméterek!$C$133/4,BG$1,Paraméterek!$C$131*4,-$C$61))","v":0},{"$f":"IF(BH$1>Paraméterek!$C$131*4,0,PPMT(Paraméterek!$C$133/4,BH$1,Paraméterek!$C$131*4,-$C$61))","v":0},{"$f":"IF(BI$1>Paraméterek!$C$131*4,0,PPMT(Paraméterek!$C$133/4,BI$1,Paraméterek!$C$131*4,-$C$61))","v":0},{"$f":"IF(BJ$1>Paraméterek!$C$131*4,0,PPMT(Paraméterek!$C$133/4,BJ$1,Paraméterek!$C$131*4,-$C$61))","v":0},{"$f":"IF(BK$1>Paraméterek!$C$131*4,0,PPMT(Paraméterek!$C$133/4,BK$1,Paraméterek!$C$131*4,-$C$61))","v":0},{"$f":"IF(BL$1>Paraméterek!$C$131*4,0,PPMT(Paraméterek!$C$133/4,BL$1,Paraméterek!$C$131*4,-$C$61))","v":0},{"$f":"IF(BM$1>Paraméterek!$C$131*4,0,PPMT(Paraméterek!$C$133/4,BM$1,Paraméterek!$C$131*4,-$C$61))","v":0},{"$f":"IF(BN$1>Paraméterek!$C$131*4,0,PPMT(Paraméterek!$C$133/4,BN$1,Paraméterek!$C$131*4,-$C$61))","v":0},{"$f":"IF(BO$1>Paraméterek!$C$131*4,0,PPMT(Paraméterek!$C$133/4,BO$1,Paraméterek!$C$131*4,-$C$61))","v":0},{"$f":"IF(BP$1>Paraméterek!$C$131*4,0,PPMT(Paraméterek!$C$133/4,BP$1,Paraméterek!$C$131*4,-$C$61))","v":0},{"$f":"IF(BQ$1>Paraméterek!$C$131*4,0,PPMT(Paraméterek!$C$133/4,BQ$1,Paraméterek!$C$131*4,-$C$61))","v":0},{"$f":"IF(BR$1>Paraméterek!$C$131*4,0,PPMT(Paraméterek!$C$133/4,BR$1,Paraméterek!$C$131*4,-$C$61))","v":0},{"$f":"IF(BS$1>Paraméterek!$C$131*4,0,PPMT(Paraméterek!$C$133/4,BS$1,Paraméterek!$C$131*4,-$C$61))","v":0},"x"]
["Tőketartozás",null,{"$f":"Paraméterek!$C$128","v":50000000},{"$f":"C$61-D$60","v":48118697.918031417},{"$f":"D$61-E$60","v":46220934.442845613},44306565.537251927,42375445.903734297,40427428.973423392,38462366.894972265,36480110.523334689,34480509.408445284,32463411.783800598,30428664.554940272,28376113.287827417,26305602.197127324,24216974.134383604,22110070.57609088,19984731.611663092,17840795.931296561,15678100.813726824,13496482.113878351,11295774.250406204,9075810.1931286752,6836421.4503499698,4577438.0560719501,2298688.5570939975,-1.2107193470001221E-8,-1.2107193470001221E-8,-1.2107193470001221E-8,-1.2107193470001221E-8,-1.2107193470001221E-8,-1.2107193470001221E-8,-1.2107193470001221E-8,-1.2107193470001221E-8,-1.2107193470001221E-8,-1.2107193470001221E-8,-1.2107193470001221E-8,-1.2107193470001221E-8,-1.2107193470001221E-8,-1.2107193470001221E-8,-1.2107193470001221E-8,-1.2107193470001221E-8,-1.2107193470001221E-8,-1.2107193470001221E-8,-1.2107193470001221E-8,-1.2107193470001221E-8,-1.2107193470001221E-8,-1.2107193470001221E-8,-1.2107193470001221E-8,-1.2107193470001221E-8,-1.2107193470001221E-8,-1.2107193470001221E-8,-1.2107193470001221E-8,-1.2107193470001221E-8,-1.2107193470001221E-8,-1.2107193470001221E-8,-1.2107193470001221E-8,-1.2107193470001221E-8,-1.2107193470001221E-8,-1.2107193470001221E-8,-1.2107193470001221E-8,-1.2107193470001221E-8,-1.2107193470001221E-8,-1.2107193470001221E-8,-1.2107193470001221E-8,-1.2107193470001221E-8,-1.2107193470001221E-8,-1.2107193470001221E-8,{"$f":"BP$61-BQ$60","v":-1.2107193470001221E-8},{"$f":"BQ$61-BR$60","v":-1.2107193470001221E-8},{"$f":"BR$61-BS$60","v":-1.2107193470001221E-8},"x"]
["Kamattörlesztés",null,null,{"$f":"D$59-D$60","v":437500},{"$f":"E$59-E$60","v":421038.60678277491},404433.17637489922,387682.44845095463,370785.15165767539,353740.00351745472,336545.71033100737,319200.96707917843,301704.45732389623,284054.85310825566,266250.8148557276,248290.99126848974,230174.0192248642,211898.52367585665,193463.11754079536,174866.40160205215,156106.9643988451,137183.38212011009,118094.21849643579,98838.024691054132,79413.339189876337,59818.687690562569,40052.582990629598,20113.524874572642,0,0,0,0,0,0,0,0,0,0,0,0,0,0,0,0,0,0,0,0,0,0,0,0,0,0,0,0,0,0,0,0,0,0,0,0,0,0,0,0,0,{"$f":"BQ$59-BQ$60","v":0},{"$f":"BR$59-BR$60","v":0},{"$f":"BS$59-BS$60","v":0},"x"]
["Beruházási hitel egyenlő tőketörlesztéssel (Forrásdeviza)",null,null,null,null,null,null,null,null,null,null,null,null,null,null,null,null,null,null,null,null,null,null,null,null,null,null,null,null,null,null,null,null,null,null,null,null,null,null,null,null,null,null,null,null,null,null,null,null,null,null,null,null,null,null,null,null,null,null,null,null,null,null,null,null,null,null,null,null,null,null,"x"]
["Negyedéves - Változó kamat",null,null,null,null,null,null,null,null,null,null,null,null,null,null,null,null,null,null,null,null,null,null,null,null,null,null,null,null,null,null,null,null,null,null,null,null,null,null,null,null,null,null,null,null,null,null,null,null,null,null,null,null,null,null,null,null,null,null,null,null,null,null,null,null,null,null,null,null,null,null,"x"]
["Törlesztőrészlet",null,null,{"$f":"D$66+D$68","v":2645833.333333333},{"$f":"E$66+E$68","v":2622395.833333333},2598958.333333333,2575520.833333333,2552083.333333333,2528645.833333333,2505208.333333333,2481770.833333333,2458333.333333333,2434895.833333333,2411458.333333333,2388020.833333333,2364583.333333333,2341145.833333333,2317708.333333333,2294270.833333333,2270833.333333333,2247395.833333333,2223958.333333333,2200520.833333333,2177083.333333333,2153645.833333333,2130208.333333333,2106770.833333333,-9.9535100162029264E-11,-9.9535100162029264E-11,-9.9535100162029264E-11,-9.9535100162029264E-11,-9.9535100162029264E-11,-9.9535100162029264E-11,-9.9535100162029264E-11,-9.9535100162029264E-11,-9.9535100162029264E-11,-9.9535100162029264E-11,-9.9535100162029264E-11,-9.9535100162029264E-11,-9.9535100162029264E-11,-9.9535100162029264E-11,-9.9535100162029264E-11,-9.9535100162029264E-11,-9.9535100162029264E-11,-9.9535100162029264E-11,-9.9535100162029264E-11,-9.9535100162029264E-11,-9.9535100162029264E-11,-9.9535100162029264E-11,-9.9535100162029264E-11,-9.9535100162029264E-11,-9.9535100162029264E-11,-9.9535100162029264E-11,-9.9535100162029264E-11,-9.9535100162029264E-11,-9.9535100162029264E-11,-9.9535100162029264E-11,-9.9535100162029264E-11,-9.9535100162029264E-11,-9.9535100162029264E-11,-9.9535100162029264E-11,-9.9535100162029264E-11,-9.9535100162029264E-11,-9.9535100162029264E-11,-9.9535100162029264E-11,-9.9535100162029264E-11,-9.9535100162029264E-11,-9.9535100162029264E-11,{"$f":"BQ$66+BQ$68","v":-9.9535100162029264E-11},{"$f":"BR$66+BR$68","v":-9.9535100162029264E-11},{"$f":"BS$66+BS$68","v":-9.9535100162029264E-11},"x"]
["Tőketörlesztés",null,null,{"$f":"IF(D$1>Paraméterek!$C$131*4,0,$C$67/(4*Paraméterek!$C$131))","v":2083333.3333333333},{"$f":"IF(E$1>Paraméterek!$C$131*4,0,$C$67/(4*Paraméterek!$C$131))","v":2083333.3333333333},{"$f":"IF(F$1>Paraméterek!$C$131*4,0,$C$67/(4*Paraméterek!$C$131))","v":2083333.3333333333},{"$f":"IF(G$1>Paraméterek!$C$131*4,0,$C$67/(4*Paraméterek!$C$131))","v":2083333.3333333333},{"$f":"IF(H$1>Paraméterek!$C$131*4,0,$C$67/(4*Paraméterek!$C$131))","v":2083333.3333333333},{"$f":"IF(I$1>Paraméterek!$C$131*4,0,$C$67/(4*Paraméterek!$C$131))","v":2083333.3333333333},{"$f":"IF(J$1>Paraméterek!$C$131*4,0,$C$67/(4*Paraméterek!$C$131))","v":2083333.3333333333},{"$f":"IF(K$1>Paraméterek!$C$131*4,0,$C$67/(4*Paraméterek!$C$131))","v":2083333.3333333333},{"$f":"IF(L$1>Paraméterek!$C$131*4,0,$C$67/(4*Paraméterek!$C$131))","v":2083333.3333333333},{"$f":"IF(M$1>Paraméterek!$C$131*4,0,$C$67/(4*Paraméterek!$C$131))","v":2083333.3333333333},{"$f":"IF(N$1>Paraméterek!$C$131*4,0,$C$67/(4*Paraméterek!$C$131))","v":2083333.3333333333},{"$f":"IF(O$1>Paraméterek!$C$131*4,0,$C$67/(4*Paraméterek!$C$131))","v":2083333.3333333333},{"$f":"IF(P$1>Paraméterek!$C$131*4,0,$C$67/(4*Paraméterek!$C$131))","v":2083333.3333333333},{"$f":"IF(Q$1>Paraméterek!$C$131*4,0,$C$67/(4*Paraméterek!$C$131))","v":2083333.3333333333},{"$f":"IF(R$1>Paraméterek!$C$131*4,0,$C$67/(4*Paraméterek!$C$131))","v":2083333.3333333333},{"$f":"IF(S$1>Paraméterek!$C$131*4,0,$C$67/(4*Paraméterek!$C$131))","v":2083333.3333333333},{"$f":"IF(T$1>Paraméterek!$C$131*4,0,$C$67/(4*Paraméterek!$C$131))","v":2083333.3333333333},{"$f":"IF(U$1>Paraméterek!$C$131*4,0,$C$67/(4*Paraméterek!$C$131))","v":2083333.3333333333},{"$f":"IF(V$1>Paraméterek!$C$131*4,0,$C$67/(4*Paraméterek!$C$131))","v":2083333.3333333333},{"$f":"IF(W$1>Paraméterek!$C$131*4,0,$C$67/(4*Paraméterek!$C$131))","v":2083333.3333333333},{"$f":"IF(X$1>Paraméterek!$C$131*4,0,$C$67/(4*Paraméterek!$C$131))","v":2083333.3333333333},{"$f":"IF(Y$1>Paraméterek!$C$131*4,0,$C$67/(4*Paraméterek!$C$131))","v":2083333.3333333333},{"$f":"IF(Z$1>Paraméterek!$C$131*4,0,$C$67/(4*Paraméterek!$C$131))","v":2083333.3333333333},{"$f":"IF(AA$1>Paraméterek!$C$131*4,0,$C$67/(4*Paraméterek!$C$131))","v":2083333.3333333333},{"$f":"IF(AB$1>Paraméterek!$C$131*4,0,$C$67/(4*Paraméterek!$C$131))","v":0},{"$f":"IF(AC$1>Paraméterek!$C$131*4,0,$C$67/(4*Paraméterek!$C$131))","v":0},{"$f":"IF(AD$1>Paraméterek!$C$131*4,0,$C$67/(4*Paraméterek!$C$131))","v":0},{"$f":"IF(AE$1>Paraméterek!$C$131*4,0,$C$67/(4*Paraméterek!$C$131))","v":0},{"$f":"IF(AF$1>Paraméterek!$C$131*4,0,$C$67/(4*Paraméterek!$C$131))","v":0},{"$f":"IF(AG$1>Paraméterek!$C$131*4,0,$C$67/(4*Paraméterek!$C$131))","v":0},{"$f":"IF(AH$1>Paraméterek!$C$131*4,0,$C$67/(4*Paraméterek!$C$131))","v":0},{"$f":"IF(AI$1>Paraméterek!$C$131*4,0,$C$67/(4*Paraméterek!$C$131))","v":0},{"$f":"IF(AJ$1>Paraméterek!$C$131*4,0,$C$67/(4*Paraméterek!$C$131))","v":0},{"$f":"IF(AK$1>Paraméterek!$C$131*4,0,$C$67/(4*Paraméterek!$C$131))","v":0},{"$f":"IF(AL$1>Paraméterek!$C$131*4,0,$C$67/(4*Paraméterek!$C$131))","v":0},{"$f":"IF(AM$1>Paraméterek!$C$131*4,0,$C$67/(4*Paraméterek!$C$131))","v":0},{"$f":"IF(AN$1>Paraméterek!$C$131*4,0,$C$67/(4*Paraméterek!$C$131))","v":0},{"$f":"IF(AO$1>Paraméterek!$C$131*4,0,$C$67/(4*Paraméterek!$C$131))","v":0},{"$f":"IF(AP$1>Paraméterek!$C$131*4,0,$C$67/(4*Paraméterek!$C$131))","v":0},{"$f":"IF(AQ$1>Paraméterek!$C$131*4,0,$C$67/(4*Paraméterek!$C$131))","v":0},{"$f":"IF(AR$1>Paraméterek!$C$131*4,0,$C$67/(4*Paraméterek!$C$131))","v":0},{"$f":"IF(AS$1>Paraméterek!$C$131*4,0,$C$67/(4*Paraméterek!$C$131))","v":0},{"$f":"IF(AT$1>Paraméterek!$C$131*4,0,$C$67/(4*Paraméterek!$C$131))","v":0},{"$f":"IF(AU$1>Paraméterek!$C$131*4,0,$C$67/(4*Paraméterek!$C$131))","v":0},{"$f":"IF(AV$1>Paraméterek!$C$131*4,0,$C$67/(4*Paraméterek!$C$131))","v":0},{"$f":"IF(AW$1>Paraméterek!$C$131*4,0,$C$67/(4*Paraméterek!$C$131))","v":0},{"$f":"IF(AX$1>Paraméterek!$C$131*4,0,$C$67/(4*Paraméterek!$C$131))","v":0},{"$f":"IF(AY$1>Paraméterek!$C$131*4,0,$C$67/(4*Paraméterek!$C$131))","v":0},{"$f":"IF(AZ$1>Paraméterek!$C$131*4,0,$C$67/(4*Paraméterek!$C$131))","v":0},{"$f":"IF(BA$1>Paraméterek!$C$131*4,0,$C$67/(4*Paraméterek!$C$131))","v":0},{"$f":"IF(BB$1>Paraméterek!$C$131*4,0,$C$67/(4*Paraméterek!$C$131))","v":0},{"$f":"IF(BC$1>Paraméterek!$C$131*4,0,$C$67/(4*Paraméterek!$C$131))","v":0},{"$f":"IF(BD$1>Paraméterek!$C$131*4,0,$C$67/(4*Paraméterek!$C$131))","v":0},{"$f":"IF(BE$1>Paraméterek!$C$131*4,0,$C$67/(4*Paraméterek!$C$131))","v":0},{"$f":"IF(BF$1>Paraméterek!$C$131*4,0,$C$67/(4*Paraméterek!$C$131))","v":0},{"$f":"IF(BG$1>Paraméterek!$C$131*4,0,$C$67/(4*Paraméterek!$C$131))","v":0},{"$f":"IF(BH$1>Paraméterek!$C$131*4,0,$C$67/(4*Paraméterek!$C$131))","v":0},{"$f":"IF(BI$1>Paraméterek!$C$131*4,0,$C$67/(4*Paraméterek!$C$131))","v":0},{"$f":"IF(BJ$1>Paraméterek!$C$131*4,0,$C$67/(4*Paraméterek!$C$131))","v":0},{"$f":"IF(BK$1>Paraméterek!$C$131*4,0,$C$67/(4*Paraméterek!$C$131))","v":0},{"$f":"IF(BL$1>Paraméterek!$C$131*4,0,$C$67/(4*Paraméterek!$C$131))","v":0},{"$f":"IF(BM$1>Paraméterek!$C$131*4,0,$C$67/(4*Paraméterek!$C$131))","v":0},{"$f":"IF(BN$1>Paraméterek!$C$131*4,0,$C$67/(4*Paraméterek!$C$131))","v":0},{"$f":"IF(BO$1>Paraméterek!$C$131*4,0,$C$67/(4*Paraméterek!$C$131))","v":0},{"$f":"IF(BP$1>Paraméterek!$C$131*4,0,$C$67/(4*Paraméterek!$C$131))","v":0},{"$f":"IF(BQ$1>Paraméterek!$C$131*4,0,$C$67/(4*Paraméterek!$C$131))","v":0},{"$f":"IF(BR$1>Paraméterek!$C$131*4,0,$C$67/(4*Paraméterek!$C$131))","v":0},{"$f":"IF(BS$1>Paraméterek!$C$131*4,0,$C$67/(4*Paraméterek!$C$131))","v":0},"x"]
["Tőketartozás",null,{"$f":"Paraméterek!$C$128","v":50000000},{"$f":"C$67-D$66","v":47916666.666666664},{"$f":"D$67-E$66","v":45833333.333333328},43749999.999999993,41666666.666666657,39583333.333333321,37499999.999999985,35416666.666666649,33333333.333333317,31249999.999999985,29166666.666666653,27083333.333333321,24999999.999999989,22916666.666666657,20833333.333333325,18749999.999999993,16666666.666666659,14583333.333333325,12499999.999999991,10416666.666666657,8333333.3333333237,6249999.9999999907,4166666.6666666577,2083333.3333333244,-8.8475644588470459E-9,-8.8475644588470459E-9,-8.8475644588470459E-9,-8.8475644588470459E-9,-8.8475644588470459E-9,-8.8475644588470459E-9,-8.8475644588470459E-9,-8.8475644588470459E-9,-8.8475644588470459E-9,-8.8475644588470459E-9,-8.8475644588470459E-9,-8.8475644588470459E-9,-8.8475644588470459E-9,-8.8475644588470459E-9,-8.8475644588470459E-9,-8.8475644588470459E-9,-8.8475644588470459E-9,-8.8475644588470459E-9,-8.8475644588470459E-9,-8.8475644588470459E-9,-8.8475644588470459E-9,-8.8475644588470459E-9,-8.8475644588470459E-9,-8.8475644588470459E-9,-8.8475644588470459E-9,-8.8475644588470459E-9,-8.8475644588470459E-9,-8.8475644588470459E-9,-8.8475644588470459E-9,-8.8475644588470459E-9,-8.8475644588470459E-9,-8.8475644588470459E-9,-8.8475644588470459E-9,-8.8475644588470459E-9,-8.8475644588470459E-9,-8.8475644588470459E-9,-8.8475644588470459E-9,-8.8475644588470459E-9,-8.8475644588470459E-9,-8.8475644588470459E-9,-8.8475644588470459E-9,-8.8475644588470459E-9,{"$f":"BP$67-BQ$66","v":-8.8475644588470459E-9},{"$f":"BQ$67-BR$66","v":-8.8475644588470459E-9},{"$f":"BR$67-BS$66","v":-8.8475644588470459E-9},"x"]
["Kamattörlesztés",null,null,{"$f":"C$67*D$7","v":562500},{"$f":"D$67*E$7","v":539062.5},515624.99999999994,492187.49999999988,468749.99999999988,445312.49999999983,421874.99999999983,398437.49999999977,374999.99999999983,351562.49999999983,328124.99999999983,304687.49999999983,281249.99999999988,257812.49999999988,234374.99999999988,210937.49999999991,187499.99999999991,164062.49999999988,140624.99999999988,117187.49999999988,93749.999999999884,70312.499999999898,46874.999999999898,23437.499999999898,-9.9535100162029264E-11,-9.9535100162029264E-11,-9.9535100162029264E-11,-9.9535100162029264E-11,-9.9535100162029264E-11,-9.9535100162029264E-11,-9.9535100162029264E-11,-9.9535100162029264E-11,-9.9535100162029264E-11,-9.9535100162029264E-11,-9.9535100162029264E-11,-9.9535100162029264E-11,-9.9535100162029264E-11,-9.9535100162029264E-11,-9.9535100162029264E-11,-9.9535100162029264E-11,-9.9535100162029264E-11,-9.9535100162029264E-11,-9.9535100162029264E-11,-9.9535100162029264E-11,-9.9535100162029264E-11,-9.9535100162029264E-11,-9.9535100162029264E-11,-9.9535100162029264E-11,-9.9535100162029264E-11,-9.9535100162029264E-11,-9.9535100162029264E-11,-9.9535100162029264E-11,-9.9535100162029264E-11,-9.9535100162029264E-11,-9.9535100162029264E-11,-9.9535100162029264E-11,-9.9535100162029264E-11,-9.9535100162029264E-11,-9.9535100162029264E-11,-9.9535100162029264E-11,-9.9535100162029264E-11,-9.9535100162029264E-11,-9.9535100162029264E-11,-9.9535100162029264E-11,-9.9535100162029264E-11,{"$f":"BP$67*BQ$7","v":-9.9535100162029264E-11},{"$f":"BQ$67*BR$7","v":-9.9535100162029264E-11},{"$f":"BR$67*BS$7","v":-9.9535100162029264E-11},"x"]
["Negyedéves - Fix kamat",null,null,null,null,null,null,null,null,null,null,null,null,null,null,null,null,null,null,null,null,null,null,null,null,null,null,null,null,null,null,null,null,null,null,null,null,null,null,null,null,null,null,null,null,null,null,null,null,null,null,null,null,null,null,null,null,null,null,null,null,null,null,null,null,null,null,null,null,null,null,"x"]
["Törlesztőrészlet",null,null,{"$f":"D$71+D$73","v":2520833.3333333335},{"$f":"E$71+E$73","v":2502604.1666666665},2484375,2466145.833333333,2447916.6666666665,2429687.5,2411458.333333333,2393229.1666666665,2375000,2356770.833333333,2338541.6666666665,2320312.5,2302083.333333333,2283854.1666666665,2265625,2247395.833333333,2229166.6666666665,2210937.5,2192708.333333333,2174479.1666666665,2156250,2138020.833333333,2119791.6666666665,2101562.5,-7.7416189014911656E-11,-7.7416189014911656E-11,-7.7416189014911656E-11,-7.7416189014911656E-11,-7.7416189014911656E-11,-7.7416189014911656E-11,-7.7416189014911656E-11,-7.7416189014911656E-11,-7.7416189014911656E-11,-7.7416189014911656E-11,-7.7416189014911656E-11,-7.7416189014911656E-11,-7.7416189014911656E-11,-7.7416189014911656E-11,-7.7416189014911656E-11,-7.7416189014911656E-11,-7.7416189014911656E-11,-7.7416189014911656E-11,-7.7416189014911656E-11,-7.7416189014911656E-11,-7.7416189014911656E-11,-7.7416189014911656E-11,-7.7416189014911656E-11,-7.7416189014911656E-11,-7.7416189014911656E-11,-7.7416189014911656E-11,-7.7416189014911656E-11,-7.7416189014911656E-11,-7.7416189014911656E-11,-7.7416189014911656E-11,-7.7416189014911656E-11,-7.7416189014911656E-11,-7.7416189014911656E-11,-7.7416189014911656E-11,-7.7416189014911656E-11,-7.7416189014911656E-11,-7.7416189014911656E-11,-7.7416189014911656E-11,-7.7416189014911656E-11,-7.7416189014911656E-11,-7.7416189014911656E-11,{"$f":"BQ$71+BQ$73","v":-7.7416189014911656E-11},{"$f":"BR$71+BR$73","v":-7.7416189014911656E-11},{"$f":"BS$71+BS$73","v":-7.7416189014911656E-11},"x"]
["Tőketörlesztés",null,null,{"$f":"IF(D$1>Paraméterek!$C$131*4,0,$C$72/(4*Paraméterek!$C$131))","v":2083333.3333333333},{"$f":"IF(E$1>Paraméterek!$C$131*4,0,$C$72/(4*Paraméterek!$C$131))","v":2083333.3333333333},{"$f":"IF(F$1>Paraméterek!$C$131*4,0,$C$72/(4*Paraméterek!$C$131))","v":2083333.3333333333},{"$f":"IF(G$1>Paraméterek!$C$131*4,0,$C$72/(4*Paraméterek!$C$131))","v":2083333.3333333333},{"$f":"IF(H$1>Paraméterek!$C$131*4,0,$C$72/(4*Paraméterek!$C$131))","v":2083333.3333333333},{"$f":"IF(I$1>Paraméterek!$C$131*4,0,$C$72/(4*Paraméterek!$C$131))","v":2083333.3333333333},{"$f":"IF(J$1>Paraméterek!$C$131*4,0,$C$72/(4*Paraméterek!$C$131))","v":2083333.3333333333},{"$f":"IF(K$1>Paraméterek!$C$131*4,0,$C$72/(4*Paraméterek!$C$131))","v":2083333.3333333333},{"$f":"IF(L$1>Paraméterek!$C$131*4,0,$C$72/(4*Paraméterek!$C$131))","v":2083333.3333333333},{"$f":"IF(M$1>Paraméterek!$C$131*4,0,$C$72/(4*Paraméterek!$C$131))","v":2083333.3333333333},{"$f":"IF(N$1>Paraméterek!$C$131*4,0,$C$72/(4*Paraméterek!$C$131))","v":2083333.3333333333},{"$f":"IF(O$1>Paraméterek!$C$131*4,0,$C$72/(4*Paraméterek!$C$131))","v":2083333.3333333333},{"$f":"IF(P$1>Paraméterek!$C$131*4,0,$C$72/(4*Paraméterek!$C$131))","v":2083333.3333333333},{"$f":"IF(Q$1>Paraméterek!$C$131*4,0,$C$72/(4*Paraméterek!$C$131))","v":2083333.3333333333},{"$f":"IF(R$1>Paraméterek!$C$131*4,0,$C$72/(4*Paraméterek!$C$131))","v":2083333.3333333333},{"$f":"IF(S$1>Paraméterek!$C$131*4,0,$C$72/(4*Paraméterek!$C$131))","v":2083333.3333333333},{"$f":"IF(T$1>Paraméterek!$C$131*4,0,$C$72/(4*Paraméterek!$C$131))","v":2083333.3333333333},{"$f":"IF(U$1>Paraméterek!$C$131*4,0,$C$72/(4*Paraméterek!$C$131))","v":2083333.3333333333},{"$f":"IF(V$1>Paraméterek!$C$131*4,0,$C$72/(4*Paraméterek!$C$131))","v":2083333.3333333333},{"$f":"IF(W$1>Paraméterek!$C$131*4,0,$C$72/(4*Paraméterek!$C$131))","v":2083333.3333333333},{"$f":"IF(X$1>Paraméterek!$C$131*4,0,$C$72/(4*Paraméterek!$C$131))","v":2083333.3333333333},{"$f":"IF(Y$1>Paraméterek!$C$131*4,0,$C$72/(4*Paraméterek!$C$131))","v":2083333.3333333333},{"$f":"IF(Z$1>Paraméterek!$C$131*4,0,$C$72/(4*Paraméterek!$C$131))","v":2083333.3333333333},{"$f":"IF(AA$1>Paraméterek!$C$131*4,0,$C$72/(4*Paraméterek!$C$131))","v":2083333.3333333333},{"$f":"IF(AB$1>Paraméterek!$C$131*4,0,$C$72/(4*Paraméterek!$C$131))","v":0},{"$f":"IF(AC$1>Paraméterek!$C$131*4,0,$C$72/(4*Paraméterek!$C$131))","v":0},{"$f":"IF(AD$1>Paraméterek!$C$131*4,0,$C$72/(4*Paraméterek!$C$131))","v":0},{"$f":"IF(AE$1>Paraméterek!$C$131*4,0,$C$72/(4*Paraméterek!$C$131))","v":0},{"$f":"IF(AF$1>Paraméterek!$C$131*4,0,$C$72/(4*Paraméterek!$C$131))","v":0},{"$f":"IF(AG$1>Paraméterek!$C$131*4,0,$C$72/(4*Paraméterek!$C$131))","v":0},{"$f":"IF(AH$1>Paraméterek!$C$131*4,0,$C$72/(4*Paraméterek!$C$131))","v":0},{"$f":"IF(AI$1>Paraméterek!$C$131*4,0,$C$72/(4*Paraméterek!$C$131))","v":0},{"$f":"IF(AJ$1>Paraméterek!$C$131*4,0,$C$72/(4*Paraméterek!$C$131))","v":0},{"$f":"IF(AK$1>Paraméterek!$C$131*4,0,$C$72/(4*Paraméterek!$C$131))","v":0},{"$f":"IF(AL$1>Paraméterek!$C$131*4,0,$C$72/(4*Paraméterek!$C$131))","v":0},{"$f":"IF(AM$1>Paraméterek!$C$131*4,0,$C$72/(4*Paraméterek!$C$131))","v":0},{"$f":"IF(AN$1>Paraméterek!$C$131*4,0,$C$72/(4*Paraméterek!$C$131))","v":0},{"$f":"IF(AO$1>Paraméterek!$C$131*4,0,$C$72/(4*Paraméterek!$C$131))","v":0},{"$f":"IF(AP$1>Paraméterek!$C$131*4,0,$C$72/(4*Paraméterek!$C$131))","v":0},{"$f":"IF(AQ$1>Paraméterek!$C$131*4,0,$C$72/(4*Paraméterek!$C$131))","v":0},{"$f":"IF(AR$1>Paraméterek!$C$131*4,0,$C$72/(4*Paraméterek!$C$131))","v":0},{"$f":"IF(AS$1>Paraméterek!$C$131*4,0,$C$72/(4*Paraméterek!$C$131))","v":0},{"$f":"IF(AT$1>Paraméterek!$C$131*4,0,$C$72/(4*Paraméterek!$C$131))","v":0},{"$f":"IF(AU$1>Paraméterek!$C$131*4,0,$C$72/(4*Paraméterek!$C$131))","v":0},{"$f":"IF(AV$1>Paraméterek!$C$131*4,0,$C$72/(4*Paraméterek!$C$131))","v":0},{"$f":"IF(AW$1>Paraméterek!$C$131*4,0,$C$72/(4*Paraméterek!$C$131))","v":0},{"$f":"IF(AX$1>Paraméterek!$C$131*4,0,$C$72/(4*Paraméterek!$C$131))","v":0},{"$f":"IF(AY$1>Paraméterek!$C$131*4,0,$C$72/(4*Paraméterek!$C$131))","v":0},{"$f":"IF(AZ$1>Paraméterek!$C$131*4,0,$C$72/(4*Paraméterek!$C$131))","v":0},{"$f":"IF(BA$1>Paraméterek!$C$131*4,0,$C$72/(4*Paraméterek!$C$131))","v":0},{"$f":"IF(BB$1>Paraméterek!$C$131*4,0,$C$72/(4*Paraméterek!$C$131))","v":0},{"$f":"IF(BC$1>Paraméterek!$C$131*4,0,$C$72/(4*Paraméterek!$C$131))","v":0},{"$f":"IF(BD$1>Paraméterek!$C$131*4,0,$C$72/(4*Paraméterek!$C$131))","v":0},{"$f":"IF(BE$1>Paraméterek!$C$131*4,0,$C$72/(4*Paraméterek!$C$131))","v":0},{"$f":"IF(BF$1>Paraméterek!$C$131*4,0,$C$72/(4*Paraméterek!$C$131))","v":0},{"$f":"IF(BG$1>Paraméterek!$C$131*4,0,$C$72/(4*Paraméterek!$C$131))","v":0},{"$f":"IF(BH$1>Paraméterek!$C$131*4,0,$C$72/(4*Paraméterek!$C$131))","v":0},{"$f":"IF(BI$1>Paraméterek!$C$131*4,0,$C$72/(4*Paraméterek!$C$131))","v":0},{"$f":"IF(BJ$1>Paraméterek!$C$131*4,0,$C$72/(4*Paraméterek!$C$131))","v":0},{"$f":"IF(BK$1>Paraméterek!$C$131*4,0,$C$72/(4*Paraméterek!$C$131))","v":0},{"$f":"IF(BL$1>Paraméterek!$C$131*4,0,$C$72/(4*Paraméterek!$C$131))","v":0},{"$f":"IF(BM$1>Paraméterek!$C$131*4,0,$C$72/(4*Paraméterek!$C$131))","v":0},{"$f":"IF(BN$1>Paraméterek!$C$131*4,0,$C$72/(4*Paraméterek!$C$131))","v":0},{"$f":"IF(BO$1>Paraméterek!$C$131*4,0,$C$72/(4*Paraméterek!$C$131))","v":0},{"$f":"IF(BP$1>Paraméterek!$C$131*4,0,$C$72/(4*Paraméterek!$C$131))","v":0},{"$f":"IF(BQ$1>Paraméterek!$C$131*4,0,$C$72/(4*Paraméterek!$C$131))","v":0},{"$f":"IF(BR$1>Paraméterek!$C$131*4,0,$C$72/(4*Paraméterek!$C$131))","v":0},{"$f":"IF(BS$1>Paraméterek!$C$131*4,0,$C$72/(4*Paraméterek!$C$131))","v":0},"x"]
["Tőketartozás",null,{"$f":"Paraméterek!$C$128","v":50000000},{"$f":"C$72-D$71","v":47916666.666666664},{"$f":"D$72-E$71","v":45833333.333333328},43749999.999999993,41666666.666666657,39583333.333333321,37499999.999999985,35416666.666666649,33333333.333333317,31249999.999999985,29166666.666666653,27083333.333333321,24999999.999999989,22916666.666666657,20833333.333333325,18749999.999999993,16666666.666666659,14583333.333333325,12499999.999999991,10416666.666666657,8333333.3333333237,6249999.9999999907,4166666.6666666577,2083333.3333333244,-8.8475644588470459E-9,-8.8475644588470459E-9,-8.8475644588470459E-9,-8.8475644588470459E-9,-8.8475644588470459E-9,-8.8475644588470459E-9,-8.8475644588470459E-9,-8.8475644588470459E-9,-8.8475644588470459E-9,-8.8475644588470459E-9,-8.8475644588470459E-9,-8.8475644588470459E-9,-8.8475644588470459E-9,-8.8475644588470459E-9,-8.8475644588470459E-9,-8.8475644588470459E-9,-8.8475644588470459E-9,-8.8475644588470459E-9,-8.8475644588470459E-9,-8.8475644588470459E-9,-8.8475644588470459E-9,-8.8475644588470459E-9,-8.8475644588470459E-9,-8.8475644588470459E-9,-8.8475644588470459E-9,-8.8475644588470459E-9,-8.8475644588470459E-9,-8.8475644588470459E-9,-8.8475644588470459E-9,-8.8475644588470459E-9,-8.8475644588470459E-9,-8.8475644588470459E-9,-8.8475644588470459E-9,-8.8475644588470459E-9,-8.8475644588470459E-9,-8.8475644588470459E-9,-8.8475644588470459E-9,-8.8475644588470459E-9,-8.8475644588470459E-9,-8.8475644588470459E-9,-8.8475644588470459E-9,-8.8475644588470459E-9,{"$f":"BP$72-BQ$71","v":-8.8475644588470459E-9},{"$f":"BQ$72-BR$71","v":-8.8475644588470459E-9},{"$f":"BR$72-BS$71","v":-8.8475644588470459E-9},"x"]
["Kamattörlesztés",null,null,{"$f":"C72*D8","v":437500.00000000006},{"$f":"D72*E8","v":419270.83333333337},401041.66666666669,382812.5,364583.33333333326,346354.16666666657,328124.99999999988,309895.8333333332,291666.66666666657,273437.49999999988,255208.33333333323,236979.16666666657,218749.99999999991,200520.83333333326,182291.6666666666,164062.49999999994,145833.33333333328,127604.1666666666,109374.99999999993,91145.833333333256,72916.666666666584,54687.499999999927,36458.333333333256,18229.166666666591,-7.7416189014911656E-11,-7.7416189014911656E-11,-7.7416189014911656E-11,-7.7416189014911656E-11,-7.7416189014911656E-11,-7.7416189014911656E-11,-7.7416189014911656E-11,-7.7416189014911656E-11,-7.7416189014911656E-11,-7.7416189014911656E-11,-7.7416189014911656E-11,-7.7416189014911656E-11,-7.7416189014911656E-11,-7.7416189014911656E-11,-7.7416189014911656E-11,-7.7416189014911656E-11,-7.7416189014911656E-11,-7.7416189014911656E-11,-7.7416189014911656E-11,-7.7416189014911656E-11,-7.7416189014911656E-11,-7.7416189014911656E-11,-7.7416189014911656E-11,-7.7416189014911656E-11,-7.7416189014911656E-11,-7.7416189014911656E-11,-7.7416189014911656E-11,-7.7416189014911656E-11,-7.7416189014911656E-11,-7.7416189014911656E-11,-7.7416189014911656E-11,-7.7416189014911656E-11,-7.7416189014911656E-11,-7.7416189014911656E-11,-7.7416189014911656E-11,-7.7416189014911656E-11,-7.7416189014911656E-11,-7.7416189014911656E-11,-7.7416189014911656E-11,-7.7416189014911656E-11,-7.7416189014911656E-11,{"$f":"BP72*BQ8","v":-7.7416189014911656E-11},{"$f":"BQ72*BR8","v":-7.7416189014911656E-11},{"$f":"BR72*BS8","v":-7.7416189014911656E-11},"x"]
[null,null,null,null,null,null,null,null,null,null,null,null,null,null,null,null,null,null,null,null,null,null,null,null,null,null,null,null,null,null,null,null,null,null,null,null,null,null,null,null,null,null,null,null,null,null,null,null,null,null,null,null,null,null,null,null,null,null,null,null,null,null,null,null,null,null,null,null,null,null,null,"x"]
["Mérleg (HUF)",null,null,null,null,null,null,null,null,null,null,null,null,null,null,null,null,null,null,null,null,null,null,null,null,null,null,null,null,null,null,null,null,null,null,null,null,null,null,null,null,null,null,null,null,null,null,null,null,null,null,null,null,null,null,null,null,null,null,null,null,null,null,null,null,null,null,null,null,null,null,"x"]
["Eszközök",null,null,null,null,null,null,null,null,null,null,null,null,null,null,null,null,null,null,null,null,null,null,null,null,null,null,null,null,null,null,null,null,null,null,null,null,null,null,null,null,null,null,null,null,null,null,null,null,null,null,null,null,null,null,null,null,null,null,null,null,null,null,null,null,null,null,null,null,null,null,"x"]
["Befektetett eszközök",null,null,{"$f":"D78+D81+D85","v":213161947.38333336},{"$f":"E78+E81+E85","v":208038136.76666668},202914326.15000004,197790515.53333336,193655157.74293551,188494737.76233298,183334317.78173041,178173897.80112791,174021699.70331952,168823938.17150238,163626176.63968524,158428415.10786813,154259039.89650103,149023189.98244497,143787340.06838894,138551490.15433288,134364594.2871359,129089894.22319618,123815194.15925647,118540494.09531677,114335727.15917329,109021399.94235224,103707072.72553119,98392745.508710146,94169750.082241252,88815003.169481218,83460256.256721213,78105509.343961194,73863920.857360363,68467945.854742602,63071970.852124833,57675995.849507071,53452051.805507571,48050633.515170783,42649215.224833995,37247796.934497215,33041850.221951056,27634879.778140865,22227909.334330682,16820938.890520491,17590493.406056747,17135003.715703689,16679514.025350628,16224024.33499757,17012303.274177883,16551037.123351095,16089770.97252431,15628504.821697524,16435882.672994776,15968724.532484787,15501566.391974797,15034408.251464808,15861266.993121337,15388099.023134481,14914931.053147625,14441763.083160769,15288492.332983762,14809194.336930502,14329896.340877242,13850598.344823983,14717595.512976771,14232044.89033578,13746494.267694788,13260943.645053796,14148614.089902973,{"$f":"BQ78+BQ81+BQ85","v":13656685.788142495},{"$f":"BR78+BR81+BR85","v":13164757.486382017},{"$f":"BS78+BS81+BS85","v":12672829.184621539},"x"]
["Immateriális javak",null,null,{"$f":"D79+D80","v":0},{"$f":"E79+E80","v":0},0,0,0,0,0,0,0,0,0,0,0,0,0,0,0,0,0,0,0,0,0,0,0,0,0,0,0,0,0,0,0,0,0,0,0,0,0,0,0,0,0,0,0,0,0,0,0,0,0,0,0,0,0,0,0,0,0,0,0,0,0,0,0,{"$f":"BQ79+BQ80","v":0},{"$f":"BR79+BR80","v":0},{"$f":"BS79+BS80","v":0},"x"]
["Vagyoni értékű jogok",null,null,0,0,0,0,0,0,0,0,0,0,0,0,0,0,0,0,0,0,0,0,0,0,0,0,0,0,0,0,0,0,0,0,0,0,0,0,0,0,0,0,0,0,0,0,0,0,0,0,0,0,0,0,0,0,0,0,0,0,0,0,0,0,0,0,0,0,0,0,"x"]
["Szellemi termékek",null,null,0,0,0,0,0,0,0,0,0,0,0,0,0,0,0,0,0,0,0,0,0,0,0,0,0,0,0,0,0,0,0,0,0,0,0,0,0,0,0,0,0,0,0,0,0,0,0,0,0,0,0,0,0,0,0,0,0,0,0,0,0,0,0,0,0,0,0,0,"x"]
["Tárgyi eszközök",null,null,{"$f":"D82+D83+D84","v":213161947.38333336},{"$f":"E82+E83+E84","v":208038136.76666668},202914326.15000004,197790515.53333336,193655157.74293551,188494737.76233298,183334317.78173041,178173897.80112791,174021699.70331952,168823938.17150238,163626176.63968524,158428415.10786813,154259039.89650103,149023189.98244497,143787340.06838894,138551490.15433288,134364594.2871359,129089894.22319618,123815194.15925647,118540494.09531677,114335727.15917329,109021399.94235224,103707072.72553119,98392745.508710146,94169750.082241252,88815003.169481218,83460256.256721213,78105509.343961194,73863920.857360363,68467945.854742602,63071970.852124833,57675995.849507071,53452051.805507571,48050633.515170783,42649215.224833995,37247796.934497215,33041850.221951056,27634879.778140865,22227909.334330682,16820938.890520491,17590493.406056747,17135003.715703689,16679514.025350628,16224024.33499757,17012303.274177883,16551037.123351095,16089770.97252431,15628504.821697524,16435882.672994776,15968724.532484787,15501566.391974797,15034408.251464808,15861266.993121337,15388099.023134481,14914931.053147625,14441763.083160769,15288492.332983762,14809194.336930502,14329896.340877242,13850598.344823983,14717595.512976771,14232044.89033578,13746494.267694788,13260943.645053796,14148614.089902973,{"$f":"BQ82+BQ83+BQ84","v":13656685.788142495},{"$f":"BR82+BR83+BR84","v":13164757.486382017},{"$f":"BS82+BS83+BS84","v":12672829.184621539},"x"]
["Ingatlanok és kapcs. vagyonértékű jogok",null,null,{"$f":"D31","v":19833333.333333332},{"$f":"E31","v":19666666.666666664},19499999.999999996,19333333.333333328,19166666.66666666,18999999.999999993,18833333.333333325,18666666.666666657,18499999.999999989,18333333.333333321,18166666.666666653,17999999.999999985,17833333.333333317,17666666.666666649,17499999.999999981,17333333.333333313,17166666.666666646,16999999.999999978,16833333.33333331,16666666.666666644,16499999.999999978,16333333.333333312,16166666.666666646,15999999.99999998,15833333.333333313,15666666.666666647,15499999.999999981,15333333.333333315,15166666.666666649,14999999.999999983,14833333.333333317,14666666.666666651,14499999.999999985,14333333.333333319,14166666.666666653,13999999.999999987,13833333.333333321,13666666.666666655,13499999.999999989,13333333.333333323,13166666.666666657,12999999.999999991,12833333.333333325,12666666.666666659,12499999.999999993,12333333.333333327,12166666.66666666,11999999.999999994,11833333.333333328,11666666.666666662,11499999.999999996,11333333.33333333,11166666.666666664,10999999.999999998,10833333.333333332,10666666.666666666,10500000,10333333.333333334,10166666.666666668,10000000.000000002,9833333.3333333358,9666666.6666666698,9500000.0000000037,9333333.3333333377,9166666.6666666716,{"$f":"BQ31","v":9000000.0000000056},{"$f":"BR31","v":8833333.3333333395},{"$f":"BS31","v":8666666.6666666735},"x"]
["Műszaki gépek+egyéb berendezések",null,null,{"$f":"D30","v":193328614.05000001},{"$f":"E30","v":188371470.10000002},183414326.15000004,178457182.20000005,173500038.25000006,168542894.30000007,163585750.35000008,158628606.4000001,153671462.45000011,148714318.50000012,143757174.55000013,138800030.60000014,133842886.65000014,128885742.70000014,123928598.75000013,118971454.80000013,114014310.85000013,109057166.90000013,104100022.95000012,99142879.000000119,94185735.050000116,89228591.100000113,84271447.15000011,79314303.200000107,74357159.250000104,69400015.300000101,64442871.350000098,59485727.400000095,54528583.450000092,49571439.500000089,44614295.550000086,39657151.600000083,34700007.65000008,29742863.700000081,24785719.750000082,19828575.800000083,14871431.850000083,9914287.9000000842,4957143.950000084,8.3819031715393066E-8,8.3819031715393066E-8,8.3819031715393066E-8,8.3819031715393066E-8,8.3819031715393066E-8,8.3819031715393066E-8,8.3819031715393066E-8,8.3819031715393066E-8,8.3819031715393066E-8,8.3819031715393066E-8,8.3819031715393066E-8,8.3819031715393066E-8,8.3819031715393066E-8,8.3819031715393066E-8,8.3819031715393066E-8,8.3819031715393066E-8,8.3819031715393066E-8,8.3819031715393066E-8,8.3819031715393066E-8,8.3819031715393066E-8,8.3819031715393066E-8,8.3819031715393066E-8,8.3819031715393066E-8,8.3819031715393066E-8,8.3819031715393066E-8,8.3819031715393066E-8,{"$f":"BQ30","v":8.3819031715393066E-8},{"$f":"BR30","v":8.3819031715393066E-8},{"$f":"BS30","v":8.3819031715393066E-8},"x"]
["Beruházások, felújítások",null,null,{"$f":"D$178","v":0},{"$f":"E$178","v":0},0,0,988452.82626878726,951843.46233290632,915234.09839702526,878624.73446114431,1850237.2533194264,1776286.3381689468,1702335.4230184671,1628384.5078679875,2582819.9131675549,2470780.6157781845,2358741.3183888141,2246702.0209994437,3183616.7704691216,3032727.3231960833,2881837.875923044,2730948.4286500057,3649992.1091731959,3459475.5090188151,3268958.9088644348,3078442.3087100545,3979257.4989078278,3748321.2028144784,3517384.9067211291,3286448.6106277797,4168670.7406936279,3896506.3547425307,3624341.9687914336,3352177.5828403365,4252044.1555075021,3974436.4818373825,3696828.8081672629,3419221.1344971433,4337085.0386176519,4053925.2114741299,3770765.384330608,3487605.557187086,4423826.7393900044,4135003.7157036122,3846180.69201722,3557357.6683308277,4512303.2741778055,4217703.7900176849,3923104.3058575653,3628504.8216974456,4602549.3396613635,4302057.8658180404,4001566.3919747174,3701074.9181313943,4694600.3264545891,4388099.0231343992,4081597.7198142093,3775096.4164940193,4788492.3329836782,4475861.0035970844,4163229.6742104907,3850598.3448238969,4884262.1796433516,4565378.223669026,4246494.2676947005,3927610.311720375,4981947.4232362173,{"$f":"BQ$178","v":4656685.7881424055},{"$f":"BR$178","v":4331424.1530485936},{"$f":"BS$178","v":4006162.5179547817},"x"]
["Befektetett pénzügyi eszközök",null,null,{"$f":"D86","v":0},{"$f":"E86","v":0},0,0,0,0,0,0,0,0,0,0,0,0,0,0,0,0,0,0,0,0,0,0,0,0,0,0,0,0,0,0,0,0,0,0,0,0,0,0,0,0,0,0,0,0,0,0,0,0,0,0,0,0,0,0,0,0,0,0,0,0,0,0,0,{"$f":"BQ86","v":0},{"$f":"BR86","v":0},{"$f":"BS86","v":0},"x"]
["Egyéb tartósan adott kölcsön",null,null,0,0,0,0,0,0,0,0,0,0,0,0,0,0,0,0,0,0,0,0,0,0,0,0,0,0,0,0,0,0,0,0,0,0,0,0,0,0,0,0,0,0,0,0,0,0,0,0,0,0,0,0,0,0,0,0,0,0,0,0,0,0,0,0,0,0,0,0,"x"]
["Forgóeszközök",null,null,{"$f":"D88+D89+D93+D94","v":139121686.70546284},{"$f":"E88+E89+E93+E94","v":20017138.514846832},29614202.809063077,39371754.802803725,48239897.275621384,58288457.082697958,68502109.350580364,78882508.550395638,88358783.798759639,99042182.96277079,109897099.34120086,120925245.3607257,131034357.78441629,142377934.70040891,153899682.73830879,165601374.24094731,176368926.57865709,188398933.8793436,200614003.1908564,213015968.79783541,224468493.12393779,237212129.09819096,250147963.04230413,263277893.27555877,277526216.3701331,293094990.76651615,308863352.5203138,324833266.14766473,340233551.11126906,356987599.85364765,373952186.12024647,391129369.12394345,407310077.04763091,424875385.64810717,442659234.09764612,460663752.98379385,477655719.48390245,496063861.54301369,514698828.03418851,533562823.32024521,550951848.57824373,569785828.51611948,588851628.61218691,608151500.97319913,626402436.30016184,646131319.15725124,666100784.9288851,686313163.62003922,705459818.86344314,726118206.29595995,747026247.65689909,768186353.46645451,788263748.81517839,809887472.91003871,831770240.65686488,853914545.79454076,874958953.2024684,897585118.43976724,920480046.56160593,943646317.31833363,965695303.31136668,989362329.92546248,1013308179.3236877,1037535520.1528594,1060627990.0648965,{"$f":"BQ88+BQ89+BQ93+BQ94","v":1085375658.8501031},{"$f":"BR88+BR89+BR93+BR94","v":{"$error":"#VALUE!"}},{"$f":"BS88+BS89+BS93+BS94","v":{"$error":"#VALUE!"}},"x"]
["Készletek",null,null,0,0,0,0,0,0,0,0,0,0,0,0,0,0,0,0,0,0,0,0,0,0,0,0,0,0,0,0,0,0,0,0,0,0,0,0,0,0,0,0,0,0,0,0,0,0,0,0,0,0,0,0,0,0,0,0,0,0,0,0,0,0,0,0,0,0,0,0,"x"]
["Követelések",null,null,{"$f":"D90+D92+D91","v":127869312.3},{"$f":"E90+E92+E91","v":0},0,0,0,0,0,0,0,0,0,0,0,0,0,0,0,0,0,0,0,0,0,0,0,0,0,0,0,0,0,0,0,0,0,0,0,0,0,0,0,0,0,0,0,0,0,0,0,0,0,0,0,0,0,0,0,0,0,0,0,0,0,0,0,{"$f":"BQ90+BQ92+BQ91","v":0},{"$f":"BR90+BR92+BR91","v":0},{"$f":"BS90+BS92+BS91","v":{"$error":"#VALUE!"}},"x"]
["Követelések áruszállításból és szolgáltatásból",null,null,0,0,0,0,0,0,0,0,0,0,0,0,0,0,0,0,0,0,0,0,0,0,0,0,0,0,0,0,0,0,0,0,0,0,0,0,0,0,0,0,0,0,0,0,0,0,0,0,0,0,0,0,0,0,0,0,0,0,0,0,0,0,0,0,0,0,0,0,"x"]
["Egyéb követelések",null,null,{"$f":"D116","v":0},{"$f":"E116","v":0},0,0,0,0,0,0,0,0,0,0,0,0,0,0,0,0,0,0,0,0,0,0,0,0,0,0,0,0,0,0,0,0,0,0,0,0,0,0,0,0,0,0,0,0,0,0,0,0,0,0,0,0,0,0,0,0,0,0,0,0,0,0,0,{"$f":"BQ116","v":0},{"$f":"BR116","v":0},{"$f":"BS116","v":{"$error":"#VALUE!"}},"x"]
["Állami támogatás",null,null,{"$f":"D115","v":127869312.3},{"$f":"E115","v":0},0,0,0,0,0,0,0,0,0,0,0,0,0,0,0,0,0,0,0,0,0,0,0,0,0,0,0,0,0,0,0,0,0,0,0,0,0,0,0,0,0,0,0,0,0,0,0,0,0,0,0,0,0,0,0,0,0,0,0,0,0,0,0,{"$f":"BQ115","v":0},{"$f":"BR115","v":0},{"$f":"BS115","v":{"$error":"#VALUE!"}},"x"]
["Értékpapírok",null,null,0,0,0,0,0,0,0,0,0,0,0,0,0,0,0,0,0,0,0,0,0,0,0,0,0,0,0,0,0,0,0,0,0,0,0,0,0,0,0,0,0,0,0,0,0,0,0,0,0,0,0,0,0,0,0,0,0,0,0,0,0,0,0,0,0,0,0,0,"x"]
["Pénzeszközök",null,null,{"$f":"IF((D101+D106+D108+D109+D113+D114+D115+D116+D117-D77-D88-D89-D93-D95)<0,0,D101+D106+D108+D109+D113+D114+D115+D116+D117-D77-D88-D89-D93-D95)","v":11252374.405462846},{"$f":"IF((E101+E106+E108+E109+E113+E114+E115+E116+E117-E77-E88-E89-E93-E95)<0,0,E101+E106+E108+E109+E113+E114+E115+E116+E117-E77-E88-E89-E93-E95)","v":20017138.514846832},{"$f":"IF((F101+F106+F108+F109+F113+F114+F115+F116+F117-F77-F88-F89-F93-F95)<0,0,F101+F106+F108+F109+F113+F114+F115+F116+F117-F77-F88-F89-F93-F95)","v":29614202.809063077},39371754.802803725,48239897.275621384,58288457.082697958,68502109.350580364,78882508.550395638,88358783.798759639,99042182.96277079,109897099.34120086,120925245.3607257,131034357.78441629,142377934.70040891,153899682.73830879,165601374.24094731,176368926.57865709,188398933.8793436,200614003.1908564,213015968.79783541,224468493.12393779,237212129.09819096,250147963.04230413,263277893.27555877,277526216.3701331,293094990.76651615,308863352.5203138,324833266.14766473,340233551.11126906,356987599.85364765,373952186.12024647,391129369.12394345,407310077.04763091,424875385.64810717,442659234.09764612,460663752.98379385,477655719.48390245,496063861.54301369,514698828.03418851,533562823.32024521,550951848.57824373,569785828.51611948,588851628.61218691,608151500.97319913,626402436.30016184,646131319.15725124,666100784.9288851,686313163.62003922,705459818.86344314,726118206.29595995,747026247.65689909,768186353.46645451,788263748.81517839,809887472.91003871,831770240.65686488,853914545.79454076,874958953.2024684,897585118.43976724,920480046.56160593,943646317.31833363,965695303.31136668,989362329.92546248,1013308179.3236877,1037535520.1528594,1060627990.0648965,{"$f":"IF((BQ101+BQ106+BQ108+BQ109+BQ113+BQ114+BQ115+BQ116+BQ117-BQ77-BQ88-BQ89-BQ93-BQ95)<0,0,BQ101+BQ106+BQ108+BQ109+BQ113+BQ114+BQ115+BQ116+BQ117-BQ77-BQ88-BQ89-BQ93-BQ95)","v":1085375658.8501031},{"$f":"IF((BR101+BR106+BR108+BR109+BR113+BR114+BR115+BR116+BR117-BR77-BR88-BR89-BR93-BR95)<0,0,BR101+BR106+BR108+BR109+BR113+BR114+BR115+BR116+BR117-BR77-BR88-BR89-BR93-BR95)","v":{"$error":"#VALUE!"}},{"$f":"IF((BS101+BS106+BS108+BS109+BS113+BS114+BS115+BS116+BS117-BS77-BS88-BS89-BS93-BS95)<0,0,BS101+BS106+BS108+BS109+BS113+BS114+BS115+BS116+BS117-BS77-BS88-BS89-BS93-BS95)","v":{"$error":"#VALUE!"}},"x"]
["AIE",null,null,{"$f":"D96+D97","v":0},{"$f":"E96+E97","v":0},0,0,0,0,0,0,0,0,0,0,0,0,0,0,0,0,0,0,0,0,0,0,0,0,0,0,0,0,0,0,0,0,0,0,0,0,0,0,0,0,0,0,0,0,0,0,0,0,0,0,0,0,0,0,0,0,0,0,0,0,0,0,0,{"$f":"BQ96+BQ97","v":0},{"$f":"BR96+BR97","v":0},{"$f":"BS96+BS97","v":0},"x"]
["Bevételek AIE",null,null,0,0,0,0,0,0,0,0,0,0,0,0,0,0,0,0,0,0,0,0,0,0,0,0,0,0,0,0,0,0,0,0,0,0,0,0,0,0,0,0,0,0,0,0,0,0,0,0,0,0,0,0,0,0,0,0,0,0,0,0,0,0,0,0,0,0,0,0,"x"]
["Költségek, ráfordítások AIE",null,null,0,0,0,0,0,0,0,0,0,0,0,0,0,0,0,0,0,0,0,0,0,0,0,0,0,0,0,0,0,0,0,0,0,0,0,0,0,0,0,0,0,0,0,0,0,0,0,0,0,0,0,0,0,0,0,0,0,0,0,0,0,0,0,0,0,0,0,0,"x"]
["Összes eszköz",null,null,{"$f":"D77+D87+D95","v":352283634.0887962},{"$f":"E77+E87+E95","v":228055275.28151351},{"$f":"F77+F87+F95","v":232528528.95906311},237162270.33613709,241895055.01855689,246783194.84503093,251836427.13231078,257056406.35152355,262380483.50207916,267866121.13427317,273523275.9808861,279353660.46859384,285293397.68091732,291401124.68285388,297687022.80669773,304152864.39528018,310733520.86579299,317488828.10253978,324429197.35011286,331556462.89315218,338804220.2831111,346233529.0405432,353855035.76783532,361670638.78426892,371695966.45237434,381909993.93599737,392323608.777035,402938775.49162591,414097471.96862942,425455545.70839024,437024156.97237128,448805364.97345054,460762128.85313845,472926019.16327798,485308449.32248008,497911549.91829109,510697569.70585352,523698741.32115453,536926737.36851919,550383762.21076572,568542341.98430049,586920832.23182321,605531142.63753748,624375525.30819666,643414739.57433975,662682356.28060234,682190555.90140939,701941668.4417367,721895701.53643787,742086930.82844472,762527814.0488739,783220761.71791935,804125015.80829978,825275571.93317318,846685171.71001256,868356308.87770152,890247445.53545213,912394312.77669775,934809942.90248322,957496915.66315758,980412898.82434344,1003594374.8157983,1027054673.5913825,1050796463.7979132,1074776604.1547995,{"$f":"BQ77+BQ87+BQ95","v":1099032344.6382456},{"$f":"BR77+BR87+BR95","v":{"$error":"#VALUE!"}},{"$f":"BS77+BS87+BS95","v":{"$error":"#VALUE!"}},"x"]
[null,null,null,null,null,null,null,null,null,null,null,null,null,null,null,null,null,null,null,null,null,null,null,null,null,null,null,null,null,null,null,null,null,null,null,null,null,null,null,null,null,null,null,null,null,null,null,null,null,null,null,null,null,null,null,null,null,null,null,null,null,null,null,null,null,null,null,null,null,null,null,"x"]
["Források",null,null,null,null,null,null,null,null,null,null,null,null,null,null,null,null,null,null,null,null,null,null,null,null,null,null,null,null,null,null,null,null,null,null,null,null,null,null,null,null,null,null,null,null,null,null,null,null,null,null,null,null,null,null,null,null,null,null,null,null,null,null,null,null,null,null,null,null,null,null,"x"]
["Saját tőke",null,null,{"$f":"D102+D103+D104+D105","v":12778658.27570097},{"$f":"E102+E103+E104+E105","v":23069706.255323015},34193054.419777423,45476890.283756152,56859769.453080729,68398003.76645954,80101330.540644139,91971404.246761665,103945575.884222,116081308.0033208,128388557.33683848,140869036.31145102,153458868.01067924,166216689.4995206,179152682.11026916,192268618.18575639,205499369.14317396,218904770.86682552,232495234.60130337,246272594.63124743,260170446.50811112,274249849.75244796,288521450.96664488,302987148.46998322,317579237.29166007,332360025.92885453,347340401.92346358,362522329.79162592,373681026.26862943,385039100.00839025,396607711.27237129,408388919.27345055,420345683.15313846,432509573.463278,444892003.62248009,457495104.2182911,470281124.00585353,483282295.62115455,496510291.66851914,509967316.51076573,528125896.28430045,546504386.53182316,565114696.93753743,583959079.60819662,602998293.8743397,622265910.58060229,641774110.20140934,661525222.74173665,681479255.83643782,701670485.12844467,722111368.34887385,742804316.0179193,763708570.10829973,784859126.23317313,806268726.01001251,827939863.17770147,849830999.83545208,871977867.07669771,894393497.20248318,917080469.96315753,939996453.1243434,963177929.11579823,986638227.89138246,1010380018.0979131,1034360158.4547994,{"$f":"BQ102+BQ103+BQ104+BQ105","v":1058615898.9382457},{"$f":"BR102+BR103+BR104+BR105","v":{"$error":"#VALUE!"}},{"$f":"BS102+BS103+BS104+BS105","v":{"$error":"#VALUE!"}},"x"]
["Jegyzett tőke",null,null,{"$f":"Paraméterek!$C$156","v":3000000},{"$f":"Paraméterek!$C$156","v":3000000},{"$f":"Paraméterek!$C$156","v":3000000},{"$f":"Paraméterek!$C$156","v":3000000},{"$f":"Paraméterek!$C$156","v":3000000},{"$f":"Paraméterek!$C$156","v":3000000},{"$f":"Paraméterek!$C$156","v":3000000},{"$f":"Paraméterek!$C$156","v":3000000},{"$f":"Paraméterek!$C$156","v":3000000},{"$f":"Paraméterek!$C$156","v":3000000},{"$f":"Paraméterek!$C$156","v":3000000},{"$f":"Paraméterek!$C$156","v":3000000},{"$f":"Paraméterek!$C$156","v":3000000},{"$f":"Paraméterek!$C$156","v":3000000},{"$f":"Paraméterek!$C$156","v":3000000},{"$f":"Paraméterek!$C$156","v":3000000},{"$f":"Paraméterek!$C$156","v":3000000},{"$f":"Paraméterek!$C$156","v":3000000},{"$f":"Paraméterek!$C$156","v":3000000},{"$f":"Paraméterek!$C$156","v":3000000},{"$f":"Paraméterek!$C$156","v":3000000},{"$f":"Paraméterek!$C$156","v":3000000},{"$f":"Paraméterek!$C$156","v":3000000},{"$f":"Paraméterek!$C$156","v":3000000},{"$f":"Paraméterek!$C$156","v":3000000},{"$f":"Paraméterek!$C$156","v":3000000},{"$f":"Paraméterek!$C$156","v":3000000},{"$f":"Paraméterek!$C$156","v":3000000},{"$f":"Paraméterek!$C$156","v":3000000},{"$f":"Paraméterek!$C$156","v":3000000},{"$f":"Paraméterek!$C$156","v":3000000},{"$f":"Paraméterek!$C$156","v":3000000},{"$f":"Paraméterek!$C$156","v":3000000},{"$f":"Paraméterek!$C$156","v":3000000},{"$f":"Paraméterek!$C$156","v":3000000},{"$f":"Paraméterek!$C$156","v":3000000},{"$f":"Paraméterek!$C$156","v":3000000},{"$f":"Paraméterek!$C$156","v":3000000},{"$f":"Paraméterek!$C$156","v":3000000},{"$f":"Paraméterek!$C$156","v":3000000},{"$f":"Paraméterek!$C$156","v":3000000},{"$f":"Paraméterek!$C$156","v":3000000},{"$f":"Paraméterek!$C$156","v":3000000},{"$f":"Paraméterek!$C$156","v":3000000},{"$f":"Paraméterek!$C$156","v":3000000},{"$f":"Paraméterek!$C$156","v":3000000},{"$f":"Paraméterek!$C$156","v":3000000},{"$f":"Paraméterek!$C$156","v":3000000},{"$f":"Paraméterek!$C$156","v":3000000},{"$f":"Paraméterek!$C$156","v":3000000},{"$f":"Paraméterek!$C$156","v":3000000},{"$f":"Paraméterek!$C$156","v":3000000},{"$f":"Paraméterek!$C$156","v":3000000},{"$f":"Paraméterek!$C$156","v":3000000},{"$f":"Paraméterek!$C$156","v":3000000},{"$f":"Paraméterek!$C$156","v":3000000},{"$f":"Paraméterek!$C$156","v":3000000},{"$f":"Paraméterek!$C$156","v":3000000},{"$f":"Paraméterek!$C$156","v":3000000},{"$f":"Paraméterek!$C$156","v":3000000},{"$f":"Paraméterek!$C$156","v":3000000},{"$f":"Paraméterek!$C$156","v":3000000},{"$f":"Paraméterek!$C$156","v":3000000},{"$f":"Paraméterek!$C$156","v":3000000},{"$f":"Paraméterek!$C$156","v":3000000},{"$f":"Paraméterek!$C$156","v":3000000},{"$f":"Paraméterek!$C$156","v":3000000},{"$f":"Paraméterek!$C$156","v":3000000},"x"]
["Tőketartalék",null,null,0,0,0,0,0,0,0,0,0,0,0,0,0,0,0,0,0,0,0,0,0,0,0,0,0,0,0,0,0,0,0,0,0,0,0,0,0,0,0,0,0,0,0,0,0,0,0,0,0,0,0,0,0,0,0,0,0,0,0,0,0,0,0,0,0,0,0,0,"x"]
["Eredménytartalék",null,null,{"$f":"+C105+C104","v":0},{"$f":"+D105+D104","v":9778658.2757009696},20069706.255323015,31193054.419777423,42476890.283756152,53859769.453080729,65398003.76645954,77101330.540644139,88971404.246761665,100945575.884222,113081308.0033208,125388557.33683848,137869036.31145102,150458868.01067924,163216689.4995206,176152682.11026916,189268618.18575639,202499369.14317396,215904770.86682552,229495234.60130337,243272594.63124743,257170446.50811112,271249849.75244796,285521450.96664488,299987148.46998322,314579237.29166007,329360025.92885453,344340401.92346358,359522329.79162592,370681026.26862943,382039100.00839025,393607711.27237129,405388919.27345055,417345683.15313846,429509573.463278,441892003.62248009,454495104.2182911,467281124.00585353,480282295.62115455,493510291.66851914,506967316.51076573,525125896.28430045,543504386.53182316,562114696.93753743,580959079.60819662,599998293.8743397,619265910.58060229,638774110.20140934,658525222.74173665,678479255.83643782,698670485.12844467,719111368.34887385,739804316.0179193,760708570.10829973,781859126.23317313,803268726.01001251,824939863.17770147,846830999.83545208,868977867.07669771,891393497.20248318,914080469.96315753,936996453.1243434,960177929.11579823,983638227.89138246,1007380018.0979131,{"$f":"+BP105+BP104","v":1031360158.4547994},{"$f":"+BQ105+BQ104","v":1055615898.9382457},{"$f":"+BR105+BR104","v":{"$error":"#VALUE!"}},"x"]
["MSZE",null,null,{"$f":"D168","v":9778658.2757009696},{"$f":"E168","v":10291047.979622044},{"$f":"F168","v":11123348.164454406},11283835.863978725,11382879.169324579,11538234.313378811,11703326.774184592,11870073.706117526,11974171.637460329,12135732.119098801,12307249.333517684,12480478.974612519,12589831.699228214,12757821.488841359,12935992.610748563,13115936.07548723,13230750.957417589,13405401.723651573,13590463.73447784,13777360.029944053,13897851.876863703,14079403.244336821,14271601.214196928,14465697.50333835,14592088.821676869,14780788.637194479,14980375.994609088,15181927.868162354,11158696.477003491,11358073.739760796,11568611.263981065,11781208.001079282,11956763.879687887,12163890.310139544,12382430.159202103,12603100.595810987,12786019.787562439,13001171.615301039,13227996.047364602,13457024.842246605,18158579.773534745,18378490.247522671,18610310.405714251,18844382.670659129,19039214.266143061,19267616.706262533,19508199.620807081,19751112.540327255,19954033.09470113,20191229.292006839,20440883.220429126,20692947.669045415,20904254.090380471,21150556.124873392,21409599.776839409,21671137.167688921,21891136.657750666,22146867.241245572,22415630.125785466,22686972.76067432,22915983.161185831,23181475.991454825,23460298.775584221,23741790.206530683,23980140.356886245,{"$f":"BQ168","v":24255740.483446296},{"$f":"BR168","v":{"$error":"#VALUE!"}},{"$f":"BS168","v":{"$error":"#VALUE!"}},"x"]
["Céltartalékok",null,null,0,0,0,0,0,0,0,0,0,0,0,0,0,0,0,0,0,0,0,0,0,0,0,0,0,0,0,0,0,0,0,0,0,0,0,0,0,0,0,0,0,0,0,0,0,0,0,0,0,0,0,0,0,0,0,0,0,0,0,0,0,0,0,0,0,0,0,0,"x"]
["Kötelezettségek",null,null,{"$f":"D108+D109+D111","v":216202424.66666669},{"$f":"E108+E109+E111","v":86249779.033333331},84166445.699999988,82083112.36666666,79999779.033333331,77916445.699999988,75833112.366666645,73749779.033333316,71666445.699999988,69583112.36666666,67499779.033333331,65416445.699999988,63333112.36666666,61249779.033333331,59166445.699999996,57083112.36666666,54999779.033333331,52916445.699999996,50833112.36666666,48749779.033333324,46666445.699999996,44583112.36666666,42499779.033333324,40416445.699999996,40416445.699999996,40416445.699999973,40416445.699999996,40416445.699999988,40416445.699999988,40416445.699999988,40416445.699999988,40416445.699999988,40416445.699999988,40416445.699999988,40416445.699999988,40416445.699999988,40416445.699999988,40416445.699999988,40416445.700000048,40416445.699999988,40416445.700000048,40416445.700000048,40416445.700000048,40416445.700000048,40416445.700000048,40416445.700000048,40416445.700000048,40416445.700000048,40416445.700000048,40416445.700000048,40416445.700000048,40416445.700000048,40416445.700000048,40416445.700000048,40416445.700000048,40416445.700000048,40416445.700000048,40416445.700000048,40416445.700000048,40416445.700000048,40416445.700000048,40416445.700000048,40416445.700000048,40416445.700000048,40416445.700000048,{"$f":"BQ108+BQ109+BQ111","v":40416445.699999928},{"$f":"BR108+BR109+BR111","v":{"$error":"#VALUE!"}},{"$f":"BS108+BS109+BS111","v":{"$error":"#VALUE!"}},"x"]
["Hátrasorolt kötelezettségek",null,null,{"$f":"Paraméterek!$C$125","v":40416445.700000003},{"$f":"Paraméterek!$C$125","v":40416445.700000003},{"$f":"Paraméterek!$C$125","v":40416445.700000003},{"$f":"Paraméterek!$C$125","v":40416445.700000003},{"$f":"Paraméterek!$C$125","v":40416445.700000003},{"$f":"Paraméterek!$C$125","v":40416445.700000003},{"$f":"Paraméterek!$C$125","v":40416445.700000003},{"$f":"Paraméterek!$C$125","v":40416445.700000003},{"$f":"Paraméterek!$C$125","v":40416445.700000003},{"$f":"Paraméterek!$C$125","v":40416445.700000003},{"$f":"Paraméterek!$C$125","v":40416445.700000003},{"$f":"Paraméterek!$C$125","v":40416445.700000003},{"$f":"Paraméterek!$C$125","v":40416445.700000003},{"$f":"Paraméterek!$C$125","v":40416445.700000003},{"$f":"Paraméterek!$C$125","v":40416445.700000003},{"$f":"Paraméterek!$C$125","v":40416445.700000003},{"$f":"Paraméterek!$C$125","v":40416445.700000003},{"$f":"Paraméterek!$C$125","v":40416445.700000003},{"$f":"Paraméterek!$C$125","v":40416445.700000003},{"$f":"Paraméterek!$C$125","v":40416445.700000003},{"$f":"Paraméterek!$C$125","v":40416445.700000003},{"$f":"Paraméterek!$C$125","v":40416445.700000003},{"$f":"Paraméterek!$C$125","v":40416445.700000003},{"$f":"Paraméterek!$C$125","v":40416445.700000003},{"$f":"Paraméterek!$C$125","v":40416445.700000003},{"$f":"Paraméterek!$C$125","v":40416445.700000003},{"$f":"Paraméterek!$C$125","v":40416445.700000003},{"$f":"Paraméterek!$C$125","v":40416445.700000003},{"$f":"Paraméterek!$C$125","v":40416445.700000003},{"$f":"Paraméterek!$C$125","v":40416445.700000003},{"$f":"Paraméterek!$C$125","v":40416445.700000003},{"$f":"Paraméterek!$C$125","v":40416445.700000003},{"$f":"Paraméterek!$C$125","v":40416445.700000003},{"$f":"Paraméterek!$C$125","v":40416445.700000003},{"$f":"Paraméterek!$C$125","v":40416445.700000003},{"$f":"Paraméterek!$C$125","v":40416445.700000003},{"$f":"Paraméterek!$C$125","v":40416445.700000003},{"$f":"Paraméterek!$C$125","v":40416445.700000003},{"$f":"Paraméterek!$C$125","v":40416445.700000003},{"$f":"Paraméterek!$C$125","v":40416445.700000003},{"$f":"Paraméterek!$C$125","v":40416445.700000003},{"$f":"Paraméterek!$C$125","v":40416445.700000003},{"$f":"Paraméterek!$C$125","v":40416445.700000003},{"$f":"Paraméterek!$C$125","v":40416445.700000003},{"$f":"Paraméterek!$C$125","v":40416445.700000003},{"$f":"Paraméterek!$C$125","v":40416445.700000003},{"$f":"Paraméterek!$C$125","v":40416445.700000003},{"$f":"Paraméterek!$C$125","v":40416445.700000003},{"$f":"Paraméterek!$C$125","v":40416445.700000003},{"$f":"Paraméterek!$C$125","v":40416445.700000003},{"$f":"Paraméterek!$C$125","v":40416445.700000003},{"$f":"Paraméterek!$C$125","v":40416445.700000003},{"$f":"Paraméterek!$C$125","v":40416445.700000003},{"$f":"Paraméterek!$C$125","v":40416445.700000003},{"$f":"Paraméterek!$C$125","v":40416445.700000003},{"$f":"Paraméterek!$C$125","v":40416445.700000003},{"$f":"Paraméterek!$C$125","v":40416445.700000003},{"$f":"Paraméterek!$C$125","v":40416445.700000003},{"$f":"Paraméterek!$C$125","v":40416445.700000003},{"$f":"Paraméterek!$C$125","v":40416445.700000003},{"$f":"Paraméterek!$C$125","v":40416445.700000003},{"$f":"Paraméterek!$C$125","v":40416445.700000003},{"$f":"Paraméterek!$C$125","v":40416445.700000003},{"$f":"Paraméterek!$C$125","v":40416445.700000003},{"$f":"Paraméterek!$C$125","v":40416445.700000003},{"$f":"Paraméterek!$C$125","v":40416445.700000003},{"$f":"Paraméterek!$C$125","v":40416445.700000003},{"$f":"Paraméterek!$C$125","v":40416445.700000003},"x"]
["Hosszú lejáratú kötelezettségek",null,null,{"$f":"D110","v":47916666.666666664},{"$f":"E110","v":45833333.333333328},43749999.999999993,41666666.666666657,39583333.333333321,37499999.999999985,35416666.666666649,33333333.333333317,31249999.999999985,29166666.666666653,27083333.333333321,24999999.999999989,22916666.666666657,20833333.333333325,18749999.999999993,16666666.666666659,14583333.333333325,12499999.999999991,10416666.666666657,8333333.3333333237,6249999.9999999907,4166666.6666666577,2083333.3333333244,-8.8475644588470459E-9,-8.8475644588470459E-9,-8.8475644588470459E-9,-8.8475644588470459E-9,-8.8475644588470459E-9,-8.8475644588470459E-9,-8.8475644588470459E-9,-8.8475644588470459E-9,-8.8475644588470459E-9,-8.8475644588470459E-9,-8.8475644588470459E-9,-8.8475644588470459E-9,-8.8475644588470459E-9,-8.8475644588470459E-9,-8.8475644588470459E-9,-8.8475644588470459E-9,-8.8475644588470459E-9,-8.8475644588470459E-9,-8.8475644588470459E-9,-8.8475644588470459E-9,-8.8475644588470459E-9,-8.8475644588470459E-9,-8.8475644588470459E-9,-8.8475644588470459E-9,-8.8475644588470459E-9,-8.8475644588470459E-9,-8.8475644588470459E-9,-8.8475644588470459E-9,-8.8475644588470459E-9,-8.8475644588470459E-9,-8.8475644588470459E-9,-8.8475644588470459E-9,-8.8475644588470459E-9,-8.8475644588470459E-9,-8.8475644588470459E-9,-8.8475644588470459E-9,-8.8475644588470459E-9,-8.8475644588470459E-9,-8.8475644588470459E-9,-8.8475644588470459E-9,-8.8475644588470459E-9,-8.8475644588470459E-9,{"$f":"BQ110","v":-8.8475644588470459E-9},{"$f":"BR110","v":-8.8475644588470459E-9},{"$f":"BS110","v":-8.8475644588470459E-9},"x"]
["Beruházási és fejlesztési hitelek",null,null,{"$f":"D19*D5","v":47916666.666666664},{"$f":"E19*E5","v":45833333.333333328},43749999.999999993,41666666.666666657,39583333.333333321,37499999.999999985,35416666.666666649,33333333.333333317,31249999.999999985,29166666.666666653,27083333.333333321,24999999.999999989,22916666.666666657,20833333.333333325,18749999.999999993,16666666.666666659,14583333.333333325,12499999.999999991,10416666.666666657,8333333.3333333237,6249999.9999999907,4166666.6666666577,2083333.3333333244,-8.8475644588470459E-9,-8.8475644588470459E-9,-8.8475644588470459E-9,-8.8475644588470459E-9,-8.8475644588470459E-9,-8.8475644588470459E-9,-8.8475644588470459E-9,-8.8475644588470459E-9,-8.8475644588470459E-9,-8.8475644588470459E-9,-8.8475644588470459E-9,-8.8475644588470459E-9,-8.8475644588470459E-9,-8.8475644588470459E-9,-8.8475644588470459E-9,-8.8475644588470459E-9,-8.8475644588470459E-9,-8.8475644588470459E-9,-8.8475644588470459E-9,-8.8475644588470459E-9,-8.8475644588470459E-9,-8.8475644588470459E-9,-8.8475644588470459E-9,-8.8475644588470459E-9,-8.8475644588470459E-9,-8.8475644588470459E-9,-8.8475644588470459E-9,-8.8475644588470459E-9,-8.8475644588470459E-9,-8.8475644588470459E-9,-8.8475644588470459E-9,-8.8475644588470459E-9,-8.8475644588470459E-9,-8.8475644588470459E-9,-8.8475644588470459E-9,-8.8475644588470459E-9,-8.8475644588470459E-9,-8.8475644588470459E-9,-8.8475644588470459E-9,-8.8475644588470459E-9,-8.8475644588470459E-9,-8.8475644588470459E-9,{"$f":"BQ19*BQ5","v":-8.8475644588470459E-9},{"$f":"BR19*BR5","v":-8.8475644588470459E-9},{"$f":"BS19*BS5","v":-8.8475644588470459E-9},"x"]
["Rövid lejáratú kötelezettségek",null,null,{"$f":"D112+D113+D114+D115+D116","v":127869312.3},{"$f":"E112+E113+E114+E115+E116","v":0},0,0,0,0,0,0,0,0,0,0,0,0,0,0,0,0,0,0,0,0,0,0,0,-2.0489096641540527E-8,0,-6.0535967350006104E-9,-6.0535967350006104E-9,-6.0535967350006104E-9,-6.0535967350006104E-9,-6.0535967350006104E-9,-6.0535967350006104E-9,-6.0535967350006104E-9,-6.0535967350006104E-9,-6.0535967350006104E-9,-6.0535967350006104E-9,-6.0535967350006104E-9,5.3551048040390015E-8,-6.0535967350006104E-9,5.3551048040390015E-8,5.3551048040390015E-8,5.3551048040390015E-8,5.3551048040390015E-8,5.3551048040390015E-8,5.3551048040390015E-8,5.3551048040390015E-8,5.3551048040390015E-8,5.3551048040390015E-8,5.3551048040390015E-8,5.3551048040390015E-8,5.3551048040390015E-8,5.3551048040390015E-8,5.3551048040390015E-8,5.3551048040390015E-8,5.3551048040390015E-8,5.3551048040390015E-8,5.3551048040390015E-8,5.3551048040390015E-8,5.3551048040390015E-8,5.3551048040390015E-8,5.3551048040390015E-8,5.3551048040390015E-8,5.3551048040390015E-8,5.3551048040390015E-8,{"$f":"BQ112+BQ113+BQ114+BQ115+BQ116","v":-6.5658241510391235E-8},{"$f":"BR112+BR113+BR114+BR115+BR116","v":{"$error":"#VALUE!"}},{"$f":"BS112+BS113+BS114+BS115+BS116","v":{"$error":"#VALUE!"}},"x"]
["Rövid lejáratú hitelek",null,null,{"$f":"D98-D101-D106-D108-D109-D113-D114-D115-D116-D117","v":0},{"$f":"E98-E101-E106-E108-E109-E113-E114-E115-E116-E117","v":0},{"$f":"F98-F101-F106-F108-F109-F113-F114-F115-F116-F117","v":0},{"$f":"G98-G101-G106-G108-G109-G113-G114-G115-G116-G117","v":0},0,0,0,0,0,0,0,0,0,0,0,0,0,0,0,0,0,0,0,0,0,-2.0489096641540527E-8,0,-6.0535967350006104E-9,-6.0535967350006104E-9,-6.0535967350006104E-9,-6.0535967350006104E-9,-6.0535967350006104E-9,-6.0535967350006104E-9,-6.0535967350006104E-9,-6.0535967350006104E-9,-6.0535967350006104E-9,-6.0535967350006104E-9,-6.0535967350006104E-9,5.3551048040390015E-8,-6.0535967350006104E-9,5.3551048040390015E-8,5.3551048040390015E-8,5.3551048040390015E-8,5.3551048040390015E-8,5.3551048040390015E-8,5.3551048040390015E-8,5.3551048040390015E-8,5.3551048040390015E-8,5.3551048040390015E-8,5.3551048040390015E-8,5.3551048040390015E-8,5.3551048040390015E-8,5.3551048040390015E-8,5.3551048040390015E-8,5.3551048040390015E-8,5.3551048040390015E-8,5.3551048040390015E-8,5.3551048040390015E-8,5.3551048040390015E-8,5.3551048040390015E-8,5.3551048040390015E-8,5.3551048040390015E-8,5.3551048040390015E-8,5.3551048040390015E-8,5.3551048040390015E-8,{"$f":"BQ98-BQ101-BQ106-BQ108-BQ109-BQ113-BQ114-BQ115-BQ116-BQ117","v":-6.5658241510391235E-8},{"$f":"BR98-BR101-BR106-BR108-BR109-BR113-BR114-BR115-BR116-BR117","v":{"$error":"#VALUE!"}},{"$f":"BS98-BS101-BS106-BS108-BS109-BS113-BS114-BS115-BS116-BS117","v":{"$error":"#VALUE!"}},"x"]
["Vevőktől kapott előlegek",null,null,0,0,0,0,0,0,0,0,0,0,0,0,0,0,0,0,0,0,0,0,0,0,0,0,0,0,0,0,0,0,0,0,0,0,0,0,0,0,0,0,0,0,0,0,0,0,0,0,0,0,0,0,0,0,0,0,0,0,0,0,0,0,0,0,0,0,0,0,"x"]
["Kötelezettségekáruszállításból és szolgáltatásból",null,null,0,0,0,0,0,0,0,0,0,0,0,0,0,0,0,0,0,0,0,0,0,0,0,0,0,0,0,0,0,0,0,0,0,0,0,0,0,0,0,0,0,0,0,0,0,0,0,0,0,0,0,0,0,0,0,0,0,0,0,0,0,0,0,0,0,0,0,0,"x"]
["Állami támogatás hitele",null,null,{"$f":"IF(Paraméterek!$D$143=1,Negyedéves!D42,Negyedéves!D37)*D5","v":127869312.3},{"$f":"IF(Paraméterek!$D$143=1,Negyedéves!E42,Negyedéves!E37)*E5","v":0},{"$f":"IF(Paraméterek!$D$143=1,Negyedéves!F42,Negyedéves!F37)*F5","v":0},{"$f":"IF(Paraméterek!$D$143=1,Negyedéves!G42,Negyedéves!G37)*G5","v":0},{"$f":"IF(Paraméterek!$D$143=1,Negyedéves!H42,Negyedéves!H37)*H5","v":0},{"$f":"IF(Paraméterek!$D$143=1,Negyedéves!I42,Negyedéves!I37)*I5","v":0},{"$f":"IF(Paraméterek!$D$143=1,Negyedéves!J42,Negyedéves!J37)*J5","v":0},{"$f":"IF(Paraméterek!$D$143=1,Negyedéves!K42,Negyedéves!K37)*K5","v":0},{"$f":"IF(Paraméterek!$D$143=1,Negyedéves!L42,Negyedéves!L37)*L5","v":0},{"$f":"IF(Paraméterek!$D$143=1,Negyedéves!M42,Negyedéves!M37)*M5","v":0},{"$f":"IF(Paraméterek!$D$143=1,Negyedéves!N42,Negyedéves!N37)*N5","v":0},{"$f":"IF(Paraméterek!$D$143=1,Negyedéves!O42,Negyedéves!O37)*O5","v":0},{"$f":"IF(Paraméterek!$D$143=1,Negyedéves!P42,Negyedéves!P37)*P5","v":0},{"$f":"IF(Paraméterek!$D$143=1,Negyedéves!Q42,Negyedéves!Q37)*Q5","v":0},{"$f":"IF(Paraméterek!$D$143=1,Negyedéves!R42,Negyedéves!R37)*R5","v":0},{"$f":"IF(Paraméterek!$D$143=1,Negyedéves!S42,Negyedéves!S37)*S5","v":0},{"$f":"IF(Paraméterek!$D$143=1,Negyedéves!T42,Negyedéves!T37)*T5","v":0},{"$f":"IF(Paraméterek!$D$143=1,Negyedéves!U42,Negyedéves!U37)*U5","v":0},{"$f":"IF(Paraméterek!$D$143=1,Negyedéves!V42,Negyedéves!V37)*V5","v":0},{"$f":"IF(Paraméterek!$D$143=1,Negyedéves!W42,Negyedéves!W37)*W5","v":0},{"$f":"IF(Paraméterek!$D$143=1,Negyedéves!X42,Negyedéves!X37)*X5","v":0},{"$f":"IF(Paraméterek!$D$143=1,Negyedéves!Y42,Negyedéves!Y37)*Y5","v":0},{"$f":"IF(Paraméterek!$D$143=1,Negyedéves!Z42,Negyedéves!Z37)*Z5","v":0},{"$f":"IF(Paraméterek!$D$143=1,Negyedéves!AA42,Negyedéves!AA37)*AA5","v":0},{"$f":"IF(Paraméterek!$D$143=1,Negyedéves!AB42,Negyedéves!AB37)*AB5","v":0},{"$f":"IF(Paraméterek!$D$143=1,Negyedéves!AC42,Negyedéves!AC37)*AC5","v":0},{"$f":"IF(Paraméterek!$D$143=1,Negyedéves!AD42,Negyedéves!AD37)*AD5","v":0},{"$f":"IF(Paraméterek!$D$143=1,Negyedéves!AE42,Negyedéves!AE37)*AE5","v":0},{"$f":"IF(Paraméterek!$D$143=1,Negyedéves!AF42,Negyedéves!AF37)*AF5","v":0},{"$f":"IF(Paraméterek!$D$143=1,Negyedéves!AG42,Negyedéves!AG37)*AG5","v":0},{"$f":"IF(Paraméterek!$D$143=1,Negyedéves!AH42,Negyedéves!AH37)*AH5","v":0},{"$f":"IF(Paraméterek!$D$143=1,Negyedéves!AI42,Negyedéves!AI37)*AI5","v":0},{"$f":"IF(Paraméterek!$D$143=1,Negyedéves!AJ42,Negyedéves!AJ37)*AJ5","v":0},{"$f":"IF(Paraméterek!$D$143=1,Negyedéves!AK42,Negyedéves!AK37)*AK5","v":0},{"$f":"IF(Paraméterek!$D$143=1,Negyedéves!AL42,Negyedéves!AL37)*AL5","v":0},{"$f":"IF(Paraméterek!$D$143=1,Negyedéves!AM42,Negyedéves!AM37)*AM5","v":0},{"$f":"IF(Paraméterek!$D$143=1,Negyedéves!AN42,Negyedéves!AN37)*AN5","v":0},{"$f":"IF(Paraméterek!$D$143=1,Negyedéves!AO42,Negyedéves!AO37)*AO5","v":0},{"$f":"IF(Paraméterek!$D$143=1,Negyedéves!AP42,Negyedéves!AP37)*AP5","v":0},{"$f":"IF(Paraméterek!$D$143=1,Negyedéves!AQ42,Negyedéves!AQ37)*AQ5","v":0},{"$f":"IF(Paraméterek!$D$143=1,Negyedéves!AR42,Negyedéves!AR37)*AR5","v":0},{"$f":"IF(Paraméterek!$D$143=1,Negyedéves!AS42,Negyedéves!AS37)*AS5","v":0},{"$f":"IF(Paraméterek!$D$143=1,Negyedéves!AT42,Negyedéves!AT37)*AT5","v":0},{"$f":"IF(Paraméterek!$D$143=1,Negyedéves!AU42,Negyedéves!AU37)*AU5","v":0},{"$f":"IF(Paraméterek!$D$143=1,Negyedéves!AV42,Negyedéves!AV37)*AV5","v":0},{"$f":"IF(Paraméterek!$D$143=1,Negyedéves!AW42,Negyedéves!AW37)*AW5","v":0},{"$f":"IF(Paraméterek!$D$143=1,Negyedéves!AX42,Negyedéves!AX37)*AX5","v":0},{"$f":"IF(Paraméterek!$D$143=1,Negyedéves!AY42,Negyedéves!AY37)*AY5","v":0},{"$f":"IF(Paraméterek!$D$143=1,Negyedéves!AZ42,Negyedéves!AZ37)*AZ5","v":0},{"$f":"IF(Paraméterek!$D$143=1,Negyedéves!BA42,Negyedéves!BA37)*BA5","v":0},{"$f":"IF(Paraméterek!$D$143=1,Negyedéves!BB42,Negyedéves!BB37)*BB5","v":0},{"$f":"IF(Paraméterek!$D$143=1,Negyedéves!BC42,Negyedéves!BC37)*BC5","v":0},{"$f":"IF(Paraméterek!$D$143=1,Negyedéves!BD42,Negyedéves!BD37)*BD5","v":0},{"$f":"IF(Paraméterek!$D$143=1,Negyedéves!BE42,Negyedéves!BE37)*BE5","v":0},{"$f":"IF(Paraméterek!$D$143=1,Negyedéves!BF42,Negyedéves!BF37)*BF5","v":0},{"$f":"IF(Paraméterek!$D$143=1,Negyedéves!BG42,Negyedéves!BG37)*BG5","v":0},{"$f":"IF(Paraméterek!$D$143=1,Negyedéves!BH42,Negyedéves!BH37)*BH5","v":0},{"$f":"IF(Paraméterek!$D$143=1,Negyedéves!BI42,Negyedéves!BI37)*BI5","v":0},{"$f":"IF(Paraméterek!$D$143=1,Negyedéves!BJ42,Negyedéves!BJ37)*BJ5","v":0},{"$f":"IF(Paraméterek!$D$143=1,Negyedéves!BK42,Negyedéves!BK37)*BK5","v":0},{"$f":"IF(Paraméterek!$D$143=1,Negyedéves!BL42,Negyedéves!BL37)*BL5","v":0},{"$f":"IF(Paraméterek!$D$143=1,Negyedéves!BM42,Negyedéves!BM37)*BM5","v":0},{"$f":"IF(Paraméterek!$D$143=1,Negyedéves!BN42,Negyedéves!BN37)*BN5","v":0},{"$f":"IF(Paraméterek!$D$143=1,Negyedéves!BO42,Negyedéves!BO37)*BO5","v":0},{"$f":"IF(Paraméterek!$D$143=1,Negyedéves!BP42,Negyedéves!BP37)*BP5","v":0},{"$f":"IF(Paraméterek!$D$143=1,Negyedéves!BQ42,Negyedéves!BQ37)*BQ5","v":0},{"$f":"IF(Paraméterek!$D$143=1,Negyedéves!BR42,Negyedéves!BR37)*BR5","v":0},{"$f":"IF(Paraméterek!$D$143=1,Negyedéves!BS42,Negyedéves!BS37)*BS5","v":{"$error":"#VALUE!"}},"x"]
["ÁFA-hitel",null,null,{"$f":"IF(Paraméterek!$D$137=1,Negyedéves!D54,Negyedéves!D49)*D5","v":0},{"$f":"IF(Paraméterek!$D$137=1,Negyedéves!E54,Negyedéves!E49)*E5","v":0},{"$f":"IF(Paraméterek!$D$137=1,Negyedéves!F54,Negyedéves!F49)*F5","v":0},{"$f":"IF(Paraméterek!$D$137=1,Negyedéves!G54,Negyedéves!G49)*G5","v":0},{"$f":"IF(Paraméterek!$D$137=1,Negyedéves!H54,Negyedéves!H49)*H5","v":0},{"$f":"IF(Paraméterek!$D$137=1,Negyedéves!I54,Negyedéves!I49)*I5","v":0},{"$f":"IF(Paraméterek!$D$137=1,Negyedéves!J54,Negyedéves!J49)*J5","v":0},{"$f":"IF(Paraméterek!$D$137=1,Negyedéves!K54,Negyedéves!K49)*K5","v":0},{"$f":"IF(Paraméterek!$D$137=1,Negyedéves!L54,Negyedéves!L49)*L5","v":0},{"$f":"IF(Paraméterek!$D$137=1,Negyedéves!M54,Negyedéves!M49)*M5","v":0},{"$f":"IF(Paraméterek!$D$137=1,Negyedéves!N54,Negyedéves!N49)*N5","v":0},{"$f":"IF(Paraméterek!$D$137=1,Negyedéves!O54,Negyedéves!O49)*O5","v":0},{"$f":"IF(Paraméterek!$D$137=1,Negyedéves!P54,Negyedéves!P49)*P5","v":0},{"$f":"IF(Paraméterek!$D$137=1,Negyedéves!Q54,Negyedéves!Q49)*Q5","v":0},{"$f":"IF(Paraméterek!$D$137=1,Negyedéves!R54,Negyedéves!R49)*R5","v":0},{"$f":"IF(Paraméterek!$D$137=1,Negyedéves!S54,Negyedéves!S49)*S5","v":0},{"$f":"IF(Paraméterek!$D$137=1,Negyedéves!T54,Negyedéves!T49)*T5","v":0},{"$f":"IF(Paraméterek!$D$137=1,Negyedéves!U54,Negyedéves!U49)*U5","v":0},{"$f":"IF(Paraméterek!$D$137=1,Negyedéves!V54,Negyedéves!V49)*V5","v":0},{"$f":"IF(Paraméterek!$D$137=1,Negyedéves!W54,Negyedéves!W49)*W5","v":0},{"$f":"IF(Paraméterek!$D$137=1,Negyedéves!X54,Negyedéves!X49)*X5","v":0},{"$f":"IF(Paraméterek!$D$137=1,Negyedéves!Y54,Negyedéves!Y49)*Y5","v":0},{"$f":"IF(Paraméterek!$D$137=1,Negyedéves!Z54,Negyedéves!Z49)*Z5","v":0},{"$f":"IF(Paraméterek!$D$137=1,Negyedéves!AA54,Negyedéves!AA49)*AA5","v":0},{"$f":"IF(Paraméterek!$D$137=1,Negyedéves!AB54,Negyedéves!AB49)*AB5","v":0},{"$f":"IF(Paraméterek!$D$137=1,Negyedéves!AC54,Negyedéves!AC49)*AC5","v":0},{"$f":"IF(Paraméterek!$D$137=1,Negyedéves!AD54,Negyedéves!AD49)*AD5","v":0},{"$f":"IF(Paraméterek!$D$137=1,Negyedéves!AE54,Negyedéves!AE49)*AE5","v":0},{"$f":"IF(Paraméterek!$D$137=1,Negyedéves!AF54,Negyedéves!AF49)*AF5","v":0},{"$f":"IF(Paraméterek!$D$137=1,Negyedéves!AG54,Negyedéves!AG49)*AG5","v":0},{"$f":"IF(Paraméterek!$D$137=1,Negyedéves!AH54,Negyedéves!AH49)*AH5","v":0},{"$f":"IF(Paraméterek!$D$137=1,Negyedéves!AI54,Negyedéves!AI49)*AI5","v":0},{"$f":"IF(Paraméterek!$D$137=1,Negyedéves!AJ54,Negyedéves!AJ49)*AJ5","v":0},{"$f":"IF(Paraméterek!$D$137=1,Negyedéves!AK54,Negyedéves!AK49)*AK5","v":0},{"$f":"IF(Paraméterek!$D$137=1,Negyedéves!AL54,Negyedéves!AL49)*AL5","v":0},{"$f":"IF(Paraméterek!$D$137=1,Negyedéves!AM54,Negyedéves!AM49)*AM5","v":0},{"$f":"IF(Paraméterek!$D$137=1,Negyedéves!AN54,Negyedéves!AN49)*AN5","v":0},{"$f":"IF(Paraméterek!$D$137=1,Negyedéves!AO54,Negyedéves!AO49)*AO5","v":0},{"$f":"IF(Paraméterek!$D$137=1,Negyedéves!AP54,Negyedéves!AP49)*AP5","v":0},{"$f":"IF(Paraméterek!$D$137=1,Negyedéves!AQ54,Negyedéves!AQ49)*AQ5","v":0},{"$f":"IF(Paraméterek!$D$137=1,Negyedéves!AR54,Negyedéves!AR49)*AR5","v":0},{"$f":"IF(Paraméterek!$D$137=1,Negyedéves!AS54,Negyedéves!AS49)*AS5","v":0},{"$f":"IF(Paraméterek!$D$137=1,Negyedéves!AT54,Negyedéves!AT49)*AT5","v":0},{"$f":"IF(Paraméterek!$D$137=1,Negyedéves!AU54,Negyedéves!AU49)*AU5","v":0},{"$f":"IF(Paraméterek!$D$137=1,Negyedéves!AV54,Negyedéves!AV49)*AV5","v":0},{"$f":"IF(Paraméterek!$D$137=1,Negyedéves!AW54,Negyedéves!AW49)*AW5","v":0},{"$f":"IF(Paraméterek!$D$137=1,Negyedéves!AX54,Negyedéves!AX49)*AX5","v":0},{"$f":"IF(Paraméterek!$D$137=1,Negyedéves!AY54,Negyedéves!AY49)*AY5","v":0},{"$f":"IF(Paraméterek!$D$137=1,Negyedéves!AZ54,Negyedéves!AZ49)*AZ5","v":0},{"$f":"IF(Paraméterek!$D$137=1,Negyedéves!BA54,Negyedéves!BA49)*BA5","v":0},{"$f":"IF(Paraméterek!$D$137=1,Negyedéves!BB54,Negyedéves!BB49)*BB5","v":0},{"$f":"IF(Paraméterek!$D$137=1,Negyedéves!BC54,Negyedéves!BC49)*BC5","v":0},{"$f":"IF(Paraméterek!$D$137=1,Negyedéves!BD54,Negyedéves!BD49)*BD5","v":0},{"$f":"IF(Paraméterek!$D$137=1,Negyedéves!BE54,Negyedéves!BE49)*BE5","v":0},{"$f":"IF(Paraméterek!$D$137=1,Negyedéves!BF54,Negyedéves!BF49)*BF5","v":0},{"$f":"IF(Paraméterek!$D$137=1,Negyedéves!BG54,Negyedéves!BG49)*BG5","v":0},{"$f":"IF(Paraméterek!$D$137=1,Negyedéves!BH54,Negyedéves!BH49)*BH5","v":0},{"$f":"IF(Paraméterek!$D$137=1,Negyedéves!BI54,Negyedéves!BI49)*BI5","v":0},{"$f":"IF(Paraméterek!$D$137=1,Negyedéves!BJ54,Negyedéves!BJ49)*BJ5","v":0},{"$f":"IF(Paraméterek!$D$137=1,Negyedéves!BK54,Negyedéves!BK49)*BK5","v":0},{"$f":"IF(Paraméterek!$D$137=1,Negyedéves!BL54,Negyedéves!BL49)*BL5","v":0},{"$f":"IF(Paraméterek!$D$137=1,Negyedéves!BM54,Negyedéves!BM49)*BM5","v":0},{"$f":"IF(Paraméterek!$D$137=1,Negyedéves!BN54,Negyedéves!BN49)*BN5","v":0},{"$f":"IF(Paraméterek!$D$137=1,Negyedéves!BO54,Negyedéves!BO49)*BO5","v":0},{"$f":"IF(Paraméterek!$D$137=1,Negyedéves!BP54,Negyedéves!BP49)*BP5","v":0},{"$f":"IF(Paraméterek!$D$137=1,Negyedéves!BQ54,Negyedéves!BQ49)*BQ5","v":0},{"$f":"IF(Paraméterek!$D$137=1,Negyedéves!BR54,Negyedéves!BR49)*BR5","v":0},{"$f":"IF(Paraméterek!$D$137=1,Negyedéves!BS54,Negyedéves!BS49)*BS5","v":{"$error":"#VALUE!"}},"x"]
["Passzív időbeli elhatárolások",null,null,{"$f":"D118+D119+D120","v":123302551.14642857},{"$f":"E118+E119+E120","v":118735789.99285714},114169028.83928572,109602267.68571427,105035506.53214285,100468745.37857142,95901984.224999994,91335223.071428567,86768461.91785714,82201700.764285713,77634939.610714287,73068178.45714286,68501417.303571433,63934656.149999999,59367894.996428564,54801133.842857137,50234372.68928571,45667611.535714284,41100850.382142857,36534089.22857143,31967328.075000003,27400566.921428576,22833805.767857134,18267044.614285722,13700283.460714281,9133522.3071428686,4566761.1535714269,0,0,0,0,0,0,0,0,0,0,0,0,0,0,0,0,0,0,0,0,0,0,0,0,0,0,0,0,0,0,0,0,0,0,0,0,0,0,{"$f":"BQ118+BQ119+BQ120","v":0},{"$f":"BR118+BR119+BR120","v":0},{"$f":"BS118+BS119+BS120","v":0},"x"]
["PIE bevételekre",null,null,{"$f":"MAX(0,Paraméterek!$C$122-Negyedéves!D$1*Paraméterek!$C$122/(4*Paraméterek!$C$123))","v":123302551.14642857},{"$f":"MAX(0,Paraméterek!$C$122-Negyedéves!E$1*Paraméterek!$C$122/(4*Paraméterek!$C$123))","v":118735789.99285714},{"$f":"MAX(0,Paraméterek!$C$122-Negyedéves!F$1*Paraméterek!$C$122/(4*Paraméterek!$C$123))","v":114169028.83928572},{"$f":"MAX(0,Paraméterek!$C$122-Negyedéves!G$1*Paraméterek!$C$122/(4*Paraméterek!$C$123))","v":109602267.68571427},{"$f":"MAX(0,Paraméterek!$C$122-Negyedéves!H$1*Paraméterek!$C$122/(4*Paraméterek!$C$123))","v":105035506.53214285},{"$f":"MAX(0,Paraméterek!$C$122-Negyedéves!I$1*Paraméterek!$C$122/(4*Paraméterek!$C$123))","v":100468745.37857142},{"$f":"MAX(0,Paraméterek!$C$122-Negyedéves!J$1*Paraméterek!$C$122/(4*Paraméterek!$C$123))","v":95901984.224999994},{"$f":"MAX(0,Paraméterek!$C$122-Negyedéves!K$1*Paraméterek!$C$122/(4*Paraméterek!$C$123))","v":91335223.071428567},{"$f":"MAX(0,Paraméterek!$C$122-Negyedéves!L$1*Paraméterek!$C$122/(4*Paraméterek!$C$123))","v":86768461.91785714},{"$f":"MAX(0,Paraméterek!$C$122-Negyedéves!M$1*Paraméterek!$C$122/(4*Paraméterek!$C$123))","v":82201700.764285713},{"$f":"MAX(0,Paraméterek!$C$122-Negyedéves!N$1*Paraméterek!$C$122/(4*Paraméterek!$C$123))","v":77634939.610714287},{"$f":"MAX(0,Paraméterek!$C$122-Negyedéves!O$1*Paraméterek!$C$122/(4*Paraméterek!$C$123))","v":73068178.45714286},{"$f":"MAX(0,Paraméterek!$C$122-Negyedéves!P$1*Paraméterek!$C$122/(4*Paraméterek!$C$123))","v":68501417.303571433},{"$f":"MAX(0,Paraméterek!$C$122-Negyedéves!Q$1*Paraméterek!$C$122/(4*Paraméterek!$C$123))","v":63934656.149999999},{"$f":"MAX(0,Paraméterek!$C$122-Negyedéves!R$1*Paraméterek!$C$122/(4*Paraméterek!$C$123))","v":59367894.996428564},{"$f":"MAX(0,Paraméterek!$C$122-Negyedéves!S$1*Paraméterek!$C$122/(4*Paraméterek!$C$123))","v":54801133.842857137},{"$f":"MAX(0,Paraméterek!$C$122-Negyedéves!T$1*Paraméterek!$C$122/(4*Paraméterek!$C$123))","v":50234372.68928571},{"$f":"MAX(0,Paraméterek!$C$122-Negyedéves!U$1*Paraméterek!$C$122/(4*Paraméterek!$C$123))","v":45667611.535714284},{"$f":"MAX(0,Paraméterek!$C$122-Negyedéves!V$1*Paraméterek!$C$122/(4*Paraméterek!$C$123))","v":41100850.382142857},{"$f":"MAX(0,Paraméterek!$C$122-Negyedéves!W$1*Paraméterek!$C$122/(4*Paraméterek!$C$123))","v":36534089.22857143},{"$f":"MAX(0,Paraméterek!$C$122-Negyedéves!X$1*Paraméterek!$C$122/(4*Paraméterek!$C$123))","v":31967328.075000003},{"$f":"MAX(0,Paraméterek!$C$122-Negyedéves!Y$1*Paraméterek!$C$122/(4*Paraméterek!$C$123))","v":27400566.921428576},{"$f":"MAX(0,Paraméterek!$C$122-Negyedéves!Z$1*Paraméterek!$C$122/(4*Paraméterek!$C$123))","v":22833805.767857134},{"$f":"MAX(0,Paraméterek!$C$122-Negyedéves!AA$1*Paraméterek!$C$122/(4*Paraméterek!$C$123))","v":18267044.614285722},{"$f":"MAX(0,Paraméterek!$C$122-Negyedéves!AB$1*Paraméterek!$C$122/(4*Paraméterek!$C$123))","v":13700283.460714281},{"$f":"MAX(0,Paraméterek!$C$122-Negyedéves!AC$1*Paraméterek!$C$122/(4*Paraméterek!$C$123))","v":9133522.3071428686},{"$f":"MAX(0,Paraméterek!$C$122-Negyedéves!AD$1*Paraméterek!$C$122/(4*Paraméterek!$C$123))","v":4566761.1535714269},{"$f":"MAX(0,Paraméterek!$C$122-Negyedéves!AE$1*Paraméterek!$C$122/(4*Paraméterek!$C$123))","v":0},{"$f":"MAX(0,Paraméterek!$C$122-Negyedéves!AF$1*Paraméterek!$C$122/(4*Paraméterek!$C$123))","v":0},{"$f":"MAX(0,Paraméterek!$C$122-Negyedéves!AG$1*Paraméterek!$C$122/(4*Paraméterek!$C$123))","v":0},{"$f":"MAX(0,Paraméterek!$C$122-Negyedéves!AH$1*Paraméterek!$C$122/(4*Paraméterek!$C$123))","v":0},{"$f":"MAX(0,Paraméterek!$C$122-Negyedéves!AI$1*Paraméterek!$C$122/(4*Paraméterek!$C$123))","v":0},{"$f":"MAX(0,Paraméterek!$C$122-Negyedéves!AJ$1*Paraméterek!$C$122/(4*Paraméterek!$C$123))","v":0},{"$f":"MAX(0,Paraméterek!$C$122-Negyedéves!AK$1*Paraméterek!$C$122/(4*Paraméterek!$C$123))","v":0},{"$f":"MAX(0,Paraméterek!$C$122-Negyedéves!AL$1*Paraméterek!$C$122/(4*Paraméterek!$C$123))","v":0},{"$f":"MAX(0,Paraméterek!$C$122-Negyedéves!AM$1*Paraméterek!$C$122/(4*Paraméterek!$C$123))","v":0},{"$f":"MAX(0,Paraméterek!$C$122-Negyedéves!AN$1*Paraméterek!$C$122/(4*Paraméterek!$C$123))","v":0},{"$f":"MAX(0,Paraméterek!$C$122-Negyedéves!AO$1*Paraméterek!$C$122/(4*Paraméterek!$C$123))","v":0},{"$f":"MAX(0,Paraméterek!$C$122-Negyedéves!AP$1*Paraméterek!$C$122/(4*Paraméterek!$C$123))","v":0},{"$f":"MAX(0,Paraméterek!$C$122-Negyedéves!AQ$1*Paraméterek!$C$122/(4*Paraméterek!$C$123))","v":0},{"$f":"MAX(0,Paraméterek!$C$122-Negyedéves!AR$1*Paraméterek!$C$122/(4*Paraméterek!$C$123))","v":0},{"$f":"MAX(0,Paraméterek!$C$122-Negyedéves!AS$1*Paraméterek!$C$122/(4*Paraméterek!$C$123))","v":0},{"$f":"MAX(0,Paraméterek!$C$122-Negyedéves!AT$1*Paraméterek!$C$122/(4*Paraméterek!$C$123))","v":0},{"$f":"MAX(0,Paraméterek!$C$122-Negyedéves!AU$1*Paraméterek!$C$122/(4*Paraméterek!$C$123))","v":0},{"$f":"MAX(0,Paraméterek!$C$122-Negyedéves!AV$1*Paraméterek!$C$122/(4*Paraméterek!$C$123))","v":0},{"$f":"MAX(0,Paraméterek!$C$122-Negyedéves!AW$1*Paraméterek!$C$122/(4*Paraméterek!$C$123))","v":0},{"$f":"MAX(0,Paraméterek!$C$122-Negyedéves!AX$1*Paraméterek!$C$122/(4*Paraméterek!$C$123))","v":0},{"$f":"MAX(0,Paraméterek!$C$122-Negyedéves!AY$1*Paraméterek!$C$122/(4*Paraméterek!$C$123))","v":0},{"$f":"MAX(0,Paraméterek!$C$122-Negyedéves!AZ$1*Paraméterek!$C$122/(4*Paraméterek!$C$123))","v":0},{"$f":"MAX(0,Paraméterek!$C$122-Negyedéves!BA$1*Paraméterek!$C$122/(4*Paraméterek!$C$123))","v":0},{"$f":"MAX(0,Paraméterek!$C$122-Negyedéves!BB$1*Paraméterek!$C$122/(4*Paraméterek!$C$123))","v":0},{"$f":"MAX(0,Paraméterek!$C$122-Negyedéves!BC$1*Paraméterek!$C$122/(4*Paraméterek!$C$123))","v":0},{"$f":"MAX(0,Paraméterek!$C$122-Negyedéves!BD$1*Paraméterek!$C$122/(4*Paraméterek!$C$123))","v":0},{"$f":"MAX(0,Paraméterek!$C$122-Negyedéves!BE$1*Paraméterek!$C$122/(4*Paraméterek!$C$123))","v":0},{"$f":"MAX(0,Paraméterek!$C$122-Negyedéves!BF$1*Paraméterek!$C$122/(4*Paraméterek!$C$123))","v":0},{"$f":"MAX(0,Paraméterek!$C$122-Negyedéves!BG$1*Paraméterek!$C$122/(4*Paraméterek!$C$123))","v":0},{"$f":"MAX(0,Paraméterek!$C$122-Negyedéves!BH$1*Paraméterek!$C$122/(4*Paraméterek!$C$123))","v":0},{"$f":"MAX(0,Paraméterek!$C$122-Negyedéves!BI$1*Paraméterek!$C$122/(4*Paraméterek!$C$123))","v":0},{"$f":"MAX(0,Paraméterek!$C$122-Negyedéves!BJ$1*Paraméterek!$C$122/(4*Paraméterek!$C$123))","v":0},{"$f":"MAX(0,Paraméterek!$C$122-Negyedéves!BK$1*Paraméterek!$C$122/(4*Paraméterek!$C$123))","v":0},{"$f":"MAX(0,Paraméterek!$C$122-Negyedéves!BL$1*Paraméterek!$C$122/(4*Paraméterek!$C$123))","v":0},{"$f":"MAX(0,Paraméterek!$C$122-Negyedéves!BM$1*Paraméterek!$C$122/(4*Paraméterek!$C$123))","v":0},{"$f":"MAX(0,Paraméterek!$C$122-Negyedéves!BN$1*Paraméterek!$C$122/(4*Paraméterek!$C$123))","v":0},{"$f":"MAX(0,Paraméterek!$C$122-Negyedéves!BO$1*Paraméterek!$C$122/(4*Paraméterek!$C$123))","v":0},{"$f":"MAX(0,Paraméterek!$C$122-Negyedéves!BP$1*Paraméterek!$C$122/(4*Paraméterek!$C$123))","v":0},{"$f":"MAX(0,Paraméterek!$C$122-Negyedéves!BQ$1*Paraméterek!$C$122/(4*Paraméterek!$C$123))","v":0},{"$f":"MAX(0,Paraméterek!$C$122-Negyedéves!BR$1*Paraméterek!$C$122/(4*Paraméterek!$C$123))","v":0},{"$f":"MAX(0,Paraméterek!$C$122-Negyedéves!BS$1*Paraméterek!$C$122/(4*Paraméterek!$C$123))","v":0},"x"]
["PIE költségekre, ráfordításokra",null,null,0,0,0,0,0,0,0,0,0,0,0,0,0,0,0,0,0,0,0,0,0,0,0,0,0,0,0,0,0,0,0,0,0,0,0,0,0,0,0,0,0,0,0,0,0,0,0,0,0,0,0,0,0,0,0,0,0,0,0,0,0,0,0,0,0,0,0,0,"x"]
["Halasztott bevételek",null,null,0,0,0,0,0,0,0,0,0,0,0,0,0,0,0,0,0,0,0,0,0,0,0,0,0,0,0,0,0,0,0,0,0,0,0,0,0,0,0,0,0,0,0,0,0,0,0,0,0,0,0,0,0,0,0,0,0,0,0,0,0,0,0,0,0,0,0,0,"x"]
["Összes forrás",null,null,{"$f":"D101+D106+D107+D117","v":352283634.0887962},{"$f":"E101+E106+E107+E117","v":228055275.28151351},232528528.95906311,237162270.33613709,241895055.01855692,246783194.84503093,251836427.13231078,257056406.35152355,262380483.50207913,267866121.13427317,273523275.9808861,279353660.46859384,285293397.68091738,291401124.68285394,297687022.80669773,304152864.39528018,310733520.86579299,317488828.10253978,324429197.35011286,331556462.89315218,338804220.2831111,346233529.0405432,353855035.76783532,361670638.78426892,371695966.45237434,381909993.93599737,392323608.777035,402938775.49162591,414097471.96862942,425455545.70839024,437024156.97237128,448805364.97345054,460762128.85313845,472926019.16327798,485308449.32248008,497911549.91829109,510697569.70585352,523698741.32115453,536926737.36851919,550383762.21076572,568542341.98430049,586920832.23182321,605531142.63753748,624375525.30819666,643414739.57433975,662682356.28060234,682190555.90140939,701941668.4417367,721895701.53643787,742086930.82844472,762527814.0488739,783220761.71791935,804125015.80829978,825275571.93317318,846685171.71001256,868356308.87770152,890247445.53545213,912394312.77669775,934809942.90248322,957496915.66315758,980412898.82434344,1003594374.8157983,1027054673.5913825,1050796463.7979132,1074776604.1547995,{"$f":"BQ101+BQ106+BQ107+BQ117","v":1099032344.6382456},{"$f":"BR101+BR106+BR107+BR117","v":{"$error":"#VALUE!"}},{"$f":"BS101+BS106+BS107+BS117","v":{"$error":"#VALUE!"}},"x"]
[null,null,null,null,null,null,null,null,null,null,null,null,null,null,null,null,null,null,null,null,null,null,null,null,null,null,null,null,null,null,null,null,null,null,null,null,null,null,null,null,null,null,null,null,null,null,null,null,null,null,null,null,null,null,null,null,null,null,null,null,null,null,null,null,null,null,null,null,null,null,null,"x"]
[null,null,null,null,null,null,null,null,null,null,null,null,null,null,null,null,null,null,null,null,null,null,null,null,null,null,null,null,null,null,null,null,null,null,null,null,null,null,null,null,null,null,null,null,null,null,null,null,null,null,null,null,null,null,null,null,null,null,null,null,null,null,null,null,null,null,null,null,null,null,null,"x"]
["Eredménykimutatás (HUF)",null,null,null,null,null,null,null,null,null,null,null,null,null,null,null,null,null,null,null,null,null,null,null,null,null,null,null,null,null,null,null,null,null,null,null,null,null,null,null,null,null,null,null,null,null,null,null,null,null,null,null,null,null,null,null,null,null,null,null,null,null,null,null,null,null,null,null,null,null,null,"x"]
["Belföldi értékesítés",null,{"$f":"+Paraméterek!C50/4","v":24595817.56377909},{"$f":"C125*IF(Paraméterek!$D$53=1,1,D$9)","v":24717884.923335131},{"$f":"D125*IF(Paraméterek!$D$53=1,1,E$9)","v":24840558.094843969},{"$f":"E125*IF(Paraméterek!$D$53=1,1,F$9)","v":24963840.084908873},{"$f":"F125*IF(Paraméterek!$D$53=1,1,G$9)","v":25087733.915054679},{"$f":"G125*IF(Paraméterek!$D$53=1,1,H$9)","v":25212242.621801838},{"$f":"H125*IF(Paraméterek!$D$53=1,1,I$9)","v":25337369.256740853},{"$f":"I125*IF(Paraméterek!$D$53=1,1,J$9)","v":25463116.886607055},{"$f":"J125*IF(Paraméterek!$D$53=1,1,K$9)","v":25589488.593355775},{"$f":"K125*IF(Paraméterek!$D$53=1,1,L$9)","v":25716487.474237878},{"$f":"L125*IF(Paraméterek!$D$53=1,1,M$9)","v":25844116.641875673},{"$f":"M125*IF(Paraméterek!$D$53=1,1,N$9)","v":25972379.224339202},{"$f":"N125*IF(Paraméterek!$D$53=1,1,O$9)","v":26101278.365222897},{"$f":"O125*IF(Paraméterek!$D$53=1,1,P$9)","v":26230817.223722644},{"$f":"P125*IF(Paraméterek!$D$53=1,1,Q$9)","v":26360998.974713195},{"$f":"Q125*IF(Paraméterek!$D$53=1,1,R$9)","v":26491826.808825992},{"$f":"R125*IF(Paraméterek!$D$53=1,1,S$9)","v":26623303.932527363},{"$f":"S125*IF(Paraméterek!$D$53=1,1,T$9)","v":26755433.568197105},{"$f":"T125*IF(Paraméterek!$D$53=1,1,U$9)","v":26888218.954207469},{"$f":"U125*IF(Paraméterek!$D$53=1,1,V$9)","v":27021663.345002521},{"$f":"V125*IF(Paraméterek!$D$53=1,1,W$9)","v":27155770.01117792},{"$f":"W125*IF(Paraméterek!$D$53=1,1,X$9)","v":27290542.239561055},{"$f":"X125*IF(Paraméterek!$D$53=1,1,Y$9)","v":27425983.333291624},{"$f":"Y125*IF(Paraméterek!$D$53=1,1,Z$9)","v":27562096.61190258},{"$f":"Z125*IF(Paraméterek!$D$53=1,1,AA$9)","v":27698885.411401484},{"$f":"AA125*IF(Paraméterek!$D$53=1,1,AB$9)","v":27836353.084352285},{"$f":"AB125*IF(Paraméterek!$D$53=1,1,AC$9)","v":27974502.999957465},{"$f":"AC125*IF(Paraméterek!$D$53=1,1,AD$9)","v":28113338.544140637},{"$f":"AD125*IF(Paraméterek!$D$53=1,1,AE$9)","v":28252863.119629521},{"$f":"AE125*IF(Paraméterek!$D$53=1,1,AF$9)","v":28393080.146039337},{"$f":"AF125*IF(Paraméterek!$D$53=1,1,AG$9)","v":28533993.059956621},{"$f":"AG125*IF(Paraméterek!$D$53=1,1,AH$9)","v":28675605.315023459},{"$f":"AH125*IF(Paraméterek!$D$53=1,1,AI$9)","v":28817920.38202212},{"$f":"AI125*IF(Paraméterek!$D$53=1,1,AJ$9)","v":28960941.74896013},{"$f":"AJ125*IF(Paraméterek!$D$53=1,1,AK$9)","v":29104672.921155762},{"$f":"AK125*IF(Paraméterek!$D$53=1,1,AL$9)","v":29249117.421323936},{"$f":"AL125*IF(Paraméterek!$D$53=1,1,AM$9)","v":29394278.78966257},{"$f":"AM125*IF(Paraméterek!$D$53=1,1,AN$9)","v":29540160.58393934},{"$f":"AN125*IF(Paraméterek!$D$53=1,1,AO$9)","v":29686766.379578885},{"$f":"AO125*IF(Paraméterek!$D$53=1,1,AP$9)","v":29834099.769750424},{"$f":"AP125*IF(Paraméterek!$D$53=1,1,AQ$9)","v":29982164.365455832},{"$f":"AQ125*IF(Paraméterek!$D$53=1,1,AR$9)","v":30130963.795618139},{"$f":"AR125*IF(Paraméterek!$D$53=1,1,AS$9)","v":30280501.707170475},{"$f":"AS125*IF(Paraméterek!$D$53=1,1,AT$9)","v":30430781.765145443},{"$f":"AT125*IF(Paraméterek!$D$53=1,1,AU$9)","v":30581807.652764957},{"$f":"AU125*IF(Paraméterek!$D$53=1,1,AV$9)","v":30733583.07153051},{"$f":"AV125*IF(Paraméterek!$D$53=1,1,AW$9)","v":30886111.74131389},{"$f":"AW125*IF(Paraméterek!$D$53=1,1,AX$9)","v":31039397.400448356},{"$f":"AX125*IF(Paraméterek!$D$53=1,1,AY$9)","v":31193443.80582026},{"$f":"AY125*IF(Paraméterek!$D$53=1,1,AZ$9)","v":31348254.732961126},{"$f":"AZ125*IF(Paraméterek!$D$53=1,1,BA$9)","v":31503833.976140175},{"$f":"BA125*IF(Paraméterek!$D$53=1,1,BB$9)","v":31660185.348457333},{"$f":"BB125*IF(Paraméterek!$D$53=1,1,BC$9)","v":31817312.681936678},{"$f":"BC125*IF(Paraméterek!$D$53=1,1,BD$9)","v":31975219.827620361},{"$f":"BD125*IF(Paraméterek!$D$53=1,1,BE$9)","v":32133910.655662991},{"$f":"BE125*IF(Paraméterek!$D$53=1,1,BF$9)","v":32293389.055426493},{"$f":"BF125*IF(Paraméterek!$D$53=1,1,BG$9)","v":32453658.935575426},{"$f":"BG125*IF(Paraméterek!$D$53=1,1,BH$9)","v":32614724.224172782},{"$f":"BH125*IF(Paraméterek!$D$53=1,1,BI$9)","v":32776588.868776266},{"$f":"BI125*IF(Paraméterek!$D$53=1,1,BJ$9)","v":32939256.836535037},{"$f":"BJ125*IF(Paraméterek!$D$53=1,1,BK$9)","v":33102732.114286944},{"$f":"BK125*IF(Paraméterek!$D$53=1,1,BL$9)","v":33267018.708656248},{"$f":"BL125*IF(Paraméterek!$D$53=1,1,BM$9)","v":33432120.6461518},{"$f":"BM125*IF(Paraméterek!$D$53=1,1,BN$9)","v":33598041.973265745},{"$f":"BN125*IF(Paraméterek!$D$53=1,1,BO$9)","v":33764786.756572694},{"$f":"BO125*IF(Paraméterek!$D$53=1,1,BP$9)","v":33932359.082829386},{"$f":"BP125*IF(Paraméterek!$D$53=1,1,BQ$9)","v":34100763.059074849},{"$f":"BQ125*IF(Paraméterek!$D$53=1,1,BR$9)","v":34270002.812731072},{"$f":"BR125*IF(Paraméterek!$D$53=1,1,BS$9)","v":34440082.491704158},"x"]
["Exportértékesítés",null,null,0,0,0,0,0,0,0,0,0,0,0,0,0,0,0,0,0,0,0,0,0,0,0,0,0,0,0,0,0,0,0,0,0,0,0,0,0,0,0,0,0,0,0,0,0,0,0,0,0,0,0,0,0,0,0,0,0,0,0,0,0,0,0,0,0,0,0,0,"x"]
["Értékesítés nettó árbevétele",null,null,{"$f":"D125+D126","v":24717884.923335131},{"$f":"E125+E126","v":24840558.094843969},24963840.084908873,25087733.915054679,25212242.621801838,25337369.256740853,25463116.886607055,25589488.593355775,25716487.474237878,25844116.641875673,25972379.224339202,26101278.365222897,26230817.223722644,26360998.974713195,26491826.808825992,26623303.932527363,26755433.568197105,26888218.954207469,27021663.345002521,27155770.01117792,27290542.239561055,27425983.333291624,27562096.61190258,27698885.411401484,27836353.084352285,27974502.999957465,28113338.544140637,28252863.119629521,28393080.146039337,28533993.059956621,28675605.315023459,28817920.38202212,28960941.74896013,29104672.921155762,29249117.421323936,29394278.78966257,29540160.58393934,29686766.379578885,29834099.769750424,29982164.365455832,30130963.795618139,30280501.707170475,30430781.765145443,30581807.652764957,30733583.07153051,30886111.74131389,31039397.400448356,31193443.80582026,31348254.732961126,31503833.976140175,31660185.348457333,31817312.681936678,31975219.827620361,32133910.655662991,32293389.055426493,32453658.935575426,32614724.224172782,32776588.868776266,32939256.836535037,33102732.114286944,33267018.708656248,33432120.6461518,33598041.973265745,33764786.756572694,33932359.082829386,{"$f":"BQ125+BQ126","v":34100763.059074849},{"$f":"BR125+BR126","v":34270002.812731072},{"$f":"BS125+BS126","v":34440082.491704158}]
["Aktivált saját teljesítmények értéke",null,null,0,0,0,0,0,0,0,0,0,0,0,0,0,0,0,0,0,0,0,0,0,0,0,0,0,0,0,0,0,0,0,0,0,0,0,0,0,0,0,0,0,0,0,0,0,0,0,0,0,0,0,0,0,0,0,0,0,0,0,0,0,0,0,0,0,0,0,0,"x"]
["Egyéb bevételek",null,null,0,0,0,0,0,0,0,0,0,0,0,0,0,0,0,0,0,0,0,0,0,0,0,0,0,0,0,0,0,0,0,0,0,0,0,0,0,0,0,0,0,0,0,0,0,0,0,0,0,0,0,0,0,0,0,0,0,0,0,0,0,0,0,0,0,0,0,0,"x"]
["ebből: visszaírt értékvesztés",null,null,0,0,0,0,0,0,0,0,0,0,0,0,0,0,0,0,0,0,0,0,0,0,0,0,0,0,0,0,0,0,0,0,0,0,0,0,0,0,0,0,0,0,0,0,0,0,0,0,0,0,0,0,0,0,0,0,0,0,0,0,0,0,0,0,0,0,0,0,"x"]
["Anyagköltség",null,{"$f":"+(Paraméterek!C71+Paraméterek!C79+Paraméterek!C82)/4","v":7436697.5670302911},{"$f":"C131*D$9","v":7473605.3881860739},{"$f":"D131*E$9","v":7510696.3803327689},7547971.45253547,7585431.5183708994,7623077.4959497973,7660910.307939426,7698930.881586181,7737140.1487383191,7775539.0458687954,7814128.5140982168,7852909.499217907,7891882.951713088,7931049.8267861735,7970411.0843801834,8009967.6892022677,8049720.6107473522,8089670.8233218994,8129819.306067789,8170167.0429863147,8210715.022962301,8251464.2397883395,8292415.6921891477,8333570.3838460436,8374929.3234215491,8416493.524584109,8458264.0060329325,8500241.7915229667,8542427.909889983,8584823.3950757943,8627429.286153594,8670246.6273534298,8713276.4680877868,8756519.8629773129,8799977.87187667,8843651.5599005017,8887541.9974495452,8931650.260236863,8975977.4293142073,9020524.5910985153,9065292.8373985402,9110283.265441604,9155496.9779004939,9200935.082920488,9246598.6941465121,9292488.9307504371,9338606.9174585063,9384953.7845789008,9431530.6680294462,9478338.7093654498,9525379.0558076799,9572652.8602704816,9620161.2813900374,9667905.4835527614,9715886.6369238365,9764105.9174758941,9812564.5070178416,9861263.5932238195,9910204.3696623147,9959388.0358254146,10008815.7971582,10058488.865088297,10108408.457055563,10158575.796541926,10208992.113101367,10259658.642390067,{"$f":"BP131*BQ$9","v":10310576.626196679},10361747.312472768,10413171.955363398,"x"]
["Igénybe vett szolgáltatások értéke",null,{"$f":"+(Paraméterek!C87+Paraméterek!C92+Paraméterek!C95+Paraméterek!C99)/4","v":2111754.6179484781},{"$f":"C132*D$9","v":2122235.1116167535},{"$f":"D132*E$9","v":2132767.6192579581},2143352.3990138802,2153989.7103074482,2164679.8138490892,2175422.9716431177,2186219.4469941584,2197069.504513598,2207973.4101260719,2218931.4310759809,2229943.835934042,2241010.8946038703,2252132.8783285934,2263310.0596975009,2274542.7126527233,2285831.1124959481,2297175.535895166,2308576.2608914515,2320033.5669057784,2331547.7347458676,2343119.0466130697,2354747.7861092808,2366434.2382438942,2378178.6894407854,2389981.4275453314,2401842.741831467,2413762.923008773,2425742.263229602,2437781.056096239,2449879.5966680972,2462038.1814689492,2474257.1084941947,2486536.6772181643,2498877.1886014598,2511278.9450983289,2523742.2506640796,2536267.4107625289,2548854.73237349,2561504.5240002964,2574217.0956773618,2586992.7589777801,2599831.8270209604,2612734.6144803027,2625701.4375909097,2638732.6141573363,2651828.4635613803,2664989.3067699098,2678215.4663427286,2691507.2664404837,2704865.0328326086,2718289.0929053086,2731779.7756695841,2745337.4117692942,2758962.3334892616,2772654.8747634157,2786415.3711829763,2800244.1600046805,2814141.5801590472,2828107.9722586842,2842143.6786066364,2856249.0432047751,2870424.4117622292,2884670.1317038587,2898986.5521787698,2913374.024068871,2927832.8999974742,2942363.5343379364,2956966.2832223456,"x"]
["Egyéb szolgáltatások értéke",null,0,{"$f":"C133*D$9","v":0},{"$f":"D133*E$9","v":0},0,0,0,0,0,0,0,0,0,0,0,0,0,0,0,0,0,0,0,0,0,0,0,0,0,0,0,0,0,0,0,0,0,0,0,0,0,0,0,0,0,0,0,0,0,0,0,0,0,0,0,0,0,0,0,0,0,0,0,0,0,0,0,0,0,0,"x"]
["Eladott áruk beszerzési értéke",null,null,0,0,0,0,0,0,0,0,0,0,0,0,0,0,0,0,0,0,0,0,0,0,0,0,0,0,0,0,0,0,0,0,0,0,0,0,0,0,0,0,0,0,0,0,0,0,0,0,0,0,0,0,0,0,0,0,0,0,0,0,0,0,0,0,0,0,0,0,"x"]
["Eladott szolgáltatások értéke",null,null,0,0,0,0,0,0,0,0,0,0,0,0,0,0,0,0,0,0,0,0,0,0,0,0,0,0,0,0,0,0,0,0,0,0,0,0,0,0,0,0,0,0,0,0,0,0,0,0,0,0,0,0,0,0,0,0,0,0,0,0,0,0,0,0,0,0,0,0,"x"]
["Anyagjellegű ráfordítások",null,null,{"$f":"D131+D132+D133+D134+D135","v":9595840.4998028278},{"$f":"E131+E132+E133+E134+E135","v":9643463.9995907266},9691323.8515493497,9739421.2286783475,9787757.309798887,9836333.2795825433,9885150.3285803385,9934209.6532519162,9983512.4559948668,10033059.945174199,10082853.335151948,10132893.846316958,10183182.705114767,10233721.144077685,10284510.401854992,10335551.7232433,10386846.359217066,10438395.56695924,10490200.609892093,10542262.75770817,10594583.28640141,10647163.478298429,10700004.622089937,10753108.012862334,10806474.95212944,10860106.747864399,10914004.71453174,10968170.173119586,11022604.451172033,11077308.88282169,11132284.808822379,11187533.576581981,11243056.540195476,11298855.06047813,11354930.504998831,11411284.248113625,11467917.670999393,11524832.161687698,11582029.115098812,11639509.933075901,11697276.024419384,11755328.804921454,11813669.69740079,11872300.131737422,11931221.544907773,11990435.381019887,12049943.09134881,12109746.134372175,12169845.975805935,12230244.088640288,12290941.953175791,12351941.057059621,12413242.895322055,12474848.970413098,12536760.79223931,12598979.878200818,12661507.7532285,12724345.949821362,12787496.0080841,12850959.475764837,12914737.908293072,12978832.868817791,13043245.928245785,13107978.665280137,13173032.666458938,{"$f":"BQ131+BQ132+BQ133+BQ134+BQ135","v":13238409.526194153},{"$f":"BR131+BR132+BR133+BR134+BR135","v":13304110.846810704},{"$f":"BS131+BS132+BS133+BS134+BS135","v":13370138.238585744},"x"]
["Bérköltség",null,{"$f":"Paraméterek!$C$103*3","v":1252500},{"$f":"C137*IF(MOD(D$1,4)-1=0,C$9^4,1)","v":1252500},{"$f":"D137*IF(MOD(E$1,4)-1=0,D$9^4,1)","v":1252500},1252500,1252500,1277550.0000000005,1277550.0000000005,1277550.0000000005,1277550.0000000005,1303101.0000000012,1303101.0000000012,1303101.0000000012,1303101.0000000012,1329163.0200000019,1329163.0200000019,1329163.0200000019,1329163.0200000019,1355746.2804000026,1355746.2804000026,1355746.2804000026,1355746.2804000026,1382861.2060080033,1382861.2060080033,1382861.2060080033,1382861.2060080033,1410518.4301281641,1410518.4301281641,1410518.4301281641,1410518.4301281641,1438728.798730728,1438728.798730728,1438728.798730728,1438728.798730728,1467503.3747053433,1467503.3747053433,1467503.3747053433,1467503.3747053433,1496853.4421994509,1496853.4421994509,1496853.4421994509,1496853.4421994509,1526790.5110434406,1526790.5110434406,1526790.5110434406,1526790.5110434406,1557326.32126431,1557326.32126431,1557326.32126431,1557326.32126431,1588472.8476895969,1588472.8476895969,1588472.8476895969,1588472.8476895969,1620242.3046433895,1620242.3046433895,1620242.3046433895,1620242.3046433895,1652647.1507362581,1652647.1507362581,1652647.1507362581,1652647.1507362581,1685700.0937509839,1685700.0937509839,1685700.0937509839,1685700.0937509839,1719414.0956260045,{"$f":"BP137*IF(MOD(BQ$1,4)-1=0,BP$9^4,1)","v":1719414.0956260045},1719414.0956260045,1719414.0956260045,"x"]
["Személyi jellegű egyéb kifizetések",null,{"$f":"Paraméterek!$C$107*3","v":150000},{"$f":"C138*IF(MOD(D$1,4)-1=0,C$9^4,1)","v":150000},{"$f":"D138*IF(MOD(E$1,4)-1=0,D$9^4,1)","v":150000},150000,150000,153000.00000000006,153000.00000000006,153000.00000000006,153000.00000000006,156060.00000000012,156060.00000000012,156060.00000000012,156060.00000000012,159181.20000000019,159181.20000000019,159181.20000000019,159181.20000000019,162364.82400000026,162364.82400000026,162364.82400000026,162364.82400000026,165612.12048000033,165612.12048000033,165612.12048000033,165612.12048000033,168924.36288960042,168924.36288960042,168924.36288960042,168924.36288960042,172302.85014739251,172302.85014739251,172302.85014739251,172302.85014739251,175748.90715034044,175748.90715034044,175748.90715034044,175748.90715034044,179263.88529334732,179263.88529334732,179263.88529334732,179263.88529334732,182849.16299921434,182849.16299921434,182849.16299921434,182849.16299921434,186506.14625919872,186506.14625919872,186506.14625919872,186506.14625919872,190236.26918438278,190236.26918438278,190236.26918438278,190236.26918438278,194040.99456807051,194040.99456807051,194040.99456807051,194040.99456807051,197921.814459432,197921.814459432,197921.814459432,197921.814459432,201880.25074862075,201880.25074862075,201880.25074862075,201880.25074862075,205917.85576359325,205917.85576359325,205917.85576359325,205917.85576359325,"x"]
["Bérjárulékok",null,{"$f":"Paraméterek!$C$104*3","v":231712.5},{"$f":"C139*IF(MOD(D$1,4)-1=0,C$9^4,1)","v":231712.5},{"$f":"D139*IF(MOD(E$1,4)-1=0,D$9^4,1)","v":231712.5},231712.5,231712.5,236346.75000000012,236346.75000000012,236346.75000000012,236346.75000000012,241073.68500000023,241073.68500000023,241073.68500000023,241073.68500000023,245895.15870000035,245895.15870000035,245895.15870000035,245895.15870000035,250813.06187400047,250813.06187400047,250813.06187400047,250813.06187400047,255829.3231114806,255829.3231114806,255829.3231114806,255829.3231114806,260945.90957371032,260945.90957371032,260945.90957371032,260945.90957371032,266164.82776518463,266164.82776518463,266164.82776518463,266164.82776518463,271488.12432048842,271488.12432048842,271488.12432048842,271488.12432048842,276917.88680689834,276917.88680689834,276917.88680689834,276917.88680689834,282456.24454303645,282456.24454303645,282456.24454303645,282456.24454303645,288105.36943389731,288105.36943389731,288105.36943389731,288105.36943389731,293867.47682257538,293867.47682257538,293867.47682257538,293867.47682257538,299744.82635902701,299744.82635902701,299744.82635902701,299744.82635902701,305739.72288620769,305739.72288620769,305739.72288620769,305739.72288620769,311854.51734393201,311854.51734393201,311854.51734393201,311854.51734393201,318091.60769081081,318091.60769081081,318091.60769081081,318091.60769081081,"x"]
["Személyi jellegű ráfordítások",null,null,{"$f":"+D137+D138+D139","v":1634212.5},{"$f":"+E137+E138+E139","v":1634212.5},1634212.5,1634212.5,1666896.7500000005,1666896.7500000005,1666896.7500000005,1666896.7500000005,1700234.6850000017,1700234.6850000017,1700234.6850000017,1700234.6850000017,1734239.3787000023,1734239.3787000023,1734239.3787000023,1734239.3787000023,1768924.1662740032,1768924.1662740032,1768924.1662740032,1768924.1662740032,1804302.6495994842,1804302.6495994842,1804302.6495994842,1804302.6495994842,1840388.7025914749,1840388.7025914749,1840388.7025914749,1840388.7025914749,1877196.4766433053,1877196.4766433053,1877196.4766433053,1877196.4766433053,1914740.4061761722,1914740.4061761722,1914740.4061761722,1914740.4061761722,1953035.2142996965,1953035.2142996965,1953035.2142996965,1953035.2142996965,1992095.9185856914,1992095.9185856914,1992095.9185856914,1992095.9185856914,2031937.836957406,2031937.836957406,2031937.836957406,2031937.836957406,2072576.5936965551,2072576.5936965551,2072576.5936965551,2072576.5936965551,2114028.1255704872,2114028.1255704872,2114028.1255704872,2114028.1255704872,2156308.6880818978,2156308.6880818978,2156308.6880818978,2156308.6880818978,2199434.8618435366,2199434.8618435366,2199434.8618435366,2199434.8618435366,2243423.5590804084,{"$f":"+BQ137+BQ138+BQ139","v":2243423.5590804084},{"$f":"+BR137+BR138+BR139","v":2243423.5590804084},{"$f":"+BS137+BS138+BS139","v":2243423.5590804084},"x"]
["Értékcsökkenési leírás",null,null,{"$f":"D$29+(C$31-D$31)+D$176","v":5123810.6166666681},{"$f":"E$29+(D$31-E$31)+E$176","v":5123810.6166666681},5123810.6166666681,5123810.6166666681,5160419.9806025494,5160419.9806025494,5160419.9806025494,5160419.9806025494,5197761.5318171475,5197761.5318171475,5197761.5318171475,5197761.5318171475,5235849.9140560385,5235849.9140560385,5235849.9140560385,5235849.9140560385,5274700.0639397064,5274700.0639397064,5274700.0639397064,5274700.0639397046,5314327.2168210465,5314327.2168210465,5314327.2168210465,5314327.2168210465,5354746.9127600156,5354746.9127600156,5354746.9127600156,5354746.9127600156,5395975.0026177634,5395975.0026177634,5395975.0026177634,5395975.0026177634,5401418.2903367858,5401418.2903367858,5401418.2903367858,5401418.2903367858,5406970.4438101882,5406970.4438101882,5406970.4438101882,5406970.4438101882,455489.69035305834,455489.69035305834,455489.69035305834,455489.69035305834,461266.15082678624,461266.15082678624,461266.15082678624,461266.15082678624,467158.14050998871,467158.14050998871,467158.14050998871,467158.14050998871,473167.96998685517,473167.96998685517,473167.96998685517,473167.96998685517,479297.996053259,479297.996053259,479297.996053259,479297.996053259,485550.622640991,485550.622640991,485550.622640991,485550.622640991,491928.30176047754,{"$f":"BQ$29+(BP$31-BQ$31)+BQ$176","v":491928.30176047754},{"$f":"BR$29+(BQ$31-BR$31)+BR$176","v":491928.30176047754},{"$f":"BS$29+(BR$31-BS$31)+BS$176","v":491928.30176047754},"x"]
["Egyéb ráfordítások",null,{"$f":"Paraméterek!$C$111*3","v":300000},{"$f":"$C$142*D$9+D127*Paraméterek!$C$112+(D127-D136)*Paraméterek!$C$159","v":628647.65286594233},{"$f":"$C$142*E$9+E127*Paraméterek!$C$112+(E127-E136)*Paraméterek!$C$159","v":630271.31947186997},{"$f":"$C$142*F$9+F127*Paraméterek!$C$112+(F127-F136)*Paraméterek!$C$159","v":631903.04422406049},{"$f":"$C$142*G$9+G127*Paraméterek!$C$112+(G127-G136)*Paraméterek!$C$159","v":633542.86711454252},{"$f":"$C$142*H$9+H127*Paraméterek!$C$112+(H127-H136)*Paraméterek!$C$159","v":635190.82833382208},{"$f":"$C$142*I$9+I127*Paraméterek!$C$112+(I127-I136)*Paraméterek!$C$159","v":636846.96827186819},{"$f":"$C$142*J$9+J127*Paraméterek!$C$112+(J127-J136)*Paraméterek!$C$159","v":638511.32751910249},{"$f":"$C$142*K$9+K127*Paraméterek!$C$112+(K127-K136)*Paraméterek!$C$159","v":640183.94686739403},{"$f":"$C$142*L$9+L127*Paraméterek!$C$112+(L127-L136)*Paraméterek!$C$159","v":641864.86731105926},{"$f":"$C$142*M$9+M127*Paraméterek!$C$112+(M127-M136)*Paraméterek!$C$159","v":643554.13004786626},{"$f":"$C$142*N$9+N127*Paraméterek!$C$112+(N127-N136)*Paraméterek!$C$159","v":645251.7764800454},{"$f":"$C$142*O$9+O127*Paraméterek!$C$112+(O127-O136)*Paraméterek!$C$159","v":646957.8482153028},{"$f":"$C$142*P$9+P127*Paraméterek!$C$112+(P127-P136)*Paraméterek!$C$159","v":648672.38706784137},{"$f":"$C$142*Q$9+Q127*Paraméterek!$C$112+(Q127-Q136)*Paraméterek!$C$159","v":650395.43505938456},{"$f":"$C$142*R$9+R127*Paraméterek!$C$112+(R127-R136)*Paraméterek!$C$159","v":652127.03442020714},{"$f":"$C$142*S$9+S127*Paraméterek!$C$112+(S127-S136)*Paraméterek!$C$159","v":653867.22759016976},{"$f":"$C$142*T$9+T127*Paraméterek!$C$112+(T127-T136)*Paraméterek!$C$159","v":655616.0572197591},{"$f":"$C$142*U$9+U127*Paraméterek!$C$112+(U127-U136)*Paraméterek!$C$159","v":657373.56617113319},{"$f":"$C$142*V$9+V127*Paraméterek!$C$112+(V127-V136)*Paraméterek!$C$159","v":659139.79751917219},{"$f":"$C$142*W$9+W127*Paraméterek!$C$112+(W127-W136)*Paraméterek!$C$159","v":660914.79455253412},{"$f":"$C$142*X$9+X127*Paraméterek!$C$112+(X127-X136)*Paraméterek!$C$159","v":662698.60077471507},{"$f":"$C$142*Y$9+Y127*Paraméterek!$C$112+(Y127-Y136)*Paraméterek!$C$159","v":664491.25990511663},{"$f":"$C$142*Z$9+Z127*Paraméterek!$C$112+(Z127-Z136)*Paraméterek!$C$159","v":666292.81588011654},{"$f":"$C$142*AA$9+AA127*Paraméterek!$C$112+(AA127-AA136)*Paraméterek!$C$159","v":668103.31285414554},{"$f":"$C$142*AB$9+AB127*Paraméterek!$C$112+(AB127-AB136)*Paraméterek!$C$159","v":669922.79520077026},{"$f":"$C$142*AC$9+AC127*Paraméterek!$C$112+(AC127-AC136)*Paraméterek!$C$159","v":671751.30751377996},{"$f":"$C$142*AD$9+AD127*Paraméterek!$C$112+(AD127-AD136)*Paraméterek!$C$159","v":673588.89460827969},{"$f":"$C$142*AE$9+AE127*Paraméterek!$C$112+(AE127-AE136)*Paraméterek!$C$159","v":675435.60152178933},{"$f":"$C$142*AF$9+AF127*Paraméterek!$C$112+(AF127-AF136)*Paraméterek!$C$159","v":677291.47351534653},{"$f":"$C$142*AG$9+AG127*Paraméterek!$C$112+(AG127-AG136)*Paraméterek!$C$159","v":679156.55607461638},{"$f":"$C$142*AH$9+AH127*Paraméterek!$C$112+(AH127-AH136)*Paraméterek!$C$159","v":681030.89491100621},{"$f":"$C$142*AI$9+AI127*Paraméterek!$C$112+(AI127-AI136)*Paraméterek!$C$159","v":682914.53596278606},{"$f":"$C$142*AJ$9+AJ127*Paraméterek!$C$112+(AJ127-AJ136)*Paraméterek!$C$159","v":684807.52539621433},{"$f":"$C$142*AK$9+AK127*Paraméterek!$C$112+(AK127-AK136)*Paraméterek!$C$159","v":686709.90960666945},{"$f":"$C$142*AL$9+AL127*Paraméterek!$C$112+(AL127-AL136)*Paraméterek!$C$159","v":688621.73521978722},{"$f":"$C$142*AM$9+AM127*Paraméterek!$C$112+(AM127-AM136)*Paraméterek!$C$159","v":690543.04909260268},{"$f":"$C$142*AN$9+AN127*Paraméterek!$C$112+(AN127-AN136)*Paraméterek!$C$159","v":692473.89831469941},{"$f":"$C$142*AO$9+AO127*Paraméterek!$C$112+(AO127-AO136)*Paraméterek!$C$159","v":694414.33020936372},{"$f":"$C$142*AP$9+AP127*Paraméterek!$C$112+(AP127-AP136)*Paraméterek!$C$159","v":696364.39233474387},{"$f":"$C$142*AQ$9+AQ127*Paraméterek!$C$112+(AQ127-AQ136)*Paraméterek!$C$159","v":698324.13248501555},{"$f":"$C$142*AR$9+AR127*Paraméterek!$C$112+(AR127-AR136)*Paraméterek!$C$159","v":700293.59869155439},{"$f":"$C$142*AS$9+AS127*Paraméterek!$C$112+(AS127-AS136)*Paraméterek!$C$159","v":702272.83922411199},{"$f":"$C$142*AT$9+AT127*Paraméterek!$C$112+(AT127-AT136)*Paraméterek!$C$159","v":704261.90259199962},{"$f":"$C$142*AU$9+AU127*Paraméterek!$C$112+(AU127-AU136)*Paraméterek!$C$159","v":706260.83754527685},{"$f":"$C$142*AV$9+AV127*Paraméterek!$C$112+(AV127-AV136)*Paraméterek!$C$159","v":708269.6930759463},{"$f":"$C$142*AW$9+AW127*Paraméterek!$C$112+(AW127-AW136)*Paraméterek!$C$159","v":710288.51841915515},{"$f":"$C$142*AX$9+AX127*Paraméterek!$C$112+(AX127-AX136)*Paraméterek!$C$159","v":712317.36305440043},{"$f":"$C$142*AY$9+AY127*Paraméterek!$C$112+(AY127-AY136)*Paraméterek!$C$159","v":714356.27670674305},{"$f":"$C$142*AZ$9+AZ127*Paraméterek!$C$112+(AZ127-AZ136)*Paraméterek!$C$159","v":716405.30934802606},{"$f":"$C$142*BA$9+BA127*Paraméterek!$C$112+(BA127-BA136)*Paraméterek!$C$159","v":718464.511198099},{"$f":"$C$142*BB$9+BB127*Paraméterek!$C$112+(BB127-BB136)*Paraméterek!$C$159","v":720533.93272604933},{"$f":"$C$142*BC$9+BC127*Paraméterek!$C$112+(BC127-BC136)*Paraméterek!$C$159","v":722613.62465143902},{"$f":"$C$142*BD$9+BD127*Paraméterek!$C$112+(BD127-BD136)*Paraméterek!$C$159","v":724703.6379455477},{"$f":"$C$142*BE$9+BE127*Paraméterek!$C$112+(BE127-BE136)*Paraméterek!$C$159","v":726804.02383262198},{"$f":"$C$142*BF$9+BF127*Paraméterek!$C$112+(BF127-BF136)*Paraméterek!$C$159","v":728914.83379113139},{"$f":"$C$142*BG$9+BG127*Paraméterek!$C$112+(BG127-BG136)*Paraméterek!$C$159","v":731036.11955502874},{"$f":"$C$142*BH$9+BH127*Paraméterek!$C$112+(BH127-BH136)*Paraméterek!$C$159","v":733167.93311501946},{"$f":"$C$142*BI$9+BI127*Paraméterek!$C$112+(BI127-BI136)*Paraméterek!$C$159","v":735310.3267198354},{"$f":"$C$142*BJ$9+BJ127*Paraméterek!$C$112+(BJ127-BJ136)*Paraméterek!$C$159","v":737463.3528775149},{"$f":"$C$142*BK$9+BK127*Paraméterek!$C$112+(BK127-BK136)*Paraméterek!$C$159","v":739627.06435669027},{"$f":"$C$142*BL$9+BL127*Paraméterek!$C$112+(BL127-BL136)*Paraméterek!$C$159","v":741801.51418788091},{"$f":"$C$142*BM$9+BM127*Paraméterek!$C$112+(BM127-BM136)*Paraméterek!$C$159","v":743986.75566479308},{"$f":"$C$142*BN$9+BN127*Paraméterek!$C$112+(BN127-BN136)*Paraméterek!$C$159","v":746182.84234562609},{"$f":"$C$142*BO$9+BO127*Paraméterek!$C$112+(BO127-BO136)*Paraméterek!$C$159","v":748389.82805438503},{"$f":"$C$142*BP$9+BP127*Paraméterek!$C$112+(BP127-BP136)*Paraméterek!$C$159","v":750607.76688219944},{"$f":"$C$142*BQ$9+BQ127*Paraméterek!$C$112+(BQ127-BQ136)*Paraméterek!$C$159","v":752836.71318864985},{"$f":"$C$142*BR$9+BR127*Paraméterek!$C$112+(BR127-BR136)*Paraméterek!$C$159","v":755076.72160309949},{"$f":"$C$142*BS$9+BS127*Paraméterek!$C$112+(BS127-BS136)*Paraméterek!$C$159","v":757327.84702603356},"x"]
["ebből: értékvesztés",null,null,0,0,0,0,0,0,0,0,0,0,0,0,0,0,0,0,0,0,0,0,0,0,0,0,0,0,0,0,0,0,0,0,0,0,0,0,0,0,0,0,0,0,0,0,0,0,0,0,0,0,0,0,0,0,0,0,0,0,0,0,0,0,0,0,0,0,0,0,"x"]
["Üzemi (üzleti) tevékenység eredménye",null,null,{"$f":"D127+D128+D129-D136-D140-D141-D142","v":7735373.6539996928},{"$f":"E127+E128+E129-E136-E140-E141-E142","v":7808799.6591147035},7882590.0724687958,7956746.7025951203,7961977.7530665798,8036872.2782838922,8112138.4999050647,8187778.2626339151,8193113.9341148017,8269506.3498364585,8346277.8958900589,8423430.4538734872,8428872.8387839943,8506793.1028200835,8585100.0797947515,8663795.6889378522,8669346.921546571,8748825.5908633862,8828698.7073775474,8908968.2287035063,8914630.4859643988,8995698.7286675461,9077169.3075119946,9159044.2192644719,9164819.7216705848,9247509.329227794,9330609.3196491245,9414121.7296366543,9420012.7420908902,9504356.1417992469,9589118.1320290063,9674300.7902162839,9716918.9868554808,9802949.2545580026,9889406.4845923614,9976292.795943385,10019763.356515363,10107514.229571939,10195700.604206983,10284324.641785031,15285808.563568452,15375314.454086162,15465264.556213904,15555661.074543508,15600887.845762597,15692183.854090655,15783932.958260955,15876137.40695715,15922268.713600622,16015390.642095245,16108974.72834895,16203023.266019072,16250077.198795415,16345061.565859929,16440517.333838711,16536446.842262236,16584441.853694104,16681325.908099908,16778690.791438263,16876538.890030257,16925493.801690768,17024315.537184689,17123627.718189809,17223432.778753646,17273366.788647365,{"$f":"BQ127+BQ128+BQ129-BQ136-BQ140-BQ141-BQ142","v":17374164.958851162},{"$f":"BR127+BR128+BR129-BR136-BR140-BR141-BR142","v":17475463.383476384},{"$f":"BS127+BS128+BS129-BS136-BS140-BS141-BS142","v":17577264.545251496},"x"]
["Kapott osztalék és részesedés",null,null,0,0,0,0,0,0,0,0,0,0,0,0,0,0,0,0,0,0,0,0,0,0,0,0,0,0,0,0,0,0,0,0,0,0,0,0,0,0,0,0,0,0,0,0,0,0,0,0,0,0,0,0,0,0,0,0,0,0,0,0,0,0,0,0,0,0,0,0,"x"]
["Részesedések értékesítésének árfolyamnyeresége",null,null,0,0,0,0,0,0,0,0,0,0,0,0,0,0,0,0,0,0,0,0,0,0,0,0,0,0,0,0,0,0,0,0,0,0,0,0,0,0,0,0,0,0,0,0,0,0,0,0,0,0,0,0,0,0,0,0,0,0,0,0,0,0,0,0,0,0,0,0,"x"]
["Befektetett pénzügyi eszközök kamatai, árfolyamnyeresége",null,null,{"$f":"C$94*(D$6-(Paraméterek!$C$136/4))","v":0},{"$f":"D$94*(E$6-(Paraméterek!$C$136/4))","v":98458.276047799911},{"$f":"E$94*(F$6-(Paraméterek!$C$136/4))","v":175149.96200490979},{"$f":"F$94*(G$6-(Paraméterek!$C$136/4))","v":259124.27457930194},{"$f":"G$94*(H$6-(Paraméterek!$C$136/4))","v":344502.85452453262},{"$f":"H$94*(I$6-(Paraméterek!$C$136/4))","v":422099.10116168717},{"$f":"I$94*(J$6-(Paraméterek!$C$136/4))","v":510023.99947360717},{"$f":"J$94*(K$6-(Paraméterek!$C$136/4))","v":599393.45681757829},{"$f":"K$94*(L$6-(Paraméterek!$C$136/4))","v":690221.94981596188},{"$f":"L$94*(M$6-(Paraméterek!$C$136/4))","v":773139.35823914688},{"$f":"M$94*(N$6-(Paraméterek!$C$136/4))","v":866619.1009242445},{"$f":"N$94*(O$6-(Paraméterek!$C$136/4))","v":961599.61923550756},{"$f":"O$94*(P$6-(Paraméterek!$C$136/4))","v":1058095.89690635},{"$f":"P$94*(Q$6-(Paraméterek!$C$136/4))","v":1146550.6306136427},{"$f":"Q$94*(R$6-(Paraméterek!$C$136/4))","v":1245806.9286285781},{"$f":"R$94*(S$6-(Paraméterek!$C$136/4))","v":1346622.223960202},{"$f":"S$94*(T$6-(Paraméterek!$C$136/4))","v":1449012.0246082891},{"$f":"T$94*(U$6-(Paraméterek!$C$136/4))","v":1543228.1075632498},{"$f":"U$94*(V$6-(Paraméterek!$C$136/4))","v":1648490.6714442566},{"$f":"V$94*(W$6-(Paraméterek!$C$136/4))","v":1755372.5279199937},{"$f":"W$94*(X$6-(Paraméterek!$C$136/4))","v":1863889.7269810601},{"$f":"X$94*(Y$6-(Paraméterek!$C$136/4))","v":1964099.3148344557},{"$f":"Y$94*(Z$6-(Paraméterek!$C$136/4))","v":2075606.1296091711},{"$f":"Z$94*(AA$6-(Paraméterek!$C$136/4))","v":2188794.6766201612},{"$f":"AA$94*(AB$6-(Paraméterek!$C$136/4))","v":2303681.5661611394},{"$f":"AB$94*(AC$6-(Paraméterek!$C$136/4))","v":2428354.3932386651},{"$f":"AC$94*(AD$6-(Paraméterek!$C$136/4))","v":2564581.1692070165},{"$f":"AD$94*(AE$6-(Paraméterek!$C$136/4))","v":2702554.3345527458},{"$f":"AE$94*(AF$6-(Paraméterek!$C$136/4))","v":2842291.0787920668},{"$f":"AF$94*(AG$6-(Paraméterek!$C$136/4))","v":2977043.5722236047},{"$f":"AG$94*(AH$6-(Paraméterek!$C$136/4))","v":3123641.498719417},{"$f":"AH$94*(AI$6-(Paraméterek!$C$136/4))","v":3272081.628552157},{"$f":"AI$94*(AJ$6-(Paraméterek!$C$136/4))","v":3422381.9798345054},{"$f":"AJ$94*(AK$6-(Paraméterek!$C$136/4))","v":3563963.1741667707},{"$f":"AK$94*(AL$6-(Paraméterek!$C$136/4))","v":3717659.6244209381},{"$f":"AL$94*(AM$6-(Paraméterek!$C$136/4))","v":3873268.298354404},{"$f":"AM$94*(AN$6-(Paraméterek!$C$136/4))","v":4030807.8386081965},{"$f":"AN$94*(AO$6-(Paraméterek!$C$136/4))","v":4179487.545484147},{"$f":"AO$94*(AP$6-(Paraméterek!$C$136/4))","v":4340558.7885013698},{"$f":"AP$94*(AQ$6-(Paraméterek!$C$136/4))","v":4503614.7452991502},{"$f":"AQ$94*(AR$6-(Paraméterek!$C$136/4))","v":4668674.7040521456},{"$f":"AR$94*(AS$6-(Paraméterek!$C$136/4))","v":4820828.6750596333},{"$f":"AS$94*(AT$6-(Paraméterek!$C$136/4))","v":4985625.9995160457},{"$f":"AT$94*(AU$6-(Paraméterek!$C$136/4))","v":5152451.750356636},{"$f":"AU$94*(AV$6-(Paraméterek!$C$136/4))","v":5321325.633515493},{"$f":"AV$94*(AW$6-(Paraméterek!$C$136/4))","v":5481021.3176264167},{"$f":"AW$94*(AX$6-(Paraméterek!$C$136/4))","v":5653649.0426259488},{"$f":"AX$94*(AY$6-(Paraméterek!$C$136/4))","v":5828381.8681277456},{"$f":"AY$94*(AZ$6-(Paraméterek!$C$136/4))","v":6005240.1816753438},{"$f":"AZ$94*(BA$6-(Paraméterek!$C$136/4))","v":6172773.4150551278},{"$f":"BA$94*(BB$6-(Paraméterek!$C$136/4))","v":6353534.3050896497},{"$f":"BB$94*(BC$6-(Paraméterek!$C$136/4))","v":6536479.6669978676},{"$f":"BC$94*(BD$6-(Paraméterek!$C$136/4))","v":6721630.5928314775},{"$f":"BD$94*(BE$6-(Paraméterek!$C$136/4))","v":6897307.8021328114},{"$f":"BE$94*(BF$6-(Paraméterek!$C$136/4))","v":7086515.3879628396},{"$f":"BF$94*(BG$6-(Paraméterek!$C$136/4))","v":7277989.6057475684},{"$f":"BG$94*(BH$6-(Paraméterek!$C$136/4))","v":7471752.2757022325},{"$f":"BH$94*(BI$6-(Paraméterek!$C$136/4))","v":7655890.8405215992},{"$f":"BI$94*(BJ$6-(Paraméterek!$C$136/4))","v":7853869.7863479638},{"$f":"BJ$94*(BK$6-(Paraméterek!$C$136/4))","v":8054200.4074140526},{"$f":"BK$94*(BL$6-(Paraméterek!$C$136/4))","v":8256905.2765354197},{"$f":"BL$94*(BM$6-(Paraméterek!$C$136/4))","v":8449833.9039744586},{"$f":"BM$94*(BN$6-(Paraméterek!$C$136/4))","v":8656920.3868477978},{"$f":"BN$94*(BO$6-(Paraméterek!$C$136/4))","v":8866446.5690822676},{"$f":"BO$94*(BP$6-(Paraméterek!$C$136/4))","v":9078435.8013375215},{"$f":"BP$94*(BQ$6-(Paraméterek!$C$136/4))","v":9280494.9130678456},{"$f":"BQ$94*(BR$6-(Paraméterek!$C$136/4))","v":9497037.0149384029},{"$f":"BR$94*(BS$6-(Paraméterek!$C$136/4))","v":{"$error":"#VALUE!"}},"x"]
["Egyéb kamatok és kamatjellegű bevételek",null,null,0,0,0,0,0,0,0,0,0,0,0,0,0,0,0,0,0,0,0,0,0,0,0,0,0,0,0,0,0,0,0,0,0,0,0,0,0,0,0,0,0,0,0,0,0,0,0,0,0,0,0,0,0,0,0,0,0,0,0,0,0,0,0,0,0,0,0,0,"x"]
["Pénzügyi műveletek egyéb bevételei",null,null,0,0,0,0,0,0,0,0,0,0,0,0,0,0,0,0,0,0,0,0,0,0,0,0,0,0,0,0,0,0,0,0,0,0,0,0,0,0,0,0,0,0,0,0,0,0,0,0,0,0,0,0,0,0,0,0,0,0,0,0,0,0,0,0,0,0,0,0,"x"]
["Pénzügyi műveletek bevételei",null,null,{"$f":"D145+D146+D147+D149+D148","v":0},{"$f":"E145+E146+E147+E149+E148","v":98458.276047799911},175149.96200490979,259124.27457930194,344502.85452453262,422099.10116168717,510023.99947360717,599393.45681757829,690221.94981596188,773139.35823914688,866619.1009242445,961599.61923550756,1058095.89690635,1146550.6306136427,1245806.9286285781,1346622.223960202,1449012.0246082891,1543228.1075632498,1648490.6714442566,1755372.5279199937,1863889.7269810601,1964099.3148344557,2075606.1296091711,2188794.6766201612,2303681.5661611394,2428354.3932386651,2564581.1692070165,2702554.3345527458,2842291.0787920668,2977043.5722236047,3123641.498719417,3272081.628552157,3422381.9798345054,3563963.1741667707,3717659.6244209381,3873268.298354404,4030807.8386081965,4179487.545484147,4340558.7885013698,4503614.7452991502,4668674.7040521456,4820828.6750596333,4985625.9995160457,5152451.750356636,5321325.633515493,5481021.3176264167,5653649.0426259488,5828381.8681277456,6005240.1816753438,6172773.4150551278,6353534.3050896497,6536479.6669978676,6721630.5928314775,6897307.8021328114,7086515.3879628396,7277989.6057475684,7471752.2757022325,7655890.8405215992,7853869.7863479638,8054200.4074140526,8256905.2765354197,8449833.9039744586,8656920.3868477978,8866446.5690822676,9078435.8013375215,{"$f":"BQ145+BQ146+BQ147+BQ149+BQ148","v":9280494.9130678456},{"$f":"BR145+BR146+BR147+BR149+BR148","v":9497037.0149384029},{"$f":"BS145+BS146+BS147+BS149+BS148","v":{"$error":"#VALUE!"}},"x"]
["Befektetett pénzügyi eszközök kamatai, árfolyamvesztesége",null,null,{"$f":"-(D$24+D$25)","v":0},{"$f":"-(E$24+E$25)","v":0},0,0,0,0,0,0,0,0,0,0,0,0,0,0,0,0,0,0,0,0,0,0,0,0,0,0,0,0,0,0,0,0,0,0,0,0,0,0,0,0,0,0,0,0,0,0,0,0,0,0,0,0,0,0,0,0,0,0,0,0,0,0,0,{"$f":"-(BQ$24+BQ$25)","v":0},{"$f":"-(BR$24+BR$25)","v":0},{"$f":"-(BS$24+BS$25)","v":{"$error":"#VALUE!"}},"x"]
["ebből: kapcsolt vállalkozásoknak adott",null,null,0,0,0,0,0,0,0,0,0,0,0,0,0,0,0,0,0,0,0,0,0,0,0,0,0,0,0,0,0,0,0,0,0,0,0,0,0,0,0,0,0,0,0,0,0,0,0,0,0,0,0,0,0,0,0,0,0,0,0,0,0,0,0,0,0,0,0,0,"x"]
["Fizetendő kamatok és kamatjellegű ráfordítások",null,null,{"$f":"D$12*D$5+D$27+C$112*(D$7)","v":1556356.4826250002},{"$f":"E$12*E$5+E$27+D$112*(E$7)","v":1165175.1550833336},{"$f":"F$12*F$5+F$27+E$112*(F$7)","v":401041.66666666669},382812.5,364583.33333333326,346354.16666666657,328124.99999999988,309895.8333333332,291666.66666666657,273437.49999999988,255208.33333333323,236979.16666666657,218749.99999999991,200520.83333333326,182291.6666666666,164062.49999999994,145833.33333333328,127604.1666666666,109374.99999999993,91145.833333333256,72916.666666666584,54687.499999999927,36458.333333333256,18229.166666666591,-7.7416189014911656E-11,-7.7416189014911656E-11,-3.0791852623224259E-10,-7.7416189014911656E-11,-1.4551915228366852E-10,-1.4551915228366852E-10,-1.4551915228366852E-10,-1.4551915228366852E-10,-1.4551915228366852E-10,-1.4551915228366852E-10,-1.4551915228366852E-10,-1.4551915228366852E-10,-1.4551915228366852E-10,-1.4551915228366852E-10,-1.4551915228366852E-10,5.2503310143947599E-10,-1.4551915228366852E-10,5.2503310143947599E-10,5.2503310143947599E-10,5.2503310143947599E-10,5.2503310143947599E-10,5.2503310143947599E-10,5.2503310143947599E-10,5.2503310143947599E-10,5.2503310143947599E-10,5.2503310143947599E-10,5.2503310143947599E-10,5.2503310143947599E-10,5.2503310143947599E-10,5.2503310143947599E-10,5.2503310143947599E-10,5.2503310143947599E-10,5.2503310143947599E-10,5.2503310143947599E-10,5.2503310143947599E-10,5.2503310143947599E-10,5.2503310143947599E-10,5.2503310143947599E-10,5.2503310143947599E-10,5.2503310143947599E-10,5.2503310143947599E-10,{"$f":"BQ$12*BQ$5+BQ$27+BP$112*(BQ$7)","v":5.2503310143947599E-10},{"$f":"BR$12*BR$5+BR$27+BQ$112*(BR$7)","v":{"$error":"#VALUE!"}},{"$f":"BS$12*BS$5+BS$27+BR$112*(BS$7)","v":{"$error":"#VALUE!"}},"x"]
["ebből: kapcsolt vállalkozásoknak adott",null,null,0,0,0,0,0,0,0,0,0,0,0,0,0,0,0,0,0,0,0,0,0,0,0,0,0,0,0,0,0,0,0,0,0,0,0,0,0,0,0,0,0,0,0,0,0,0,0,0,0,0,0,0,0,0,0,0,0,0,0,0,0,0,0,0,0,0,0,0,"x"]
["Részesedések, értékpapírok árfolyamvesztesége",null,null,0,0,0,0,0,0,0,0,0,0,0,0,0,0,0,0,0,0,0,0,0,0,0,0,0,0,0,0,0,0,0,0,0,0,0,0,0,0,0,0,0,0,0,0,0,0,0,0,0,0,0,0,0,0,0,0,0,0,0,0,0,0,0,0,0,0,0,0,"x"]
["Pénzügyi műveletek egyéb ráfordításai",null,null,0,0,0,0,0,0,0,0,0,0,0,0,0,0,0,0,0,0,0,0,0,0,0,0,0,0,0,0,0,0,0,0,0,0,0,0,0,0,0,0,0,0,0,0,0,0,0,0,0,0,0,0,0,0,0,0,0,0,0,0,0,0,0,0,0,0,0,0,"x"]
["Pénzügyi műveletek ráfordításai",null,null,{"$f":"D151+D153+D155+D156","v":1556356.4826250002},{"$f":"E151+E153+E155+E156","v":1165175.1550833336},401041.66666666669,382812.5,364583.33333333326,346354.16666666657,328124.99999999988,309895.8333333332,291666.66666666657,273437.49999999988,255208.33333333323,236979.16666666657,218749.99999999991,200520.83333333326,182291.6666666666,164062.49999999994,145833.33333333328,127604.1666666666,109374.99999999993,91145.833333333256,72916.666666666584,54687.499999999927,36458.333333333256,18229.166666666591,-7.7416189014911656E-11,-7.7416189014911656E-11,-3.0791852623224259E-10,-7.7416189014911656E-11,-1.4551915228366852E-10,-1.4551915228366852E-10,-1.4551915228366852E-10,-1.4551915228366852E-10,-1.4551915228366852E-10,-1.4551915228366852E-10,-1.4551915228366852E-10,-1.4551915228366852E-10,-1.4551915228366852E-10,-1.4551915228366852E-10,-1.4551915228366852E-10,5.2503310143947599E-10,-1.4551915228366852E-10,5.2503310143947599E-10,5.2503310143947599E-10,5.2503310143947599E-10,5.2503310143947599E-10,5.2503310143947599E-10,5.2503310143947599E-10,5.2503310143947599E-10,5.2503310143947599E-10,5.2503310143947599E-10,5.2503310143947599E-10,5.2503310143947599E-10,5.2503310143947599E-10,5.2503310143947599E-10,5.2503310143947599E-10,5.2503310143947599E-10,5.2503310143947599E-10,5.2503310143947599E-10,5.2503310143947599E-10,5.2503310143947599E-10,5.2503310143947599E-10,5.2503310143947599E-10,5.2503310143947599E-10,5.2503310143947599E-10,5.2503310143947599E-10,{"$f":"BQ151+BQ153+BQ155+BQ156","v":5.2503310143947599E-10},{"$f":"BR151+BR153+BR155+BR156","v":{"$error":"#VALUE!"}},{"$f":"BS151+BS153+BS155+BS156","v":{"$error":"#VALUE!"}},"x"]
["Pénzügyi műveletek eredménye",null,null,{"$f":"D150-D157","v":-1556356.4826250002},{"$f":"E150-E157","v":-1066716.8790355336},-225891.7046617569,-123688.22542069806,-20080.478808800632,75744.9344950206,181898.99947360728,289497.62348424509,398555.28314929531,499701.858239147,611410.76759091124,724620.45256884093,839345.89690635016,946029.79728030949,1063515.2619619116,1182559.723960202,1303178.6912749559,1415623.9408965833,1539115.6714442566,1664226.6945866605,1790973.0603143936,1909411.8148344557,2039147.7962758378,2170565.5099534946,2303681.5661611394,2428354.3932386651,2564581.1692070169,2702554.3345527458,2842291.0787920668,2977043.5722236047,3123641.498719417,3272081.628552157,3422381.9798345054,3563963.1741667707,3717659.6244209381,3873268.298354404,4030807.8386081965,4179487.545484147,4340558.7885013698,4503614.7452991493,4668674.7040521456,4820828.6750596324,4985625.9995160447,5152451.7503566351,5321325.6335154921,5481021.3176264158,5653649.0426259479,5828381.8681277446,6005240.1816753428,6172773.4150551269,6353534.3050896488,6536479.6669978667,6721630.5928314766,6897307.8021328105,7086515.3879628386,7277989.6057475675,7471752.2757022316,7655890.8405215982,7853869.7863479629,8054200.4074140517,8256905.2765354188,8449833.9039744586,8656920.3868477978,8866446.5690822676,9078435.8013375215,{"$f":"BQ150-BQ157","v":9280494.9130678456},{"$f":"BR150-BR157","v":{"$error":"#VALUE!"}},{"$f":"BS150-BS157","v":{"$error":"#VALUE!"}},"x"]
["Szokásos vállalkozási eredmény",null,null,{"$f":"D144+D158","v":6179017.1713746926},{"$f":"E144+E158","v":6742082.7800791701},7656698.3678070391,7833058.4771744218,7941897.2742577791,8112617.2127789129,8294037.4993786719,8477275.8861181606,8591669.2172640972,8769208.2080756053,8957688.663480971,9148050.9064423274,9268218.7356903441,9452822.9001003932,9648615.3417566624,9846355.4128980543,9972525.6128215268,10164449.53175997,10367814.378821803,10573194.923290167,10705603.546278793,10905110.543502001,11116317.103787832,11329609.729217967,11468501.287831724,11675863.722466459,11895190.488856141,12116676.064189401,12262303.820882957,12481399.714022852,12712759.630748423,12946382.418768441,13139300.966689985,13366912.428724773,13607066.1090133,13849561.094297789,14050571.195123559,14287001.775056086,14536259.392708354,14787939.38708418,19954483.267620597,20196143.129145794,20450890.555729948,20708112.824900143,20922213.479278088,21173205.17171707,21437582.000886902,21704519.275084894,21927508.895275965,22188164.057150371,22462509.033438601,22739502.933016941,22971707.791626893,23242369.36799274,23527032.721801549,23814436.448009804,24056194.129396334,24337216.748621508,24632560.577786226,24930739.29744431,25182399.078226186,25474149.441159148,25780548.105037607,26089879.347835913,26351802.589984886,{"$f":"BQ144+BQ158","v":26654659.871919006},{"$f":"BR144+BR158","v":{"$error":"#VALUE!"}},{"$f":"BS144+BS158","v":{"$error":"#VALUE!"}},"x"]
["Rendkívüli bevételek",null,null,{"$f":"IF(SUM($B$160:C$160)<Paraméterek!$C$122,Paraméterek!$C$122/(Paraméterek!$C$123*4),0)","v":4566761.1535714287},{"$f":"IF(SUM($B$160:D$160)<Paraméterek!$C$122,Paraméterek!$C$122/(Paraméterek!$C$123*4),0)","v":4566761.1535714287},{"$f":"IF(SUM($B$160:E$160)<Paraméterek!$C$122,Paraméterek!$C$122/(Paraméterek!$C$123*4),0)","v":4566761.1535714287},{"$f":"IF(SUM($B$160:F$160)<Paraméterek!$C$122,Paraméterek!$C$122/(Paraméterek!$C$123*4),0)","v":4566761.1535714287},{"$f":"IF(SUM($B$160:G$160)<Paraméterek!$C$122,Paraméterek!$C$122/(Paraméterek!$C$123*4),0)","v":4566761.1535714287},{"$f":"IF(SUM($B$160:H$160)<Paraméterek!$C$122,Paraméterek!$C$122/(Paraméterek!$C$123*4),0)","v":4566761.1535714287},{"$f":"IF(SUM($B$160:I$160)<Paraméterek!$C$122,Paraméterek!$C$122/(Paraméterek!$C$123*4),0)","v":4566761.1535714287},{"$f":"IF(SUM($B$160:J$160)<Paraméterek!$C$122,Paraméterek!$C$122/(Paraméterek!$C$123*4),0)","v":4566761.1535714287},{"$f":"IF(SUM($B$160:K$160)<Paraméterek!$C$122,Paraméterek!$C$122/(Paraméterek!$C$123*4),0)","v":4566761.1535714287},{"$f":"IF(SUM($B$160:L$160)<Paraméterek!$C$122,Paraméterek!$C$122/(Paraméterek!$C$123*4),0)","v":4566761.1535714287},{"$f":"IF(SUM($B$160:M$160)<Paraméterek!$C$122,Paraméterek!$C$122/(Paraméterek!$C$123*4),0)","v":4566761.1535714287},{"$f":"IF(SUM($B$160:N$160)<Paraméterek!$C$122,Paraméterek!$C$122/(Paraméterek!$C$123*4),0)","v":4566761.1535714287},{"$f":"IF(SUM($B$160:O$160)<Paraméterek!$C$122,Paraméterek!$C$122/(Paraméterek!$C$123*4),0)","v":4566761.1535714287},{"$f":"IF(SUM($B$160:P$160)<Paraméterek!$C$122,Paraméterek!$C$122/(Paraméterek!$C$123*4),0)","v":4566761.1535714287},{"$f":"IF(SUM($B$160:Q$160)<Paraméterek!$C$122,Paraméterek!$C$122/(Paraméterek!$C$123*4),0)","v":4566761.1535714287},{"$f":"IF(SUM($B$160:R$160)<Paraméterek!$C$122,Paraméterek!$C$122/(Paraméterek!$C$123*4),0)","v":4566761.1535714287},{"$f":"IF(SUM($B$160:S$160)<Paraméterek!$C$122,Paraméterek!$C$122/(Paraméterek!$C$123*4),0)","v":4566761.1535714287},{"$f":"IF(SUM($B$160:T$160)<Paraméterek!$C$122,Paraméterek!$C$122/(Paraméterek!$C$123*4),0)","v":4566761.1535714287},{"$f":"IF(SUM($B$160:U$160)<Paraméterek!$C$122,Paraméterek!$C$122/(Paraméterek!$C$123*4),0)","v":4566761.1535714287},{"$f":"IF(SUM($B$160:V$160)<Paraméterek!$C$122,Paraméterek!$C$122/(Paraméterek!$C$123*4),0)","v":4566761.1535714287},{"$f":"IF(SUM($B$160:W$160)<Paraméterek!$C$122,Paraméterek!$C$122/(Paraméterek!$C$123*4),0)","v":4566761.1535714287},{"$f":"IF(SUM($B$160:X$160)<Paraméterek!$C$122,Paraméterek!$C$122/(Paraméterek!$C$123*4),0)","v":4566761.1535714287},{"$f":"IF(SUM($B$160:Y$160)<Paraméterek!$C$122,Paraméterek!$C$122/(Paraméterek!$C$123*4),0)","v":4566761.1535714287},{"$f":"IF(SUM($B$160:Z$160)<Paraméterek!$C$122,Paraméterek!$C$122/(Paraméterek!$C$123*4),0)","v":4566761.1535714287},{"$f":"IF(SUM($B$160:AA$160)<Paraméterek!$C$122,Paraméterek!$C$122/(Paraméterek!$C$123*4),0)","v":4566761.1535714287},{"$f":"IF(SUM($B$160:AB$160)<Paraméterek!$C$122,Paraméterek!$C$122/(Paraméterek!$C$123*4),0)","v":4566761.1535714287},{"$f":"IF(SUM($B$160:AC$160)<Paraméterek!$C$122,Paraméterek!$C$122/(Paraméterek!$C$123*4),0)","v":4566761.1535714287},{"$f":"IF(SUM($B$160:AD$160)<Paraméterek!$C$122,Paraméterek!$C$122/(Paraméterek!$C$123*4),0)","v":4566761.1535714287},{"$f":"IF(SUM($B$160:AE$160)<Paraméterek!$C$122,Paraméterek!$C$122/(Paraméterek!$C$123*4),0)","v":0},{"$f":"IF(SUM($B$160:AF$160)<Paraméterek!$C$122,Paraméterek!$C$122/(Paraméterek!$C$123*4),0)","v":0},{"$f":"IF(SUM($B$160:AG$160)<Paraméterek!$C$122,Paraméterek!$C$122/(Paraméterek!$C$123*4),0)","v":0},{"$f":"IF(SUM($B$160:AH$160)<Paraméterek!$C$122,Paraméterek!$C$122/(Paraméterek!$C$123*4),0)","v":0},{"$f":"IF(SUM($B$160:AI$160)<Paraméterek!$C$122,Paraméterek!$C$122/(Paraméterek!$C$123*4),0)","v":0},{"$f":"IF(SUM($B$160:AJ$160)<Paraméterek!$C$122,Paraméterek!$C$122/(Paraméterek!$C$123*4),0)","v":0},{"$f":"IF(SUM($B$160:AK$160)<Paraméterek!$C$122,Paraméterek!$C$122/(Paraméterek!$C$123*4),0)","v":0},{"$f":"IF(SUM($B$160:AL$160)<Paraméterek!$C$122,Paraméterek!$C$122/(Paraméterek!$C$123*4),0)","v":0},{"$f":"IF(SUM($B$160:AM$160)<Paraméterek!$C$122,Paraméterek!$C$122/(Paraméterek!$C$123*4),0)","v":0},{"$f":"IF(SUM($B$160:AN$160)<Paraméterek!$C$122,Paraméterek!$C$122/(Paraméterek!$C$123*4),0)","v":0},{"$f":"IF(SUM($B$160:AO$160)<Paraméterek!$C$122,Paraméterek!$C$122/(Paraméterek!$C$123*4),0)","v":0},{"$f":"IF(SUM($B$160:AP$160)<Paraméterek!$C$122,Paraméterek!$C$122/(Paraméterek!$C$123*4),0)","v":0},{"$f":"IF(SUM($B$160:AQ$160)<Paraméterek!$C$122,Paraméterek!$C$122/(Paraméterek!$C$123*4),0)","v":0},{"$f":"IF(SUM($B$160:AR$160)<Paraméterek!$C$122,Paraméterek!$C$122/(Paraméterek!$C$123*4),0)","v":0},{"$f":"IF(SUM($B$160:AS$160)<Paraméterek!$C$122,Paraméterek!$C$122/(Paraméterek!$C$123*4),0)","v":0},{"$f":"IF(SUM($B$160:AT$160)<Paraméterek!$C$122,Paraméterek!$C$122/(Paraméterek!$C$123*4),0)","v":0},{"$f":"IF(SUM($B$160:AU$160)<Paraméterek!$C$122,Paraméterek!$C$122/(Paraméterek!$C$123*4),0)","v":0},{"$f":"IF(SUM($B$160:AV$160)<Paraméterek!$C$122,Paraméterek!$C$122/(Paraméterek!$C$123*4),0)","v":0},{"$f":"IF(SUM($B$160:AW$160)<Paraméterek!$C$122,Paraméterek!$C$122/(Paraméterek!$C$123*4),0)","v":0},{"$f":"IF(SUM($B$160:AX$160)<Paraméterek!$C$122,Paraméterek!$C$122/(Paraméterek!$C$123*4),0)","v":0},{"$f":"IF(SUM($B$160:AY$160)<Paraméterek!$C$122,Paraméterek!$C$122/(Paraméterek!$C$123*4),0)","v":0},{"$f":"IF(SUM($B$160:AZ$160)<Paraméterek!$C$122,Paraméterek!$C$122/(Paraméterek!$C$123*4),0)","v":0},{"$f":"IF(SUM($B$160:BA$160)<Paraméterek!$C$122,Paraméterek!$C$122/(Paraméterek!$C$123*4),0)","v":0},{"$f":"IF(SUM($B$160:BB$160)<Paraméterek!$C$122,Paraméterek!$C$122/(Paraméterek!$C$123*4),0)","v":0},{"$f":"IF(SUM($B$160:BC$160)<Paraméterek!$C$122,Paraméterek!$C$122/(Paraméterek!$C$123*4),0)","v":0},{"$f":"IF(SUM($B$160:BD$160)<Paraméterek!$C$122,Paraméterek!$C$122/(Paraméterek!$C$123*4),0)","v":0},{"$f":"IF(SUM($B$160:BE$160)<Paraméterek!$C$122,Paraméterek!$C$122/(Paraméterek!$C$123*4),0)","v":0},{"$f":"IF(SUM($B$160:BF$160)<Paraméterek!$C$122,Paraméterek!$C$122/(Paraméterek!$C$123*4),0)","v":0},{"$f":"IF(SUM($B$160:BG$160)<Paraméterek!$C$122,Paraméterek!$C$122/(Paraméterek!$C$123*4),0)","v":0},{"$f":"IF(SUM($B$160:BH$160)<Paraméterek!$C$122,Paraméterek!$C$122/(Paraméterek!$C$123*4),0)","v":0},{"$f":"IF(SUM($B$160:BI$160)<Paraméterek!$C$122,Paraméterek!$C$122/(Paraméterek!$C$123*4),0)","v":0},{"$f":"IF(SUM($B$160:BJ$160)<Paraméterek!$C$122,Paraméterek!$C$122/(Paraméterek!$C$123*4),0)","v":0},{"$f":"IF(SUM($B$160:BK$160)<Paraméterek!$C$122,Paraméterek!$C$122/(Paraméterek!$C$123*4),0)","v":0},{"$f":"IF(SUM($B$160:BL$160)<Paraméterek!$C$122,Paraméterek!$C$122/(Paraméterek!$C$123*4),0)","v":0},{"$f":"IF(SUM($B$160:BM$160)<Paraméterek!$C$122,Paraméterek!$C$122/(Paraméterek!$C$123*4),0)","v":0},{"$f":"IF(SUM($B$160:BN$160)<Paraméterek!$C$122,Paraméterek!$C$122/(Paraméterek!$C$123*4),0)","v":0},{"$f":"IF(SUM($B$160:BO$160)<Paraméterek!$C$122,Paraméterek!$C$122/(Paraméterek!$C$123*4),0)","v":0},{"$f":"IF(SUM($B$160:BP$160)<Paraméterek!$C$122,Paraméterek!$C$122/(Paraméterek!$C$123*4),0)","v":0},{"$f":"IF(SUM($B$160:BQ$160)<Paraméterek!$C$122,Paraméterek!$C$122/(Paraméterek!$C$123*4),0)","v":0},{"$f":"IF(SUM($B$160:BR$160)<Paraméterek!$C$122,Paraméterek!$C$122/(Paraméterek!$C$123*4),0)","v":0},"x"]
["Rendkívüli ráfordítások",null,null,0,0,0,0,0,0,0,0,0,0,0,0,0,0,0,0,0,0,0,0,0,0,0,0,0,0,0,0,0,0,0,0,0,0,0,0,0,0,0,0,0,0,0,0,0,0,0,0,0,0,0,0,0,0,0,0,0,0,0,0,0,0,0,0,0,0,0,0,"x"]
["Rendkívüli eredmény",null,null,{"$f":"D160-D161","v":4566761.1535714287},{"$f":"E160-E161","v":4566761.1535714287},4566761.1535714287,4566761.1535714287,4566761.1535714287,4566761.1535714287,4566761.1535714287,4566761.1535714287,4566761.1535714287,4566761.1535714287,4566761.1535714287,4566761.1535714287,4566761.1535714287,4566761.1535714287,4566761.1535714287,4566761.1535714287,4566761.1535714287,4566761.1535714287,4566761.1535714287,4566761.1535714287,4566761.1535714287,4566761.1535714287,4566761.1535714287,4566761.1535714287,4566761.1535714287,4566761.1535714287,4566761.1535714287,4566761.1535714287,0,0,0,0,0,0,0,0,0,0,0,0,0,0,0,0,0,0,0,0,0,0,0,0,0,0,0,0,0,0,0,0,0,0,0,0,0,{"$f":"BQ160-BQ161","v":0},{"$f":"BR160-BR161","v":0},{"$f":"BS160-BS161","v":0},"x"]
["Adózás előtti eredmény",null,null,{"$f":"D159+D162","v":10745778.32494612},{"$f":"E159+E162","v":11308843.933650598},12223459.521378469,12399819.630745851,12508658.427829208,12679378.366350342,12860798.652950101,13044037.039689589,13158430.370835526,13335969.361647034,13524449.8170524,13714812.060013756,13834979.889261773,14019584.053671822,14215376.495328091,14413116.566469483,14539286.766392956,14731210.685331399,14934575.532393232,15139956.076861596,15272364.699850222,15471871.69707343,15683078.257359261,15896370.882789396,16035262.441403152,16242624.876037888,16461951.642427569,16683437.217760829,12262303.820882957,12481399.714022852,12712759.630748423,12946382.418768441,13139300.966689985,13366912.428724773,13607066.1090133,13849561.094297789,14050571.195123559,14287001.775056086,14536259.392708354,14787939.38708418,19954483.267620597,20196143.129145794,20450890.555729948,20708112.824900143,20922213.479278088,21173205.17171707,21437582.000886902,21704519.275084894,21927508.895275965,22188164.057150371,22462509.033438601,22739502.933016941,22971707.791626893,23242369.36799274,23527032.721801549,23814436.448009804,24056194.129396334,24337216.748621508,24632560.577786226,24930739.29744431,25182399.078226186,25474149.441159148,25780548.105037607,26089879.347835913,26351802.589984886,{"$f":"BQ159+BQ162","v":26654659.871919006},{"$f":"BR159+BR162","v":{"$error":"#VALUE!"}},{"$f":"BS159+BS162","v":{"$error":"#VALUE!"}},"x"]
["Adófizetési kötelezettség",null,null,{"$f":"MAX(0,D163*Paraméterek!$C$157)","v":967120.04924515076},{"$f":"MAX(0,E163*Paraméterek!$C$157)","v":1017795.9540285538},{"$f":"MAX(0,F163*Paraméterek!$C$157)","v":1100111.3569240621},{"$f":"MAX(0,G163*Paraméterek!$C$157)","v":1115983.7667671265},{"$f":"MAX(0,H163*Paraméterek!$C$157)","v":1125779.2585046287},{"$f":"MAX(0,I163*Paraméterek!$C$157)","v":1141144.0529715307},{"$f":"MAX(0,J163*Paraméterek!$C$157)","v":1157471.878765509},{"$f":"MAX(0,K163*Paraméterek!$C$157)","v":1173963.3335720629},{"$f":"MAX(0,L163*Paraméterek!$C$157)","v":1184258.7333751973},{"$f":"MAX(0,M163*Paraméterek!$C$157)","v":1200237.2425482331},{"$f":"MAX(0,N163*Paraméterek!$C$157)","v":1217200.4835347158},{"$f":"MAX(0,O163*Paraméterek!$C$157)","v":1234333.0854012379},{"$f":"MAX(0,P163*Paraméterek!$C$157)","v":1245148.1900335595},{"$f":"MAX(0,Q163*Paraméterek!$C$157)","v":1261762.5648304638},{"$f":"MAX(0,R163*Paraméterek!$C$157)","v":1279383.8845795281},{"$f":"MAX(0,S163*Paraméterek!$C$157)","v":1297180.4909822533},{"$f":"MAX(0,T163*Paraméterek!$C$157)","v":1308535.8089753659},{"$f":"MAX(0,U163*Paraméterek!$C$157)","v":1325808.9616798258},{"$f":"MAX(0,V163*Paraméterek!$C$157)","v":1344111.7979153909},{"$f":"MAX(0,W163*Paraméterek!$C$157)","v":1362596.0469175435},{"$f":"MAX(0,X163*Paraméterek!$C$157)","v":1374512.8229865199},{"$f":"MAX(0,Y163*Paraméterek!$C$157)","v":1392468.4527366087},{"$f":"MAX(0,Z163*Paraméterek!$C$157)","v":1411477.0431623333},{"$f":"MAX(0,AA163*Paraméterek!$C$157)","v":1430673.3794510455},{"$f":"MAX(0,AB163*Paraméterek!$C$157)","v":1443173.6197262837},{"$f":"MAX(0,AC163*Paraméterek!$C$157)","v":1461836.2388434098},{"$f":"MAX(0,AD163*Paraméterek!$C$157)","v":1481575.6478184811},{"$f":"MAX(0,AE163*Paraméterek!$C$157)","v":1501509.3495984746},{"$f":"MAX(0,AF163*Paraméterek!$C$157)","v":1103607.3438794662},{"$f":"MAX(0,AG163*Paraméterek!$C$157)","v":1123325.9742620566},{"$f":"MAX(0,AH163*Paraméterek!$C$157)","v":1144148.366767358},{"$f":"MAX(0,AI163*Paraméterek!$C$157)","v":1165174.4176891597},{"$f":"MAX(0,AJ163*Paraméterek!$C$157)","v":1182537.0870020986},{"$f":"MAX(0,AK163*Paraméterek!$C$157)","v":1203022.1185852296},{"$f":"MAX(0,AL163*Paraméterek!$C$157)","v":1224635.9498111969},{"$f":"MAX(0,AM163*Paraméterek!$C$157)","v":1246460.4984868011},{"$f":"MAX(0,AN163*Paraméterek!$C$157)","v":1264551.4075611203},{"$f":"MAX(0,AO163*Paraméterek!$C$157)","v":1285830.1597550476},{"$f":"MAX(0,AP163*Paraméterek!$C$157)","v":1308263.3453437518},{"$f":"MAX(0,AQ163*Paraméterek!$C$157)","v":1330914.5448375761},{"$f":"MAX(0,AR163*Paraméterek!$C$157)","v":1795903.4940858537},{"$f":"MAX(0,AS163*Paraméterek!$C$157)","v":1817652.8816231214},{"$f":"MAX(0,AT163*Paraméterek!$C$157)","v":1840580.1500156953},{"$f":"MAX(0,AU163*Paraméterek!$C$157)","v":1863730.1542410129},{"$f":"MAX(0,AV163*Paraméterek!$C$157)","v":1882999.2131350278},{"$f":"MAX(0,AW163*Paraméterek!$C$157)","v":1905588.4654545363},{"$f":"MAX(0,AX163*Paraméterek!$C$157)","v":1929382.3800798212},{"$f":"MAX(0,AY163*Paraméterek!$C$157)","v":1953406.7347576404},{"$f":"MAX(0,AZ163*Paraméterek!$C$157)","v":1973475.8005748368},{"$f":"MAX(0,BA163*Paraméterek!$C$157)","v":1996934.7651435332},{"$f":"MAX(0,BB163*Paraméterek!$C$157)","v":2021625.813009474},{"$f":"MAX(0,BC163*Paraméterek!$C$157)","v":2046555.2639715245},{"$f":"MAX(0,BD163*Paraméterek!$C$157)","v":2067453.7012464204},{"$f":"MAX(0,BE163*Paraméterek!$C$157)","v":2091813.2431193464},{"$f":"MAX(0,BF163*Paraméterek!$C$157)","v":2117432.9449621392},{"$f":"MAX(0,BG163*Paraméterek!$C$157)","v":2143299.2803208823},{"$f":"MAX(0,BH163*Paraméterek!$C$157)","v":2165057.47164567},{"$f":"MAX(0,BI163*Paraméterek!$C$157)","v":2190349.5073759356},{"$f":"MAX(0,BJ163*Paraméterek!$C$157)","v":2216930.4520007605},{"$f":"MAX(0,BK163*Paraméterek!$C$157)","v":2243766.536769988},{"$f":"MAX(0,BL163*Paraméterek!$C$157)","v":2266415.9170403569},{"$f":"MAX(0,BM163*Paraméterek!$C$157)","v":2292673.4497043234},{"$f":"MAX(0,BN163*Paraméterek!$C$157)","v":2320249.3294533845},{"$f":"MAX(0,BO163*Paraméterek!$C$157)","v":2348089.141305232},{"$f":"MAX(0,BP163*Paraméterek!$C$157)","v":2371662.2330986396},{"$f":"MAX(0,BQ163*Paraméterek!$C$157)","v":2398919.3884727103},{"$f":"MAX(0,BR163*Paraméterek!$C$157)","v":{"$error":"#VALUE!"}},{"$f":"MAX(0,BS163*Paraméterek!$C$157)","v":{"$error":"#VALUE!"}},"x"]
["Adózott eredmény",null,null,{"$f":"D163-D164","v":9778658.2757009696},{"$f":"E163-E164","v":10291047.979622044},11123348.164454406,11283835.863978725,11382879.169324579,11538234.313378811,11703326.774184592,11870073.706117526,11974171.637460329,12135732.119098801,12307249.333517684,12480478.974612519,12589831.699228214,12757821.488841359,12935992.610748563,13115936.07548723,13230750.957417589,13405401.723651573,13590463.73447784,13777360.029944053,13897851.876863703,14079403.244336821,14271601.214196928,14465697.50333835,14592088.821676869,14780788.637194479,14980375.994609088,15181927.868162354,11158696.477003491,11358073.739760796,11568611.263981065,11781208.001079282,11956763.879687887,12163890.310139544,12382430.159202103,12603100.595810987,12786019.787562439,13001171.615301039,13227996.047364602,13457024.842246605,18158579.773534745,18378490.247522671,18610310.405714251,18844382.670659129,19039214.266143061,19267616.706262533,19508199.620807081,19751112.540327255,19954033.09470113,20191229.292006839,20440883.220429126,20692947.669045415,20904254.090380471,21150556.124873392,21409599.776839409,21671137.167688921,21891136.657750666,22146867.241245572,22415630.125785466,22686972.76067432,22915983.161185831,23181475.991454825,23460298.775584221,23741790.206530683,23980140.356886245,{"$f":"BQ163-BQ164","v":24255740.483446296},{"$f":"BR163-BR164","v":{"$error":"#VALUE!"}},{"$f":"BS163-BS164","v":{"$error":"#VALUE!"}},"x"]
["Eredménytartalék igénybevétele osztalékra, részesedésre",null,null,0,0,0,0,0,0,0,0,0,0,0,0,0,0,0,0,0,0,0,0,0,0,0,0,0,0,0,0,0,0,0,0,0,0,0,0,0,0,0,0,0,0,0,0,0,0,0,0,0,0,0,0,0,0,0,0,0,0,0,0,0,0,0,0,0,0,0,0,"x"]
["Jóváhagyott osztalék, részesedés",null,null,0,0,0,0,0,0,0,0,0,0,0,0,0,0,0,0,0,0,0,0,0,0,0,0,0,0,0,0,0,0,0,0,0,0,0,0,0,0,0,0,0,0,0,0,0,0,0,0,0,0,0,0,0,0,0,0,0,0,0,0,0,0,0,0,0,0,0,0,"x"]
["Mérleg szerinti eredmény",null,null,{"$f":"D165+D166-D167","v":9778658.2757009696},{"$f":"E165+E166-E167","v":10291047.979622044},11123348.164454406,11283835.863978725,11382879.169324579,11538234.313378811,11703326.774184592,11870073.706117526,11974171.637460329,12135732.119098801,12307249.333517684,12480478.974612519,12589831.699228214,12757821.488841359,12935992.610748563,13115936.07548723,13230750.957417589,13405401.723651573,13590463.73447784,13777360.029944053,13897851.876863703,14079403.244336821,14271601.214196928,14465697.50333835,14592088.821676869,14780788.637194479,14980375.994609088,15181927.868162354,11158696.477003491,11358073.739760796,11568611.263981065,11781208.001079282,11956763.879687887,12163890.310139544,12382430.159202103,12603100.595810987,12786019.787562439,13001171.615301039,13227996.047364602,13457024.842246605,18158579.773534745,18378490.247522671,18610310.405714251,18844382.670659129,19039214.266143061,19267616.706262533,19508199.620807081,19751112.540327255,19954033.09470113,20191229.292006839,20440883.220429126,20692947.669045415,20904254.090380471,21150556.124873392,21409599.776839409,21671137.167688921,21891136.657750666,22146867.241245572,22415630.125785466,22686972.76067432,22915983.161185831,23181475.991454825,23460298.775584221,23741790.206530683,23980140.356886245,{"$f":"BQ165+BQ166-BQ167","v":24255740.483446296},{"$f":"BR165+BR166-BR167","v":{"$error":"#VALUE!"}},{"$f":"BS165+BS166-BS167","v":{"$error":"#VALUE!"}},"x"]
[null,null,null,null,null,null,null,null,null,null,null,null,null,null,null,null,null,null,null,null,null,null,null,null,null,null,null,null,null,null,null,null,null,null,null,null,null,null,null,null,null,null,null,null,null,null,null,null,null,null,null,null,null,null,null,null,null,null,null,null,null,null,null,null,null,null,null,null,null,null,null,"x"]
[null,null,null,null,null,null,null,null,null,null,null,null,null,null,null,null,null,null,null,null,null,null,null,null,null,null,null,null,null,null,null,null,null,null,null,null,null,null,null,null,null,null,null,null,null,null,null,null,null,null,null,null,null,null,null,null,null,null,null,null,null,null,null,null,null,null,null,null,null,null,null,"x"]
[null,null,null,null,null,null,null,null,null,null,null,null,null,null,null,null,null,null,null,null,null,null,null,null,null,null,null,null,null,null,null,null,null,null,null,null,null,null,null,null,null,null,null,null,null,null,null,null,null,null,null,null,null,null,null,null,null,null,null,null,null,null,null,null,null,null,null,null,null,null,null,"x"]
["Pótlólagos Beruházások (HUF)",null,null,null,null,null,null,null,null,null,null,null,null,null,null,null,null,null,null,null,null,null,null,null,null,null,null,null,null,null,null,null,null,null,null,null,null,null,null,null,null,null,null,null,null,null,null,null,null,null,null,null,null,null,null,null,null,null,null,null,null,null,null,null,null,null,null,null,null,null,null,"x"]
["Pótlólagos beruházások időzítése",null,null,{"$f":"IF(D2-4<=0,0,IF(Paraméterek!$D$9=1,IF(MOD(Negyedéves!D$2,4)=1,1,0),IF(Paraméterek!$D$9=2,IF(OR(MOD(Negyedéves!D$2,4)=1,MOD(Negyedéves!D$2,4)=3),1,0),IF(Paraméterek!$D$9=3,1,0))))","v":0},{"$f":"IF(E2-4<=0,0,IF(Paraméterek!$D$9=1,IF(MOD(Negyedéves!E$2,4)=1,1,0),IF(Paraméterek!$D$9=2,IF(OR(MOD(Negyedéves!E$2,4)=1,MOD(Negyedéves!E$2,4)=3),1,0),IF(Paraméterek!$D$9=3,1,0))))","v":0},{"$f":"IF(F2-4<=0,0,IF(Paraméterek!$D$9=1,IF(MOD(Negyedéves!F$2,4)=1,1,0),IF(Paraméterek!$D$9=2,IF(OR(MOD(Negyedéves!F$2,4)=1,MOD(Negyedéves!F$2,4)=3),1,0),IF(Paraméterek!$D$9=3,1,0))))","v":0},{"$f":"IF(G2-4<=0,0,IF(Paraméterek!$D$9=1,IF(MOD(Negyedéves!G$2,4)=1,1,0),IF(Paraméterek!$D$9=2,IF(OR(MOD(Negyedéves!G$2,4)=1,MOD(Negyedéves!G$2,4)=3),1,0),IF(Paraméterek!$D$9=3,1,0))))","v":0},{"$f":"IF(H2-4<=0,0,IF(Paraméterek!$D$9=1,IF(MOD(Negyedéves!H$2,4)=1,1,0),IF(Paraméterek!$D$9=2,IF(OR(MOD(Negyedéves!H$2,4)=1,MOD(Negyedéves!H$2,4)=3),1,0),IF(Paraméterek!$D$9=3,1,0))))","v":1},{"$f":"IF(I2-4<=0,0,IF(Paraméterek!$D$9=1,IF(MOD(Negyedéves!I$2,4)=1,1,0),IF(Paraméterek!$D$9=2,IF(OR(MOD(Negyedéves!I$2,4)=1,MOD(Negyedéves!I$2,4)=3),1,0),IF(Paraméterek!$D$9=3,1,0))))","v":0},{"$f":"IF(J2-4<=0,0,IF(Paraméterek!$D$9=1,IF(MOD(Negyedéves!J$2,4)=1,1,0),IF(Paraméterek!$D$9=2,IF(OR(MOD(Negyedéves!J$2,4)=1,MOD(Negyedéves!J$2,4)=3),1,0),IF(Paraméterek!$D$9=3,1,0))))","v":0},{"$f":"IF(K2-4<=0,0,IF(Paraméterek!$D$9=1,IF(MOD(Negyedéves!K$2,4)=1,1,0),IF(Paraméterek!$D$9=2,IF(OR(MOD(Negyedéves!K$2,4)=1,MOD(Negyedéves!K$2,4)=3),1,0),IF(Paraméterek!$D$9=3,1,0))))","v":0},{"$f":"IF(L2-4<=0,0,IF(Paraméterek!$D$9=1,IF(MOD(Negyedéves!L$2,4)=1,1,0),IF(Paraméterek!$D$9=2,IF(OR(MOD(Negyedéves!L$2,4)=1,MOD(Negyedéves!L$2,4)=3),1,0),IF(Paraméterek!$D$9=3,1,0))))","v":1},{"$f":"IF(M2-4<=0,0,IF(Paraméterek!$D$9=1,IF(MOD(Negyedéves!M$2,4)=1,1,0),IF(Paraméterek!$D$9=2,IF(OR(MOD(Negyedéves!M$2,4)=1,MOD(Negyedéves!M$2,4)=3),1,0),IF(Paraméterek!$D$9=3,1,0))))","v":0},{"$f":"IF(N2-4<=0,0,IF(Paraméterek!$D$9=1,IF(MOD(Negyedéves!N$2,4)=1,1,0),IF(Paraméterek!$D$9=2,IF(OR(MOD(Negyedéves!N$2,4)=1,MOD(Negyedéves!N$2,4)=3),1,0),IF(Paraméterek!$D$9=3,1,0))))","v":0},{"$f":"IF(O2-4<=0,0,IF(Paraméterek!$D$9=1,IF(MOD(Negyedéves!O$2,4)=1,1,0),IF(Paraméterek!$D$9=2,IF(OR(MOD(Negyedéves!O$2,4)=1,MOD(Negyedéves!O$2,4)=3),1,0),IF(Paraméterek!$D$9=3,1,0))))","v":0},{"$f":"IF(P2-4<=0,0,IF(Paraméterek!$D$9=1,IF(MOD(Negyedéves!P$2,4)=1,1,0),IF(Paraméterek!$D$9=2,IF(OR(MOD(Negyedéves!P$2,4)=1,MOD(Negyedéves!P$2,4)=3),1,0),IF(Paraméterek!$D$9=3,1,0))))","v":1},{"$f":"IF(Q2-4<=0,0,IF(Paraméterek!$D$9=1,IF(MOD(Negyedéves!Q$2,4)=1,1,0),IF(Paraméterek!$D$9=2,IF(OR(MOD(Negyedéves!Q$2,4)=1,MOD(Negyedéves!Q$2,4)=3),1,0),IF(Paraméterek!$D$9=3,1,0))))","v":0},{"$f":"IF(R2-4<=0,0,IF(Paraméterek!$D$9=1,IF(MOD(Negyedéves!R$2,4)=1,1,0),IF(Paraméterek!$D$9=2,IF(OR(MOD(Negyedéves!R$2,4)=1,MOD(Negyedéves!R$2,4)=3),1,0),IF(Paraméterek!$D$9=3,1,0))))","v":0},{"$f":"IF(S2-4<=0,0,IF(Paraméterek!$D$9=1,IF(MOD(Negyedéves!S$2,4)=1,1,0),IF(Paraméterek!$D$9=2,IF(OR(MOD(Negyedéves!S$2,4)=1,MOD(Negyedéves!S$2,4)=3),1,0),IF(Paraméterek!$D$9=3,1,0))))","v":0},{"$f":"IF(T2-4<=0,0,IF(Paraméterek!$D$9=1,IF(MOD(Negyedéves!T$2,4)=1,1,0),IF(Paraméterek!$D$9=2,IF(OR(MOD(Negyedéves!T$2,4)=1,MOD(Negyedéves!T$2,4)=3),1,0),IF(Paraméterek!$D$9=3,1,0))))","v":1},{"$f":"IF(U2-4<=0,0,IF(Paraméterek!$D$9=1,IF(MOD(Negyedéves!U$2,4)=1,1,0),IF(Paraméterek!$D$9=2,IF(OR(MOD(Negyedéves!U$2,4)=1,MOD(Negyedéves!U$2,4)=3),1,0),IF(Paraméterek!$D$9=3,1,0))))","v":0},{"$f":"IF(V2-4<=0,0,IF(Paraméterek!$D$9=1,IF(MOD(Negyedéves!V$2,4)=1,1,0),IF(Paraméterek!$D$9=2,IF(OR(MOD(Negyedéves!V$2,4)=1,MOD(Negyedéves!V$2,4)=3),1,0),IF(Paraméterek!$D$9=3,1,0))))","v":0},{"$f":"IF(W2-4<=0,0,IF(Paraméterek!$D$9=1,IF(MOD(Negyedéves!W$2,4)=1,1,0),IF(Paraméterek!$D$9=2,IF(OR(MOD(Negyedéves!W$2,4)=1,MOD(Negyedéves!W$2,4)=3),1,0),IF(Paraméterek!$D$9=3,1,0))))","v":0},{"$f":"IF(X2-4<=0,0,IF(Paraméterek!$D$9=1,IF(MOD(Negyedéves!X$2,4)=1,1,0),IF(Paraméterek!$D$9=2,IF(OR(MOD(Negyedéves!X$2,4)=1,MOD(Negyedéves!X$2,4)=3),1,0),IF(Paraméterek!$D$9=3,1,0))))","v":1},{"$f":"IF(Y2-4<=0,0,IF(Paraméterek!$D$9=1,IF(MOD(Negyedéves!Y$2,4)=1,1,0),IF(Paraméterek!$D$9=2,IF(OR(MOD(Negyedéves!Y$2,4)=1,MOD(Negyedéves!Y$2,4)=3),1,0),IF(Paraméterek!$D$9=3,1,0))))","v":0},{"$f":"IF(Z2-4<=0,0,IF(Paraméterek!$D$9=1,IF(MOD(Negyedéves!Z$2,4)=1,1,0),IF(Paraméterek!$D$9=2,IF(OR(MOD(Negyedéves!Z$2,4)=1,MOD(Negyedéves!Z$2,4)=3),1,0),IF(Paraméterek!$D$9=3,1,0))))","v":0},{"$f":"IF(AA2-4<=0,0,IF(Paraméterek!$D$9=1,IF(MOD(Negyedéves!AA$2,4)=1,1,0),IF(Paraméterek!$D$9=2,IF(OR(MOD(Negyedéves!AA$2,4)=1,MOD(Negyedéves!AA$2,4)=3),1,0),IF(Paraméterek!$D$9=3,1,0))))","v":0},{"$f":"IF(AB2-4<=0,0,IF(Paraméterek!$D$9=1,IF(MOD(Negyedéves!AB$2,4)=1,1,0),IF(Paraméterek!$D$9=2,IF(OR(MOD(Negyedéves!AB$2,4)=1,MOD(Negyedéves!AB$2,4)=3),1,0),IF(Paraméterek!$D$9=3,1,0))))","v":1},{"$f":"IF(AC2-4<=0,0,IF(Paraméterek!$D$9=1,IF(MOD(Negyedéves!AC$2,4)=1,1,0),IF(Paraméterek!$D$9=2,IF(OR(MOD(Negyedéves!AC$2,4)=1,MOD(Negyedéves!AC$2,4)=3),1,0),IF(Paraméterek!$D$9=3,1,0))))","v":0},{"$f":"IF(AD2-4<=0,0,IF(Paraméterek!$D$9=1,IF(MOD(Negyedéves!AD$2,4)=1,1,0),IF(Paraméterek!$D$9=2,IF(OR(MOD(Negyedéves!AD$2,4)=1,MOD(Negyedéves!AD$2,4)=3),1,0),IF(Paraméterek!$D$9=3,1,0))))","v":0},{"$f":"IF(AE2-4<=0,0,IF(Paraméterek!$D$9=1,IF(MOD(Negyedéves!AE$2,4)=1,1,0),IF(Paraméterek!$D$9=2,IF(OR(MOD(Negyedéves!AE$2,4)=1,MOD(Negyedéves!AE$2,4)=3),1,0),IF(Paraméterek!$D$9=3,1,0))))","v":0},{"$f":"IF(AF2-4<=0,0,IF(Paraméterek!$D$9=1,IF(MOD(Negyedéves!AF$2,4)=1,1,0),IF(Paraméterek!$D$9=2,IF(OR(MOD(Negyedéves!AF$2,4)=1,MOD(Negyedéves!AF$2,4)=3),1,0),IF(Paraméterek!$D$9=3,1,0))))","v":1},{"$f":"IF(AG2-4<=0,0,IF(Paraméterek!$D$9=1,IF(MOD(Negyedéves!AG$2,4)=1,1,0),IF(Paraméterek!$D$9=2,IF(OR(MOD(Negyedéves!AG$2,4)=1,MOD(Negyedéves!AG$2,4)=3),1,0),IF(Paraméterek!$D$9=3,1,0))))","v":0},{"$f":"IF(AH2-4<=0,0,IF(Paraméterek!$D$9=1,IF(MOD(Negyedéves!AH$2,4)=1,1,0),IF(Paraméterek!$D$9=2,IF(OR(MOD(Negyedéves!AH$2,4)=1,MOD(Negyedéves!AH$2,4)=3),1,0),IF(Paraméterek!$D$9=3,1,0))))","v":0},{"$f":"IF(AI2-4<=0,0,IF(Paraméterek!$D$9=1,IF(MOD(Negyedéves!AI$2,4)=1,1,0),IF(Paraméterek!$D$9=2,IF(OR(MOD(Negyedéves!AI$2,4)=1,MOD(Negyedéves!AI$2,4)=3),1,0),IF(Paraméterek!$D$9=3,1,0))))","v":0},{"$f":"IF(AJ2-4<=0,0,IF(Paraméterek!$D$9=1,IF(MOD(Negyedéves!AJ$2,4)=1,1,0),IF(Paraméterek!$D$9=2,IF(OR(MOD(Negyedéves!AJ$2,4)=1,MOD(Negyedéves!AJ$2,4)=3),1,0),IF(Paraméterek!$D$9=3,1,0))))","v":1},{"$f":"IF(AK2-4<=0,0,IF(Paraméterek!$D$9=1,IF(MOD(Negyedéves!AK$2,4)=1,1,0),IF(Paraméterek!$D$9=2,IF(OR(MOD(Negyedéves!AK$2,4)=1,MOD(Negyedéves!AK$2,4)=3),1,0),IF(Paraméterek!$D$9=3,1,0))))","v":0},{"$f":"IF(AL2-4<=0,0,IF(Paraméterek!$D$9=1,IF(MOD(Negyedéves!AL$2,4)=1,1,0),IF(Paraméterek!$D$9=2,IF(OR(MOD(Negyedéves!AL$2,4)=1,MOD(Negyedéves!AL$2,4)=3),1,0),IF(Paraméterek!$D$9=3,1,0))))","v":0},{"$f":"IF(AM2-4<=0,0,IF(Paraméterek!$D$9=1,IF(MOD(Negyedéves!AM$2,4)=1,1,0),IF(Paraméterek!$D$9=2,IF(OR(MOD(Negyedéves!AM$2,4)=1,MOD(Negyedéves!AM$2,4)=3),1,0),IF(Paraméterek!$D$9=3,1,0))))","v":0},{"$f":"IF(AN2-4<=0,0,IF(Paraméterek!$D$9=1,IF(MOD(Negyedéves!AN$2,4)=1,1,0),IF(Paraméterek!$D$9=2,IF(OR(MOD(Negyedéves!AN$2,4)=1,MOD(Negyedéves!AN$2,4)=3),1,0),IF(Paraméterek!$D$9=3,1,0))))","v":1},{"$f":"IF(AO2-4<=0,0,IF(Paraméterek!$D$9=1,IF(MOD(Negyedéves!AO$2,4)=1,1,0),IF(Paraméterek!$D$9=2,IF(OR(MOD(Negyedéves!AO$2,4)=1,MOD(Negyedéves!AO$2,4)=3),1,0),IF(Paraméterek!$D$9=3,1,0))))","v":0},{"$f":"IF(AP2-4<=0,0,IF(Paraméterek!$D$9=1,IF(MOD(Negyedéves!AP$2,4)=1,1,0),IF(Paraméterek!$D$9=2,IF(OR(MOD(Negyedéves!AP$2,4)=1,MOD(Negyedéves!AP$2,4)=3),1,0),IF(Paraméterek!$D$9=3,1,0))))","v":0},{"$f":"IF(AQ2-4<=0,0,IF(Paraméterek!$D$9=1,IF(MOD(Negyedéves!AQ$2,4)=1,1,0),IF(Paraméterek!$D$9=2,IF(OR(MOD(Negyedéves!AQ$2,4)=1,MOD(Negyedéves!AQ$2,4)=3),1,0),IF(Paraméterek!$D$9=3,1,0))))","v":0},{"$f":"IF(AR2-4<=0,0,IF(Paraméterek!$D$9=1,IF(MOD(Negyedéves!AR$2,4)=1,1,0),IF(Paraméterek!$D$9=2,IF(OR(MOD(Negyedéves!AR$2,4)=1,MOD(Negyedéves!AR$2,4)=3),1,0),IF(Paraméterek!$D$9=3,1,0))))","v":1},{"$f":"IF(AS2-4<=0,0,IF(Paraméterek!$D$9=1,IF(MOD(Negyedéves!AS$2,4)=1,1,0),IF(Paraméterek!$D$9=2,IF(OR(MOD(Negyedéves!AS$2,4)=1,MOD(Negyedéves!AS$2,4)=3),1,0),IF(Paraméterek!$D$9=3,1,0))))","v":0},{"$f":"IF(AT2-4<=0,0,IF(Paraméterek!$D$9=1,IF(MOD(Negyedéves!AT$2,4)=1,1,0),IF(Paraméterek!$D$9=2,IF(OR(MOD(Negyedéves!AT$2,4)=1,MOD(Negyedéves!AT$2,4)=3),1,0),IF(Paraméterek!$D$9=3,1,0))))","v":0},{"$f":"IF(AU2-4<=0,0,IF(Paraméterek!$D$9=1,IF(MOD(Negyedéves!AU$2,4)=1,1,0),IF(Paraméterek!$D$9=2,IF(OR(MOD(Negyedéves!AU$2,4)=1,MOD(Negyedéves!AU$2,4)=3),1,0),IF(Paraméterek!$D$9=3,1,0))))","v":0},{"$f":"IF(AV2-4<=0,0,IF(Paraméterek!$D$9=1,IF(MOD(Negyedéves!AV$2,4)=1,1,0),IF(Paraméterek!$D$9=2,IF(OR(MOD(Negyedéves!AV$2,4)=1,MOD(Negyedéves!AV$2,4)=3),1,0),IF(Paraméterek!$D$9=3,1,0))))","v":1},{"$f":"IF(AW2-4<=0,0,IF(Paraméterek!$D$9=1,IF(MOD(Negyedéves!AW$2,4)=1,1,0),IF(Paraméterek!$D$9=2,IF(OR(MOD(Negyedéves!AW$2,4)=1,MOD(Negyedéves!AW$2,4)=3),1,0),IF(Paraméterek!$D$9=3,1,0))))","v":0},{"$f":"IF(AX2-4<=0,0,IF(Paraméterek!$D$9=1,IF(MOD(Negyedéves!AX$2,4)=1,1,0),IF(Paraméterek!$D$9=2,IF(OR(MOD(Negyedéves!AX$2,4)=1,MOD(Negyedéves!AX$2,4)=3),1,0),IF(Paraméterek!$D$9=3,1,0))))","v":0},{"$f":"IF(AY2-4<=0,0,IF(Paraméterek!$D$9=1,IF(MOD(Negyedéves!AY$2,4)=1,1,0),IF(Paraméterek!$D$9=2,IF(OR(MOD(Negyedéves!AY$2,4)=1,MOD(Negyedéves!AY$2,4)=3),1,0),IF(Paraméterek!$D$9=3,1,0))))","v":0},{"$f":"IF(AZ2-4<=0,0,IF(Paraméterek!$D$9=1,IF(MOD(Negyedéves!AZ$2,4)=1,1,0),IF(Paraméterek!$D$9=2,IF(OR(MOD(Negyedéves!AZ$2,4)=1,MOD(Negyedéves!AZ$2,4)=3),1,0),IF(Paraméterek!$D$9=3,1,0))))","v":1},{"$f":"IF(BA2-4<=0,0,IF(Paraméterek!$D$9=1,IF(MOD(Negyedéves!BA$2,4)=1,1,0),IF(Paraméterek!$D$9=2,IF(OR(MOD(Negyedéves!BA$2,4)=1,MOD(Negyedéves!BA$2,4)=3),1,0),IF(Paraméterek!$D$9=3,1,0))))","v":0},{"$f":"IF(BB2-4<=0,0,IF(Paraméterek!$D$9=1,IF(MOD(Negyedéves!BB$2,4)=1,1,0),IF(Paraméterek!$D$9=2,IF(OR(MOD(Negyedéves!BB$2,4)=1,MOD(Negyedéves!BB$2,4)=3),1,0),IF(Paraméterek!$D$9=3,1,0))))","v":0},{"$f":"IF(BC2-4<=0,0,IF(Paraméterek!$D$9=1,IF(MOD(Negyedéves!BC$2,4)=1,1,0),IF(Paraméterek!$D$9=2,IF(OR(MOD(Negyedéves!BC$2,4)=1,MOD(Negyedéves!BC$2,4)=3),1,0),IF(Paraméterek!$D$9=3,1,0))))","v":0},{"$f":"IF(BD2-4<=0,0,IF(Paraméterek!$D$9=1,IF(MOD(Negyedéves!BD$2,4)=1,1,0),IF(Paraméterek!$D$9=2,IF(OR(MOD(Negyedéves!BD$2,4)=1,MOD(Negyedéves!BD$2,4)=3),1,0),IF(Paraméterek!$D$9=3,1,0))))","v":1},{"$f":"IF(BE2-4<=0,0,IF(Paraméterek!$D$9=1,IF(MOD(Negyedéves!BE$2,4)=1,1,0),IF(Paraméterek!$D$9=2,IF(OR(MOD(Negyedéves!BE$2,4)=1,MOD(Negyedéves!BE$2,4)=3),1,0),IF(Paraméterek!$D$9=3,1,0))))","v":0},{"$f":"IF(BF2-4<=0,0,IF(Paraméterek!$D$9=1,IF(MOD(Negyedéves!BF$2,4)=1,1,0),IF(Paraméterek!$D$9=2,IF(OR(MOD(Negyedéves!BF$2,4)=1,MOD(Negyedéves!BF$2,4)=3),1,0),IF(Paraméterek!$D$9=3,1,0))))","v":0},{"$f":"IF(BG2-4<=0,0,IF(Paraméterek!$D$9=1,IF(MOD(Negyedéves!BG$2,4)=1,1,0),IF(Paraméterek!$D$9=2,IF(OR(MOD(Negyedéves!BG$2,4)=1,MOD(Negyedéves!BG$2,4)=3),1,0),IF(Paraméterek!$D$9=3,1,0))))","v":0},{"$f":"IF(BH2-4<=0,0,IF(Paraméterek!$D$9=1,IF(MOD(Negyedéves!BH$2,4)=1,1,0),IF(Paraméterek!$D$9=2,IF(OR(MOD(Negyedéves!BH$2,4)=1,MOD(Negyedéves!BH$2,4)=3),1,0),IF(Paraméterek!$D$9=3,1,0))))","v":1},{"$f":"IF(BI2-4<=0,0,IF(Paraméterek!$D$9=1,IF(MOD(Negyedéves!BI$2,4)=1,1,0),IF(Paraméterek!$D$9=2,IF(OR(MOD(Negyedéves!BI$2,4)=1,MOD(Negyedéves!BI$2,4)=3),1,0),IF(Paraméterek!$D$9=3,1,0))))","v":0},{"$f":"IF(BJ2-4<=0,0,IF(Paraméterek!$D$9=1,IF(MOD(Negyedéves!BJ$2,4)=1,1,0),IF(Paraméterek!$D$9=2,IF(OR(MOD(Negyedéves!BJ$2,4)=1,MOD(Negyedéves!BJ$2,4)=3),1,0),IF(Paraméterek!$D$9=3,1,0))))","v":0},{"$f":"IF(BK2-4<=0,0,IF(Paraméterek!$D$9=1,IF(MOD(Negyedéves!BK$2,4)=1,1,0),IF(Paraméterek!$D$9=2,IF(OR(MOD(Negyedéves!BK$2,4)=1,MOD(Negyedéves!BK$2,4)=3),1,0),IF(Paraméterek!$D$9=3,1,0))))","v":0},{"$f":"IF(BL2-4<=0,0,IF(Paraméterek!$D$9=1,IF(MOD(Negyedéves!BL$2,4)=1,1,0),IF(Paraméterek!$D$9=2,IF(OR(MOD(Negyedéves!BL$2,4)=1,MOD(Negyedéves!BL$2,4)=3),1,0),IF(Paraméterek!$D$9=3,1,0))))","v":1},{"$f":"IF(BM2-4<=0,0,IF(Paraméterek!$D$9=1,IF(MOD(Negyedéves!BM$2,4)=1,1,0),IF(Paraméterek!$D$9=2,IF(OR(MOD(Negyedéves!BM$2,4)=1,MOD(Negyedéves!BM$2,4)=3),1,0),IF(Paraméterek!$D$9=3,1,0))))","v":0},{"$f":"IF(BN2-4<=0,0,IF(Paraméterek!$D$9=1,IF(MOD(Negyedéves!BN$2,4)=1,1,0),IF(Paraméterek!$D$9=2,IF(OR(MOD(Negyedéves!BN$2,4)=1,MOD(Negyedéves!BN$2,4)=3),1,0),IF(Paraméterek!$D$9=3,1,0))))","v":0},{"$f":"IF(BO2-4<=0,0,IF(Paraméterek!$D$9=1,IF(MOD(Negyedéves!BO$2,4)=1,1,0),IF(Paraméterek!$D$9=2,IF(OR(MOD(Negyedéves!BO$2,4)=1,MOD(Negyedéves!BO$2,4)=3),1,0),IF(Paraméterek!$D$9=3,1,0))))","v":0},{"$f":"IF(BP2-4<=0,0,IF(Paraméterek!$D$9=1,IF(MOD(Negyedéves!BP$2,4)=1,1,0),IF(Paraméterek!$D$9=2,IF(OR(MOD(Negyedéves!BP$2,4)=1,MOD(Negyedéves!BP$2,4)=3),1,0),IF(Paraméterek!$D$9=3,1,0))))","v":1},{"$f":"IF(BQ2-4<=0,0,IF(Paraméterek!$D$9=1,IF(MOD(Negyedéves!BQ$2,4)=1,1,0),IF(Paraméterek!$D$9=2,IF(OR(MOD(Negyedéves!BQ$2,4)=1,MOD(Negyedéves!BQ$2,4)=3),1,0),IF(Paraméterek!$D$9=3,1,0))))","v":0},{"$f":"IF(BR2-4<=0,0,IF(Paraméterek!$D$9=1,IF(MOD(Negyedéves!BR$2,4)=1,1,0),IF(Paraméterek!$D$9=2,IF(OR(MOD(Negyedéves!BR$2,4)=1,MOD(Negyedéves!BR$2,4)=3),1,0),IF(Paraméterek!$D$9=3,1,0))))","v":0},{"$f":"IF(BS2-4<=0,0,IF(Paraméterek!$D$9=1,IF(MOD(Negyedéves!BS$2,4)=1,1,0),IF(Paraméterek!$D$9=2,IF(OR(MOD(Negyedéves!BS$2,4)=1,MOD(Negyedéves!BS$2,4)=3),1,0),IF(Paraméterek!$D$9=3,1,0))))","v":0},"x"]
["Pótlólagos beruházások értéke",null,{"$f":"Paraméterek!$C$10","v":1000000},{"$f":"IF(D$173=0,0,$C$174*IF(Paraméterek!$D$13=1,1,PRODUCT($C$9:D$9)))","v":0},{"$f":"IF(E$173=0,0,$C$174*IF(Paraméterek!$D$13=1,1,PRODUCT($C$9:E$9)))","v":0},{"$f":"IF(F$173=0,0,$C$174*IF(Paraméterek!$D$13=1,1,PRODUCT($C$9:F$9)))","v":0},{"$f":"IF(G$173=0,0,$C$174*IF(Paraméterek!$D$13=1,1,PRODUCT($C$9:G$9)))","v":0},{"$f":"IF(H$173=0,0,$C$174*IF(Paraméterek!$D$13=1,1,PRODUCT($C$9:H$9)))","v":1025062.1902046682},{"$f":"IF(I$173=0,0,$C$174*IF(Paraméterek!$D$13=1,1,PRODUCT($C$9:I$9)))","v":0},{"$f":"IF(J$173=0,0,$C$174*IF(Paraméterek!$D$13=1,1,PRODUCT($C$9:J$9)))","v":0},{"$f":"IF(K$173=0,0,$C$174*IF(Paraméterek!$D$13=1,1,PRODUCT($C$9:K$9)))","v":0},{"$f":"IF(L$173=0,0,$C$174*IF(Paraméterek!$D$13=1,1,PRODUCT($C$9:L$9)))","v":1045563.434008762},{"$f":"IF(M$173=0,0,$C$174*IF(Paraméterek!$D$13=1,1,PRODUCT($C$9:M$9)))","v":0},{"$f":"IF(N$173=0,0,$C$174*IF(Paraméterek!$D$13=1,1,PRODUCT($C$9:N$9)))","v":0},{"$f":"IF(O$173=0,0,$C$174*IF(Paraméterek!$D$13=1,1,PRODUCT($C$9:O$9)))","v":0},{"$f":"IF(P$173=0,0,$C$174*IF(Paraméterek!$D$13=1,1,PRODUCT($C$9:P$9)))","v":1066474.7026889375},{"$f":"IF(Q$173=0,0,$C$174*IF(Paraméterek!$D$13=1,1,PRODUCT($C$9:Q$9)))","v":0},{"$f":"IF(R$173=0,0,$C$174*IF(Paraméterek!$D$13=1,1,PRODUCT($C$9:R$9)))","v":0},{"$f":"IF(S$173=0,0,$C$174*IF(Paraméterek!$D$13=1,1,PRODUCT($C$9:S$9)))","v":0},{"$f":"IF(T$173=0,0,$C$174*IF(Paraméterek!$D$13=1,1,PRODUCT($C$9:T$9)))","v":1087804.1967427165},{"$f":"IF(U$173=0,0,$C$174*IF(Paraméterek!$D$13=1,1,PRODUCT($C$9:U$9)))","v":0},{"$f":"IF(V$173=0,0,$C$174*IF(Paraméterek!$D$13=1,1,PRODUCT($C$9:V$9)))","v":0},{"$f":"IF(W$173=0,0,$C$174*IF(Paraméterek!$D$13=1,1,PRODUCT($C$9:W$9)))","v":0},{"$f":"IF(X$173=0,0,$C$174*IF(Paraméterek!$D$13=1,1,PRODUCT($C$9:X$9)))","v":1109560.2806775712},{"$f":"IF(Y$173=0,0,$C$174*IF(Paraméterek!$D$13=1,1,PRODUCT($C$9:Y$9)))","v":0},{"$f":"IF(Z$173=0,0,$C$174*IF(Paraméterek!$D$13=1,1,PRODUCT($C$9:Z$9)))","v":0},{"$f":"IF(AA$173=0,0,$C$174*IF(Paraméterek!$D$13=1,1,PRODUCT($C$9:AA$9)))","v":0},{"$f":"IF(AB$173=0,0,$C$174*IF(Paraméterek!$D$13=1,1,PRODUCT($C$9:AB$9)))","v":1131751.4862911231},{"$f":"IF(AC$173=0,0,$C$174*IF(Paraméterek!$D$13=1,1,PRODUCT($C$9:AC$9)))","v":0},{"$f":"IF(AD$173=0,0,$C$174*IF(Paraméterek!$D$13=1,1,PRODUCT($C$9:AD$9)))","v":0},{"$f":"IF(AE$173=0,0,$C$174*IF(Paraméterek!$D$13=1,1,PRODUCT($C$9:AE$9)))","v":0},{"$f":"IF(AF$173=0,0,$C$174*IF(Paraméterek!$D$13=1,1,PRODUCT($C$9:AF$9)))","v":1154386.5160169457},{"$f":"IF(AG$173=0,0,$C$174*IF(Paraméterek!$D$13=1,1,PRODUCT($C$9:AG$9)))","v":0},{"$f":"IF(AH$173=0,0,$C$174*IF(Paraméterek!$D$13=1,1,PRODUCT($C$9:AH$9)))","v":0},{"$f":"IF(AI$173=0,0,$C$174*IF(Paraméterek!$D$13=1,1,PRODUCT($C$9:AI$9)))","v":0},{"$f":"IF(AJ$173=0,0,$C$174*IF(Paraméterek!$D$13=1,1,PRODUCT($C$9:AJ$9)))","v":1177474.2463372848},{"$f":"IF(AK$173=0,0,$C$174*IF(Paraméterek!$D$13=1,1,PRODUCT($C$9:AK$9)))","v":0},{"$f":"IF(AL$173=0,0,$C$174*IF(Paraméterek!$D$13=1,1,PRODUCT($C$9:AL$9)))","v":0},{"$f":"IF(AM$173=0,0,$C$174*IF(Paraméterek!$D$13=1,1,PRODUCT($C$9:AM$9)))","v":0},{"$f":"IF(AN$173=0,0,$C$174*IF(Paraméterek!$D$13=1,1,PRODUCT($C$9:AN$9)))","v":1201023.7312640306},{"$f":"IF(AO$173=0,0,$C$174*IF(Paraméterek!$D$13=1,1,PRODUCT($C$9:AO$9)))","v":0},{"$f":"IF(AP$173=0,0,$C$174*IF(Paraméterek!$D$13=1,1,PRODUCT($C$9:AP$9)))","v":0},{"$f":"IF(AQ$173=0,0,$C$174*IF(Paraméterek!$D$13=1,1,PRODUCT($C$9:AQ$9)))","v":0},{"$f":"IF(AR$173=0,0,$C$174*IF(Paraméterek!$D$13=1,1,PRODUCT($C$9:AR$9)))","v":1225044.2058893114},{"$f":"IF(AS$173=0,0,$C$174*IF(Paraméterek!$D$13=1,1,PRODUCT($C$9:AS$9)))","v":0},{"$f":"IF(AT$173=0,0,$C$174*IF(Paraméterek!$D$13=1,1,PRODUCT($C$9:AT$9)))","v":0},{"$f":"IF(AU$173=0,0,$C$174*IF(Paraméterek!$D$13=1,1,PRODUCT($C$9:AU$9)))","v":0},{"$f":"IF(AV$173=0,0,$C$174*IF(Paraméterek!$D$13=1,1,PRODUCT($C$9:AV$9)))","v":1249545.0900070979},{"$f":"IF(AW$173=0,0,$C$174*IF(Paraméterek!$D$13=1,1,PRODUCT($C$9:AW$9)))","v":0},{"$f":"IF(AX$173=0,0,$C$174*IF(Paraméterek!$D$13=1,1,PRODUCT($C$9:AX$9)))","v":0},{"$f":"IF(AY$173=0,0,$C$174*IF(Paraméterek!$D$13=1,1,PRODUCT($C$9:AY$9)))","v":0},{"$f":"IF(AZ$173=0,0,$C$174*IF(Paraméterek!$D$13=1,1,PRODUCT($C$9:AZ$9)))","v":1274535.9918072403},{"$f":"IF(BA$173=0,0,$C$174*IF(Paraméterek!$D$13=1,1,PRODUCT($C$9:BA$9)))","v":0},{"$f":"IF(BB$173=0,0,$C$174*IF(Paraméterek!$D$13=1,1,PRODUCT($C$9:BB$9)))","v":0},{"$f":"IF(BC$173=0,0,$C$174*IF(Paraméterek!$D$13=1,1,PRODUCT($C$9:BC$9)))","v":0},{"$f":"IF(BD$173=0,0,$C$174*IF(Paraméterek!$D$13=1,1,PRODUCT($C$9:BD$9)))","v":1300026.7116433855},{"$f":"IF(BE$173=0,0,$C$174*IF(Paraméterek!$D$13=1,1,PRODUCT($C$9:BE$9)))","v":0},{"$f":"IF(BF$173=0,0,$C$174*IF(Paraméterek!$D$13=1,1,PRODUCT($C$9:BF$9)))","v":0},{"$f":"IF(BG$173=0,0,$C$174*IF(Paraméterek!$D$13=1,1,PRODUCT($C$9:BG$9)))","v":0},{"$f":"IF(BH$173=0,0,$C$174*IF(Paraméterek!$D$13=1,1,PRODUCT($C$9:BH$9)))","v":1326027.2458762536},{"$f":"IF(BI$173=0,0,$C$174*IF(Paraméterek!$D$13=1,1,PRODUCT($C$9:BI$9)))","v":0},{"$f":"IF(BJ$173=0,0,$C$174*IF(Paraméterek!$D$13=1,1,PRODUCT($C$9:BJ$9)))","v":0},{"$f":"IF(BK$173=0,0,$C$174*IF(Paraméterek!$D$13=1,1,PRODUCT($C$9:BK$9)))","v":0},{"$f":"IF(BL$173=0,0,$C$174*IF(Paraméterek!$D$13=1,1,PRODUCT($C$9:BL$9)))","v":1352547.7907937791},{"$f":"IF(BM$173=0,0,$C$174*IF(Paraméterek!$D$13=1,1,PRODUCT($C$9:BM$9)))","v":0},{"$f":"IF(BN$173=0,0,$C$174*IF(Paraméterek!$D$13=1,1,PRODUCT($C$9:BN$9)))","v":0},{"$f":"IF(BO$173=0,0,$C$174*IF(Paraméterek!$D$13=1,1,PRODUCT($C$9:BO$9)))","v":0},{"$f":"IF(BP$173=0,0,$C$174*IF(Paraméterek!$D$13=1,1,PRODUCT($C$9:BP$9)))","v":1379598.746609655},{"$f":"IF(BQ$173=0,0,$C$174*IF(Paraméterek!$D$13=1,1,PRODUCT($C$9:BQ$9)))","v":0},{"$f":"IF(BR$173=0,0,$C$174*IF(Paraméterek!$D$13=1,1,PRODUCT($C$9:BR$9)))","v":0},{"$f":"IF(BS$173=0,0,$C$174*IF(Paraméterek!$D$13=1,1,PRODUCT($C$9:BS$9)))","v":0},"x"]
["Pótlólagos beruházások kumuláltan",null,null,{"$f":"SUM($C$174:D$174)-$C$174","v":0},{"$f":"SUM($C$174:E$174)-$C$174","v":0},{"$f":"SUM($C$174:F$174)-$C$174","v":0},{"$f":"SUM($C$174:G$174)-$C$174","v":0},{"$f":"SUM($C$174:H$174)-$C$174","v":1025062.1902046683},{"$f":"SUM($C$174:I$174)-$C$174","v":1025062.1902046683},{"$f":"SUM($C$174:J$174)-$C$174","v":1025062.1902046683},{"$f":"SUM($C$174:K$174)-$C$174","v":1025062.1902046683},{"$f":"SUM($C$174:L$174)-$C$174","v":2070625.6242134301},{"$f":"SUM($C$174:M$174)-$C$174","v":2070625.6242134301},{"$f":"SUM($C$174:N$174)-$C$174","v":2070625.6242134301},{"$f":"SUM($C$174:O$174)-$C$174","v":2070625.6242134301},{"$f":"SUM($C$174:P$174)-$C$174","v":3137100.3269023676},{"$f":"SUM($C$174:Q$174)-$C$174","v":3137100.3269023676},{"$f":"SUM($C$174:R$174)-$C$174","v":3137100.3269023676},{"$f":"SUM($C$174:S$174)-$C$174","v":3137100.3269023676},{"$f":"SUM($C$174:T$174)-$C$174","v":4224904.5236450844},{"$f":"SUM($C$174:U$174)-$C$174","v":4224904.5236450844},{"$f":"SUM($C$174:V$174)-$C$174","v":4224904.5236450844},{"$f":"SUM($C$174:W$174)-$C$174","v":4224904.5236450844},{"$f":"SUM($C$174:X$174)-$C$174","v":5334464.8043226553},{"$f":"SUM($C$174:Y$174)-$C$174","v":5334464.8043226553},{"$f":"SUM($C$174:Z$174)-$C$174","v":5334464.8043226553},{"$f":"SUM($C$174:AA$174)-$C$174","v":5334464.8043226553},{"$f":"SUM($C$174:AB$174)-$C$174","v":6466216.2906137779},{"$f":"SUM($C$174:AC$174)-$C$174","v":6466216.2906137779},{"$f":"SUM($C$174:AD$174)-$C$174","v":6466216.2906137779},{"$f":"SUM($C$174:AE$174)-$C$174","v":6466216.2906137779},{"$f":"SUM($C$174:AF$174)-$C$174","v":7620602.8066307232},{"$f":"SUM($C$174:AG$174)-$C$174","v":7620602.8066307232},{"$f":"SUM($C$174:AH$174)-$C$174","v":7620602.8066307232},{"$f":"SUM($C$174:AI$174)-$C$174","v":7620602.8066307232},{"$f":"SUM($C$174:AJ$174)-$C$174","v":8798077.0529680084},{"$f":"SUM($C$174:AK$174)-$C$174","v":8798077.0529680084},{"$f":"SUM($C$174:AL$174)-$C$174","v":8798077.0529680084},{"$f":"SUM($C$174:AM$174)-$C$174","v":8798077.0529680084},{"$f":"SUM($C$174:AN$174)-$C$174","v":9999100.784232039},{"$f":"SUM($C$174:AO$174)-$C$174","v":9999100.784232039},{"$f":"SUM($C$174:AP$174)-$C$174","v":9999100.784232039},{"$f":"SUM($C$174:AQ$174)-$C$174","v":9999100.784232039},{"$f":"SUM($C$174:AR$174)-$C$174","v":11224144.99012135},{"$f":"SUM($C$174:AS$174)-$C$174","v":11224144.99012135},{"$f":"SUM($C$174:AT$174)-$C$174","v":11224144.99012135},{"$f":"SUM($C$174:AU$174)-$C$174","v":11224144.99012135},{"$f":"SUM($C$174:AV$174)-$C$174","v":12473690.080128448},{"$f":"SUM($C$174:AW$174)-$C$174","v":12473690.080128448},{"$f":"SUM($C$174:AX$174)-$C$174","v":12473690.080128448},{"$f":"SUM($C$174:AY$174)-$C$174","v":12473690.080128448},{"$f":"SUM($C$174:AZ$174)-$C$174","v":13748226.071935689},{"$f":"SUM($C$174:BA$174)-$C$174","v":13748226.071935689},{"$f":"SUM($C$174:BB$174)-$C$174","v":13748226.071935689},{"$f":"SUM($C$174:BC$174)-$C$174","v":13748226.071935689},{"$f":"SUM($C$174:BD$174)-$C$174","v":15048252.783579074},{"$f":"SUM($C$174:BE$174)-$C$174","v":15048252.783579074},{"$f":"SUM($C$174:BF$174)-$C$174","v":15048252.783579074},{"$f":"SUM($C$174:BG$174)-$C$174","v":15048252.783579074},{"$f":"SUM($C$174:BH$174)-$C$174","v":16374280.029455326},{"$f":"SUM($C$174:BI$174)-$C$174","v":16374280.029455326},{"$f":"SUM($C$174:BJ$174)-$C$174","v":16374280.029455326},{"$f":"SUM($C$174:BK$174)-$C$174","v":16374280.029455326},{"$f":"SUM($C$174:BL$174)-$C$174","v":17726827.820249107},{"$f":"SUM($C$174:BM$174)-$C$174","v":17726827.820249107},{"$f":"SUM($C$174:BN$174)-$C$174","v":17726827.820249107},{"$f":"SUM($C$174:BO$174)-$C$174","v":17726827.820249107},{"$f":"SUM($C$174:BP$174)-$C$174","v":19106426.566858761},{"$f":"SUM($C$174:BQ$174)-$C$174","v":19106426.566858761},{"$f":"SUM($C$174:BR$174)-$C$174","v":19106426.566858761},{"$f":"SUM($C$174:BS$174)-$C$174","v":19106426.566858761},"x"]
["Negyedéves amortizáció",null,null,{"$f":"SUMPRODUCT($B$181:$B$248,D$181:D$248)/Paraméterek!$C$11/4","v":0},{"$f":"SUMPRODUCT($B$181:$B$248,E$181:E$248)/Paraméterek!$C$11/4","v":0},{"$f":"SUMPRODUCT($B$181:$B$248,F$181:F$248)/Paraméterek!$C$11/4","v":0},{"$f":"SUMPRODUCT($B$181:$B$248,G$181:G$248)/Paraméterek!$C$11/4","v":0},{"$f":"SUMPRODUCT($B$181:$B$248,H$181:H$248)/Paraméterek!$C$11/4","v":36609.363935881011},{"$f":"SUMPRODUCT($B$181:$B$248,I$181:I$248)/Paraméterek!$C$11/4","v":36609.363935881011},{"$f":"SUMPRODUCT($B$181:$B$248,J$181:J$248)/Paraméterek!$C$11/4","v":36609.363935881011},{"$f":"SUMPRODUCT($B$181:$B$248,K$181:K$248)/Paraméterek!$C$11/4","v":36609.363935881011},{"$f":"SUMPRODUCT($B$181:$B$248,L$181:L$248)/Paraméterek!$C$11/4","v":73950.915150479646},{"$f":"SUMPRODUCT($B$181:$B$248,M$181:M$248)/Paraméterek!$C$11/4","v":73950.915150479646},{"$f":"SUMPRODUCT($B$181:$B$248,N$181:N$248)/Paraméterek!$C$11/4","v":73950.915150479646},{"$f":"SUMPRODUCT($B$181:$B$248,O$181:O$248)/Paraméterek!$C$11/4","v":73950.915150479646},{"$f":"SUMPRODUCT($B$181:$B$248,P$181:P$248)/Paraméterek!$C$11/4","v":112039.29738937027},{"$f":"SUMPRODUCT($B$181:$B$248,Q$181:Q$248)/Paraméterek!$C$11/4","v":112039.29738937027},{"$f":"SUMPRODUCT($B$181:$B$248,R$181:R$248)/Paraméterek!$C$11/4","v":112039.29738937027},{"$f":"SUMPRODUCT($B$181:$B$248,S$181:S$248)/Paraméterek!$C$11/4","v":112039.29738937027},{"$f":"SUMPRODUCT($B$181:$B$248,T$181:T$248)/Paraméterek!$C$11/4","v":150889.44727303874},{"$f":"SUMPRODUCT($B$181:$B$248,U$181:U$248)/Paraméterek!$C$11/4","v":150889.44727303874},{"$f":"SUMPRODUCT($B$181:$B$248,V$181:V$248)/Paraméterek!$C$11/4","v":150889.44727303874},{"$f":"SUMPRODUCT($B$181:$B$248,W$181:W$248)/Paraméterek!$C$11/4","v":150889.44727303874},{"$f":"SUMPRODUCT($B$181:$B$248,X$181:X$248)/Paraméterek!$C$11/4","v":190516.60015438055},{"$f":"SUMPRODUCT($B$181:$B$248,Y$181:Y$248)/Paraméterek!$C$11/4","v":190516.60015438055},{"$f":"SUMPRODUCT($B$181:$B$248,Z$181:Z$248)/Paraméterek!$C$11/4","v":190516.60015438055},{"$f":"SUMPRODUCT($B$181:$B$248,AA$181:AA$248)/Paraméterek!$C$11/4","v":190516.60015438055},{"$f":"SUMPRODUCT($B$181:$B$248,AB$181:AB$248)/Paraméterek!$C$11/4","v":230936.2960933492},{"$f":"SUMPRODUCT($B$181:$B$248,AC$181:AC$248)/Paraméterek!$C$11/4","v":230936.2960933492},{"$f":"SUMPRODUCT($B$181:$B$248,AD$181:AD$248)/Paraméterek!$C$11/4","v":230936.2960933492},{"$f":"SUMPRODUCT($B$181:$B$248,AE$181:AE$248)/Paraméterek!$C$11/4","v":230936.2960933492},{"$f":"SUMPRODUCT($B$181:$B$248,AF$181:AF$248)/Paraméterek!$C$11/4","v":272164.38595109724},{"$f":"SUMPRODUCT($B$181:$B$248,AG$181:AG$248)/Paraméterek!$C$11/4","v":272164.38595109724},{"$f":"SUMPRODUCT($B$181:$B$248,AH$181:AH$248)/Paraméterek!$C$11/4","v":272164.38595109724},{"$f":"SUMPRODUCT($B$181:$B$248,AI$181:AI$248)/Paraméterek!$C$11/4","v":272164.38595109724},{"$f":"SUMPRODUCT($B$181:$B$248,AJ$181:AJ$248)/Paraméterek!$C$11/4","v":277607.67367011926},{"$f":"SUMPRODUCT($B$181:$B$248,AK$181:AK$248)/Paraméterek!$C$11/4","v":277607.67367011926},{"$f":"SUMPRODUCT($B$181:$B$248,AL$181:AL$248)/Paraméterek!$C$11/4","v":277607.67367011926},{"$f":"SUMPRODUCT($B$181:$B$248,AM$181:AM$248)/Paraméterek!$C$11/4","v":277607.67367011926},{"$f":"SUMPRODUCT($B$181:$B$248,AN$181:AN$248)/Paraméterek!$C$11/4","v":283159.8271435218},{"$f":"SUMPRODUCT($B$181:$B$248,AO$181:AO$248)/Paraméterek!$C$11/4","v":283159.8271435218},{"$f":"SUMPRODUCT($B$181:$B$248,AP$181:AP$248)/Paraméterek!$C$11/4","v":283159.8271435218},{"$f":"SUMPRODUCT($B$181:$B$248,AQ$181:AQ$248)/Paraméterek!$C$11/4","v":283159.8271435218},{"$f":"SUMPRODUCT($B$181:$B$248,AR$181:AR$248)/Paraméterek!$C$11/4","v":288823.02368639229},{"$f":"SUMPRODUCT($B$181:$B$248,AS$181:AS$248)/Paraméterek!$C$11/4","v":288823.02368639229},{"$f":"SUMPRODUCT($B$181:$B$248,AT$181:AT$248)/Paraméterek!$C$11/4","v":288823.02368639229},{"$f":"SUMPRODUCT($B$181:$B$248,AU$181:AU$248)/Paraméterek!$C$11/4","v":288823.02368639229},{"$f":"SUMPRODUCT($B$181:$B$248,AV$181:AV$248)/Paraméterek!$C$11/4","v":294599.48416012019},{"$f":"SUMPRODUCT($B$181:$B$248,AW$181:AW$248)/Paraméterek!$C$11/4","v":294599.48416012019},{"$f":"SUMPRODUCT($B$181:$B$248,AX$181:AX$248)/Paraméterek!$C$11/4","v":294599.48416012019},{"$f":"SUMPRODUCT($B$181:$B$248,AY$181:AY$248)/Paraméterek!$C$11/4","v":294599.48416012019},{"$f":"SUMPRODUCT($B$181:$B$248,AZ$181:AZ$248)/Paraméterek!$C$11/4","v":300491.47384332266},{"$f":"SUMPRODUCT($B$181:$B$248,BA$181:BA$248)/Paraméterek!$C$11/4","v":300491.47384332266},{"$f":"SUMPRODUCT($B$181:$B$248,BB$181:BB$248)/Paraméterek!$C$11/4","v":300491.47384332266},{"$f":"SUMPRODUCT($B$181:$B$248,BC$181:BC$248)/Paraméterek!$C$11/4","v":300491.47384332266},{"$f":"SUMPRODUCT($B$181:$B$248,BD$181:BD$248)/Paraméterek!$C$11/4","v":306501.30332018912},{"$f":"SUMPRODUCT($B$181:$B$248,BE$181:BE$248)/Paraméterek!$C$11/4","v":306501.30332018912},{"$f":"SUMPRODUCT($B$181:$B$248,BF$181:BF$248)/Paraméterek!$C$11/4","v":306501.30332018912},{"$f":"SUMPRODUCT($B$181:$B$248,BG$181:BG$248)/Paraméterek!$C$11/4","v":306501.30332018912},{"$f":"SUMPRODUCT($B$181:$B$248,BH$181:BH$248)/Paraméterek!$C$11/4","v":312631.32938659296},{"$f":"SUMPRODUCT($B$181:$B$248,BI$181:BI$248)/Paraméterek!$C$11/4","v":312631.32938659296},{"$f":"SUMPRODUCT($B$181:$B$248,BJ$181:BJ$248)/Paraméterek!$C$11/4","v":312631.32938659296},{"$f":"SUMPRODUCT($B$181:$B$248,BK$181:BK$248)/Paraméterek!$C$11/4","v":312631.32938659296},{"$f":"SUMPRODUCT($B$181:$B$248,BL$181:BL$248)/Paraméterek!$C$11/4","v":318883.95597432496},{"$f":"SUMPRODUCT($B$181:$B$248,BM$181:BM$248)/Paraméterek!$C$11/4","v":318883.95597432496},{"$f":"SUMPRODUCT($B$181:$B$248,BN$181:BN$248)/Paraméterek!$C$11/4","v":318883.95597432496},{"$f":"SUMPRODUCT($B$181:$B$248,BO$181:BO$248)/Paraméterek!$C$11/4","v":318883.95597432496},{"$f":"SUMPRODUCT($B$181:$B$248,BP$181:BP$248)/Paraméterek!$C$11/4","v":325261.63509381149},{"$f":"SUMPRODUCT($B$181:$B$248,BQ$181:BQ$248)/Paraméterek!$C$11/4","v":325261.63509381149},{"$f":"SUMPRODUCT($B$181:$B$248,BR$181:BR$248)/Paraméterek!$C$11/4","v":325261.63509381149},{"$f":"SUMPRODUCT($B$181:$B$248,BS$181:BS$248)/Paraméterek!$C$11/4","v":325261.63509381149},"x"]
["Kumulált amortizáció",null,null,{"$f":"SUM($C$176:D$176)","v":0},{"$f":"SUM($C$176:E$176)","v":0},{"$f":"SUM($C$176:F$176)","v":0},{"$f":"SUM($C$176:G$176)","v":0},{"$f":"SUM($C$176:H$176)","v":36609.363935881011},{"$f":"SUM($C$176:I$176)","v":73218.727871762021},{"$f":"SUM($C$176:J$176)","v":109828.09180764304},{"$f":"SUM($C$176:K$176)","v":146437.45574352404},{"$f":"SUM($C$176:L$176)","v":220388.37089400369},{"$f":"SUM($C$176:M$176)","v":294339.28604448331},{"$f":"SUM($C$176:N$176)","v":368290.20119496295},{"$f":"SUM($C$176:O$176)","v":442241.1163454426},{"$f":"SUM($C$176:P$176)","v":554280.41373481287},{"$f":"SUM($C$176:Q$176)","v":666319.71112418314},{"$f":"SUM($C$176:R$176)","v":778359.00851355342},{"$f":"SUM($C$176:S$176)","v":890398.30590292369},{"$f":"SUM($C$176:T$176)","v":1041287.7531759625},{"$f":"SUM($C$176:U$176)","v":1192177.2004490013},{"$f":"SUM($C$176:V$176)","v":1343066.6477220401},{"$f":"SUM($C$176:W$176)","v":1493956.0949950789},{"$f":"SUM($C$176:X$176)","v":1684472.6951494594},{"$f":"SUM($C$176:Y$176)","v":1874989.29530384},{"$f":"SUM($C$176:Z$176)","v":2065505.8954582205},{"$f":"SUM($C$176:AA$176)","v":2256022.4956126008},{"$f":"SUM($C$176:AB$176)","v":2486958.7917059502},{"$f":"SUM($C$176:AC$176)","v":2717895.0877992995},{"$f":"SUM($C$176:AD$176)","v":2948831.3838926489},{"$f":"SUM($C$176:AE$176)","v":3179767.6799859982},{"$f":"SUM($C$176:AF$176)","v":3451932.0659370953},{"$f":"SUM($C$176:AG$176)","v":3724096.4518881924},{"$f":"SUM($C$176:AH$176)","v":3996260.8378392896},{"$f":"SUM($C$176:AI$176)","v":4268425.2237903867},{"$f":"SUM($C$176:AJ$176)","v":4546032.8974605063},{"$f":"SUM($C$176:AK$176)","v":4823640.5711306259},{"$f":"SUM($C$176:AL$176)","v":5101248.2448007455},{"$f":"SUM($C$176:AM$176)","v":5378855.9184708651},{"$f":"SUM($C$176:AN$176)","v":5662015.7456143871},{"$f":"SUM($C$176:AO$176)","v":5945175.5727579091},{"$f":"SUM($C$176:AP$176)","v":6228335.3999014311},{"$f":"SUM($C$176:AQ$176)","v":6511495.227044953},{"$f":"SUM($C$176:AR$176)","v":6800318.2507313453},{"$f":"SUM($C$176:AS$176)","v":7089141.2744177375},{"$f":"SUM($C$176:AT$176)","v":7377964.2981041297},{"$f":"SUM($C$176:AU$176)","v":7666787.321790522},{"$f":"SUM($C$176:AV$176)","v":7961386.8059506426},{"$f":"SUM($C$176:AW$176)","v":8255986.2901107632},{"$f":"SUM($C$176:AX$176)","v":8550585.7742708828},{"$f":"SUM($C$176:AY$176)","v":8845185.2584310025},{"$f":"SUM($C$176:AZ$176)","v":9145676.7322743256},{"$f":"SUM($C$176:BA$176)","v":9446168.2061176486},{"$f":"SUM($C$176:BB$176)","v":9746659.6799609717},{"$f":"SUM($C$176:BC$176)","v":10047151.153804295},{"$f":"SUM($C$176:BD$176)","v":10353652.457124485},{"$f":"SUM($C$176:BE$176)","v":10660153.760444675},{"$f":"SUM($C$176:BF$176)","v":10966655.063764865},{"$f":"SUM($C$176:BG$176)","v":11273156.367085055},{"$f":"SUM($C$176:BH$176)","v":11585787.696471648},{"$f":"SUM($C$176:BI$176)","v":11898419.025858242},{"$f":"SUM($C$176:BJ$176)","v":12211050.355244836},{"$f":"SUM($C$176:BK$176)","v":12523681.68463143},{"$f":"SUM($C$176:BL$176)","v":12842565.640605755},{"$f":"SUM($C$176:BM$176)","v":13161449.596580081},{"$f":"SUM($C$176:BN$176)","v":13480333.552554406},{"$f":"SUM($C$176:BO$176)","v":13799217.508528732},{"$f":"SUM($C$176:BP$176)","v":14124479.143622544},{"$f":"SUM($C$176:BQ$176)","v":14449740.778716356},{"$f":"SUM($C$176:BR$176)","v":14775002.413810167},{"$f":"SUM($C$176:BS$176)","v":15100264.048903979},"x"]
["Kumulált eszközérték amortizációval",null,null,{"$f":"D$175-D$177","v":0},{"$f":"E$175-E$177","v":0},0,0,988452.82626878726,951843.46233290632,915234.09839702526,878624.73446114431,1850237.2533194264,1776286.3381689468,1702335.4230184671,1628384.5078679875,2582819.9131675549,2470780.6157781845,2358741.3183888141,2246702.0209994437,3183616.7704691216,3032727.3231960833,2881837.875923044,2730948.4286500057,3649992.1091731959,3459475.5090188151,3268958.9088644348,3078442.3087100545,3979257.4989078278,3748321.2028144784,3517384.9067211291,3286448.6106277797,4168670.7406936279,3896506.3547425307,3624341.9687914336,3352177.5828403365,4252044.1555075021,3974436.4818373825,3696828.8081672629,3419221.1344971433,4337085.0386176519,4053925.2114741299,3770765.384330608,3487605.557187086,4423826.7393900044,4135003.7157036122,3846180.69201722,3557357.6683308277,4512303.2741778055,4217703.7900176849,3923104.3058575653,3628504.8216974456,4602549.3396613635,4302057.8658180404,4001566.3919747174,3701074.9181313943,4694600.3264545891,4388099.0231343992,4081597.7198142093,3775096.4164940193,4788492.3329836782,4475861.0035970844,4163229.6742104907,3850598.3448238969,4884262.1796433516,4565378.223669026,4246494.2676947005,3927610.311720375,4981947.4232362173,{"$f":"BQ$175-BQ$177","v":4656685.7881424055},{"$f":"BR$175-BR$177","v":4331424.1530485936},{"$f":"BS$175-BS$177","v":4006162.5179547817},"x"]
[null,null,null,null,null,null,null,null,null,null,null,null,null,null,null,null,null,null,null,null,null,null,null,null,null,null,null,null,null,null,null,null,null,null,null,null,null,null,null,null,null,null,null,null,null,null,null,null,null,null,null,null,null,null,null,null,null,null,null,null,null,null,null,null,null,null,null,null,null,null,null,"x"]
["Pótlólagos beruházások amortizációs segédtáblája",null,null,null,null,null,null,null,null,null,null,null,null,null,null,null,null,null,null,null,null,null,null,null,null,null,null,null,null,null,null,null,null,null,null,null,null,null,null,null,null,null,null,null,null,null,null,null,null,null,null,null,null,null,null,null,null,null,null,null,null,null,null,null,null,null,null,null,null,null,null,"x"]
[null,{"$f":"HLOOKUP($C181,$A$1:$BS$174,174,0)","v":0},1,{"$f":"IF(AND($C181<=D$1,Negyedéves!D$1<Paraméterek!$C$11*4+$C181),1,0)","v":1},{"$f":"IF(AND($C181<=E$1,Negyedéves!E$1<Paraméterek!$C$11*4+$C181),1,0)","v":1},{"$f":"IF(AND($C181<=F$1,Negyedéves!F$1<Paraméterek!$C$11*4+$C181),1,0)","v":1},{"$f":"IF(AND($C181<=G$1,Negyedéves!G$1<Paraméterek!$C$11*4+$C181),1,0)","v":1},{"$f":"IF(AND($C181<=H$1,Negyedéves!H$1<Paraméterek!$C$11*4+$C181),1,0)","v":1},{"$f":"IF(AND($C181<=I$1,Negyedéves!I$1<Paraméterek!$C$11*4+$C181),1,0)","v":1},{"$f":"IF(AND($C181<=J$1,Negyedéves!J$1<Paraméterek!$C$11*4+$C181),1,0)","v":1},{"$f":"IF(AND($C181<=K$1,Negyedéves!K$1<Paraméterek!$C$11*4+$C181),1,0)","v":1},{"$f":"IF(AND($C181<=L$1,Negyedéves!L$1<Paraméterek!$C$11*4+$C181),1,0)","v":1},{"$f":"IF(AND($C181<=M$1,Negyedéves!M$1<Paraméterek!$C$11*4+$C181),1,0)","v":1},{"$f":"IF(AND($C181<=N$1,Negyedéves!N$1<Paraméterek!$C$11*4+$C181),1,0)","v":1},{"$f":"IF(AND($C181<=O$1,Negyedéves!O$1<Paraméterek!$C$11*4+$C181),1,0)","v":1},{"$f":"IF(AND($C181<=P$1,Negyedéves!P$1<Paraméterek!$C$11*4+$C181),1,0)","v":1},{"$f":"IF(AND($C181<=Q$1,Negyedéves!Q$1<Paraméterek!$C$11*4+$C181),1,0)","v":1},{"$f":"IF(AND($C181<=R$1,Negyedéves!R$1<Paraméterek!$C$11*4+$C181),1,0)","v":1},{"$f":"IF(AND($C181<=S$1,Negyedéves!S$1<Paraméterek!$C$11*4+$C181),1,0)","v":1},{"$f":"IF(AND($C181<=T$1,Negyedéves!T$1<Paraméterek!$C$11*4+$C181),1,0)","v":1},{"$f":"IF(AND($C181<=U$1,Negyedéves!U$1<Paraméterek!$C$11*4+$C181),1,0)","v":1},{"$f":"IF(AND($C181<=V$1,Negyedéves!V$1<Paraméterek!$C$11*4+$C181),1,0)","v":1},{"$f":"IF(AND($C181<=W$1,Negyedéves!W$1<Paraméterek!$C$11*4+$C181),1,0)","v":1},{"$f":"IF(AND($C181<=X$1,Negyedéves!X$1<Paraméterek!$C$11*4+$C181),1,0)","v":1},{"$f":"IF(AND($C181<=Y$1,Negyedéves!Y$1<Paraméterek!$C$11*4+$C181),1,0)","v":1},{"$f":"IF(AND($C181<=Z$1,Negyedéves!Z$1<Paraméterek!$C$11*4+$C181),1,0)","v":1},{"$f":"IF(AND($C181<=AA$1,Negyedéves!AA$1<Paraméterek!$C$11*4+$C181),1,0)","v":1},{"$f":"IF(AND($C181<=AB$1,Negyedéves!AB$1<Paraméterek!$C$11*4+$C181),1,0)","v":1},{"$f":"IF(AND($C181<=AC$1,Negyedéves!AC$1<Paraméterek!$C$11*4+$C181),1,0)","v":1},{"$f":"IF(AND($C181<=AD$1,Negyedéves!AD$1<Paraméterek!$C$11*4+$C181),1,0)","v":1},{"$f":"IF(AND($C181<=AE$1,Negyedéves!AE$1<Paraméterek!$C$11*4+$C181),1,0)","v":1},{"$f":"IF(AND($C181<=AF$1,Negyedéves!AF$1<Paraméterek!$C$11*4+$C181),1,0)","v":0},{"$f":"IF(AND($C181<=AG$1,Negyedéves!AG$1<Paraméterek!$C$11*4+$C181),1,0)","v":0},{"$f":"IF(AND($C181<=AH$1,Negyedéves!AH$1<Paraméterek!$C$11*4+$C181),1,0)","v":0},{"$f":"IF(AND($C181<=AI$1,Negyedéves!AI$1<Paraméterek!$C$11*4+$C181),1,0)","v":0},{"$f":"IF(AND($C181<=AJ$1,Negyedéves!AJ$1<Paraméterek!$C$11*4+$C181),1,0)","v":0},{"$f":"IF(AND($C181<=AK$1,Negyedéves!AK$1<Paraméterek!$C$11*4+$C181),1,0)","v":0},{"$f":"IF(AND($C181<=AL$1,Negyedéves!AL$1<Paraméterek!$C$11*4+$C181),1,0)","v":0},{"$f":"IF(AND($C181<=AM$1,Negyedéves!AM$1<Paraméterek!$C$11*4+$C181),1,0)","v":0},{"$f":"IF(AND($C181<=AN$1,Negyedéves!AN$1<Paraméterek!$C$11*4+$C181),1,0)","v":0},{"$f":"IF(AND($C181<=AO$1,Negyedéves!AO$1<Paraméterek!$C$11*4+$C181),1,0)","v":0},{"$f":"IF(AND($C181<=AP$1,Negyedéves!AP$1<Paraméterek!$C$11*4+$C181),1,0)","v":0},{"$f":"IF(AND($C181<=AQ$1,Negyedéves!AQ$1<Paraméterek!$C$11*4+$C181),1,0)","v":0},{"$f":"IF(AND($C181<=AR$1,Negyedéves!AR$1<Paraméterek!$C$11*4+$C181),1,0)","v":0},{"$f":"IF(AND($C181<=AS$1,Negyedéves!AS$1<Paraméterek!$C$11*4+$C181),1,0)","v":0},{"$f":"IF(AND($C181<=AT$1,Negyedéves!AT$1<Paraméterek!$C$11*4+$C181),1,0)","v":0},{"$f":"IF(AND($C181<=AU$1,Negyedéves!AU$1<Paraméterek!$C$11*4+$C181),1,0)","v":0},{"$f":"IF(AND($C181<=AV$1,Negyedéves!AV$1<Paraméterek!$C$11*4+$C181),1,0)","v":0},{"$f":"IF(AND($C181<=AW$1,Negyedéves!AW$1<Paraméterek!$C$11*4+$C181),1,0)","v":0},{"$f":"IF(AND($C181<=AX$1,Negyedéves!AX$1<Paraméterek!$C$11*4+$C181),1,0)","v":0},{"$f":"IF(AND($C181<=AY$1,Negyedéves!AY$1<Paraméterek!$C$11*4+$C181),1,0)","v":0},{"$f":"IF(AND($C181<=AZ$1,Negyedéves!AZ$1<Paraméterek!$C$11*4+$C181),1,0)","v":0},{"$f":"IF(AND($C181<=BA$1,Negyedéves!BA$1<Paraméterek!$C$11*4+$C181),1,0)","v":0},{"$f":"IF(AND($C181<=BB$1,Negyedéves!BB$1<Paraméterek!$C$11*4+$C181),1,0)","v":0},{"$f":"IF(AND($C181<=BC$1,Negyedéves!BC$1<Paraméterek!$C$11*4+$C181),1,0)","v":0},{"$f":"IF(AND($C181<=BD$1,Negyedéves!BD$1<Paraméterek!$C$11*4+$C181),1,0)","v":0},{"$f":"IF(AND($C181<=BE$1,Negyedéves!BE$1<Paraméterek!$C$11*4+$C181),1,0)","v":0},{"$f":"IF(AND($C181<=BF$1,Negyedéves!BF$1<Paraméterek!$C$11*4+$C181),1,0)","v":0},{"$f":"IF(AND($C181<=BG$1,Negyedéves!BG$1<Paraméterek!$C$11*4+$C181),1,0)","v":0},{"$f":"IF(AND($C181<=BH$1,Negyedéves!BH$1<Paraméterek!$C$11*4+$C181),1,0)","v":0},{"$f":"IF(AND($C181<=BI$1,Negyedéves!BI$1<Paraméterek!$C$11*4+$C181),1,0)","v":0},{"$f":"IF(AND($C181<=BJ$1,Negyedéves!BJ$1<Paraméterek!$C$11*4+$C181),1,0)","v":0},{"$f":"IF(AND($C181<=BK$1,Negyedéves!BK$1<Paraméterek!$C$11*4+$C181),1,0)","v":0},{"$f":"IF(AND($C181<=BL$1,Negyedéves!BL$1<Paraméterek!$C$11*4+$C181),1,0)","v":0},{"$f":"IF(AND($C181<=BM$1,Negyedéves!BM$1<Paraméterek!$C$11*4+$C181),1,0)","v":0},{"$f":"IF(AND($C181<=BN$1,Negyedéves!BN$1<Paraméterek!$C$11*4+$C181),1,0)","v":0},{"$f":"IF(AND($C181<=BO$1,Negyedéves!BO$1<Paraméterek!$C$11*4+$C181),1,0)","v":0},{"$f":"IF(AND($C181<=BP$1,Negyedéves!BP$1<Paraméterek!$C$11*4+$C181),1,0)","v":0},{"$f":"IF(AND($C181<=BQ$1,Negyedéves!BQ$1<Paraméterek!$C$11*4+$C181),1,0)","v":0},{"$f":"IF(AND($C181<=BR$1,Negyedéves!BR$1<Paraméterek!$C$11*4+$C181),1,0)","v":0},{"$f":"IF(AND($C181<=BS$1,Negyedéves!BS$1<Paraméterek!$C$11*4+$C181),1,0)","v":0},"x"]
[null,{"$f":"HLOOKUP($C182,$A$1:$BS$174,174,0)","v":0},2,{"$f":"IF(AND($C182<=D$1,Negyedéves!D$1<Paraméterek!$C$11*4+$C182),1,0)","v":0},{"$f":"IF(AND($C182<=E$1,Negyedéves!E$1<Paraméterek!$C$11*4+$C182),1,0)","v":1},{"$f":"IF(AND($C182<=F$1,Negyedéves!F$1<Paraméterek!$C$11*4+$C182),1,0)","v":1},{"$f":"IF(AND($C182<=G$1,Negyedéves!G$1<Paraméterek!$C$11*4+$C182),1,0)","v":1},{"$f":"IF(AND($C182<=H$1,Negyedéves!H$1<Paraméterek!$C$11*4+$C182),1,0)","v":1},{"$f":"IF(AND($C182<=I$1,Negyedéves!I$1<Paraméterek!$C$11*4+$C182),1,0)","v":1},{"$f":"IF(AND($C182<=J$1,Negyedéves!J$1<Paraméterek!$C$11*4+$C182),1,0)","v":1},{"$f":"IF(AND($C182<=K$1,Negyedéves!K$1<Paraméterek!$C$11*4+$C182),1,0)","v":1},{"$f":"IF(AND($C182<=L$1,Negyedéves!L$1<Paraméterek!$C$11*4+$C182),1,0)","v":1},{"$f":"IF(AND($C182<=M$1,Negyedéves!M$1<Paraméterek!$C$11*4+$C182),1,0)","v":1},{"$f":"IF(AND($C182<=N$1,Negyedéves!N$1<Paraméterek!$C$11*4+$C182),1,0)","v":1},{"$f":"IF(AND($C182<=O$1,Negyedéves!O$1<Paraméterek!$C$11*4+$C182),1,0)","v":1},{"$f":"IF(AND($C182<=P$1,Negyedéves!P$1<Paraméterek!$C$11*4+$C182),1,0)","v":1},{"$f":"IF(AND($C182<=Q$1,Negyedéves!Q$1<Paraméterek!$C$11*4+$C182),1,0)","v":1},{"$f":"IF(AND($C182<=R$1,Negyedéves!R$1<Paraméterek!$C$11*4+$C182),1,0)","v":1},{"$f":"IF(AND($C182<=S$1,Negyedéves!S$1<Paraméterek!$C$11*4+$C182),1,0)","v":1},{"$f":"IF(AND($C182<=T$1,Negyedéves!T$1<Paraméterek!$C$11*4+$C182),1,0)","v":1},{"$f":"IF(AND($C182<=U$1,Negyedéves!U$1<Paraméterek!$C$11*4+$C182),1,0)","v":1},{"$f":"IF(AND($C182<=V$1,Negyedéves!V$1<Paraméterek!$C$11*4+$C182),1,0)","v":1},{"$f":"IF(AND($C182<=W$1,Negyedéves!W$1<Paraméterek!$C$11*4+$C182),1,0)","v":1},{"$f":"IF(AND($C182<=X$1,Negyedéves!X$1<Paraméterek!$C$11*4+$C182),1,0)","v":1},{"$f":"IF(AND($C182<=Y$1,Negyedéves!Y$1<Paraméterek!$C$11*4+$C182),1,0)","v":1},{"$f":"IF(AND($C182<=Z$1,Negyedéves!Z$1<Paraméterek!$C$11*4+$C182),1,0)","v":1},{"$f":"IF(AND($C182<=AA$1,Negyedéves!AA$1<Paraméterek!$C$11*4+$C182),1,0)","v":1},{"$f":"IF(AND($C182<=AB$1,Negyedéves!AB$1<Paraméterek!$C$11*4+$C182),1,0)","v":1},{"$f":"IF(AND($C182<=AC$1,Negyedéves!AC$1<Paraméterek!$C$11*4+$C182),1,0)","v":1},{"$f":"IF(AND($C182<=AD$1,Negyedéves!AD$1<Paraméterek!$C$11*4+$C182),1,0)","v":1},{"$f":"IF(AND($C182<=AE$1,Negyedéves!AE$1<Paraméterek!$C$11*4+$C182),1,0)","v":1},{"$f":"IF(AND($C182<=AF$1,Negyedéves!AF$1<Paraméterek!$C$11*4+$C182),1,0)","v":1},{"$f":"IF(AND($C182<=AG$1,Negyedéves!AG$1<Paraméterek!$C$11*4+$C182),1,0)","v":0},{"$f":"IF(AND($C182<=AH$1,Negyedéves!AH$1<Paraméterek!$C$11*4+$C182),1,0)","v":0},{"$f":"IF(AND($C182<=AI$1,Negyedéves!AI$1<Paraméterek!$C$11*4+$C182),1,0)","v":0},{"$f":"IF(AND($C182<=AJ$1,Negyedéves!AJ$1<Paraméterek!$C$11*4+$C182),1,0)","v":0},{"$f":"IF(AND($C182<=AK$1,Negyedéves!AK$1<Paraméterek!$C$11*4+$C182),1,0)","v":0},{"$f":"IF(AND($C182<=AL$1,Negyedéves!AL$1<Paraméterek!$C$11*4+$C182),1,0)","v":0},{"$f":"IF(AND($C182<=AM$1,Negyedéves!AM$1<Paraméterek!$C$11*4+$C182),1,0)","v":0},{"$f":"IF(AND($C182<=AN$1,Negyedéves!AN$1<Paraméterek!$C$11*4+$C182),1,0)","v":0},{"$f":"IF(AND($C182<=AO$1,Negyedéves!AO$1<Paraméterek!$C$11*4+$C182),1,0)","v":0},{"$f":"IF(AND($C182<=AP$1,Negyedéves!AP$1<Paraméterek!$C$11*4+$C182),1,0)","v":0},{"$f":"IF(AND($C182<=AQ$1,Negyedéves!AQ$1<Paraméterek!$C$11*4+$C182),1,0)","v":0},{"$f":"IF(AND($C182<=AR$1,Negyedéves!AR$1<Paraméterek!$C$11*4+$C182),1,0)","v":0},{"$f":"IF(AND($C182<=AS$1,Negyedéves!AS$1<Paraméterek!$C$11*4+$C182),1,0)","v":0},{"$f":"IF(AND($C182<=AT$1,Negyedéves!AT$1<Paraméterek!$C$11*4+$C182),1,0)","v":0},{"$f":"IF(AND($C182<=AU$1,Negyedéves!AU$1<Paraméterek!$C$11*4+$C182),1,0)","v":0},{"$f":"IF(AND($C182<=AV$1,Negyedéves!AV$1<Paraméterek!$C$11*4+$C182),1,0)","v":0},{"$f":"IF(AND($C182<=AW$1,Negyedéves!AW$1<Paraméterek!$C$11*4+$C182),1,0)","v":0},{"$f":"IF(AND($C182<=AX$1,Negyedéves!AX$1<Paraméterek!$C$11*4+$C182),1,0)","v":0},{"$f":"IF(AND($C182<=AY$1,Negyedéves!AY$1<Paraméterek!$C$11*4+$C182),1,0)","v":0},{"$f":"IF(AND($C182<=AZ$1,Negyedéves!AZ$1<Paraméterek!$C$11*4+$C182),1,0)","v":0},{"$f":"IF(AND($C182<=BA$1,Negyedéves!BA$1<Paraméterek!$C$11*4+$C182),1,0)","v":0},{"$f":"IF(AND($C182<=BB$1,Negyedéves!BB$1<Paraméterek!$C$11*4+$C182),1,0)","v":0},{"$f":"IF(AND($C182<=BC$1,Negyedéves!BC$1<Paraméterek!$C$11*4+$C182),1,0)","v":0},{"$f":"IF(AND($C182<=BD$1,Negyedéves!BD$1<Paraméterek!$C$11*4+$C182),1,0)","v":0},{"$f":"IF(AND($C182<=BE$1,Negyedéves!BE$1<Paraméterek!$C$11*4+$C182),1,0)","v":0},{"$f":"IF(AND($C182<=BF$1,Negyedéves!BF$1<Paraméterek!$C$11*4+$C182),1,0)","v":0},{"$f":"IF(AND($C182<=BG$1,Negyedéves!BG$1<Paraméterek!$C$11*4+$C182),1,0)","v":0},{"$f":"IF(AND($C182<=BH$1,Negyedéves!BH$1<Paraméterek!$C$11*4+$C182),1,0)","v":0},{"$f":"IF(AND($C182<=BI$1,Negyedéves!BI$1<Paraméterek!$C$11*4+$C182),1,0)","v":0},{"$f":"IF(AND($C182<=BJ$1,Negyedéves!BJ$1<Paraméterek!$C$11*4+$C182),1,0)","v":0},{"$f":"IF(AND($C182<=BK$1,Negyedéves!BK$1<Paraméterek!$C$11*4+$C182),1,0)","v":0},{"$f":"IF(AND($C182<=BL$1,Negyedéves!BL$1<Paraméterek!$C$11*4+$C182),1,0)","v":0},{"$f":"IF(AND($C182<=BM$1,Negyedéves!BM$1<Paraméterek!$C$11*4+$C182),1,0)","v":0},{"$f":"IF(AND($C182<=BN$1,Negyedéves!BN$1<Paraméterek!$C$11*4+$C182),1,0)","v":0},{"$f":"IF(AND($C182<=BO$1,Negyedéves!BO$1<Paraméterek!$C$11*4+$C182),1,0)","v":0},{"$f":"IF(AND($C182<=BP$1,Negyedéves!BP$1<Paraméterek!$C$11*4+$C182),1,0)","v":0},{"$f":"IF(AND($C182<=BQ$1,Negyedéves!BQ$1<Paraméterek!$C$11*4+$C182),1,0)","v":0},{"$f":"IF(AND($C182<=BR$1,Negyedéves!BR$1<Paraméterek!$C$11*4+$C182),1,0)","v":0},{"$f":"IF(AND($C182<=BS$1,Negyedéves!BS$1<Paraméterek!$C$11*4+$C182),1,0)","v":0},"x"]
[null,0,3,{"$f":"IF(AND($C183<=D$1,Negyedéves!D$1<Paraméterek!$C$11*4+$C183),1,0)","v":0},{"$f":"IF(AND($C183<=E$1,Negyedéves!E$1<Paraméterek!$C$11*4+$C183),1,0)","v":0},{"$f":"IF(AND($C183<=F$1,Negyedéves!F$1<Paraméterek!$C$11*4+$C183),1,0)","v":1},{"$f":"IF(AND($C183<=G$1,Negyedéves!G$1<Paraméterek!$C$11*4+$C183),1,0)","v":1},{"$f":"IF(AND($C183<=H$1,Negyedéves!H$1<Paraméterek!$C$11*4+$C183),1,0)","v":1},{"$f":"IF(AND($C183<=I$1,Negyedéves!I$1<Paraméterek!$C$11*4+$C183),1,0)","v":1},{"$f":"IF(AND($C183<=J$1,Negyedéves!J$1<Paraméterek!$C$11*4+$C183),1,0)","v":1},{"$f":"IF(AND($C183<=K$1,Negyedéves!K$1<Paraméterek!$C$11*4+$C183),1,0)","v":1},{"$f":"IF(AND($C183<=L$1,Negyedéves!L$1<Paraméterek!$C$11*4+$C183),1,0)","v":1},{"$f":"IF(AND($C183<=M$1,Negyedéves!M$1<Paraméterek!$C$11*4+$C183),1,0)","v":1},{"$f":"IF(AND($C183<=N$1,Negyedéves!N$1<Paraméterek!$C$11*4+$C183),1,0)","v":1},{"$f":"IF(AND($C183<=O$1,Negyedéves!O$1<Paraméterek!$C$11*4+$C183),1,0)","v":1},{"$f":"IF(AND($C183<=P$1,Negyedéves!P$1<Paraméterek!$C$11*4+$C183),1,0)","v":1},{"$f":"IF(AND($C183<=Q$1,Negyedéves!Q$1<Paraméterek!$C$11*4+$C183),1,0)","v":1},{"$f":"IF(AND($C183<=R$1,Negyedéves!R$1<Paraméterek!$C$11*4+$C183),1,0)","v":1},{"$f":"IF(AND($C183<=S$1,Negyedéves!S$1<Paraméterek!$C$11*4+$C183),1,0)","v":1},{"$f":"IF(AND($C183<=T$1,Negyedéves!T$1<Paraméterek!$C$11*4+$C183),1,0)","v":1},{"$f":"IF(AND($C183<=U$1,Negyedéves!U$1<Paraméterek!$C$11*4+$C183),1,0)","v":1},{"$f":"IF(AND($C183<=V$1,Negyedéves!V$1<Paraméterek!$C$11*4+$C183),1,0)","v":1},{"$f":"IF(AND($C183<=W$1,Negyedéves!W$1<Paraméterek!$C$11*4+$C183),1,0)","v":1},{"$f":"IF(AND($C183<=X$1,Negyedéves!X$1<Paraméterek!$C$11*4+$C183),1,0)","v":1},{"$f":"IF(AND($C183<=Y$1,Negyedéves!Y$1<Paraméterek!$C$11*4+$C183),1,0)","v":1},{"$f":"IF(AND($C183<=Z$1,Negyedéves!Z$1<Paraméterek!$C$11*4+$C183),1,0)","v":1},{"$f":"IF(AND($C183<=AA$1,Negyedéves!AA$1<Paraméterek!$C$11*4+$C183),1,0)","v":1},{"$f":"IF(AND($C183<=AB$1,Negyedéves!AB$1<Paraméterek!$C$11*4+$C183),1,0)","v":1},{"$f":"IF(AND($C183<=AC$1,Negyedéves!AC$1<Paraméterek!$C$11*4+$C183),1,0)","v":1},{"$f":"IF(AND($C183<=AD$1,Negyedéves!AD$1<Paraméterek!$C$11*4+$C183),1,0)","v":1},{"$f":"IF(AND($C183<=AE$1,Negyedéves!AE$1<Paraméterek!$C$11*4+$C183),1,0)","v":1},{"$f":"IF(AND($C183<=AF$1,Negyedéves!AF$1<Paraméterek!$C$11*4+$C183),1,0)","v":1},{"$f":"IF(AND($C183<=AG$1,Negyedéves!AG$1<Paraméterek!$C$11*4+$C183),1,0)","v":1},{"$f":"IF(AND($C183<=AH$1,Negyedéves!AH$1<Paraméterek!$C$11*4+$C183),1,0)","v":0},{"$f":"IF(AND($C183<=AI$1,Negyedéves!AI$1<Paraméterek!$C$11*4+$C183),1,0)","v":0},{"$f":"IF(AND($C183<=AJ$1,Negyedéves!AJ$1<Paraméterek!$C$11*4+$C183),1,0)","v":0},{"$f":"IF(AND($C183<=AK$1,Negyedéves!AK$1<Paraméterek!$C$11*4+$C183),1,0)","v":0},{"$f":"IF(AND($C183<=AL$1,Negyedéves!AL$1<Paraméterek!$C$11*4+$C183),1,0)","v":0},{"$f":"IF(AND($C183<=AM$1,Negyedéves!AM$1<Paraméterek!$C$11*4+$C183),1,0)","v":0},{"$f":"IF(AND($C183<=AN$1,Negyedéves!AN$1<Paraméterek!$C$11*4+$C183),1,0)","v":0},{"$f":"IF(AND($C183<=AO$1,Negyedéves!AO$1<Paraméterek!$C$11*4+$C183),1,0)","v":0},{"$f":"IF(AND($C183<=AP$1,Negyedéves!AP$1<Paraméterek!$C$11*4+$C183),1,0)","v":0},{"$f":"IF(AND($C183<=AQ$1,Negyedéves!AQ$1<Paraméterek!$C$11*4+$C183),1,0)","v":0},{"$f":"IF(AND($C183<=AR$1,Negyedéves!AR$1<Paraméterek!$C$11*4+$C183),1,0)","v":0},{"$f":"IF(AND($C183<=AS$1,Negyedéves!AS$1<Paraméterek!$C$11*4+$C183),1,0)","v":0},{"$f":"IF(AND($C183<=AT$1,Negyedéves!AT$1<Paraméterek!$C$11*4+$C183),1,0)","v":0},{"$f":"IF(AND($C183<=AU$1,Negyedéves!AU$1<Paraméterek!$C$11*4+$C183),1,0)","v":0},{"$f":"IF(AND($C183<=AV$1,Negyedéves!AV$1<Paraméterek!$C$11*4+$C183),1,0)","v":0},{"$f":"IF(AND($C183<=AW$1,Negyedéves!AW$1<Paraméterek!$C$11*4+$C183),1,0)","v":0},{"$f":"IF(AND($C183<=AX$1,Negyedéves!AX$1<Paraméterek!$C$11*4+$C183),1,0)","v":0},{"$f":"IF(AND($C183<=AY$1,Negyedéves!AY$1<Paraméterek!$C$11*4+$C183),1,0)","v":0},{"$f":"IF(AND($C183<=AZ$1,Negyedéves!AZ$1<Paraméterek!$C$11*4+$C183),1,0)","v":0},{"$f":"IF(AND($C183<=BA$1,Negyedéves!BA$1<Paraméterek!$C$11*4+$C183),1,0)","v":0},{"$f":"IF(AND($C183<=BB$1,Negyedéves!BB$1<Paraméterek!$C$11*4+$C183),1,0)","v":0},{"$f":"IF(AND($C183<=BC$1,Negyedéves!BC$1<Paraméterek!$C$11*4+$C183),1,0)","v":0},{"$f":"IF(AND($C183<=BD$1,Negyedéves!BD$1<Paraméterek!$C$11*4+$C183),1,0)","v":0},{"$f":"IF(AND($C183<=BE$1,Negyedéves!BE$1<Paraméterek!$C$11*4+$C183),1,0)","v":0},{"$f":"IF(AND($C183<=BF$1,Negyedéves!BF$1<Paraméterek!$C$11*4+$C183),1,0)","v":0},{"$f":"IF(AND($C183<=BG$1,Negyedéves!BG$1<Paraméterek!$C$11*4+$C183),1,0)","v":0},{"$f":"IF(AND($C183<=BH$1,Negyedéves!BH$1<Paraméterek!$C$11*4+$C183),1,0)","v":0},{"$f":"IF(AND($C183<=BI$1,Negyedéves!BI$1<Paraméterek!$C$11*4+$C183),1,0)","v":0},{"$f":"IF(AND($C183<=BJ$1,Negyedéves!BJ$1<Paraméterek!$C$11*4+$C183),1,0)","v":0},{"$f":"IF(AND($C183<=BK$1,Negyedéves!BK$1<Paraméterek!$C$11*4+$C183),1,0)","v":0},{"$f":"IF(AND($C183<=BL$1,Negyedéves!BL$1<Paraméterek!$C$11*4+$C183),1,0)","v":0},{"$f":"IF(AND($C183<=BM$1,Negyedéves!BM$1<Paraméterek!$C$11*4+$C183),1,0)","v":0},{"$f":"IF(AND($C183<=BN$1,Negyedéves!BN$1<Paraméterek!$C$11*4+$C183),1,0)","v":0},{"$f":"IF(AND($C183<=BO$1,Negyedéves!BO$1<Paraméterek!$C$11*4+$C183),1,0)","v":0},{"$f":"IF(AND($C183<=BP$1,Negyedéves!BP$1<Paraméterek!$C$11*4+$C183),1,0)","v":0},{"$f":"IF(AND($C183<=BQ$1,Negyedéves!BQ$1<Paraméterek!$C$11*4+$C183),1,0)","v":0},{"$f":"IF(AND($C183<=BR$1,Negyedéves!BR$1<Paraméterek!$C$11*4+$C183),1,0)","v":0},{"$f":"IF(AND($C183<=BS$1,Negyedéves!BS$1<Paraméterek!$C$11*4+$C183),1,0)","v":0},"x"]
[null,0,4,{"$f":"IF(AND($C184<=D$1,Negyedéves!D$1<Paraméterek!$C$11*4+$C184),1,0)","v":0},{"$f":"IF(AND($C184<=E$1,Negyedéves!E$1<Paraméterek!$C$11*4+$C184),1,0)","v":0},{"$f":"IF(AND($C184<=F$1,Negyedéves!F$1<Paraméterek!$C$11*4+$C184),1,0)","v":0},{"$f":"IF(AND($C184<=G$1,Negyedéves!G$1<Paraméterek!$C$11*4+$C184),1,0)","v":1},{"$f":"IF(AND($C184<=H$1,Negyedéves!H$1<Paraméterek!$C$11*4+$C184),1,0)","v":1},{"$f":"IF(AND($C184<=I$1,Negyedéves!I$1<Paraméterek!$C$11*4+$C184),1,0)","v":1},{"$f":"IF(AND($C184<=J$1,Negyedéves!J$1<Paraméterek!$C$11*4+$C184),1,0)","v":1},{"$f":"IF(AND($C184<=K$1,Negyedéves!K$1<Paraméterek!$C$11*4+$C184),1,0)","v":1},{"$f":"IF(AND($C184<=L$1,Negyedéves!L$1<Paraméterek!$C$11*4+$C184),1,0)","v":1},{"$f":"IF(AND($C184<=M$1,Negyedéves!M$1<Paraméterek!$C$11*4+$C184),1,0)","v":1},{"$f":"IF(AND($C184<=N$1,Negyedéves!N$1<Paraméterek!$C$11*4+$C184),1,0)","v":1},{"$f":"IF(AND($C184<=O$1,Negyedéves!O$1<Paraméterek!$C$11*4+$C184),1,0)","v":1},{"$f":"IF(AND($C184<=P$1,Negyedéves!P$1<Paraméterek!$C$11*4+$C184),1,0)","v":1},{"$f":"IF(AND($C184<=Q$1,Negyedéves!Q$1<Paraméterek!$C$11*4+$C184),1,0)","v":1},{"$f":"IF(AND($C184<=R$1,Negyedéves!R$1<Paraméterek!$C$11*4+$C184),1,0)","v":1},{"$f":"IF(AND($C184<=S$1,Negyedéves!S$1<Paraméterek!$C$11*4+$C184),1,0)","v":1},{"$f":"IF(AND($C184<=T$1,Negyedéves!T$1<Paraméterek!$C$11*4+$C184),1,0)","v":1},{"$f":"IF(AND($C184<=U$1,Negyedéves!U$1<Paraméterek!$C$11*4+$C184),1,0)","v":1},{"$f":"IF(AND($C184<=V$1,Negyedéves!V$1<Paraméterek!$C$11*4+$C184),1,0)","v":1},{"$f":"IF(AND($C184<=W$1,Negyedéves!W$1<Paraméterek!$C$11*4+$C184),1,0)","v":1},{"$f":"IF(AND($C184<=X$1,Negyedéves!X$1<Paraméterek!$C$11*4+$C184),1,0)","v":1},{"$f":"IF(AND($C184<=Y$1,Negyedéves!Y$1<Paraméterek!$C$11*4+$C184),1,0)","v":1},{"$f":"IF(AND($C184<=Z$1,Negyedéves!Z$1<Paraméterek!$C$11*4+$C184),1,0)","v":1},{"$f":"IF(AND($C184<=AA$1,Negyedéves!AA$1<Paraméterek!$C$11*4+$C184),1,0)","v":1},{"$f":"IF(AND($C184<=AB$1,Negyedéves!AB$1<Paraméterek!$C$11*4+$C184),1,0)","v":1},{"$f":"IF(AND($C184<=AC$1,Negyedéves!AC$1<Paraméterek!$C$11*4+$C184),1,0)","v":1},{"$f":"IF(AND($C184<=AD$1,Negyedéves!AD$1<Paraméterek!$C$11*4+$C184),1,0)","v":1},{"$f":"IF(AND($C184<=AE$1,Negyedéves!AE$1<Paraméterek!$C$11*4+$C184),1,0)","v":1},{"$f":"IF(AND($C184<=AF$1,Negyedéves!AF$1<Paraméterek!$C$11*4+$C184),1,0)","v":1},{"$f":"IF(AND($C184<=AG$1,Negyedéves!AG$1<Paraméterek!$C$11*4+$C184),1,0)","v":1},{"$f":"IF(AND($C184<=AH$1,Negyedéves!AH$1<Paraméterek!$C$11*4+$C184),1,0)","v":1},{"$f":"IF(AND($C184<=AI$1,Negyedéves!AI$1<Paraméterek!$C$11*4+$C184),1,0)","v":0},{"$f":"IF(AND($C184<=AJ$1,Negyedéves!AJ$1<Paraméterek!$C$11*4+$C184),1,0)","v":0},{"$f":"IF(AND($C184<=AK$1,Negyedéves!AK$1<Paraméterek!$C$11*4+$C184),1,0)","v":0},{"$f":"IF(AND($C184<=AL$1,Negyedéves!AL$1<Paraméterek!$C$11*4+$C184),1,0)","v":0},{"$f":"IF(AND($C184<=AM$1,Negyedéves!AM$1<Paraméterek!$C$11*4+$C184),1,0)","v":0},{"$f":"IF(AND($C184<=AN$1,Negyedéves!AN$1<Paraméterek!$C$11*4+$C184),1,0)","v":0},{"$f":"IF(AND($C184<=AO$1,Negyedéves!AO$1<Paraméterek!$C$11*4+$C184),1,0)","v":0},{"$f":"IF(AND($C184<=AP$1,Negyedéves!AP$1<Paraméterek!$C$11*4+$C184),1,0)","v":0},{"$f":"IF(AND($C184<=AQ$1,Negyedéves!AQ$1<Paraméterek!$C$11*4+$C184),1,0)","v":0},{"$f":"IF(AND($C184<=AR$1,Negyedéves!AR$1<Paraméterek!$C$11*4+$C184),1,0)","v":0},{"$f":"IF(AND($C184<=AS$1,Negyedéves!AS$1<Paraméterek!$C$11*4+$C184),1,0)","v":0},{"$f":"IF(AND($C184<=AT$1,Negyedéves!AT$1<Paraméterek!$C$11*4+$C184),1,0)","v":0},{"$f":"IF(AND($C184<=AU$1,Negyedéves!AU$1<Paraméterek!$C$11*4+$C184),1,0)","v":0},{"$f":"IF(AND($C184<=AV$1,Negyedéves!AV$1<Paraméterek!$C$11*4+$C184),1,0)","v":0},{"$f":"IF(AND($C184<=AW$1,Negyedéves!AW$1<Paraméterek!$C$11*4+$C184),1,0)","v":0},{"$f":"IF(AND($C184<=AX$1,Negyedéves!AX$1<Paraméterek!$C$11*4+$C184),1,0)","v":0},{"$f":"IF(AND($C184<=AY$1,Negyedéves!AY$1<Paraméterek!$C$11*4+$C184),1,0)","v":0},{"$f":"IF(AND($C184<=AZ$1,Negyedéves!AZ$1<Paraméterek!$C$11*4+$C184),1,0)","v":0},{"$f":"IF(AND($C184<=BA$1,Negyedéves!BA$1<Paraméterek!$C$11*4+$C184),1,0)","v":0},{"$f":"IF(AND($C184<=BB$1,Negyedéves!BB$1<Paraméterek!$C$11*4+$C184),1,0)","v":0},{"$f":"IF(AND($C184<=BC$1,Negyedéves!BC$1<Paraméterek!$C$11*4+$C184),1,0)","v":0},{"$f":"IF(AND($C184<=BD$1,Negyedéves!BD$1<Paraméterek!$C$11*4+$C184),1,0)","v":0},{"$f":"IF(AND($C184<=BE$1,Negyedéves!BE$1<Paraméterek!$C$11*4+$C184),1,0)","v":0},{"$f":"IF(AND($C184<=BF$1,Negyedéves!BF$1<Paraméterek!$C$11*4+$C184),1,0)","v":0},{"$f":"IF(AND($C184<=BG$1,Negyedéves!BG$1<Paraméterek!$C$11*4+$C184),1,0)","v":0},{"$f":"IF(AND($C184<=BH$1,Negyedéves!BH$1<Paraméterek!$C$11*4+$C184),1,0)","v":0},{"$f":"IF(AND($C184<=BI$1,Negyedéves!BI$1<Paraméterek!$C$11*4+$C184),1,0)","v":0},{"$f":"IF(AND($C184<=BJ$1,Negyedéves!BJ$1<Paraméterek!$C$11*4+$C184),1,0)","v":0},{"$f":"IF(AND($C184<=BK$1,Negyedéves!BK$1<Paraméterek!$C$11*4+$C184),1,0)","v":0},{"$f":"IF(AND($C184<=BL$1,Negyedéves!BL$1<Paraméterek!$C$11*4+$C184),1,0)","v":0},{"$f":"IF(AND($C184<=BM$1,Negyedéves!BM$1<Paraméterek!$C$11*4+$C184),1,0)","v":0},{"$f":"IF(AND($C184<=BN$1,Negyedéves!BN$1<Paraméterek!$C$11*4+$C184),1,0)","v":0},{"$f":"IF(AND($C184<=BO$1,Negyedéves!BO$1<Paraméterek!$C$11*4+$C184),1,0)","v":0},{"$f":"IF(AND($C184<=BP$1,Negyedéves!BP$1<Paraméterek!$C$11*4+$C184),1,0)","v":0},{"$f":"IF(AND($C184<=BQ$1,Negyedéves!BQ$1<Paraméterek!$C$11*4+$C184),1,0)","v":0},{"$f":"IF(AND($C184<=BR$1,Negyedéves!BR$1<Paraméterek!$C$11*4+$C184),1,0)","v":0},{"$f":"IF(AND($C184<=BS$1,Negyedéves!BS$1<Paraméterek!$C$11*4+$C184),1,0)","v":0},"x"]
[null,1025062.1902046682,5,{"$f":"IF(AND($C185<=D$1,Negyedéves!D$1<Paraméterek!$C$11*4+$C185),1,0)","v":0},{"$f":"IF(AND($C185<=E$1,Negyedéves!E$1<Paraméterek!$C$11*4+$C185),1,0)","v":0},{"$f":"IF(AND($C185<=F$1,Negyedéves!F$1<Paraméterek!$C$11*4+$C185),1,0)","v":0},{"$f":"IF(AND($C185<=G$1,Negyedéves!G$1<Paraméterek!$C$11*4+$C185),1,0)","v":0},{"$f":"IF(AND($C185<=H$1,Negyedéves!H$1<Paraméterek!$C$11*4+$C185),1,0)","v":1},{"$f":"IF(AND($C185<=I$1,Negyedéves!I$1<Paraméterek!$C$11*4+$C185),1,0)","v":1},{"$f":"IF(AND($C185<=J$1,Negyedéves!J$1<Paraméterek!$C$11*4+$C185),1,0)","v":1},{"$f":"IF(AND($C185<=K$1,Negyedéves!K$1<Paraméterek!$C$11*4+$C185),1,0)","v":1},{"$f":"IF(AND($C185<=L$1,Negyedéves!L$1<Paraméterek!$C$11*4+$C185),1,0)","v":1},{"$f":"IF(AND($C185<=M$1,Negyedéves!M$1<Paraméterek!$C$11*4+$C185),1,0)","v":1},{"$f":"IF(AND($C185<=N$1,Negyedéves!N$1<Paraméterek!$C$11*4+$C185),1,0)","v":1},{"$f":"IF(AND($C185<=O$1,Negyedéves!O$1<Paraméterek!$C$11*4+$C185),1,0)","v":1},{"$f":"IF(AND($C185<=P$1,Negyedéves!P$1<Paraméterek!$C$11*4+$C185),1,0)","v":1},{"$f":"IF(AND($C185<=Q$1,Negyedéves!Q$1<Paraméterek!$C$11*4+$C185),1,0)","v":1},{"$f":"IF(AND($C185<=R$1,Negyedéves!R$1<Paraméterek!$C$11*4+$C185),1,0)","v":1},{"$f":"IF(AND($C185<=S$1,Negyedéves!S$1<Paraméterek!$C$11*4+$C185),1,0)","v":1},{"$f":"IF(AND($C185<=T$1,Negyedéves!T$1<Paraméterek!$C$11*4+$C185),1,0)","v":1},{"$f":"IF(AND($C185<=U$1,Negyedéves!U$1<Paraméterek!$C$11*4+$C185),1,0)","v":1},{"$f":"IF(AND($C185<=V$1,Negyedéves!V$1<Paraméterek!$C$11*4+$C185),1,0)","v":1},{"$f":"IF(AND($C185<=W$1,Negyedéves!W$1<Paraméterek!$C$11*4+$C185),1,0)","v":1},{"$f":"IF(AND($C185<=X$1,Negyedéves!X$1<Paraméterek!$C$11*4+$C185),1,0)","v":1},{"$f":"IF(AND($C185<=Y$1,Negyedéves!Y$1<Paraméterek!$C$11*4+$C185),1,0)","v":1},{"$f":"IF(AND($C185<=Z$1,Negyedéves!Z$1<Paraméterek!$C$11*4+$C185),1,0)","v":1},{"$f":"IF(AND($C185<=AA$1,Negyedéves!AA$1<Paraméterek!$C$11*4+$C185),1,0)","v":1},{"$f":"IF(AND($C185<=AB$1,Negyedéves!AB$1<Paraméterek!$C$11*4+$C185),1,0)","v":1},{"$f":"IF(AND($C185<=AC$1,Negyedéves!AC$1<Paraméterek!$C$11*4+$C185),1,0)","v":1},{"$f":"IF(AND($C185<=AD$1,Negyedéves!AD$1<Paraméterek!$C$11*4+$C185),1,0)","v":1},{"$f":"IF(AND($C185<=AE$1,Negyedéves!AE$1<Paraméterek!$C$11*4+$C185),1,0)","v":1},{"$f":"IF(AND($C185<=AF$1,Negyedéves!AF$1<Paraméterek!$C$11*4+$C185),1,0)","v":1},{"$f":"IF(AND($C185<=AG$1,Negyedéves!AG$1<Paraméterek!$C$11*4+$C185),1,0)","v":1},{"$f":"IF(AND($C185<=AH$1,Negyedéves!AH$1<Paraméterek!$C$11*4+$C185),1,0)","v":1},{"$f":"IF(AND($C185<=AI$1,Negyedéves!AI$1<Paraméterek!$C$11*4+$C185),1,0)","v":1},{"$f":"IF(AND($C185<=AJ$1,Negyedéves!AJ$1<Paraméterek!$C$11*4+$C185),1,0)","v":0},{"$f":"IF(AND($C185<=AK$1,Negyedéves!AK$1<Paraméterek!$C$11*4+$C185),1,0)","v":0},{"$f":"IF(AND($C185<=AL$1,Negyedéves!AL$1<Paraméterek!$C$11*4+$C185),1,0)","v":0},{"$f":"IF(AND($C185<=AM$1,Negyedéves!AM$1<Paraméterek!$C$11*4+$C185),1,0)","v":0},{"$f":"IF(AND($C185<=AN$1,Negyedéves!AN$1<Paraméterek!$C$11*4+$C185),1,0)","v":0},{"$f":"IF(AND($C185<=AO$1,Negyedéves!AO$1<Paraméterek!$C$11*4+$C185),1,0)","v":0},{"$f":"IF(AND($C185<=AP$1,Negyedéves!AP$1<Paraméterek!$C$11*4+$C185),1,0)","v":0},{"$f":"IF(AND($C185<=AQ$1,Negyedéves!AQ$1<Paraméterek!$C$11*4+$C185),1,0)","v":0},{"$f":"IF(AND($C185<=AR$1,Negyedéves!AR$1<Paraméterek!$C$11*4+$C185),1,0)","v":0},{"$f":"IF(AND($C185<=AS$1,Negyedéves!AS$1<Paraméterek!$C$11*4+$C185),1,0)","v":0},{"$f":"IF(AND($C185<=AT$1,Negyedéves!AT$1<Paraméterek!$C$11*4+$C185),1,0)","v":0},{"$f":"IF(AND($C185<=AU$1,Negyedéves!AU$1<Paraméterek!$C$11*4+$C185),1,0)","v":0},{"$f":"IF(AND($C185<=AV$1,Negyedéves!AV$1<Paraméterek!$C$11*4+$C185),1,0)","v":0},{"$f":"IF(AND($C185<=AW$1,Negyedéves!AW$1<Paraméterek!$C$11*4+$C185),1,0)","v":0},{"$f":"IF(AND($C185<=AX$1,Negyedéves!AX$1<Paraméterek!$C$11*4+$C185),1,0)","v":0},{"$f":"IF(AND($C185<=AY$1,Negyedéves!AY$1<Paraméterek!$C$11*4+$C185),1,0)","v":0},{"$f":"IF(AND($C185<=AZ$1,Negyedéves!AZ$1<Paraméterek!$C$11*4+$C185),1,0)","v":0},{"$f":"IF(AND($C185<=BA$1,Negyedéves!BA$1<Paraméterek!$C$11*4+$C185),1,0)","v":0},{"$f":"IF(AND($C185<=BB$1,Negyedéves!BB$1<Paraméterek!$C$11*4+$C185),1,0)","v":0},{"$f":"IF(AND($C185<=BC$1,Negyedéves!BC$1<Paraméterek!$C$11*4+$C185),1,0)","v":0},{"$f":"IF(AND($C185<=BD$1,Negyedéves!BD$1<Paraméterek!$C$11*4+$C185),1,0)","v":0},{"$f":"IF(AND($C185<=BE$1,Negyedéves!BE$1<Paraméterek!$C$11*4+$C185),1,0)","v":0},{"$f":"IF(AND($C185<=BF$1,Negyedéves!BF$1<Paraméterek!$C$11*4+$C185),1,0)","v":0},{"$f":"IF(AND($C185<=BG$1,Negyedéves!BG$1<Paraméterek!$C$11*4+$C185),1,0)","v":0},{"$f":"IF(AND($C185<=BH$1,Negyedéves!BH$1<Paraméterek!$C$11*4+$C185),1,0)","v":0},{"$f":"IF(AND($C185<=BI$1,Negyedéves!BI$1<Paraméterek!$C$11*4+$C185),1,0)","v":0},{"$f":"IF(AND($C185<=BJ$1,Negyedéves!BJ$1<Paraméterek!$C$11*4+$C185),1,0)","v":0},{"$f":"IF(AND($C185<=BK$1,Negyedéves!BK$1<Paraméterek!$C$11*4+$C185),1,0)","v":0},{"$f":"IF(AND($C185<=BL$1,Negyedéves!BL$1<Paraméterek!$C$11*4+$C185),1,0)","v":0},{"$f":"IF(AND($C185<=BM$1,Negyedéves!BM$1<Paraméterek!$C$11*4+$C185),1,0)","v":0},{"$f":"IF(AND($C185<=BN$1,Negyedéves!BN$1<Paraméterek!$C$11*4+$C185),1,0)","v":0},{"$f":"IF(AND($C185<=BO$1,Negyedéves!BO$1<Paraméterek!$C$11*4+$C185),1,0)","v":0},{"$f":"IF(AND($C185<=BP$1,Negyedéves!BP$1<Paraméterek!$C$11*4+$C185),1,0)","v":0},{"$f":"IF(AND($C185<=BQ$1,Negyedéves!BQ$1<Paraméterek!$C$11*4+$C185),1,0)","v":0},{"$f":"IF(AND($C185<=BR$1,Negyedéves!BR$1<Paraméterek!$C$11*4+$C185),1,0)","v":0},{"$f":"IF(AND($C185<=BS$1,Negyedéves!BS$1<Paraméterek!$C$11*4+$C185),1,0)","v":0},"x"]
[null,0,6,{"$f":"IF(AND($C186<=D$1,Negyedéves!D$1<Paraméterek!$C$11*4+$C186),1,0)","v":0},{"$f":"IF(AND($C186<=E$1,Negyedéves!E$1<Paraméterek!$C$11*4+$C186),1,0)","v":0},{"$f":"IF(AND($C186<=F$1,Negyedéves!F$1<Paraméterek!$C$11*4+$C186),1,0)","v":0},{"$f":"IF(AND($C186<=G$1,Negyedéves!G$1<Paraméterek!$C$11*4+$C186),1,0)","v":0},{"$f":"IF(AND($C186<=H$1,Negyedéves!H$1<Paraméterek!$C$11*4+$C186),1,0)","v":0},{"$f":"IF(AND($C186<=I$1,Negyedéves!I$1<Paraméterek!$C$11*4+$C186),1,0)","v":1},{"$f":"IF(AND($C186<=J$1,Negyedéves!J$1<Paraméterek!$C$11*4+$C186),1,0)","v":1},{"$f":"IF(AND($C186<=K$1,Negyedéves!K$1<Paraméterek!$C$11*4+$C186),1,0)","v":1},{"$f":"IF(AND($C186<=L$1,Negyedéves!L$1<Paraméterek!$C$11*4+$C186),1,0)","v":1},{"$f":"IF(AND($C186<=M$1,Negyedéves!M$1<Paraméterek!$C$11*4+$C186),1,0)","v":1},{"$f":"IF(AND($C186<=N$1,Negyedéves!N$1<Paraméterek!$C$11*4+$C186),1,0)","v":1},{"$f":"IF(AND($C186<=O$1,Negyedéves!O$1<Paraméterek!$C$11*4+$C186),1,0)","v":1},{"$f":"IF(AND($C186<=P$1,Negyedéves!P$1<Paraméterek!$C$11*4+$C186),1,0)","v":1},{"$f":"IF(AND($C186<=Q$1,Negyedéves!Q$1<Paraméterek!$C$11*4+$C186),1,0)","v":1},{"$f":"IF(AND($C186<=R$1,Negyedéves!R$1<Paraméterek!$C$11*4+$C186),1,0)","v":1},{"$f":"IF(AND($C186<=S$1,Negyedéves!S$1<Paraméterek!$C$11*4+$C186),1,0)","v":1},{"$f":"IF(AND($C186<=T$1,Negyedéves!T$1<Paraméterek!$C$11*4+$C186),1,0)","v":1},{"$f":"IF(AND($C186<=U$1,Negyedéves!U$1<Paraméterek!$C$11*4+$C186),1,0)","v":1},{"$f":"IF(AND($C186<=V$1,Negyedéves!V$1<Paraméterek!$C$11*4+$C186),1,0)","v":1},{"$f":"IF(AND($C186<=W$1,Negyedéves!W$1<Paraméterek!$C$11*4+$C186),1,0)","v":1},{"$f":"IF(AND($C186<=X$1,Negyedéves!X$1<Paraméterek!$C$11*4+$C186),1,0)","v":1},{"$f":"IF(AND($C186<=Y$1,Negyedéves!Y$1<Paraméterek!$C$11*4+$C186),1,0)","v":1},{"$f":"IF(AND($C186<=Z$1,Negyedéves!Z$1<Paraméterek!$C$11*4+$C186),1,0)","v":1},{"$f":"IF(AND($C186<=AA$1,Negyedéves!AA$1<Paraméterek!$C$11*4+$C186),1,0)","v":1},{"$f":"IF(AND($C186<=AB$1,Negyedéves!AB$1<Paraméterek!$C$11*4+$C186),1,0)","v":1},{"$f":"IF(AND($C186<=AC$1,Negyedéves!AC$1<Paraméterek!$C$11*4+$C186),1,0)","v":1},{"$f":"IF(AND($C186<=AD$1,Negyedéves!AD$1<Paraméterek!$C$11*4+$C186),1,0)","v":1},{"$f":"IF(AND($C186<=AE$1,Negyedéves!AE$1<Paraméterek!$C$11*4+$C186),1,0)","v":1},{"$f":"IF(AND($C186<=AF$1,Negyedéves!AF$1<Paraméterek!$C$11*4+$C186),1,0)","v":1},{"$f":"IF(AND($C186<=AG$1,Negyedéves!AG$1<Paraméterek!$C$11*4+$C186),1,0)","v":1},{"$f":"IF(AND($C186<=AH$1,Negyedéves!AH$1<Paraméterek!$C$11*4+$C186),1,0)","v":1},{"$f":"IF(AND($C186<=AI$1,Negyedéves!AI$1<Paraméterek!$C$11*4+$C186),1,0)","v":1},{"$f":"IF(AND($C186<=AJ$1,Negyedéves!AJ$1<Paraméterek!$C$11*4+$C186),1,0)","v":1},{"$f":"IF(AND($C186<=AK$1,Negyedéves!AK$1<Paraméterek!$C$11*4+$C186),1,0)","v":0},{"$f":"IF(AND($C186<=AL$1,Negyedéves!AL$1<Paraméterek!$C$11*4+$C186),1,0)","v":0},{"$f":"IF(AND($C186<=AM$1,Negyedéves!AM$1<Paraméterek!$C$11*4+$C186),1,0)","v":0},{"$f":"IF(AND($C186<=AN$1,Negyedéves!AN$1<Paraméterek!$C$11*4+$C186),1,0)","v":0},{"$f":"IF(AND($C186<=AO$1,Negyedéves!AO$1<Paraméterek!$C$11*4+$C186),1,0)","v":0},{"$f":"IF(AND($C186<=AP$1,Negyedéves!AP$1<Paraméterek!$C$11*4+$C186),1,0)","v":0},{"$f":"IF(AND($C186<=AQ$1,Negyedéves!AQ$1<Paraméterek!$C$11*4+$C186),1,0)","v":0},{"$f":"IF(AND($C186<=AR$1,Negyedéves!AR$1<Paraméterek!$C$11*4+$C186),1,0)","v":0},{"$f":"IF(AND($C186<=AS$1,Negyedéves!AS$1<Paraméterek!$C$11*4+$C186),1,0)","v":0},{"$f":"IF(AND($C186<=AT$1,Negyedéves!AT$1<Paraméterek!$C$11*4+$C186),1,0)","v":0},{"$f":"IF(AND($C186<=AU$1,Negyedéves!AU$1<Paraméterek!$C$11*4+$C186),1,0)","v":0},{"$f":"IF(AND($C186<=AV$1,Negyedéves!AV$1<Paraméterek!$C$11*4+$C186),1,0)","v":0},{"$f":"IF(AND($C186<=AW$1,Negyedéves!AW$1<Paraméterek!$C$11*4+$C186),1,0)","v":0},{"$f":"IF(AND($C186<=AX$1,Negyedéves!AX$1<Paraméterek!$C$11*4+$C186),1,0)","v":0},{"$f":"IF(AND($C186<=AY$1,Negyedéves!AY$1<Paraméterek!$C$11*4+$C186),1,0)","v":0},{"$f":"IF(AND($C186<=AZ$1,Negyedéves!AZ$1<Paraméterek!$C$11*4+$C186),1,0)","v":0},{"$f":"IF(AND($C186<=BA$1,Negyedéves!BA$1<Paraméterek!$C$11*4+$C186),1,0)","v":0},{"$f":"IF(AND($C186<=BB$1,Negyedéves!BB$1<Paraméterek!$C$11*4+$C186),1,0)","v":0},{"$f":"IF(AND($C186<=BC$1,Negyedéves!BC$1<Paraméterek!$C$11*4+$C186),1,0)","v":0},{"$f":"IF(AND($C186<=BD$1,Negyedéves!BD$1<Paraméterek!$C$11*4+$C186),1,0)","v":0},{"$f":"IF(AND($C186<=BE$1,Negyedéves!BE$1<Paraméterek!$C$11*4+$C186),1,0)","v":0},{"$f":"IF(AND($C186<=BF$1,Negyedéves!BF$1<Paraméterek!$C$11*4+$C186),1,0)","v":0},{"$f":"IF(AND($C186<=BG$1,Negyedéves!BG$1<Paraméterek!$C$11*4+$C186),1,0)","v":0},{"$f":"IF(AND($C186<=BH$1,Negyedéves!BH$1<Paraméterek!$C$11*4+$C186),1,0)","v":0},{"$f":"IF(AND($C186<=BI$1,Negyedéves!BI$1<Paraméterek!$C$11*4+$C186),1,0)","v":0},{"$f":"IF(AND($C186<=BJ$1,Negyedéves!BJ$1<Paraméterek!$C$11*4+$C186),1,0)","v":0},{"$f":"IF(AND($C186<=BK$1,Negyedéves!BK$1<Paraméterek!$C$11*4+$C186),1,0)","v":0},{"$f":"IF(AND($C186<=BL$1,Negyedéves!BL$1<Paraméterek!$C$11*4+$C186),1,0)","v":0},{"$f":"IF(AND($C186<=BM$1,Negyedéves!BM$1<Paraméterek!$C$11*4+$C186),1,0)","v":0},{"$f":"IF(AND($C186<=BN$1,Negyedéves!BN$1<Paraméterek!$C$11*4+$C186),1,0)","v":0},{"$f":"IF(AND($C186<=BO$1,Negyedéves!BO$1<Paraméterek!$C$11*4+$C186),1,0)","v":0},{"$f":"IF(AND($C186<=BP$1,Negyedéves!BP$1<Paraméterek!$C$11*4+$C186),1,0)","v":0},{"$f":"IF(AND($C186<=BQ$1,Negyedéves!BQ$1<Paraméterek!$C$11*4+$C186),1,0)","v":0},{"$f":"IF(AND($C186<=BR$1,Negyedéves!BR$1<Paraméterek!$C$11*4+$C186),1,0)","v":0},{"$f":"IF(AND($C186<=BS$1,Negyedéves!BS$1<Paraméterek!$C$11*4+$C186),1,0)","v":0},"x"]
[null,0,7,{"$f":"IF(AND($C187<=D$1,Negyedéves!D$1<Paraméterek!$C$11*4+$C187),1,0)","v":0},{"$f":"IF(AND($C187<=E$1,Negyedéves!E$1<Paraméterek!$C$11*4+$C187),1,0)","v":0},{"$f":"IF(AND($C187<=F$1,Negyedéves!F$1<Paraméterek!$C$11*4+$C187),1,0)","v":0},{"$f":"IF(AND($C187<=G$1,Negyedéves!G$1<Paraméterek!$C$11*4+$C187),1,0)","v":0},{"$f":"IF(AND($C187<=H$1,Negyedéves!H$1<Paraméterek!$C$11*4+$C187),1,0)","v":0},{"$f":"IF(AND($C187<=I$1,Negyedéves!I$1<Paraméterek!$C$11*4+$C187),1,0)","v":0},{"$f":"IF(AND($C187<=J$1,Negyedéves!J$1<Paraméterek!$C$11*4+$C187),1,0)","v":1},{"$f":"IF(AND($C187<=K$1,Negyedéves!K$1<Paraméterek!$C$11*4+$C187),1,0)","v":1},{"$f":"IF(AND($C187<=L$1,Negyedéves!L$1<Paraméterek!$C$11*4+$C187),1,0)","v":1},{"$f":"IF(AND($C187<=M$1,Negyedéves!M$1<Paraméterek!$C$11*4+$C187),1,0)","v":1},{"$f":"IF(AND($C187<=N$1,Negyedéves!N$1<Paraméterek!$C$11*4+$C187),1,0)","v":1},{"$f":"IF(AND($C187<=O$1,Negyedéves!O$1<Paraméterek!$C$11*4+$C187),1,0)","v":1},{"$f":"IF(AND($C187<=P$1,Negyedéves!P$1<Paraméterek!$C$11*4+$C187),1,0)","v":1},{"$f":"IF(AND($C187<=Q$1,Negyedéves!Q$1<Paraméterek!$C$11*4+$C187),1,0)","v":1},{"$f":"IF(AND($C187<=R$1,Negyedéves!R$1<Paraméterek!$C$11*4+$C187),1,0)","v":1},{"$f":"IF(AND($C187<=S$1,Negyedéves!S$1<Paraméterek!$C$11*4+$C187),1,0)","v":1},{"$f":"IF(AND($C187<=T$1,Negyedéves!T$1<Paraméterek!$C$11*4+$C187),1,0)","v":1},{"$f":"IF(AND($C187<=U$1,Negyedéves!U$1<Paraméterek!$C$11*4+$C187),1,0)","v":1},{"$f":"IF(AND($C187<=V$1,Negyedéves!V$1<Paraméterek!$C$11*4+$C187),1,0)","v":1},{"$f":"IF(AND($C187<=W$1,Negyedéves!W$1<Paraméterek!$C$11*4+$C187),1,0)","v":1},{"$f":"IF(AND($C187<=X$1,Negyedéves!X$1<Paraméterek!$C$11*4+$C187),1,0)","v":1},{"$f":"IF(AND($C187<=Y$1,Negyedéves!Y$1<Paraméterek!$C$11*4+$C187),1,0)","v":1},{"$f":"IF(AND($C187<=Z$1,Negyedéves!Z$1<Paraméterek!$C$11*4+$C187),1,0)","v":1},{"$f":"IF(AND($C187<=AA$1,Negyedéves!AA$1<Paraméterek!$C$11*4+$C187),1,0)","v":1},{"$f":"IF(AND($C187<=AB$1,Negyedéves!AB$1<Paraméterek!$C$11*4+$C187),1,0)","v":1},{"$f":"IF(AND($C187<=AC$1,Negyedéves!AC$1<Paraméterek!$C$11*4+$C187),1,0)","v":1},{"$f":"IF(AND($C187<=AD$1,Negyedéves!AD$1<Paraméterek!$C$11*4+$C187),1,0)","v":1},{"$f":"IF(AND($C187<=AE$1,Negyedéves!AE$1<Paraméterek!$C$11*4+$C187),1,0)","v":1},{"$f":"IF(AND($C187<=AF$1,Negyedéves!AF$1<Paraméterek!$C$11*4+$C187),1,0)","v":1},{"$f":"IF(AND($C187<=AG$1,Negyedéves!AG$1<Paraméterek!$C$11*4+$C187),1,0)","v":1},{"$f":"IF(AND($C187<=AH$1,Negyedéves!AH$1<Paraméterek!$C$11*4+$C187),1,0)","v":1},{"$f":"IF(AND($C187<=AI$1,Negyedéves!AI$1<Paraméterek!$C$11*4+$C187),1,0)","v":1},{"$f":"IF(AND($C187<=AJ$1,Negyedéves!AJ$1<Paraméterek!$C$11*4+$C187),1,0)","v":1},{"$f":"IF(AND($C187<=AK$1,Negyedéves!AK$1<Paraméterek!$C$11*4+$C187),1,0)","v":1},{"$f":"IF(AND($C187<=AL$1,Negyedéves!AL$1<Paraméterek!$C$11*4+$C187),1,0)","v":0},{"$f":"IF(AND($C187<=AM$1,Negyedéves!AM$1<Paraméterek!$C$11*4+$C187),1,0)","v":0},{"$f":"IF(AND($C187<=AN$1,Negyedéves!AN$1<Paraméterek!$C$11*4+$C187),1,0)","v":0},{"$f":"IF(AND($C187<=AO$1,Negyedéves!AO$1<Paraméterek!$C$11*4+$C187),1,0)","v":0},{"$f":"IF(AND($C187<=AP$1,Negyedéves!AP$1<Paraméterek!$C$11*4+$C187),1,0)","v":0},{"$f":"IF(AND($C187<=AQ$1,Negyedéves!AQ$1<Paraméterek!$C$11*4+$C187),1,0)","v":0},{"$f":"IF(AND($C187<=AR$1,Negyedéves!AR$1<Paraméterek!$C$11*4+$C187),1,0)","v":0},{"$f":"IF(AND($C187<=AS$1,Negyedéves!AS$1<Paraméterek!$C$11*4+$C187),1,0)","v":0},{"$f":"IF(AND($C187<=AT$1,Negyedéves!AT$1<Paraméterek!$C$11*4+$C187),1,0)","v":0},{"$f":"IF(AND($C187<=AU$1,Negyedéves!AU$1<Paraméterek!$C$11*4+$C187),1,0)","v":0},{"$f":"IF(AND($C187<=AV$1,Negyedéves!AV$1<Paraméterek!$C$11*4+$C187),1,0)","v":0},{"$f":"IF(AND($C187<=AW$1,Negyedéves!AW$1<Paraméterek!$C$11*4+$C187),1,0)","v":0},{"$f":"IF(AND($C187<=AX$1,Negyedéves!AX$1<Paraméterek!$C$11*4+$C187),1,0)","v":0},{"$f":"IF(AND($C187<=AY$1,Negyedéves!AY$1<Paraméterek!$C$11*4+$C187),1,0)","v":0},{"$f":"IF(AND($C187<=AZ$1,Negyedéves!AZ$1<Paraméterek!$C$11*4+$C187),1,0)","v":0},{"$f":"IF(AND($C187<=BA$1,Negyedéves!BA$1<Paraméterek!$C$11*4+$C187),1,0)","v":0},{"$f":"IF(AND($C187<=BB$1,Negyedéves!BB$1<Paraméterek!$C$11*4+$C187),1,0)","v":0},{"$f":"IF(AND($C187<=BC$1,Negyedéves!BC$1<Paraméterek!$C$11*4+$C187),1,0)","v":0},{"$f":"IF(AND($C187<=BD$1,Negyedéves!BD$1<Paraméterek!$C$11*4+$C187),1,0)","v":0},{"$f":"IF(AND($C187<=BE$1,Negyedéves!BE$1<Paraméterek!$C$11*4+$C187),1,0)","v":0},{"$f":"IF(AND($C187<=BF$1,Negyedéves!BF$1<Paraméterek!$C$11*4+$C187),1,0)","v":0},{"$f":"IF(AND($C187<=BG$1,Negyedéves!BG$1<Paraméterek!$C$11*4+$C187),1,0)","v":0},{"$f":"IF(AND($C187<=BH$1,Negyedéves!BH$1<Paraméterek!$C$11*4+$C187),1,0)","v":0},{"$f":"IF(AND($C187<=BI$1,Negyedéves!BI$1<Paraméterek!$C$11*4+$C187),1,0)","v":0},{"$f":"IF(AND($C187<=BJ$1,Negyedéves!BJ$1<Paraméterek!$C$11*4+$C187),1,0)","v":0},{"$f":"IF(AND($C187<=BK$1,Negyedéves!BK$1<Paraméterek!$C$11*4+$C187),1,0)","v":0},{"$f":"IF(AND($C187<=BL$1,Negyedéves!BL$1<Paraméterek!$C$11*4+$C187),1,0)","v":0},{"$f":"IF(AND($C187<=BM$1,Negyedéves!BM$1<Paraméterek!$C$11*4+$C187),1,0)","v":0},{"$f":"IF(AND($C187<=BN$1,Negyedéves!BN$1<Paraméterek!$C$11*4+$C187),1,0)","v":0},{"$f":"IF(AND($C187<=BO$1,Negyedéves!BO$1<Paraméterek!$C$11*4+$C187),1,0)","v":0},{"$f":"IF(AND($C187<=BP$1,Negyedéves!BP$1<Paraméterek!$C$11*4+$C187),1,0)","v":0},{"$f":"IF(AND($C187<=BQ$1,Negyedéves!BQ$1<Paraméterek!$C$11*4+$C187),1,0)","v":0},{"$f":"IF(AND($C187<=BR$1,Negyedéves!BR$1<Paraméterek!$C$11*4+$C187),1,0)","v":0},{"$f":"IF(AND($C187<=BS$1,Negyedéves!BS$1<Paraméterek!$C$11*4+$C187),1,0)","v":0},"x"]
[null,0,8,{"$f":"IF(AND($C188<=D$1,Negyedéves!D$1<Paraméterek!$C$11*4+$C188),1,0)","v":0},{"$f":"IF(AND($C188<=E$1,Negyedéves!E$1<Paraméterek!$C$11*4+$C188),1,0)","v":0},{"$f":"IF(AND($C188<=F$1,Negyedéves!F$1<Paraméterek!$C$11*4+$C188),1,0)","v":0},{"$f":"IF(AND($C188<=G$1,Negyedéves!G$1<Paraméterek!$C$11*4+$C188),1,0)","v":0},{"$f":"IF(AND($C188<=H$1,Negyedéves!H$1<Paraméterek!$C$11*4+$C188),1,0)","v":0},{"$f":"IF(AND($C188<=I$1,Negyedéves!I$1<Paraméterek!$C$11*4+$C188),1,0)","v":0},{"$f":"IF(AND($C188<=J$1,Negyedéves!J$1<Paraméterek!$C$11*4+$C188),1,0)","v":0},{"$f":"IF(AND($C188<=K$1,Negyedéves!K$1<Paraméterek!$C$11*4+$C188),1,0)","v":1},{"$f":"IF(AND($C188<=L$1,Negyedéves!L$1<Paraméterek!$C$11*4+$C188),1,0)","v":1},{"$f":"IF(AND($C188<=M$1,Negyedéves!M$1<Paraméterek!$C$11*4+$C188),1,0)","v":1},{"$f":"IF(AND($C188<=N$1,Negyedéves!N$1<Paraméterek!$C$11*4+$C188),1,0)","v":1},{"$f":"IF(AND($C188<=O$1,Negyedéves!O$1<Paraméterek!$C$11*4+$C188),1,0)","v":1},{"$f":"IF(AND($C188<=P$1,Negyedéves!P$1<Paraméterek!$C$11*4+$C188),1,0)","v":1},{"$f":"IF(AND($C188<=Q$1,Negyedéves!Q$1<Paraméterek!$C$11*4+$C188),1,0)","v":1},{"$f":"IF(AND($C188<=R$1,Negyedéves!R$1<Paraméterek!$C$11*4+$C188),1,0)","v":1},{"$f":"IF(AND($C188<=S$1,Negyedéves!S$1<Paraméterek!$C$11*4+$C188),1,0)","v":1},{"$f":"IF(AND($C188<=T$1,Negyedéves!T$1<Paraméterek!$C$11*4+$C188),1,0)","v":1},{"$f":"IF(AND($C188<=U$1,Negyedéves!U$1<Paraméterek!$C$11*4+$C188),1,0)","v":1},{"$f":"IF(AND($C188<=V$1,Negyedéves!V$1<Paraméterek!$C$11*4+$C188),1,0)","v":1},{"$f":"IF(AND($C188<=W$1,Negyedéves!W$1<Paraméterek!$C$11*4+$C188),1,0)","v":1},{"$f":"IF(AND($C188<=X$1,Negyedéves!X$1<Paraméterek!$C$11*4+$C188),1,0)","v":1},{"$f":"IF(AND($C188<=Y$1,Negyedéves!Y$1<Paraméterek!$C$11*4+$C188),1,0)","v":1},{"$f":"IF(AND($C188<=Z$1,Negyedéves!Z$1<Paraméterek!$C$11*4+$C188),1,0)","v":1},{"$f":"IF(AND($C188<=AA$1,Negyedéves!AA$1<Paraméterek!$C$11*4+$C188),1,0)","v":1},{"$f":"IF(AND($C188<=AB$1,Negyedéves!AB$1<Paraméterek!$C$11*4+$C188),1,0)","v":1},{"$f":"IF(AND($C188<=AC$1,Negyedéves!AC$1<Paraméterek!$C$11*4+$C188),1,0)","v":1},{"$f":"IF(AND($C188<=AD$1,Negyedéves!AD$1<Paraméterek!$C$11*4+$C188),1,0)","v":1},{"$f":"IF(AND($C188<=AE$1,Negyedéves!AE$1<Paraméterek!$C$11*4+$C188),1,0)","v":1},{"$f":"IF(AND($C188<=AF$1,Negyedéves!AF$1<Paraméterek!$C$11*4+$C188),1,0)","v":1},{"$f":"IF(AND($C188<=AG$1,Negyedéves!AG$1<Paraméterek!$C$11*4+$C188),1,0)","v":1},{"$f":"IF(AND($C188<=AH$1,Negyedéves!AH$1<Paraméterek!$C$11*4+$C188),1,0)","v":1},{"$f":"IF(AND($C188<=AI$1,Negyedéves!AI$1<Paraméterek!$C$11*4+$C188),1,0)","v":1},{"$f":"IF(AND($C188<=AJ$1,Negyedéves!AJ$1<Paraméterek!$C$11*4+$C188),1,0)","v":1},{"$f":"IF(AND($C188<=AK$1,Negyedéves!AK$1<Paraméterek!$C$11*4+$C188),1,0)","v":1},{"$f":"IF(AND($C188<=AL$1,Negyedéves!AL$1<Paraméterek!$C$11*4+$C188),1,0)","v":1},{"$f":"IF(AND($C188<=AM$1,Negyedéves!AM$1<Paraméterek!$C$11*4+$C188),1,0)","v":0},{"$f":"IF(AND($C188<=AN$1,Negyedéves!AN$1<Paraméterek!$C$11*4+$C188),1,0)","v":0},{"$f":"IF(AND($C188<=AO$1,Negyedéves!AO$1<Paraméterek!$C$11*4+$C188),1,0)","v":0},{"$f":"IF(AND($C188<=AP$1,Negyedéves!AP$1<Paraméterek!$C$11*4+$C188),1,0)","v":0},{"$f":"IF(AND($C188<=AQ$1,Negyedéves!AQ$1<Paraméterek!$C$11*4+$C188),1,0)","v":0},{"$f":"IF(AND($C188<=AR$1,Negyedéves!AR$1<Paraméterek!$C$11*4+$C188),1,0)","v":0},{"$f":"IF(AND($C188<=AS$1,Negyedéves!AS$1<Paraméterek!$C$11*4+$C188),1,0)","v":0},{"$f":"IF(AND($C188<=AT$1,Negyedéves!AT$1<Paraméterek!$C$11*4+$C188),1,0)","v":0},{"$f":"IF(AND($C188<=AU$1,Negyedéves!AU$1<Paraméterek!$C$11*4+$C188),1,0)","v":0},{"$f":"IF(AND($C188<=AV$1,Negyedéves!AV$1<Paraméterek!$C$11*4+$C188),1,0)","v":0},{"$f":"IF(AND($C188<=AW$1,Negyedéves!AW$1<Paraméterek!$C$11*4+$C188),1,0)","v":0},{"$f":"IF(AND($C188<=AX$1,Negyedéves!AX$1<Paraméterek!$C$11*4+$C188),1,0)","v":0},{"$f":"IF(AND($C188<=AY$1,Negyedéves!AY$1<Paraméterek!$C$11*4+$C188),1,0)","v":0},{"$f":"IF(AND($C188<=AZ$1,Negyedéves!AZ$1<Paraméterek!$C$11*4+$C188),1,0)","v":0},{"$f":"IF(AND($C188<=BA$1,Negyedéves!BA$1<Paraméterek!$C$11*4+$C188),1,0)","v":0},{"$f":"IF(AND($C188<=BB$1,Negyedéves!BB$1<Paraméterek!$C$11*4+$C188),1,0)","v":0},{"$f":"IF(AND($C188<=BC$1,Negyedéves!BC$1<Paraméterek!$C$11*4+$C188),1,0)","v":0},{"$f":"IF(AND($C188<=BD$1,Negyedéves!BD$1<Paraméterek!$C$11*4+$C188),1,0)","v":0},{"$f":"IF(AND($C188<=BE$1,Negyedéves!BE$1<Paraméterek!$C$11*4+$C188),1,0)","v":0},{"$f":"IF(AND($C188<=BF$1,Negyedéves!BF$1<Paraméterek!$C$11*4+$C188),1,0)","v":0},{"$f":"IF(AND($C188<=BG$1,Negyedéves!BG$1<Paraméterek!$C$11*4+$C188),1,0)","v":0},{"$f":"IF(AND($C188<=BH$1,Negyedéves!BH$1<Paraméterek!$C$11*4+$C188),1,0)","v":0},{"$f":"IF(AND($C188<=BI$1,Negyedéves!BI$1<Paraméterek!$C$11*4+$C188),1,0)","v":0},{"$f":"IF(AND($C188<=BJ$1,Negyedéves!BJ$1<Paraméterek!$C$11*4+$C188),1,0)","v":0},{"$f":"IF(AND($C188<=BK$1,Negyedéves!BK$1<Paraméterek!$C$11*4+$C188),1,0)","v":0},{"$f":"IF(AND($C188<=BL$1,Negyedéves!BL$1<Paraméterek!$C$11*4+$C188),1,0)","v":0},{"$f":"IF(AND($C188<=BM$1,Negyedéves!BM$1<Paraméterek!$C$11*4+$C188),1,0)","v":0},{"$f":"IF(AND($C188<=BN$1,Negyedéves!BN$1<Paraméterek!$C$11*4+$C188),1,0)","v":0},{"$f":"IF(AND($C188<=BO$1,Negyedéves!BO$1<Paraméterek!$C$11*4+$C188),1,0)","v":0},{"$f":"IF(AND($C188<=BP$1,Negyedéves!BP$1<Paraméterek!$C$11*4+$C188),1,0)","v":0},{"$f":"IF(AND($C188<=BQ$1,Negyedéves!BQ$1<Paraméterek!$C$11*4+$C188),1,0)","v":0},{"$f":"IF(AND($C188<=BR$1,Negyedéves!BR$1<Paraméterek!$C$11*4+$C188),1,0)","v":0},{"$f":"IF(AND($C188<=BS$1,Negyedéves!BS$1<Paraméterek!$C$11*4+$C188),1,0)","v":0},"x"]
[null,1045563.434008762,9,{"$f":"IF(AND($C189<=D$1,Negyedéves!D$1<Paraméterek!$C$11*4+$C189),1,0)","v":0},{"$f":"IF(AND($C189<=E$1,Negyedéves!E$1<Paraméterek!$C$11*4+$C189),1,0)","v":0},{"$f":"IF(AND($C189<=F$1,Negyedéves!F$1<Paraméterek!$C$11*4+$C189),1,0)","v":0},{"$f":"IF(AND($C189<=G$1,Negyedéves!G$1<Paraméterek!$C$11*4+$C189),1,0)","v":0},{"$f":"IF(AND($C189<=H$1,Negyedéves!H$1<Paraméterek!$C$11*4+$C189),1,0)","v":0},{"$f":"IF(AND($C189<=I$1,Negyedéves!I$1<Paraméterek!$C$11*4+$C189),1,0)","v":0},{"$f":"IF(AND($C189<=J$1,Negyedéves!J$1<Paraméterek!$C$11*4+$C189),1,0)","v":0},{"$f":"IF(AND($C189<=K$1,Negyedéves!K$1<Paraméterek!$C$11*4+$C189),1,0)","v":0},{"$f":"IF(AND($C189<=L$1,Negyedéves!L$1<Paraméterek!$C$11*4+$C189),1,0)","v":1},{"$f":"IF(AND($C189<=M$1,Negyedéves!M$1<Paraméterek!$C$11*4+$C189),1,0)","v":1},{"$f":"IF(AND($C189<=N$1,Negyedéves!N$1<Paraméterek!$C$11*4+$C189),1,0)","v":1},{"$f":"IF(AND($C189<=O$1,Negyedéves!O$1<Paraméterek!$C$11*4+$C189),1,0)","v":1},{"$f":"IF(AND($C189<=P$1,Negyedéves!P$1<Paraméterek!$C$11*4+$C189),1,0)","v":1},{"$f":"IF(AND($C189<=Q$1,Negyedéves!Q$1<Paraméterek!$C$11*4+$C189),1,0)","v":1},{"$f":"IF(AND($C189<=R$1,Negyedéves!R$1<Paraméterek!$C$11*4+$C189),1,0)","v":1},{"$f":"IF(AND($C189<=S$1,Negyedéves!S$1<Paraméterek!$C$11*4+$C189),1,0)","v":1},{"$f":"IF(AND($C189<=T$1,Negyedéves!T$1<Paraméterek!$C$11*4+$C189),1,0)","v":1},{"$f":"IF(AND($C189<=U$1,Negyedéves!U$1<Paraméterek!$C$11*4+$C189),1,0)","v":1},{"$f":"IF(AND($C189<=V$1,Negyedéves!V$1<Paraméterek!$C$11*4+$C189),1,0)","v":1},{"$f":"IF(AND($C189<=W$1,Negyedéves!W$1<Paraméterek!$C$11*4+$C189),1,0)","v":1},{"$f":"IF(AND($C189<=X$1,Negyedéves!X$1<Paraméterek!$C$11*4+$C189),1,0)","v":1},{"$f":"IF(AND($C189<=Y$1,Negyedéves!Y$1<Paraméterek!$C$11*4+$C189),1,0)","v":1},{"$f":"IF(AND($C189<=Z$1,Negyedéves!Z$1<Paraméterek!$C$11*4+$C189),1,0)","v":1},{"$f":"IF(AND($C189<=AA$1,Negyedéves!AA$1<Paraméterek!$C$11*4+$C189),1,0)","v":1},{"$f":"IF(AND($C189<=AB$1,Negyedéves!AB$1<Paraméterek!$C$11*4+$C189),1,0)","v":1},{"$f":"IF(AND($C189<=AC$1,Negyedéves!AC$1<Paraméterek!$C$11*4+$C189),1,0)","v":1},{"$f":"IF(AND($C189<=AD$1,Negyedéves!AD$1<Paraméterek!$C$11*4+$C189),1,0)","v":1},{"$f":"IF(AND($C189<=AE$1,Negyedéves!AE$1<Paraméterek!$C$11*4+$C189),1,0)","v":1},{"$f":"IF(AND($C189<=AF$1,Negyedéves!AF$1<Paraméterek!$C$11*4+$C189),1,0)","v":1},{"$f":"IF(AND($C189<=AG$1,Negyedéves!AG$1<Paraméterek!$C$11*4+$C189),1,0)","v":1},{"$f":"IF(AND($C189<=AH$1,Negyedéves!AH$1<Paraméterek!$C$11*4+$C189),1,0)","v":1},{"$f":"IF(AND($C189<=AI$1,Negyedéves!AI$1<Paraméterek!$C$11*4+$C189),1,0)","v":1},{"$f":"IF(AND($C189<=AJ$1,Negyedéves!AJ$1<Paraméterek!$C$11*4+$C189),1,0)","v":1},{"$f":"IF(AND($C189<=AK$1,Negyedéves!AK$1<Paraméterek!$C$11*4+$C189),1,0)","v":1},{"$f":"IF(AND($C189<=AL$1,Negyedéves!AL$1<Paraméterek!$C$11*4+$C189),1,0)","v":1},{"$f":"IF(AND($C189<=AM$1,Negyedéves!AM$1<Paraméterek!$C$11*4+$C189),1,0)","v":1},{"$f":"IF(AND($C189<=AN$1,Negyedéves!AN$1<Paraméterek!$C$11*4+$C189),1,0)","v":0},{"$f":"IF(AND($C189<=AO$1,Negyedéves!AO$1<Paraméterek!$C$11*4+$C189),1,0)","v":0},{"$f":"IF(AND($C189<=AP$1,Negyedéves!AP$1<Paraméterek!$C$11*4+$C189),1,0)","v":0},{"$f":"IF(AND($C189<=AQ$1,Negyedéves!AQ$1<Paraméterek!$C$11*4+$C189),1,0)","v":0},{"$f":"IF(AND($C189<=AR$1,Negyedéves!AR$1<Paraméterek!$C$11*4+$C189),1,0)","v":0},{"$f":"IF(AND($C189<=AS$1,Negyedéves!AS$1<Paraméterek!$C$11*4+$C189),1,0)","v":0},{"$f":"IF(AND($C189<=AT$1,Negyedéves!AT$1<Paraméterek!$C$11*4+$C189),1,0)","v":0},{"$f":"IF(AND($C189<=AU$1,Negyedéves!AU$1<Paraméterek!$C$11*4+$C189),1,0)","v":0},{"$f":"IF(AND($C189<=AV$1,Negyedéves!AV$1<Paraméterek!$C$11*4+$C189),1,0)","v":0},{"$f":"IF(AND($C189<=AW$1,Negyedéves!AW$1<Paraméterek!$C$11*4+$C189),1,0)","v":0},{"$f":"IF(AND($C189<=AX$1,Negyedéves!AX$1<Paraméterek!$C$11*4+$C189),1,0)","v":0},{"$f":"IF(AND($C189<=AY$1,Negyedéves!AY$1<Paraméterek!$C$11*4+$C189),1,0)","v":0},{"$f":"IF(AND($C189<=AZ$1,Negyedéves!AZ$1<Paraméterek!$C$11*4+$C189),1,0)","v":0},{"$f":"IF(AND($C189<=BA$1,Negyedéves!BA$1<Paraméterek!$C$11*4+$C189),1,0)","v":0},{"$f":"IF(AND($C189<=BB$1,Negyedéves!BB$1<Paraméterek!$C$11*4+$C189),1,0)","v":0},{"$f":"IF(AND($C189<=BC$1,Negyedéves!BC$1<Paraméterek!$C$11*4+$C189),1,0)","v":0},{"$f":"IF(AND($C189<=BD$1,Negyedéves!BD$1<Paraméterek!$C$11*4+$C189),1,0)","v":0},{"$f":"IF(AND($C189<=BE$1,Negyedéves!BE$1<Paraméterek!$C$11*4+$C189),1,0)","v":0},{"$f":"IF(AND($C189<=BF$1,Negyedéves!BF$1<Paraméterek!$C$11*4+$C189),1,0)","v":0},{"$f":"IF(AND($C189<=BG$1,Negyedéves!BG$1<Paraméterek!$C$11*4+$C189),1,0)","v":0},{"$f":"IF(AND($C189<=BH$1,Negyedéves!BH$1<Paraméterek!$C$11*4+$C189),1,0)","v":0},{"$f":"IF(AND($C189<=BI$1,Negyedéves!BI$1<Paraméterek!$C$11*4+$C189),1,0)","v":0},{"$f":"IF(AND($C189<=BJ$1,Negyedéves!BJ$1<Paraméterek!$C$11*4+$C189),1,0)","v":0},{"$f":"IF(AND($C189<=BK$1,Negyedéves!BK$1<Paraméterek!$C$11*4+$C189),1,0)","v":0},{"$f":"IF(AND($C189<=BL$1,Negyedéves!BL$1<Paraméterek!$C$11*4+$C189),1,0)","v":0},{"$f":"IF(AND($C189<=BM$1,Negyedéves!BM$1<Paraméterek!$C$11*4+$C189),1,0)","v":0},{"$f":"IF(AND($C189<=BN$1,Negyedéves!BN$1<Paraméterek!$C$11*4+$C189),1,0)","v":0},{"$f":"IF(AND($C189<=BO$1,Negyedéves!BO$1<Paraméterek!$C$11*4+$C189),1,0)","v":0},{"$f":"IF(AND($C189<=BP$1,Negyedéves!BP$1<Paraméterek!$C$11*4+$C189),1,0)","v":0},{"$f":"IF(AND($C189<=BQ$1,Negyedéves!BQ$1<Paraméterek!$C$11*4+$C189),1,0)","v":0},{"$f":"IF(AND($C189<=BR$1,Negyedéves!BR$1<Paraméterek!$C$11*4+$C189),1,0)","v":0},{"$f":"IF(AND($C189<=BS$1,Negyedéves!BS$1<Paraméterek!$C$11*4+$C189),1,0)","v":0},"x"]
[null,0,10,{"$f":"IF(AND($C190<=D$1,Negyedéves!D$1<Paraméterek!$C$11*4+$C190),1,0)","v":0},{"$f":"IF(AND($C190<=E$1,Negyedéves!E$1<Paraméterek!$C$11*4+$C190),1,0)","v":0},{"$f":"IF(AND($C190<=F$1,Negyedéves!F$1<Paraméterek!$C$11*4+$C190),1,0)","v":0},{"$f":"IF(AND($C190<=G$1,Negyedéves!G$1<Paraméterek!$C$11*4+$C190),1,0)","v":0},{"$f":"IF(AND($C190<=H$1,Negyedéves!H$1<Paraméterek!$C$11*4+$C190),1,0)","v":0},{"$f":"IF(AND($C190<=I$1,Negyedéves!I$1<Paraméterek!$C$11*4+$C190),1,0)","v":0},{"$f":"IF(AND($C190<=J$1,Negyedéves!J$1<Paraméterek!$C$11*4+$C190),1,0)","v":0},{"$f":"IF(AND($C190<=K$1,Negyedéves!K$1<Paraméterek!$C$11*4+$C190),1,0)","v":0},{"$f":"IF(AND($C190<=L$1,Negyedéves!L$1<Paraméterek!$C$11*4+$C190),1,0)","v":0},{"$f":"IF(AND($C190<=M$1,Negyedéves!M$1<Paraméterek!$C$11*4+$C190),1,0)","v":1},{"$f":"IF(AND($C190<=N$1,Negyedéves!N$1<Paraméterek!$C$11*4+$C190),1,0)","v":1},{"$f":"IF(AND($C190<=O$1,Negyedéves!O$1<Paraméterek!$C$11*4+$C190),1,0)","v":1},{"$f":"IF(AND($C190<=P$1,Negyedéves!P$1<Paraméterek!$C$11*4+$C190),1,0)","v":1},{"$f":"IF(AND($C190<=Q$1,Negyedéves!Q$1<Paraméterek!$C$11*4+$C190),1,0)","v":1},{"$f":"IF(AND($C190<=R$1,Negyedéves!R$1<Paraméterek!$C$11*4+$C190),1,0)","v":1},{"$f":"IF(AND($C190<=S$1,Negyedéves!S$1<Paraméterek!$C$11*4+$C190),1,0)","v":1},{"$f":"IF(AND($C190<=T$1,Negyedéves!T$1<Paraméterek!$C$11*4+$C190),1,0)","v":1},{"$f":"IF(AND($C190<=U$1,Negyedéves!U$1<Paraméterek!$C$11*4+$C190),1,0)","v":1},{"$f":"IF(AND($C190<=V$1,Negyedéves!V$1<Paraméterek!$C$11*4+$C190),1,0)","v":1},{"$f":"IF(AND($C190<=W$1,Negyedéves!W$1<Paraméterek!$C$11*4+$C190),1,0)","v":1},{"$f":"IF(AND($C190<=X$1,Negyedéves!X$1<Paraméterek!$C$11*4+$C190),1,0)","v":1},{"$f":"IF(AND($C190<=Y$1,Negyedéves!Y$1<Paraméterek!$C$11*4+$C190),1,0)","v":1},{"$f":"IF(AND($C190<=Z$1,Negyedéves!Z$1<Paraméterek!$C$11*4+$C190),1,0)","v":1},{"$f":"IF(AND($C190<=AA$1,Negyedéves!AA$1<Paraméterek!$C$11*4+$C190),1,0)","v":1},{"$f":"IF(AND($C190<=AB$1,Negyedéves!AB$1<Paraméterek!$C$11*4+$C190),1,0)","v":1},{"$f":"IF(AND($C190<=AC$1,Negyedéves!AC$1<Paraméterek!$C$11*4+$C190),1,0)","v":1},{"$f":"IF(AND($C190<=AD$1,Negyedéves!AD$1<Paraméterek!$C$11*4+$C190),1,0)","v":1},{"$f":"IF(AND($C190<=AE$1,Negyedéves!AE$1<Paraméterek!$C$11*4+$C190),1,0)","v":1},{"$f":"IF(AND($C190<=AF$1,Negyedéves!AF$1<Paraméterek!$C$11*4+$C190),1,0)","v":1},{"$f":"IF(AND($C190<=AG$1,Negyedéves!AG$1<Paraméterek!$C$11*4+$C190),1,0)","v":1},{"$f":"IF(AND($C190<=AH$1,Negyedéves!AH$1<Paraméterek!$C$11*4+$C190),1,0)","v":1},{"$f":"IF(AND($C190<=AI$1,Negyedéves!AI$1<Paraméterek!$C$11*4+$C190),1,0)","v":1},{"$f":"IF(AND($C190<=AJ$1,Negyedéves!AJ$1<Paraméterek!$C$11*4+$C190),1,0)","v":1},{"$f":"IF(AND($C190<=AK$1,Negyedéves!AK$1<Paraméterek!$C$11*4+$C190),1,0)","v":1},{"$f":"IF(AND($C190<=AL$1,Negyedéves!AL$1<Paraméterek!$C$11*4+$C190),1,0)","v":1},{"$f":"IF(AND($C190<=AM$1,Negyedéves!AM$1<Paraméterek!$C$11*4+$C190),1,0)","v":1},{"$f":"IF(AND($C190<=AN$1,Negyedéves!AN$1<Paraméterek!$C$11*4+$C190),1,0)","v":1},{"$f":"IF(AND($C190<=AO$1,Negyedéves!AO$1<Paraméterek!$C$11*4+$C190),1,0)","v":0},{"$f":"IF(AND($C190<=AP$1,Negyedéves!AP$1<Paraméterek!$C$11*4+$C190),1,0)","v":0},{"$f":"IF(AND($C190<=AQ$1,Negyedéves!AQ$1<Paraméterek!$C$11*4+$C190),1,0)","v":0},{"$f":"IF(AND($C190<=AR$1,Negyedéves!AR$1<Paraméterek!$C$11*4+$C190),1,0)","v":0},{"$f":"IF(AND($C190<=AS$1,Negyedéves!AS$1<Paraméterek!$C$11*4+$C190),1,0)","v":0},{"$f":"IF(AND($C190<=AT$1,Negyedéves!AT$1<Paraméterek!$C$11*4+$C190),1,0)","v":0},{"$f":"IF(AND($C190<=AU$1,Negyedéves!AU$1<Paraméterek!$C$11*4+$C190),1,0)","v":0},{"$f":"IF(AND($C190<=AV$1,Negyedéves!AV$1<Paraméterek!$C$11*4+$C190),1,0)","v":0},{"$f":"IF(AND($C190<=AW$1,Negyedéves!AW$1<Paraméterek!$C$11*4+$C190),1,0)","v":0},{"$f":"IF(AND($C190<=AX$1,Negyedéves!AX$1<Paraméterek!$C$11*4+$C190),1,0)","v":0},{"$f":"IF(AND($C190<=AY$1,Negyedéves!AY$1<Paraméterek!$C$11*4+$C190),1,0)","v":0},{"$f":"IF(AND($C190<=AZ$1,Negyedéves!AZ$1<Paraméterek!$C$11*4+$C190),1,0)","v":0},{"$f":"IF(AND($C190<=BA$1,Negyedéves!BA$1<Paraméterek!$C$11*4+$C190),1,0)","v":0},{"$f":"IF(AND($C190<=BB$1,Negyedéves!BB$1<Paraméterek!$C$11*4+$C190),1,0)","v":0},{"$f":"IF(AND($C190<=BC$1,Negyedéves!BC$1<Paraméterek!$C$11*4+$C190),1,0)","v":0},{"$f":"IF(AND($C190<=BD$1,Negyedéves!BD$1<Paraméterek!$C$11*4+$C190),1,0)","v":0},{"$f":"IF(AND($C190<=BE$1,Negyedéves!BE$1<Paraméterek!$C$11*4+$C190),1,0)","v":0},{"$f":"IF(AND($C190<=BF$1,Negyedéves!BF$1<Paraméterek!$C$11*4+$C190),1,0)","v":0},{"$f":"IF(AND($C190<=BG$1,Negyedéves!BG$1<Paraméterek!$C$11*4+$C190),1,0)","v":0},{"$f":"IF(AND($C190<=BH$1,Negyedéves!BH$1<Paraméterek!$C$11*4+$C190),1,0)","v":0},{"$f":"IF(AND($C190<=BI$1,Negyedéves!BI$1<Paraméterek!$C$11*4+$C190),1,0)","v":0},{"$f":"IF(AND($C190<=BJ$1,Negyedéves!BJ$1<Paraméterek!$C$11*4+$C190),1,0)","v":0},{"$f":"IF(AND($C190<=BK$1,Negyedéves!BK$1<Paraméterek!$C$11*4+$C190),1,0)","v":0},{"$f":"IF(AND($C190<=BL$1,Negyedéves!BL$1<Paraméterek!$C$11*4+$C190),1,0)","v":0},{"$f":"IF(AND($C190<=BM$1,Negyedéves!BM$1<Paraméterek!$C$11*4+$C190),1,0)","v":0},{"$f":"IF(AND($C190<=BN$1,Negyedéves!BN$1<Paraméterek!$C$11*4+$C190),1,0)","v":0},{"$f":"IF(AND($C190<=BO$1,Negyedéves!BO$1<Paraméterek!$C$11*4+$C190),1,0)","v":0},{"$f":"IF(AND($C190<=BP$1,Negyedéves!BP$1<Paraméterek!$C$11*4+$C190),1,0)","v":0},{"$f":"IF(AND($C190<=BQ$1,Negyedéves!BQ$1<Paraméterek!$C$11*4+$C190),1,0)","v":0},{"$f":"IF(AND($C190<=BR$1,Negyedéves!BR$1<Paraméterek!$C$11*4+$C190),1,0)","v":0},{"$f":"IF(AND($C190<=BS$1,Negyedéves!BS$1<Paraméterek!$C$11*4+$C190),1,0)","v":0},"x"]
[null,0,11,{"$f":"IF(AND($C191<=D$1,Negyedéves!D$1<Paraméterek!$C$11*4+$C191),1,0)","v":0},{"$f":"IF(AND($C191<=E$1,Negyedéves!E$1<Paraméterek!$C$11*4+$C191),1,0)","v":0},{"$f":"IF(AND($C191<=F$1,Negyedéves!F$1<Paraméterek!$C$11*4+$C191),1,0)","v":0},{"$f":"IF(AND($C191<=G$1,Negyedéves!G$1<Paraméterek!$C$11*4+$C191),1,0)","v":0},{"$f":"IF(AND($C191<=H$1,Negyedéves!H$1<Paraméterek!$C$11*4+$C191),1,0)","v":0},{"$f":"IF(AND($C191<=I$1,Negyedéves!I$1<Paraméterek!$C$11*4+$C191),1,0)","v":0},{"$f":"IF(AND($C191<=J$1,Negyedéves!J$1<Paraméterek!$C$11*4+$C191),1,0)","v":0},{"$f":"IF(AND($C191<=K$1,Negyedéves!K$1<Paraméterek!$C$11*4+$C191),1,0)","v":0},{"$f":"IF(AND($C191<=L$1,Negyedéves!L$1<Paraméterek!$C$11*4+$C191),1,0)","v":0},{"$f":"IF(AND($C191<=M$1,Negyedéves!M$1<Paraméterek!$C$11*4+$C191),1,0)","v":0},{"$f":"IF(AND($C191<=N$1,Negyedéves!N$1<Paraméterek!$C$11*4+$C191),1,0)","v":1},{"$f":"IF(AND($C191<=O$1,Negyedéves!O$1<Paraméterek!$C$11*4+$C191),1,0)","v":1},{"$f":"IF(AND($C191<=P$1,Negyedéves!P$1<Paraméterek!$C$11*4+$C191),1,0)","v":1},{"$f":"IF(AND($C191<=Q$1,Negyedéves!Q$1<Paraméterek!$C$11*4+$C191),1,0)","v":1},{"$f":"IF(AND($C191<=R$1,Negyedéves!R$1<Paraméterek!$C$11*4+$C191),1,0)","v":1},{"$f":"IF(AND($C191<=S$1,Negyedéves!S$1<Paraméterek!$C$11*4+$C191),1,0)","v":1},{"$f":"IF(AND($C191<=T$1,Negyedéves!T$1<Paraméterek!$C$11*4+$C191),1,0)","v":1},{"$f":"IF(AND($C191<=U$1,Negyedéves!U$1<Paraméterek!$C$11*4+$C191),1,0)","v":1},{"$f":"IF(AND($C191<=V$1,Negyedéves!V$1<Paraméterek!$C$11*4+$C191),1,0)","v":1},{"$f":"IF(AND($C191<=W$1,Negyedéves!W$1<Paraméterek!$C$11*4+$C191),1,0)","v":1},{"$f":"IF(AND($C191<=X$1,Negyedéves!X$1<Paraméterek!$C$11*4+$C191),1,0)","v":1},{"$f":"IF(AND($C191<=Y$1,Negyedéves!Y$1<Paraméterek!$C$11*4+$C191),1,0)","v":1},{"$f":"IF(AND($C191<=Z$1,Negyedéves!Z$1<Paraméterek!$C$11*4+$C191),1,0)","v":1},{"$f":"IF(AND($C191<=AA$1,Negyedéves!AA$1<Paraméterek!$C$11*4+$C191),1,0)","v":1},{"$f":"IF(AND($C191<=AB$1,Negyedéves!AB$1<Paraméterek!$C$11*4+$C191),1,0)","v":1},{"$f":"IF(AND($C191<=AC$1,Negyedéves!AC$1<Paraméterek!$C$11*4+$C191),1,0)","v":1},{"$f":"IF(AND($C191<=AD$1,Negyedéves!AD$1<Paraméterek!$C$11*4+$C191),1,0)","v":1},{"$f":"IF(AND($C191<=AE$1,Negyedéves!AE$1<Paraméterek!$C$11*4+$C191),1,0)","v":1},{"$f":"IF(AND($C191<=AF$1,Negyedéves!AF$1<Paraméterek!$C$11*4+$C191),1,0)","v":1},{"$f":"IF(AND($C191<=AG$1,Negyedéves!AG$1<Paraméterek!$C$11*4+$C191),1,0)","v":1},{"$f":"IF(AND($C191<=AH$1,Negyedéves!AH$1<Paraméterek!$C$11*4+$C191),1,0)","v":1},{"$f":"IF(AND($C191<=AI$1,Negyedéves!AI$1<Paraméterek!$C$11*4+$C191),1,0)","v":1},{"$f":"IF(AND($C191<=AJ$1,Negyedéves!AJ$1<Paraméterek!$C$11*4+$C191),1,0)","v":1},{"$f":"IF(AND($C191<=AK$1,Negyedéves!AK$1<Paraméterek!$C$11*4+$C191),1,0)","v":1},{"$f":"IF(AND($C191<=AL$1,Negyedéves!AL$1<Paraméterek!$C$11*4+$C191),1,0)","v":1},{"$f":"IF(AND($C191<=AM$1,Negyedéves!AM$1<Paraméterek!$C$11*4+$C191),1,0)","v":1},{"$f":"IF(AND($C191<=AN$1,Negyedéves!AN$1<Paraméterek!$C$11*4+$C191),1,0)","v":1},{"$f":"IF(AND($C191<=AO$1,Negyedéves!AO$1<Paraméterek!$C$11*4+$C191),1,0)","v":1},{"$f":"IF(AND($C191<=AP$1,Negyedéves!AP$1<Paraméterek!$C$11*4+$C191),1,0)","v":0},{"$f":"IF(AND($C191<=AQ$1,Negyedéves!AQ$1<Paraméterek!$C$11*4+$C191),1,0)","v":0},{"$f":"IF(AND($C191<=AR$1,Negyedéves!AR$1<Paraméterek!$C$11*4+$C191),1,0)","v":0},{"$f":"IF(AND($C191<=AS$1,Negyedéves!AS$1<Paraméterek!$C$11*4+$C191),1,0)","v":0},{"$f":"IF(AND($C191<=AT$1,Negyedéves!AT$1<Paraméterek!$C$11*4+$C191),1,0)","v":0},{"$f":"IF(AND($C191<=AU$1,Negyedéves!AU$1<Paraméterek!$C$11*4+$C191),1,0)","v":0},{"$f":"IF(AND($C191<=AV$1,Negyedéves!AV$1<Paraméterek!$C$11*4+$C191),1,0)","v":0},{"$f":"IF(AND($C191<=AW$1,Negyedéves!AW$1<Paraméterek!$C$11*4+$C191),1,0)","v":0},{"$f":"IF(AND($C191<=AX$1,Negyedéves!AX$1<Paraméterek!$C$11*4+$C191),1,0)","v":0},{"$f":"IF(AND($C191<=AY$1,Negyedéves!AY$1<Paraméterek!$C$11*4+$C191),1,0)","v":0},{"$f":"IF(AND($C191<=AZ$1,Negyedéves!AZ$1<Paraméterek!$C$11*4+$C191),1,0)","v":0},{"$f":"IF(AND($C191<=BA$1,Negyedéves!BA$1<Paraméterek!$C$11*4+$C191),1,0)","v":0},{"$f":"IF(AND($C191<=BB$1,Negyedéves!BB$1<Paraméterek!$C$11*4+$C191),1,0)","v":0},{"$f":"IF(AND($C191<=BC$1,Negyedéves!BC$1<Paraméterek!$C$11*4+$C191),1,0)","v":0},{"$f":"IF(AND($C191<=BD$1,Negyedéves!BD$1<Paraméterek!$C$11*4+$C191),1,0)","v":0},{"$f":"IF(AND($C191<=BE$1,Negyedéves!BE$1<Paraméterek!$C$11*4+$C191),1,0)","v":0},{"$f":"IF(AND($C191<=BF$1,Negyedéves!BF$1<Paraméterek!$C$11*4+$C191),1,0)","v":0},{"$f":"IF(AND($C191<=BG$1,Negyedéves!BG$1<Paraméterek!$C$11*4+$C191),1,0)","v":0},{"$f":"IF(AND($C191<=BH$1,Negyedéves!BH$1<Paraméterek!$C$11*4+$C191),1,0)","v":0},{"$f":"IF(AND($C191<=BI$1,Negyedéves!BI$1<Paraméterek!$C$11*4+$C191),1,0)","v":0},{"$f":"IF(AND($C191<=BJ$1,Negyedéves!BJ$1<Paraméterek!$C$11*4+$C191),1,0)","v":0},{"$f":"IF(AND($C191<=BK$1,Negyedéves!BK$1<Paraméterek!$C$11*4+$C191),1,0)","v":0},{"$f":"IF(AND($C191<=BL$1,Negyedéves!BL$1<Paraméterek!$C$11*4+$C191),1,0)","v":0},{"$f":"IF(AND($C191<=BM$1,Negyedéves!BM$1<Paraméterek!$C$11*4+$C191),1,0)","v":0},{"$f":"IF(AND($C191<=BN$1,Negyedéves!BN$1<Paraméterek!$C$11*4+$C191),1,0)","v":0},{"$f":"IF(AND($C191<=BO$1,Negyedéves!BO$1<Paraméterek!$C$11*4+$C191),1,0)","v":0},{"$f":"IF(AND($C191<=BP$1,Negyedéves!BP$1<Paraméterek!$C$11*4+$C191),1,0)","v":0},{"$f":"IF(AND($C191<=BQ$1,Negyedéves!BQ$1<Paraméterek!$C$11*4+$C191),1,0)","v":0},{"$f":"IF(AND($C191<=BR$1,Negyedéves!BR$1<Paraméterek!$C$11*4+$C191),1,0)","v":0},{"$f":"IF(AND($C191<=BS$1,Negyedéves!BS$1<Paraméterek!$C$11*4+$C191),1,0)","v":0},"x"]
[null,0,12,{"$f":"IF(AND($C192<=D$1,Negyedéves!D$1<Paraméterek!$C$11*4+$C192),1,0)","v":0},{"$f":"IF(AND($C192<=E$1,Negyedéves!E$1<Paraméterek!$C$11*4+$C192),1,0)","v":0},{"$f":"IF(AND($C192<=F$1,Negyedéves!F$1<Paraméterek!$C$11*4+$C192),1,0)","v":0},{"$f":"IF(AND($C192<=G$1,Negyedéves!G$1<Paraméterek!$C$11*4+$C192),1,0)","v":0},{"$f":"IF(AND($C192<=H$1,Negyedéves!H$1<Paraméterek!$C$11*4+$C192),1,0)","v":0},{"$f":"IF(AND($C192<=I$1,Negyedéves!I$1<Paraméterek!$C$11*4+$C192),1,0)","v":0},{"$f":"IF(AND($C192<=J$1,Negyedéves!J$1<Paraméterek!$C$11*4+$C192),1,0)","v":0},{"$f":"IF(AND($C192<=K$1,Negyedéves!K$1<Paraméterek!$C$11*4+$C192),1,0)","v":0},{"$f":"IF(AND($C192<=L$1,Negyedéves!L$1<Paraméterek!$C$11*4+$C192),1,0)","v":0},{"$f":"IF(AND($C192<=M$1,Negyedéves!M$1<Paraméterek!$C$11*4+$C192),1,0)","v":0},{"$f":"IF(AND($C192<=N$1,Negyedéves!N$1<Paraméterek!$C$11*4+$C192),1,0)","v":0},{"$f":"IF(AND($C192<=O$1,Negyedéves!O$1<Paraméterek!$C$11*4+$C192),1,0)","v":1},{"$f":"IF(AND($C192<=P$1,Negyedéves!P$1<Paraméterek!$C$11*4+$C192),1,0)","v":1},{"$f":"IF(AND($C192<=Q$1,Negyedéves!Q$1<Paraméterek!$C$11*4+$C192),1,0)","v":1},{"$f":"IF(AND($C192<=R$1,Negyedéves!R$1<Paraméterek!$C$11*4+$C192),1,0)","v":1},{"$f":"IF(AND($C192<=S$1,Negyedéves!S$1<Paraméterek!$C$11*4+$C192),1,0)","v":1},{"$f":"IF(AND($C192<=T$1,Negyedéves!T$1<Paraméterek!$C$11*4+$C192),1,0)","v":1},{"$f":"IF(AND($C192<=U$1,Negyedéves!U$1<Paraméterek!$C$11*4+$C192),1,0)","v":1},{"$f":"IF(AND($C192<=V$1,Negyedéves!V$1<Paraméterek!$C$11*4+$C192),1,0)","v":1},{"$f":"IF(AND($C192<=W$1,Negyedéves!W$1<Paraméterek!$C$11*4+$C192),1,0)","v":1},{"$f":"IF(AND($C192<=X$1,Negyedéves!X$1<Paraméterek!$C$11*4+$C192),1,0)","v":1},{"$f":"IF(AND($C192<=Y$1,Negyedéves!Y$1<Paraméterek!$C$11*4+$C192),1,0)","v":1},{"$f":"IF(AND($C192<=Z$1,Negyedéves!Z$1<Paraméterek!$C$11*4+$C192),1,0)","v":1},{"$f":"IF(AND($C192<=AA$1,Negyedéves!AA$1<Paraméterek!$C$11*4+$C192),1,0)","v":1},{"$f":"IF(AND($C192<=AB$1,Negyedéves!AB$1<Paraméterek!$C$11*4+$C192),1,0)","v":1},{"$f":"IF(AND($C192<=AC$1,Negyedéves!AC$1<Paraméterek!$C$11*4+$C192),1,0)","v":1},{"$f":"IF(AND($C192<=AD$1,Negyedéves!AD$1<Paraméterek!$C$11*4+$C192),1,0)","v":1},{"$f":"IF(AND($C192<=AE$1,Negyedéves!AE$1<Paraméterek!$C$11*4+$C192),1,0)","v":1},{"$f":"IF(AND($C192<=AF$1,Negyedéves!AF$1<Paraméterek!$C$11*4+$C192),1,0)","v":1},{"$f":"IF(AND($C192<=AG$1,Negyedéves!AG$1<Paraméterek!$C$11*4+$C192),1,0)","v":1},{"$f":"IF(AND($C192<=AH$1,Negyedéves!AH$1<Paraméterek!$C$11*4+$C192),1,0)","v":1},{"$f":"IF(AND($C192<=AI$1,Negyedéves!AI$1<Paraméterek!$C$11*4+$C192),1,0)","v":1},{"$f":"IF(AND($C192<=AJ$1,Negyedéves!AJ$1<Paraméterek!$C$11*4+$C192),1,0)","v":1},{"$f":"IF(AND($C192<=AK$1,Negyedéves!AK$1<Paraméterek!$C$11*4+$C192),1,0)","v":1},{"$f":"IF(AND($C192<=AL$1,Negyedéves!AL$1<Paraméterek!$C$11*4+$C192),1,0)","v":1},{"$f":"IF(AND($C192<=AM$1,Negyedéves!AM$1<Paraméterek!$C$11*4+$C192),1,0)","v":1},{"$f":"IF(AND($C192<=AN$1,Negyedéves!AN$1<Paraméterek!$C$11*4+$C192),1,0)","v":1},{"$f":"IF(AND($C192<=AO$1,Negyedéves!AO$1<Paraméterek!$C$11*4+$C192),1,0)","v":1},{"$f":"IF(AND($C192<=AP$1,Negyedéves!AP$1<Paraméterek!$C$11*4+$C192),1,0)","v":1},{"$f":"IF(AND($C192<=AQ$1,Negyedéves!AQ$1<Paraméterek!$C$11*4+$C192),1,0)","v":0},{"$f":"IF(AND($C192<=AR$1,Negyedéves!AR$1<Paraméterek!$C$11*4+$C192),1,0)","v":0},{"$f":"IF(AND($C192<=AS$1,Negyedéves!AS$1<Paraméterek!$C$11*4+$C192),1,0)","v":0},{"$f":"IF(AND($C192<=AT$1,Negyedéves!AT$1<Paraméterek!$C$11*4+$C192),1,0)","v":0},{"$f":"IF(AND($C192<=AU$1,Negyedéves!AU$1<Paraméterek!$C$11*4+$C192),1,0)","v":0},{"$f":"IF(AND($C192<=AV$1,Negyedéves!AV$1<Paraméterek!$C$11*4+$C192),1,0)","v":0},{"$f":"IF(AND($C192<=AW$1,Negyedéves!AW$1<Paraméterek!$C$11*4+$C192),1,0)","v":0},{"$f":"IF(AND($C192<=AX$1,Negyedéves!AX$1<Paraméterek!$C$11*4+$C192),1,0)","v":0},{"$f":"IF(AND($C192<=AY$1,Negyedéves!AY$1<Paraméterek!$C$11*4+$C192),1,0)","v":0},{"$f":"IF(AND($C192<=AZ$1,Negyedéves!AZ$1<Paraméterek!$C$11*4+$C192),1,0)","v":0},{"$f":"IF(AND($C192<=BA$1,Negyedéves!BA$1<Paraméterek!$C$11*4+$C192),1,0)","v":0},{"$f":"IF(AND($C192<=BB$1,Negyedéves!BB$1<Paraméterek!$C$11*4+$C192),1,0)","v":0},{"$f":"IF(AND($C192<=BC$1,Negyedéves!BC$1<Paraméterek!$C$11*4+$C192),1,0)","v":0},{"$f":"IF(AND($C192<=BD$1,Negyedéves!BD$1<Paraméterek!$C$11*4+$C192),1,0)","v":0},{"$f":"IF(AND($C192<=BE$1,Negyedéves!BE$1<Paraméterek!$C$11*4+$C192),1,0)","v":0},{"$f":"IF(AND($C192<=BF$1,Negyedéves!BF$1<Paraméterek!$C$11*4+$C192),1,0)","v":0},{"$f":"IF(AND($C192<=BG$1,Negyedéves!BG$1<Paraméterek!$C$11*4+$C192),1,0)","v":0},{"$f":"IF(AND($C192<=BH$1,Negyedéves!BH$1<Paraméterek!$C$11*4+$C192),1,0)","v":0},{"$f":"IF(AND($C192<=BI$1,Negyedéves!BI$1<Paraméterek!$C$11*4+$C192),1,0)","v":0},{"$f":"IF(AND($C192<=BJ$1,Negyedéves!BJ$1<Paraméterek!$C$11*4+$C192),1,0)","v":0},{"$f":"IF(AND($C192<=BK$1,Negyedéves!BK$1<Paraméterek!$C$11*4+$C192),1,0)","v":0},{"$f":"IF(AND($C192<=BL$1,Negyedéves!BL$1<Paraméterek!$C$11*4+$C192),1,0)","v":0},{"$f":"IF(AND($C192<=BM$1,Negyedéves!BM$1<Paraméterek!$C$11*4+$C192),1,0)","v":0},{"$f":"IF(AND($C192<=BN$1,Negyedéves!BN$1<Paraméterek!$C$11*4+$C192),1,0)","v":0},{"$f":"IF(AND($C192<=BO$1,Negyedéves!BO$1<Paraméterek!$C$11*4+$C192),1,0)","v":0},{"$f":"IF(AND($C192<=BP$1,Negyedéves!BP$1<Paraméterek!$C$11*4+$C192),1,0)","v":0},{"$f":"IF(AND($C192<=BQ$1,Negyedéves!BQ$1<Paraméterek!$C$11*4+$C192),1,0)","v":0},{"$f":"IF(AND($C192<=BR$1,Negyedéves!BR$1<Paraméterek!$C$11*4+$C192),1,0)","v":0},{"$f":"IF(AND($C192<=BS$1,Negyedéves!BS$1<Paraméterek!$C$11*4+$C192),1,0)","v":0},"x"]
[null,1066474.7026889375,13,{"$f":"IF(AND($C193<=D$1,Negyedéves!D$1<Paraméterek!$C$11*4+$C193),1,0)","v":0},{"$f":"IF(AND($C193<=E$1,Negyedéves!E$1<Paraméterek!$C$11*4+$C193),1,0)","v":0},{"$f":"IF(AND($C193<=F$1,Negyedéves!F$1<Paraméterek!$C$11*4+$C193),1,0)","v":0},{"$f":"IF(AND($C193<=G$1,Negyedéves!G$1<Paraméterek!$C$11*4+$C193),1,0)","v":0},{"$f":"IF(AND($C193<=H$1,Negyedéves!H$1<Paraméterek!$C$11*4+$C193),1,0)","v":0},{"$f":"IF(AND($C193<=I$1,Negyedéves!I$1<Paraméterek!$C$11*4+$C193),1,0)","v":0},{"$f":"IF(AND($C193<=J$1,Negyedéves!J$1<Paraméterek!$C$11*4+$C193),1,0)","v":0},{"$f":"IF(AND($C193<=K$1,Negyedéves!K$1<Paraméterek!$C$11*4+$C193),1,0)","v":0},{"$f":"IF(AND($C193<=L$1,Negyedéves!L$1<Paraméterek!$C$11*4+$C193),1,0)","v":0},{"$f":"IF(AND($C193<=M$1,Negyedéves!M$1<Paraméterek!$C$11*4+$C193),1,0)","v":0},{"$f":"IF(AND($C193<=N$1,Negyedéves!N$1<Paraméterek!$C$11*4+$C193),1,0)","v":0},{"$f":"IF(AND($C193<=O$1,Negyedéves!O$1<Paraméterek!$C$11*4+$C193),1,0)","v":0},{"$f":"IF(AND($C193<=P$1,Negyedéves!P$1<Paraméterek!$C$11*4+$C193),1,0)","v":1},{"$f":"IF(AND($C193<=Q$1,Negyedéves!Q$1<Paraméterek!$C$11*4+$C193),1,0)","v":1},{"$f":"IF(AND($C193<=R$1,Negyedéves!R$1<Paraméterek!$C$11*4+$C193),1,0)","v":1},{"$f":"IF(AND($C193<=S$1,Negyedéves!S$1<Paraméterek!$C$11*4+$C193),1,0)","v":1},{"$f":"IF(AND($C193<=T$1,Negyedéves!T$1<Paraméterek!$C$11*4+$C193),1,0)","v":1},{"$f":"IF(AND($C193<=U$1,Negyedéves!U$1<Paraméterek!$C$11*4+$C193),1,0)","v":1},{"$f":"IF(AND($C193<=V$1,Negyedéves!V$1<Paraméterek!$C$11*4+$C193),1,0)","v":1},{"$f":"IF(AND($C193<=W$1,Negyedéves!W$1<Paraméterek!$C$11*4+$C193),1,0)","v":1},{"$f":"IF(AND($C193<=X$1,Negyedéves!X$1<Paraméterek!$C$11*4+$C193),1,0)","v":1},{"$f":"IF(AND($C193<=Y$1,Negyedéves!Y$1<Paraméterek!$C$11*4+$C193),1,0)","v":1},{"$f":"IF(AND($C193<=Z$1,Negyedéves!Z$1<Paraméterek!$C$11*4+$C193),1,0)","v":1},{"$f":"IF(AND($C193<=AA$1,Negyedéves!AA$1<Paraméterek!$C$11*4+$C193),1,0)","v":1},{"$f":"IF(AND($C193<=AB$1,Negyedéves!AB$1<Paraméterek!$C$11*4+$C193),1,0)","v":1},{"$f":"IF(AND($C193<=AC$1,Negyedéves!AC$1<Paraméterek!$C$11*4+$C193),1,0)","v":1},{"$f":"IF(AND($C193<=AD$1,Negyedéves!AD$1<Paraméterek!$C$11*4+$C193),1,0)","v":1},{"$f":"IF(AND($C193<=AE$1,Negyedéves!AE$1<Paraméterek!$C$11*4+$C193),1,0)","v":1},{"$f":"IF(AND($C193<=AF$1,Negyedéves!AF$1<Paraméterek!$C$11*4+$C193),1,0)","v":1},{"$f":"IF(AND($C193<=AG$1,Negyedéves!AG$1<Paraméterek!$C$11*4+$C193),1,0)","v":1},{"$f":"IF(AND($C193<=AH$1,Negyedéves!AH$1<Paraméterek!$C$11*4+$C193),1,0)","v":1},{"$f":"IF(AND($C193<=AI$1,Negyedéves!AI$1<Paraméterek!$C$11*4+$C193),1,0)","v":1},{"$f":"IF(AND($C193<=AJ$1,Negyedéves!AJ$1<Paraméterek!$C$11*4+$C193),1,0)","v":1},{"$f":"IF(AND($C193<=AK$1,Negyedéves!AK$1<Paraméterek!$C$11*4+$C193),1,0)","v":1},{"$f":"IF(AND($C193<=AL$1,Negyedéves!AL$1<Paraméterek!$C$11*4+$C193),1,0)","v":1},{"$f":"IF(AND($C193<=AM$1,Negyedéves!AM$1<Paraméterek!$C$11*4+$C193),1,0)","v":1},{"$f":"IF(AND($C193<=AN$1,Negyedéves!AN$1<Paraméterek!$C$11*4+$C193),1,0)","v":1},{"$f":"IF(AND($C193<=AO$1,Negyedéves!AO$1<Paraméterek!$C$11*4+$C193),1,0)","v":1},{"$f":"IF(AND($C193<=AP$1,Negyedéves!AP$1<Paraméterek!$C$11*4+$C193),1,0)","v":1},{"$f":"IF(AND($C193<=AQ$1,Negyedéves!AQ$1<Paraméterek!$C$11*4+$C193),1,0)","v":1},{"$f":"IF(AND($C193<=AR$1,Negyedéves!AR$1<Paraméterek!$C$11*4+$C193),1,0)","v":0},{"$f":"IF(AND($C193<=AS$1,Negyedéves!AS$1<Paraméterek!$C$11*4+$C193),1,0)","v":0},{"$f":"IF(AND($C193<=AT$1,Negyedéves!AT$1<Paraméterek!$C$11*4+$C193),1,0)","v":0},{"$f":"IF(AND($C193<=AU$1,Negyedéves!AU$1<Paraméterek!$C$11*4+$C193),1,0)","v":0},{"$f":"IF(AND($C193<=AV$1,Negyedéves!AV$1<Paraméterek!$C$11*4+$C193),1,0)","v":0},{"$f":"IF(AND($C193<=AW$1,Negyedéves!AW$1<Paraméterek!$C$11*4+$C193),1,0)","v":0},{"$f":"IF(AND($C193<=AX$1,Negyedéves!AX$1<Paraméterek!$C$11*4+$C193),1,0)","v":0},{"$f":"IF(AND($C193<=AY$1,Negyedéves!AY$1<Paraméterek!$C$11*4+$C193),1,0)","v":0},{"$f":"IF(AND($C193<=AZ$1,Negyedéves!AZ$1<Paraméterek!$C$11*4+$C193),1,0)","v":0},{"$f":"IF(AND($C193<=BA$1,Negyedéves!BA$1<Paraméterek!$C$11*4+$C193),1,0)","v":0},{"$f":"IF(AND($C193<=BB$1,Negyedéves!BB$1<Paraméterek!$C$11*4+$C193),1,0)","v":0},{"$f":"IF(AND($C193<=BC$1,Negyedéves!BC$1<Paraméterek!$C$11*4+$C193),1,0)","v":0},{"$f":"IF(AND($C193<=BD$1,Negyedéves!BD$1<Paraméterek!$C$11*4+$C193),1,0)","v":0},{"$f":"IF(AND($C193<=BE$1,Negyedéves!BE$1<Paraméterek!$C$11*4+$C193),1,0)","v":0},{"$f":"IF(AND($C193<=BF$1,Negyedéves!BF$1<Paraméterek!$C$11*4+$C193),1,0)","v":0},{"$f":"IF(AND($C193<=BG$1,Negyedéves!BG$1<Paraméterek!$C$11*4+$C193),1,0)","v":0},{"$f":"IF(AND($C193<=BH$1,Negyedéves!BH$1<Paraméterek!$C$11*4+$C193),1,0)","v":0},{"$f":"IF(AND($C193<=BI$1,Negyedéves!BI$1<Paraméterek!$C$11*4+$C193),1,0)","v":0},{"$f":"IF(AND($C193<=BJ$1,Negyedéves!BJ$1<Paraméterek!$C$11*4+$C193),1,0)","v":0},{"$f":"IF(AND($C193<=BK$1,Negyedéves!BK$1<Paraméterek!$C$11*4+$C193),1,0)","v":0},{"$f":"IF(AND($C193<=BL$1,Negyedéves!BL$1<Paraméterek!$C$11*4+$C193),1,0)","v":0},{"$f":"IF(AND($C193<=BM$1,Negyedéves!BM$1<Paraméterek!$C$11*4+$C193),1,0)","v":0},{"$f":"IF(AND($C193<=BN$1,Negyedéves!BN$1<Paraméterek!$C$11*4+$C193),1,0)","v":0},{"$f":"IF(AND($C193<=BO$1,Negyedéves!BO$1<Paraméterek!$C$11*4+$C193),1,0)","v":0},{"$f":"IF(AND($C193<=BP$1,Negyedéves!BP$1<Paraméterek!$C$11*4+$C193),1,0)","v":0},{"$f":"IF(AND($C193<=BQ$1,Negyedéves!BQ$1<Paraméterek!$C$11*4+$C193),1,0)","v":0},{"$f":"IF(AND($C193<=BR$1,Negyedéves!BR$1<Paraméterek!$C$11*4+$C193),1,0)","v":0},{"$f":"IF(AND($C193<=BS$1,Negyedéves!BS$1<Paraméterek!$C$11*4+$C193),1,0)","v":0},"x"]
[null,0,14,{"$f":"IF(AND($C194<=D$1,Negyedéves!D$1<Paraméterek!$C$11*4+$C194),1,0)","v":0},{"$f":"IF(AND($C194<=E$1,Negyedéves!E$1<Paraméterek!$C$11*4+$C194),1,0)","v":0},{"$f":"IF(AND($C194<=F$1,Negyedéves!F$1<Paraméterek!$C$11*4+$C194),1,0)","v":0},{"$f":"IF(AND($C194<=G$1,Negyedéves!G$1<Paraméterek!$C$11*4+$C194),1,0)","v":0},{"$f":"IF(AND($C194<=H$1,Negyedéves!H$1<Paraméterek!$C$11*4+$C194),1,0)","v":0},{"$f":"IF(AND($C194<=I$1,Negyedéves!I$1<Paraméterek!$C$11*4+$C194),1,0)","v":0},{"$f":"IF(AND($C194<=J$1,Negyedéves!J$1<Paraméterek!$C$11*4+$C194),1,0)","v":0},{"$f":"IF(AND($C194<=K$1,Negyedéves!K$1<Paraméterek!$C$11*4+$C194),1,0)","v":0},{"$f":"IF(AND($C194<=L$1,Negyedéves!L$1<Paraméterek!$C$11*4+$C194),1,0)","v":0},{"$f":"IF(AND($C194<=M$1,Negyedéves!M$1<Paraméterek!$C$11*4+$C194),1,0)","v":0},{"$f":"IF(AND($C194<=N$1,Negyedéves!N$1<Paraméterek!$C$11*4+$C194),1,0)","v":0},{"$f":"IF(AND($C194<=O$1,Negyedéves!O$1<Paraméterek!$C$11*4+$C194),1,0)","v":0},{"$f":"IF(AND($C194<=P$1,Negyedéves!P$1<Paraméterek!$C$11*4+$C194),1,0)","v":0},{"$f":"IF(AND($C194<=Q$1,Negyedéves!Q$1<Paraméterek!$C$11*4+$C194),1,0)","v":1},{"$f":"IF(AND($C194<=R$1,Negyedéves!R$1<Paraméterek!$C$11*4+$C194),1,0)","v":1},{"$f":"IF(AND($C194<=S$1,Negyedéves!S$1<Paraméterek!$C$11*4+$C194),1,0)","v":1},{"$f":"IF(AND($C194<=T$1,Negyedéves!T$1<Paraméterek!$C$11*4+$C194),1,0)","v":1},{"$f":"IF(AND($C194<=U$1,Negyedéves!U$1<Paraméterek!$C$11*4+$C194),1,0)","v":1},{"$f":"IF(AND($C194<=V$1,Negyedéves!V$1<Paraméterek!$C$11*4+$C194),1,0)","v":1},{"$f":"IF(AND($C194<=W$1,Negyedéves!W$1<Paraméterek!$C$11*4+$C194),1,0)","v":1},{"$f":"IF(AND($C194<=X$1,Negyedéves!X$1<Paraméterek!$C$11*4+$C194),1,0)","v":1},{"$f":"IF(AND($C194<=Y$1,Negyedéves!Y$1<Paraméterek!$C$11*4+$C194),1,0)","v":1},{"$f":"IF(AND($C194<=Z$1,Negyedéves!Z$1<Paraméterek!$C$11*4+$C194),1,0)","v":1},{"$f":"IF(AND($C194<=AA$1,Negyedéves!AA$1<Paraméterek!$C$11*4+$C194),1,0)","v":1},{"$f":"IF(AND($C194<=AB$1,Negyedéves!AB$1<Paraméterek!$C$11*4+$C194),1,0)","v":1},{"$f":"IF(AND($C194<=AC$1,Negyedéves!AC$1<Paraméterek!$C$11*4+$C194),1,0)","v":1},{"$f":"IF(AND($C194<=AD$1,Negyedéves!AD$1<Paraméterek!$C$11*4+$C194),1,0)","v":1},{"$f":"IF(AND($C194<=AE$1,Negyedéves!AE$1<Paraméterek!$C$11*4+$C194),1,0)","v":1},{"$f":"IF(AND($C194<=AF$1,Negyedéves!AF$1<Paraméterek!$C$11*4+$C194),1,0)","v":1},{"$f":"IF(AND($C194<=AG$1,Negyedéves!AG$1<Paraméterek!$C$11*4+$C194),1,0)","v":1},{"$f":"IF(AND($C194<=AH$1,Negyedéves!AH$1<Paraméterek!$C$11*4+$C194),1,0)","v":1},{"$f":"IF(AND($C194<=AI$1,Negyedéves!AI$1<Paraméterek!$C$11*4+$C194),1,0)","v":1},{"$f":"IF(AND($C194<=AJ$1,Negyedéves!AJ$1<Paraméterek!$C$11*4+$C194),1,0)","v":1},{"$f":"IF(AND($C194<=AK$1,Negyedéves!AK$1<Paraméterek!$C$11*4+$C194),1,0)","v":1},{"$f":"IF(AND($C194<=AL$1,Negyedéves!AL$1<Paraméterek!$C$11*4+$C194),1,0)","v":1},{"$f":"IF(AND($C194<=AM$1,Negyedéves!AM$1<Paraméterek!$C$11*4+$C194),1,0)","v":1},{"$f":"IF(AND($C194<=AN$1,Negyedéves!AN$1<Paraméterek!$C$11*4+$C194),1,0)","v":1},{"$f":"IF(AND($C194<=AO$1,Negyedéves!AO$1<Paraméterek!$C$11*4+$C194),1,0)","v":1},{"$f":"IF(AND($C194<=AP$1,Negyedéves!AP$1<Paraméterek!$C$11*4+$C194),1,0)","v":1},{"$f":"IF(AND($C194<=AQ$1,Negyedéves!AQ$1<Paraméterek!$C$11*4+$C194),1,0)","v":1},{"$f":"IF(AND($C194<=AR$1,Negyedéves!AR$1<Paraméterek!$C$11*4+$C194),1,0)","v":1},{"$f":"IF(AND($C194<=AS$1,Negyedéves!AS$1<Paraméterek!$C$11*4+$C194),1,0)","v":0},{"$f":"IF(AND($C194<=AT$1,Negyedéves!AT$1<Paraméterek!$C$11*4+$C194),1,0)","v":0},{"$f":"IF(AND($C194<=AU$1,Negyedéves!AU$1<Paraméterek!$C$11*4+$C194),1,0)","v":0},{"$f":"IF(AND($C194<=AV$1,Negyedéves!AV$1<Paraméterek!$C$11*4+$C194),1,0)","v":0},{"$f":"IF(AND($C194<=AW$1,Negyedéves!AW$1<Paraméterek!$C$11*4+$C194),1,0)","v":0},{"$f":"IF(AND($C194<=AX$1,Negyedéves!AX$1<Paraméterek!$C$11*4+$C194),1,0)","v":0},{"$f":"IF(AND($C194<=AY$1,Negyedéves!AY$1<Paraméterek!$C$11*4+$C194),1,0)","v":0},{"$f":"IF(AND($C194<=AZ$1,Negyedéves!AZ$1<Paraméterek!$C$11*4+$C194),1,0)","v":0},{"$f":"IF(AND($C194<=BA$1,Negyedéves!BA$1<Paraméterek!$C$11*4+$C194),1,0)","v":0},{"$f":"IF(AND($C194<=BB$1,Negyedéves!BB$1<Paraméterek!$C$11*4+$C194),1,0)","v":0},{"$f":"IF(AND($C194<=BC$1,Negyedéves!BC$1<Paraméterek!$C$11*4+$C194),1,0)","v":0},{"$f":"IF(AND($C194<=BD$1,Negyedéves!BD$1<Paraméterek!$C$11*4+$C194),1,0)","v":0},{"$f":"IF(AND($C194<=BE$1,Negyedéves!BE$1<Paraméterek!$C$11*4+$C194),1,0)","v":0},{"$f":"IF(AND($C194<=BF$1,Negyedéves!BF$1<Paraméterek!$C$11*4+$C194),1,0)","v":0},{"$f":"IF(AND($C194<=BG$1,Negyedéves!BG$1<Paraméterek!$C$11*4+$C194),1,0)","v":0},{"$f":"IF(AND($C194<=BH$1,Negyedéves!BH$1<Paraméterek!$C$11*4+$C194),1,0)","v":0},{"$f":"IF(AND($C194<=BI$1,Negyedéves!BI$1<Paraméterek!$C$11*4+$C194),1,0)","v":0},{"$f":"IF(AND($C194<=BJ$1,Negyedéves!BJ$1<Paraméterek!$C$11*4+$C194),1,0)","v":0},{"$f":"IF(AND($C194<=BK$1,Negyedéves!BK$1<Paraméterek!$C$11*4+$C194),1,0)","v":0},{"$f":"IF(AND($C194<=BL$1,Negyedéves!BL$1<Paraméterek!$C$11*4+$C194),1,0)","v":0},{"$f":"IF(AND($C194<=BM$1,Negyedéves!BM$1<Paraméterek!$C$11*4+$C194),1,0)","v":0},{"$f":"IF(AND($C194<=BN$1,Negyedéves!BN$1<Paraméterek!$C$11*4+$C194),1,0)","v":0},{"$f":"IF(AND($C194<=BO$1,Negyedéves!BO$1<Paraméterek!$C$11*4+$C194),1,0)","v":0},{"$f":"IF(AND($C194<=BP$1,Negyedéves!BP$1<Paraméterek!$C$11*4+$C194),1,0)","v":0},{"$f":"IF(AND($C194<=BQ$1,Negyedéves!BQ$1<Paraméterek!$C$11*4+$C194),1,0)","v":0},{"$f":"IF(AND($C194<=BR$1,Negyedéves!BR$1<Paraméterek!$C$11*4+$C194),1,0)","v":0},{"$f":"IF(AND($C194<=BS$1,Negyedéves!BS$1<Paraméterek!$C$11*4+$C194),1,0)","v":0},"x"]
[null,0,15,{"$f":"IF(AND($C195<=D$1,Negyedéves!D$1<Paraméterek!$C$11*4+$C195),1,0)","v":0},{"$f":"IF(AND($C195<=E$1,Negyedéves!E$1<Paraméterek!$C$11*4+$C195),1,0)","v":0},{"$f":"IF(AND($C195<=F$1,Negyedéves!F$1<Paraméterek!$C$11*4+$C195),1,0)","v":0},{"$f":"IF(AND($C195<=G$1,Negyedéves!G$1<Paraméterek!$C$11*4+$C195),1,0)","v":0},{"$f":"IF(AND($C195<=H$1,Negyedéves!H$1<Paraméterek!$C$11*4+$C195),1,0)","v":0},{"$f":"IF(AND($C195<=I$1,Negyedéves!I$1<Paraméterek!$C$11*4+$C195),1,0)","v":0},{"$f":"IF(AND($C195<=J$1,Negyedéves!J$1<Paraméterek!$C$11*4+$C195),1,0)","v":0},{"$f":"IF(AND($C195<=K$1,Negyedéves!K$1<Paraméterek!$C$11*4+$C195),1,0)","v":0},{"$f":"IF(AND($C195<=L$1,Negyedéves!L$1<Paraméterek!$C$11*4+$C195),1,0)","v":0},{"$f":"IF(AND($C195<=M$1,Negyedéves!M$1<Paraméterek!$C$11*4+$C195),1,0)","v":0},{"$f":"IF(AND($C195<=N$1,Negyedéves!N$1<Paraméterek!$C$11*4+$C195),1,0)","v":0},{"$f":"IF(AND($C195<=O$1,Negyedéves!O$1<Paraméterek!$C$11*4+$C195),1,0)","v":0},{"$f":"IF(AND($C195<=P$1,Negyedéves!P$1<Paraméterek!$C$11*4+$C195),1,0)","v":0},{"$f":"IF(AND($C195<=Q$1,Negyedéves!Q$1<Paraméterek!$C$11*4+$C195),1,0)","v":0},{"$f":"IF(AND($C195<=R$1,Negyedéves!R$1<Paraméterek!$C$11*4+$C195),1,0)","v":1},{"$f":"IF(AND($C195<=S$1,Negyedéves!S$1<Paraméterek!$C$11*4+$C195),1,0)","v":1},{"$f":"IF(AND($C195<=T$1,Negyedéves!T$1<Paraméterek!$C$11*4+$C195),1,0)","v":1},{"$f":"IF(AND($C195<=U$1,Negyedéves!U$1<Paraméterek!$C$11*4+$C195),1,0)","v":1},{"$f":"IF(AND($C195<=V$1,Negyedéves!V$1<Paraméterek!$C$11*4+$C195),1,0)","v":1},{"$f":"IF(AND($C195<=W$1,Negyedéves!W$1<Paraméterek!$C$11*4+$C195),1,0)","v":1},{"$f":"IF(AND($C195<=X$1,Negyedéves!X$1<Paraméterek!$C$11*4+$C195),1,0)","v":1},{"$f":"IF(AND($C195<=Y$1,Negyedéves!Y$1<Paraméterek!$C$11*4+$C195),1,0)","v":1},{"$f":"IF(AND($C195<=Z$1,Negyedéves!Z$1<Paraméterek!$C$11*4+$C195),1,0)","v":1},{"$f":"IF(AND($C195<=AA$1,Negyedéves!AA$1<Paraméterek!$C$11*4+$C195),1,0)","v":1},{"$f":"IF(AND($C195<=AB$1,Negyedéves!AB$1<Paraméterek!$C$11*4+$C195),1,0)","v":1},{"$f":"IF(AND($C195<=AC$1,Negyedéves!AC$1<Paraméterek!$C$11*4+$C195),1,0)","v":1},{"$f":"IF(AND($C195<=AD$1,Negyedéves!AD$1<Paraméterek!$C$11*4+$C195),1,0)","v":1},{"$f":"IF(AND($C195<=AE$1,Negyedéves!AE$1<Paraméterek!$C$11*4+$C195),1,0)","v":1},{"$f":"IF(AND($C195<=AF$1,Negyedéves!AF$1<Paraméterek!$C$11*4+$C195),1,0)","v":1},{"$f":"IF(AND($C195<=AG$1,Negyedéves!AG$1<Paraméterek!$C$11*4+$C195),1,0)","v":1},{"$f":"IF(AND($C195<=AH$1,Negyedéves!AH$1<Paraméterek!$C$11*4+$C195),1,0)","v":1},{"$f":"IF(AND($C195<=AI$1,Negyedéves!AI$1<Paraméterek!$C$11*4+$C195),1,0)","v":1},{"$f":"IF(AND($C195<=AJ$1,Negyedéves!AJ$1<Paraméterek!$C$11*4+$C195),1,0)","v":1},{"$f":"IF(AND($C195<=AK$1,Negyedéves!AK$1<Paraméterek!$C$11*4+$C195),1,0)","v":1},{"$f":"IF(AND($C195<=AL$1,Negyedéves!AL$1<Paraméterek!$C$11*4+$C195),1,0)","v":1},{"$f":"IF(AND($C195<=AM$1,Negyedéves!AM$1<Paraméterek!$C$11*4+$C195),1,0)","v":1},{"$f":"IF(AND($C195<=AN$1,Negyedéves!AN$1<Paraméterek!$C$11*4+$C195),1,0)","v":1},{"$f":"IF(AND($C195<=AO$1,Negyedéves!AO$1<Paraméterek!$C$11*4+$C195),1,0)","v":1},{"$f":"IF(AND($C195<=AP$1,Negyedéves!AP$1<Paraméterek!$C$11*4+$C195),1,0)","v":1},{"$f":"IF(AND($C195<=AQ$1,Negyedéves!AQ$1<Paraméterek!$C$11*4+$C195),1,0)","v":1},{"$f":"IF(AND($C195<=AR$1,Negyedéves!AR$1<Paraméterek!$C$11*4+$C195),1,0)","v":1},{"$f":"IF(AND($C195<=AS$1,Negyedéves!AS$1<Paraméterek!$C$11*4+$C195),1,0)","v":1},{"$f":"IF(AND($C195<=AT$1,Negyedéves!AT$1<Paraméterek!$C$11*4+$C195),1,0)","v":0},{"$f":"IF(AND($C195<=AU$1,Negyedéves!AU$1<Paraméterek!$C$11*4+$C195),1,0)","v":0},{"$f":"IF(AND($C195<=AV$1,Negyedéves!AV$1<Paraméterek!$C$11*4+$C195),1,0)","v":0},{"$f":"IF(AND($C195<=AW$1,Negyedéves!AW$1<Paraméterek!$C$11*4+$C195),1,0)","v":0},{"$f":"IF(AND($C195<=AX$1,Negyedéves!AX$1<Paraméterek!$C$11*4+$C195),1,0)","v":0},{"$f":"IF(AND($C195<=AY$1,Negyedéves!AY$1<Paraméterek!$C$11*4+$C195),1,0)","v":0},{"$f":"IF(AND($C195<=AZ$1,Negyedéves!AZ$1<Paraméterek!$C$11*4+$C195),1,0)","v":0},{"$f":"IF(AND($C195<=BA$1,Negyedéves!BA$1<Paraméterek!$C$11*4+$C195),1,0)","v":0},{"$f":"IF(AND($C195<=BB$1,Negyedéves!BB$1<Paraméterek!$C$11*4+$C195),1,0)","v":0},{"$f":"IF(AND($C195<=BC$1,Negyedéves!BC$1<Paraméterek!$C$11*4+$C195),1,0)","v":0},{"$f":"IF(AND($C195<=BD$1,Negyedéves!BD$1<Paraméterek!$C$11*4+$C195),1,0)","v":0},{"$f":"IF(AND($C195<=BE$1,Negyedéves!BE$1<Paraméterek!$C$11*4+$C195),1,0)","v":0},{"$f":"IF(AND($C195<=BF$1,Negyedéves!BF$1<Paraméterek!$C$11*4+$C195),1,0)","v":0},{"$f":"IF(AND($C195<=BG$1,Negyedéves!BG$1<Paraméterek!$C$11*4+$C195),1,0)","v":0},{"$f":"IF(AND($C195<=BH$1,Negyedéves!BH$1<Paraméterek!$C$11*4+$C195),1,0)","v":0},{"$f":"IF(AND($C195<=BI$1,Negyedéves!BI$1<Paraméterek!$C$11*4+$C195),1,0)","v":0},{"$f":"IF(AND($C195<=BJ$1,Negyedéves!BJ$1<Paraméterek!$C$11*4+$C195),1,0)","v":0},{"$f":"IF(AND($C195<=BK$1,Negyedéves!BK$1<Paraméterek!$C$11*4+$C195),1,0)","v":0},{"$f":"IF(AND($C195<=BL$1,Negyedéves!BL$1<Paraméterek!$C$11*4+$C195),1,0)","v":0},{"$f":"IF(AND($C195<=BM$1,Negyedéves!BM$1<Paraméterek!$C$11*4+$C195),1,0)","v":0},{"$f":"IF(AND($C195<=BN$1,Negyedéves!BN$1<Paraméterek!$C$11*4+$C195),1,0)","v":0},{"$f":"IF(AND($C195<=BO$1,Negyedéves!BO$1<Paraméterek!$C$11*4+$C195),1,0)","v":0},{"$f":"IF(AND($C195<=BP$1,Negyedéves!BP$1<Paraméterek!$C$11*4+$C195),1,0)","v":0},{"$f":"IF(AND($C195<=BQ$1,Negyedéves!BQ$1<Paraméterek!$C$11*4+$C195),1,0)","v":0},{"$f":"IF(AND($C195<=BR$1,Negyedéves!BR$1<Paraméterek!$C$11*4+$C195),1,0)","v":0},{"$f":"IF(AND($C195<=BS$1,Negyedéves!BS$1<Paraméterek!$C$11*4+$C195),1,0)","v":0},"x"]
[null,0,16,{"$f":"IF(AND($C196<=D$1,Negyedéves!D$1<Paraméterek!$C$11*4+$C196),1,0)","v":0},{"$f":"IF(AND($C196<=E$1,Negyedéves!E$1<Paraméterek!$C$11*4+$C196),1,0)","v":0},{"$f":"IF(AND($C196<=F$1,Negyedéves!F$1<Paraméterek!$C$11*4+$C196),1,0)","v":0},{"$f":"IF(AND($C196<=G$1,Negyedéves!G$1<Paraméterek!$C$11*4+$C196),1,0)","v":0},{"$f":"IF(AND($C196<=H$1,Negyedéves!H$1<Paraméterek!$C$11*4+$C196),1,0)","v":0},{"$f":"IF(AND($C196<=I$1,Negyedéves!I$1<Paraméterek!$C$11*4+$C196),1,0)","v":0},{"$f":"IF(AND($C196<=J$1,Negyedéves!J$1<Paraméterek!$C$11*4+$C196),1,0)","v":0},{"$f":"IF(AND($C196<=K$1,Negyedéves!K$1<Paraméterek!$C$11*4+$C196),1,0)","v":0},{"$f":"IF(AND($C196<=L$1,Negyedéves!L$1<Paraméterek!$C$11*4+$C196),1,0)","v":0},{"$f":"IF(AND($C196<=M$1,Negyedéves!M$1<Paraméterek!$C$11*4+$C196),1,0)","v":0},{"$f":"IF(AND($C196<=N$1,Negyedéves!N$1<Paraméterek!$C$11*4+$C196),1,0)","v":0},{"$f":"IF(AND($C196<=O$1,Negyedéves!O$1<Paraméterek!$C$11*4+$C196),1,0)","v":0},{"$f":"IF(AND($C196<=P$1,Negyedéves!P$1<Paraméterek!$C$11*4+$C196),1,0)","v":0},{"$f":"IF(AND($C196<=Q$1,Negyedéves!Q$1<Paraméterek!$C$11*4+$C196),1,0)","v":0},{"$f":"IF(AND($C196<=R$1,Negyedéves!R$1<Paraméterek!$C$11*4+$C196),1,0)","v":0},{"$f":"IF(AND($C196<=S$1,Negyedéves!S$1<Paraméterek!$C$11*4+$C196),1,0)","v":1},{"$f":"IF(AND($C196<=T$1,Negyedéves!T$1<Paraméterek!$C$11*4+$C196),1,0)","v":1},{"$f":"IF(AND($C196<=U$1,Negyedéves!U$1<Paraméterek!$C$11*4+$C196),1,0)","v":1},{"$f":"IF(AND($C196<=V$1,Negyedéves!V$1<Paraméterek!$C$11*4+$C196),1,0)","v":1},{"$f":"IF(AND($C196<=W$1,Negyedéves!W$1<Paraméterek!$C$11*4+$C196),1,0)","v":1},{"$f":"IF(AND($C196<=X$1,Negyedéves!X$1<Paraméterek!$C$11*4+$C196),1,0)","v":1},{"$f":"IF(AND($C196<=Y$1,Negyedéves!Y$1<Paraméterek!$C$11*4+$C196),1,0)","v":1},{"$f":"IF(AND($C196<=Z$1,Negyedéves!Z$1<Paraméterek!$C$11*4+$C196),1,0)","v":1},{"$f":"IF(AND($C196<=AA$1,Negyedéves!AA$1<Paraméterek!$C$11*4+$C196),1,0)","v":1},{"$f":"IF(AND($C196<=AB$1,Negyedéves!AB$1<Paraméterek!$C$11*4+$C196),1,0)","v":1},{"$f":"IF(AND($C196<=AC$1,Negyedéves!AC$1<Paraméterek!$C$11*4+$C196),1,0)","v":1},{"$f":"IF(AND($C196<=AD$1,Negyedéves!AD$1<Paraméterek!$C$11*4+$C196),1,0)","v":1},{"$f":"IF(AND($C196<=AE$1,Negyedéves!AE$1<Paraméterek!$C$11*4+$C196),1,0)","v":1},{"$f":"IF(AND($C196<=AF$1,Negyedéves!AF$1<Paraméterek!$C$11*4+$C196),1,0)","v":1},{"$f":"IF(AND($C196<=AG$1,Negyedéves!AG$1<Paraméterek!$C$11*4+$C196),1,0)","v":1},{"$f":"IF(AND($C196<=AH$1,Negyedéves!AH$1<Paraméterek!$C$11*4+$C196),1,0)","v":1},{"$f":"IF(AND($C196<=AI$1,Negyedéves!AI$1<Paraméterek!$C$11*4+$C196),1,0)","v":1},{"$f":"IF(AND($C196<=AJ$1,Negyedéves!AJ$1<Paraméterek!$C$11*4+$C196),1,0)","v":1},{"$f":"IF(AND($C196<=AK$1,Negyedéves!AK$1<Paraméterek!$C$11*4+$C196),1,0)","v":1},{"$f":"IF(AND($C196<=AL$1,Negyedéves!AL$1<Paraméterek!$C$11*4+$C196),1,0)","v":1},{"$f":"IF(AND($C196<=AM$1,Negyedéves!AM$1<Paraméterek!$C$11*4+$C196),1,0)","v":1},{"$f":"IF(AND($C196<=AN$1,Negyedéves!AN$1<Paraméterek!$C$11*4+$C196),1,0)","v":1},{"$f":"IF(AND($C196<=AO$1,Negyedéves!AO$1<Paraméterek!$C$11*4+$C196),1,0)","v":1},{"$f":"IF(AND($C196<=AP$1,Negyedéves!AP$1<Paraméterek!$C$11*4+$C196),1,0)","v":1},{"$f":"IF(AND($C196<=AQ$1,Negyedéves!AQ$1<Paraméterek!$C$11*4+$C196),1,0)","v":1},{"$f":"IF(AND($C196<=AR$1,Negyedéves!AR$1<Paraméterek!$C$11*4+$C196),1,0)","v":1},{"$f":"IF(AND($C196<=AS$1,Negyedéves!AS$1<Paraméterek!$C$11*4+$C196),1,0)","v":1},{"$f":"IF(AND($C196<=AT$1,Negyedéves!AT$1<Paraméterek!$C$11*4+$C196),1,0)","v":1},{"$f":"IF(AND($C196<=AU$1,Negyedéves!AU$1<Paraméterek!$C$11*4+$C196),1,0)","v":0},{"$f":"IF(AND($C196<=AV$1,Negyedéves!AV$1<Paraméterek!$C$11*4+$C196),1,0)","v":0},{"$f":"IF(AND($C196<=AW$1,Negyedéves!AW$1<Paraméterek!$C$11*4+$C196),1,0)","v":0},{"$f":"IF(AND($C196<=AX$1,Negyedéves!AX$1<Paraméterek!$C$11*4+$C196),1,0)","v":0},{"$f":"IF(AND($C196<=AY$1,Negyedéves!AY$1<Paraméterek!$C$11*4+$C196),1,0)","v":0},{"$f":"IF(AND($C196<=AZ$1,Negyedéves!AZ$1<Paraméterek!$C$11*4+$C196),1,0)","v":0},{"$f":"IF(AND($C196<=BA$1,Negyedéves!BA$1<Paraméterek!$C$11*4+$C196),1,0)","v":0},{"$f":"IF(AND($C196<=BB$1,Negyedéves!BB$1<Paraméterek!$C$11*4+$C196),1,0)","v":0},{"$f":"IF(AND($C196<=BC$1,Negyedéves!BC$1<Paraméterek!$C$11*4+$C196),1,0)","v":0},{"$f":"IF(AND($C196<=BD$1,Negyedéves!BD$1<Paraméterek!$C$11*4+$C196),1,0)","v":0},{"$f":"IF(AND($C196<=BE$1,Negyedéves!BE$1<Paraméterek!$C$11*4+$C196),1,0)","v":0},{"$f":"IF(AND($C196<=BF$1,Negyedéves!BF$1<Paraméterek!$C$11*4+$C196),1,0)","v":0},{"$f":"IF(AND($C196<=BG$1,Negyedéves!BG$1<Paraméterek!$C$11*4+$C196),1,0)","v":0},{"$f":"IF(AND($C196<=BH$1,Negyedéves!BH$1<Paraméterek!$C$11*4+$C196),1,0)","v":0},{"$f":"IF(AND($C196<=BI$1,Negyedéves!BI$1<Paraméterek!$C$11*4+$C196),1,0)","v":0},{"$f":"IF(AND($C196<=BJ$1,Negyedéves!BJ$1<Paraméterek!$C$11*4+$C196),1,0)","v":0},{"$f":"IF(AND($C196<=BK$1,Negyedéves!BK$1<Paraméterek!$C$11*4+$C196),1,0)","v":0},{"$f":"IF(AND($C196<=BL$1,Negyedéves!BL$1<Paraméterek!$C$11*4+$C196),1,0)","v":0},{"$f":"IF(AND($C196<=BM$1,Negyedéves!BM$1<Paraméterek!$C$11*4+$C196),1,0)","v":0},{"$f":"IF(AND($C196<=BN$1,Negyedéves!BN$1<Paraméterek!$C$11*4+$C196),1,0)","v":0},{"$f":"IF(AND($C196<=BO$1,Negyedéves!BO$1<Paraméterek!$C$11*4+$C196),1,0)","v":0},{"$f":"IF(AND($C196<=BP$1,Negyedéves!BP$1<Paraméterek!$C$11*4+$C196),1,0)","v":0},{"$f":"IF(AND($C196<=BQ$1,Negyedéves!BQ$1<Paraméterek!$C$11*4+$C196),1,0)","v":0},{"$f":"IF(AND($C196<=BR$1,Negyedéves!BR$1<Paraméterek!$C$11*4+$C196),1,0)","v":0},{"$f":"IF(AND($C196<=BS$1,Negyedéves!BS$1<Paraméterek!$C$11*4+$C196),1,0)","v":0},"x"]
[null,1087804.1967427165,17,{"$f":"IF(AND($C197<=D$1,Negyedéves!D$1<Paraméterek!$C$11*4+$C197),1,0)","v":0},{"$f":"IF(AND($C197<=E$1,Negyedéves!E$1<Paraméterek!$C$11*4+$C197),1,0)","v":0},{"$f":"IF(AND($C197<=F$1,Negyedéves!F$1<Paraméterek!$C$11*4+$C197),1,0)","v":0},{"$f":"IF(AND($C197<=G$1,Negyedéves!G$1<Paraméterek!$C$11*4+$C197),1,0)","v":0},{"$f":"IF(AND($C197<=H$1,Negyedéves!H$1<Paraméterek!$C$11*4+$C197),1,0)","v":0},{"$f":"IF(AND($C197<=I$1,Negyedéves!I$1<Paraméterek!$C$11*4+$C197),1,0)","v":0},{"$f":"IF(AND($C197<=J$1,Negyedéves!J$1<Paraméterek!$C$11*4+$C197),1,0)","v":0},{"$f":"IF(AND($C197<=K$1,Negyedéves!K$1<Paraméterek!$C$11*4+$C197),1,0)","v":0},{"$f":"IF(AND($C197<=L$1,Negyedéves!L$1<Paraméterek!$C$11*4+$C197),1,0)","v":0},{"$f":"IF(AND($C197<=M$1,Negyedéves!M$1<Paraméterek!$C$11*4+$C197),1,0)","v":0},{"$f":"IF(AND($C197<=N$1,Negyedéves!N$1<Paraméterek!$C$11*4+$C197),1,0)","v":0},{"$f":"IF(AND($C197<=O$1,Negyedéves!O$1<Paraméterek!$C$11*4+$C197),1,0)","v":0},{"$f":"IF(AND($C197<=P$1,Negyedéves!P$1<Paraméterek!$C$11*4+$C197),1,0)","v":0},{"$f":"IF(AND($C197<=Q$1,Negyedéves!Q$1<Paraméterek!$C$11*4+$C197),1,0)","v":0},{"$f":"IF(AND($C197<=R$1,Negyedéves!R$1<Paraméterek!$C$11*4+$C197),1,0)","v":0},{"$f":"IF(AND($C197<=S$1,Negyedéves!S$1<Paraméterek!$C$11*4+$C197),1,0)","v":0},{"$f":"IF(AND($C197<=T$1,Negyedéves!T$1<Paraméterek!$C$11*4+$C197),1,0)","v":1},{"$f":"IF(AND($C197<=U$1,Negyedéves!U$1<Paraméterek!$C$11*4+$C197),1,0)","v":1},{"$f":"IF(AND($C197<=V$1,Negyedéves!V$1<Paraméterek!$C$11*4+$C197),1,0)","v":1},{"$f":"IF(AND($C197<=W$1,Negyedéves!W$1<Paraméterek!$C$11*4+$C197),1,0)","v":1},{"$f":"IF(AND($C197<=X$1,Negyedéves!X$1<Paraméterek!$C$11*4+$C197),1,0)","v":1},{"$f":"IF(AND($C197<=Y$1,Negyedéves!Y$1<Paraméterek!$C$11*4+$C197),1,0)","v":1},{"$f":"IF(AND($C197<=Z$1,Negyedéves!Z$1<Paraméterek!$C$11*4+$C197),1,0)","v":1},{"$f":"IF(AND($C197<=AA$1,Negyedéves!AA$1<Paraméterek!$C$11*4+$C197),1,0)","v":1},{"$f":"IF(AND($C197<=AB$1,Negyedéves!AB$1<Paraméterek!$C$11*4+$C197),1,0)","v":1},{"$f":"IF(AND($C197<=AC$1,Negyedéves!AC$1<Paraméterek!$C$11*4+$C197),1,0)","v":1},{"$f":"IF(AND($C197<=AD$1,Negyedéves!AD$1<Paraméterek!$C$11*4+$C197),1,0)","v":1},{"$f":"IF(AND($C197<=AE$1,Negyedéves!AE$1<Paraméterek!$C$11*4+$C197),1,0)","v":1},{"$f":"IF(AND($C197<=AF$1,Negyedéves!AF$1<Paraméterek!$C$11*4+$C197),1,0)","v":1},{"$f":"IF(AND($C197<=AG$1,Negyedéves!AG$1<Paraméterek!$C$11*4+$C197),1,0)","v":1},{"$f":"IF(AND($C197<=AH$1,Negyedéves!AH$1<Paraméterek!$C$11*4+$C197),1,0)","v":1},{"$f":"IF(AND($C197<=AI$1,Negyedéves!AI$1<Paraméterek!$C$11*4+$C197),1,0)","v":1},{"$f":"IF(AND($C197<=AJ$1,Negyedéves!AJ$1<Paraméterek!$C$11*4+$C197),1,0)","v":1},{"$f":"IF(AND($C197<=AK$1,Negyedéves!AK$1<Paraméterek!$C$11*4+$C197),1,0)","v":1},{"$f":"IF(AND($C197<=AL$1,Negyedéves!AL$1<Paraméterek!$C$11*4+$C197),1,0)","v":1},{"$f":"IF(AND($C197<=AM$1,Negyedéves!AM$1<Paraméterek!$C$11*4+$C197),1,0)","v":1},{"$f":"IF(AND($C197<=AN$1,Negyedéves!AN$1<Paraméterek!$C$11*4+$C197),1,0)","v":1},{"$f":"IF(AND($C197<=AO$1,Negyedéves!AO$1<Paraméterek!$C$11*4+$C197),1,0)","v":1},{"$f":"IF(AND($C197<=AP$1,Negyedéves!AP$1<Paraméterek!$C$11*4+$C197),1,0)","v":1},{"$f":"IF(AND($C197<=AQ$1,Negyedéves!AQ$1<Paraméterek!$C$11*4+$C197),1,0)","v":1},{"$f":"IF(AND($C197<=AR$1,Negyedéves!AR$1<Paraméterek!$C$11*4+$C197),1,0)","v":1},{"$f":"IF(AND($C197<=AS$1,Negyedéves!AS$1<Paraméterek!$C$11*4+$C197),1,0)","v":1},{"$f":"IF(AND($C197<=AT$1,Negyedéves!AT$1<Paraméterek!$C$11*4+$C197),1,0)","v":1},{"$f":"IF(AND($C197<=AU$1,Negyedéves!AU$1<Paraméterek!$C$11*4+$C197),1,0)","v":1},{"$f":"IF(AND($C197<=AV$1,Negyedéves!AV$1<Paraméterek!$C$11*4+$C197),1,0)","v":0},{"$f":"IF(AND($C197<=AW$1,Negyedéves!AW$1<Paraméterek!$C$11*4+$C197),1,0)","v":0},{"$f":"IF(AND($C197<=AX$1,Negyedéves!AX$1<Paraméterek!$C$11*4+$C197),1,0)","v":0},{"$f":"IF(AND($C197<=AY$1,Negyedéves!AY$1<Paraméterek!$C$11*4+$C197),1,0)","v":0},{"$f":"IF(AND($C197<=AZ$1,Negyedéves!AZ$1<Paraméterek!$C$11*4+$C197),1,0)","v":0},{"$f":"IF(AND($C197<=BA$1,Negyedéves!BA$1<Paraméterek!$C$11*4+$C197),1,0)","v":0},{"$f":"IF(AND($C197<=BB$1,Negyedéves!BB$1<Paraméterek!$C$11*4+$C197),1,0)","v":0},{"$f":"IF(AND($C197<=BC$1,Negyedéves!BC$1<Paraméterek!$C$11*4+$C197),1,0)","v":0},{"$f":"IF(AND($C197<=BD$1,Negyedéves!BD$1<Paraméterek!$C$11*4+$C197),1,0)","v":0},{"$f":"IF(AND($C197<=BE$1,Negyedéves!BE$1<Paraméterek!$C$11*4+$C197),1,0)","v":0},{"$f":"IF(AND($C197<=BF$1,Negyedéves!BF$1<Paraméterek!$C$11*4+$C197),1,0)","v":0},{"$f":"IF(AND($C197<=BG$1,Negyedéves!BG$1<Paraméterek!$C$11*4+$C197),1,0)","v":0},{"$f":"IF(AND($C197<=BH$1,Negyedéves!BH$1<Paraméterek!$C$11*4+$C197),1,0)","v":0},{"$f":"IF(AND($C197<=BI$1,Negyedéves!BI$1<Paraméterek!$C$11*4+$C197),1,0)","v":0},{"$f":"IF(AND($C197<=BJ$1,Negyedéves!BJ$1<Paraméterek!$C$11*4+$C197),1,0)","v":0},{"$f":"IF(AND($C197<=BK$1,Negyedéves!BK$1<Paraméterek!$C$11*4+$C197),1,0)","v":0},{"$f":"IF(AND($C197<=BL$1,Negyedéves!BL$1<Paraméterek!$C$11*4+$C197),1,0)","v":0},{"$f":"IF(AND($C197<=BM$1,Negyedéves!BM$1<Paraméterek!$C$11*4+$C197),1,0)","v":0},{"$f":"IF(AND($C197<=BN$1,Negyedéves!BN$1<Paraméterek!$C$11*4+$C197),1,0)","v":0},{"$f":"IF(AND($C197<=BO$1,Negyedéves!BO$1<Paraméterek!$C$11*4+$C197),1,0)","v":0},{"$f":"IF(AND($C197<=BP$1,Negyedéves!BP$1<Paraméterek!$C$11*4+$C197),1,0)","v":0},{"$f":"IF(AND($C197<=BQ$1,Negyedéves!BQ$1<Paraméterek!$C$11*4+$C197),1,0)","v":0},{"$f":"IF(AND($C197<=BR$1,Negyedéves!BR$1<Paraméterek!$C$11*4+$C197),1,0)","v":0},{"$f":"IF(AND($C197<=BS$1,Negyedéves!BS$1<Paraméterek!$C$11*4+$C197),1,0)","v":0},"x"]
[null,0,18,{"$f":"IF(AND($C198<=D$1,Negyedéves!D$1<Paraméterek!$C$11*4+$C198),1,0)","v":0},{"$f":"IF(AND($C198<=E$1,Negyedéves!E$1<Paraméterek!$C$11*4+$C198),1,0)","v":0},{"$f":"IF(AND($C198<=F$1,Negyedéves!F$1<Paraméterek!$C$11*4+$C198),1,0)","v":0},{"$f":"IF(AND($C198<=G$1,Negyedéves!G$1<Paraméterek!$C$11*4+$C198),1,0)","v":0},{"$f":"IF(AND($C198<=H$1,Negyedéves!H$1<Paraméterek!$C$11*4+$C198),1,0)","v":0},{"$f":"IF(AND($C198<=I$1,Negyedéves!I$1<Paraméterek!$C$11*4+$C198),1,0)","v":0},{"$f":"IF(AND($C198<=J$1,Negyedéves!J$1<Paraméterek!$C$11*4+$C198),1,0)","v":0},{"$f":"IF(AND($C198<=K$1,Negyedéves!K$1<Paraméterek!$C$11*4+$C198),1,0)","v":0},{"$f":"IF(AND($C198<=L$1,Negyedéves!L$1<Paraméterek!$C$11*4+$C198),1,0)","v":0},{"$f":"IF(AND($C198<=M$1,Negyedéves!M$1<Paraméterek!$C$11*4+$C198),1,0)","v":0},{"$f":"IF(AND($C198<=N$1,Negyedéves!N$1<Paraméterek!$C$11*4+$C198),1,0)","v":0},{"$f":"IF(AND($C198<=O$1,Negyedéves!O$1<Paraméterek!$C$11*4+$C198),1,0)","v":0},{"$f":"IF(AND($C198<=P$1,Negyedéves!P$1<Paraméterek!$C$11*4+$C198),1,0)","v":0},{"$f":"IF(AND($C198<=Q$1,Negyedéves!Q$1<Paraméterek!$C$11*4+$C198),1,0)","v":0},{"$f":"IF(AND($C198<=R$1,Negyedéves!R$1<Paraméterek!$C$11*4+$C198),1,0)","v":0},{"$f":"IF(AND($C198<=S$1,Negyedéves!S$1<Paraméterek!$C$11*4+$C198),1,0)","v":0},{"$f":"IF(AND($C198<=T$1,Negyedéves!T$1<Paraméterek!$C$11*4+$C198),1,0)","v":0},{"$f":"IF(AND($C198<=U$1,Negyedéves!U$1<Paraméterek!$C$11*4+$C198),1,0)","v":1},{"$f":"IF(AND($C198<=V$1,Negyedéves!V$1<Paraméterek!$C$11*4+$C198),1,0)","v":1},{"$f":"IF(AND($C198<=W$1,Negyedéves!W$1<Paraméterek!$C$11*4+$C198),1,0)","v":1},{"$f":"IF(AND($C198<=X$1,Negyedéves!X$1<Paraméterek!$C$11*4+$C198),1,0)","v":1},{"$f":"IF(AND($C198<=Y$1,Negyedéves!Y$1<Paraméterek!$C$11*4+$C198),1,0)","v":1},{"$f":"IF(AND($C198<=Z$1,Negyedéves!Z$1<Paraméterek!$C$11*4+$C198),1,0)","v":1},{"$f":"IF(AND($C198<=AA$1,Negyedéves!AA$1<Paraméterek!$C$11*4+$C198),1,0)","v":1},{"$f":"IF(AND($C198<=AB$1,Negyedéves!AB$1<Paraméterek!$C$11*4+$C198),1,0)","v":1},{"$f":"IF(AND($C198<=AC$1,Negyedéves!AC$1<Paraméterek!$C$11*4+$C198),1,0)","v":1},{"$f":"IF(AND($C198<=AD$1,Negyedéves!AD$1<Paraméterek!$C$11*4+$C198),1,0)","v":1},{"$f":"IF(AND($C198<=AE$1,Negyedéves!AE$1<Paraméterek!$C$11*4+$C198),1,0)","v":1},{"$f":"IF(AND($C198<=AF$1,Negyedéves!AF$1<Paraméterek!$C$11*4+$C198),1,0)","v":1},{"$f":"IF(AND($C198<=AG$1,Negyedéves!AG$1<Paraméterek!$C$11*4+$C198),1,0)","v":1},{"$f":"IF(AND($C198<=AH$1,Negyedéves!AH$1<Paraméterek!$C$11*4+$C198),1,0)","v":1},{"$f":"IF(AND($C198<=AI$1,Negyedéves!AI$1<Paraméterek!$C$11*4+$C198),1,0)","v":1},{"$f":"IF(AND($C198<=AJ$1,Negyedéves!AJ$1<Paraméterek!$C$11*4+$C198),1,0)","v":1},{"$f":"IF(AND($C198<=AK$1,Negyedéves!AK$1<Paraméterek!$C$11*4+$C198),1,0)","v":1},{"$f":"IF(AND($C198<=AL$1,Negyedéves!AL$1<Paraméterek!$C$11*4+$C198),1,0)","v":1},{"$f":"IF(AND($C198<=AM$1,Negyedéves!AM$1<Paraméterek!$C$11*4+$C198),1,0)","v":1},{"$f":"IF(AND($C198<=AN$1,Negyedéves!AN$1<Paraméterek!$C$11*4+$C198),1,0)","v":1},{"$f":"IF(AND($C198<=AO$1,Negyedéves!AO$1<Paraméterek!$C$11*4+$C198),1,0)","v":1},{"$f":"IF(AND($C198<=AP$1,Negyedéves!AP$1<Paraméterek!$C$11*4+$C198),1,0)","v":1},{"$f":"IF(AND($C198<=AQ$1,Negyedéves!AQ$1<Paraméterek!$C$11*4+$C198),1,0)","v":1},{"$f":"IF(AND($C198<=AR$1,Negyedéves!AR$1<Paraméterek!$C$11*4+$C198),1,0)","v":1},{"$f":"IF(AND($C198<=AS$1,Negyedéves!AS$1<Paraméterek!$C$11*4+$C198),1,0)","v":1},{"$f":"IF(AND($C198<=AT$1,Negyedéves!AT$1<Paraméterek!$C$11*4+$C198),1,0)","v":1},{"$f":"IF(AND($C198<=AU$1,Negyedéves!AU$1<Paraméterek!$C$11*4+$C198),1,0)","v":1},{"$f":"IF(AND($C198<=AV$1,Negyedéves!AV$1<Paraméterek!$C$11*4+$C198),1,0)","v":1},{"$f":"IF(AND($C198<=AW$1,Negyedéves!AW$1<Paraméterek!$C$11*4+$C198),1,0)","v":0},{"$f":"IF(AND($C198<=AX$1,Negyedéves!AX$1<Paraméterek!$C$11*4+$C198),1,0)","v":0},{"$f":"IF(AND($C198<=AY$1,Negyedéves!AY$1<Paraméterek!$C$11*4+$C198),1,0)","v":0},{"$f":"IF(AND($C198<=AZ$1,Negyedéves!AZ$1<Paraméterek!$C$11*4+$C198),1,0)","v":0},{"$f":"IF(AND($C198<=BA$1,Negyedéves!BA$1<Paraméterek!$C$11*4+$C198),1,0)","v":0},{"$f":"IF(AND($C198<=BB$1,Negyedéves!BB$1<Paraméterek!$C$11*4+$C198),1,0)","v":0},{"$f":"IF(AND($C198<=BC$1,Negyedéves!BC$1<Paraméterek!$C$11*4+$C198),1,0)","v":0},{"$f":"IF(AND($C198<=BD$1,Negyedéves!BD$1<Paraméterek!$C$11*4+$C198),1,0)","v":0},{"$f":"IF(AND($C198<=BE$1,Negyedéves!BE$1<Paraméterek!$C$11*4+$C198),1,0)","v":0},{"$f":"IF(AND($C198<=BF$1,Negyedéves!BF$1<Paraméterek!$C$11*4+$C198),1,0)","v":0},{"$f":"IF(AND($C198<=BG$1,Negyedéves!BG$1<Paraméterek!$C$11*4+$C198),1,0)","v":0},{"$f":"IF(AND($C198<=BH$1,Negyedéves!BH$1<Paraméterek!$C$11*4+$C198),1,0)","v":0},{"$f":"IF(AND($C198<=BI$1,Negyedéves!BI$1<Paraméterek!$C$11*4+$C198),1,0)","v":0},{"$f":"IF(AND($C198<=BJ$1,Negyedéves!BJ$1<Paraméterek!$C$11*4+$C198),1,0)","v":0},{"$f":"IF(AND($C198<=BK$1,Negyedéves!BK$1<Paraméterek!$C$11*4+$C198),1,0)","v":0},{"$f":"IF(AND($C198<=BL$1,Negyedéves!BL$1<Paraméterek!$C$11*4+$C198),1,0)","v":0},{"$f":"IF(AND($C198<=BM$1,Negyedéves!BM$1<Paraméterek!$C$11*4+$C198),1,0)","v":0},{"$f":"IF(AND($C198<=BN$1,Negyedéves!BN$1<Paraméterek!$C$11*4+$C198),1,0)","v":0},{"$f":"IF(AND($C198<=BO$1,Negyedéves!BO$1<Paraméterek!$C$11*4+$C198),1,0)","v":0},{"$f":"IF(AND($C198<=BP$1,Negyedéves!BP$1<Paraméterek!$C$11*4+$C198),1,0)","v":0},{"$f":"IF(AND($C198<=BQ$1,Negyedéves!BQ$1<Paraméterek!$C$11*4+$C198),1,0)","v":0},{"$f":"IF(AND($C198<=BR$1,Negyedéves!BR$1<Paraméterek!$C$11*4+$C198),1,0)","v":0},{"$f":"IF(AND($C198<=BS$1,Negyedéves!BS$1<Paraméterek!$C$11*4+$C198),1,0)","v":0},"x"]
[null,0,19,{"$f":"IF(AND($C199<=D$1,Negyedéves!D$1<Paraméterek!$C$11*4+$C199),1,0)","v":0},{"$f":"IF(AND($C199<=E$1,Negyedéves!E$1<Paraméterek!$C$11*4+$C199),1,0)","v":0},{"$f":"IF(AND($C199<=F$1,Negyedéves!F$1<Paraméterek!$C$11*4+$C199),1,0)","v":0},{"$f":"IF(AND($C199<=G$1,Negyedéves!G$1<Paraméterek!$C$11*4+$C199),1,0)","v":0},{"$f":"IF(AND($C199<=H$1,Negyedéves!H$1<Paraméterek!$C$11*4+$C199),1,0)","v":0},{"$f":"IF(AND($C199<=I$1,Negyedéves!I$1<Paraméterek!$C$11*4+$C199),1,0)","v":0},{"$f":"IF(AND($C199<=J$1,Negyedéves!J$1<Paraméterek!$C$11*4+$C199),1,0)","v":0},{"$f":"IF(AND($C199<=K$1,Negyedéves!K$1<Paraméterek!$C$11*4+$C199),1,0)","v":0},{"$f":"IF(AND($C199<=L$1,Negyedéves!L$1<Paraméterek!$C$11*4+$C199),1,0)","v":0},{"$f":"IF(AND($C199<=M$1,Negyedéves!M$1<Paraméterek!$C$11*4+$C199),1,0)","v":0},{"$f":"IF(AND($C199<=N$1,Negyedéves!N$1<Paraméterek!$C$11*4+$C199),1,0)","v":0},{"$f":"IF(AND($C199<=O$1,Negyedéves!O$1<Paraméterek!$C$11*4+$C199),1,0)","v":0},{"$f":"IF(AND($C199<=P$1,Negyedéves!P$1<Paraméterek!$C$11*4+$C199),1,0)","v":0},{"$f":"IF(AND($C199<=Q$1,Negyedéves!Q$1<Paraméterek!$C$11*4+$C199),1,0)","v":0},{"$f":"IF(AND($C199<=R$1,Negyedéves!R$1<Paraméterek!$C$11*4+$C199),1,0)","v":0},{"$f":"IF(AND($C199<=S$1,Negyedéves!S$1<Paraméterek!$C$11*4+$C199),1,0)","v":0},{"$f":"IF(AND($C199<=T$1,Negyedéves!T$1<Paraméterek!$C$11*4+$C199),1,0)","v":0},{"$f":"IF(AND($C199<=U$1,Negyedéves!U$1<Paraméterek!$C$11*4+$C199),1,0)","v":0},{"$f":"IF(AND($C199<=V$1,Negyedéves!V$1<Paraméterek!$C$11*4+$C199),1,0)","v":1},{"$f":"IF(AND($C199<=W$1,Negyedéves!W$1<Paraméterek!$C$11*4+$C199),1,0)","v":1},{"$f":"IF(AND($C199<=X$1,Negyedéves!X$1<Paraméterek!$C$11*4+$C199),1,0)","v":1},{"$f":"IF(AND($C199<=Y$1,Negyedéves!Y$1<Paraméterek!$C$11*4+$C199),1,0)","v":1},{"$f":"IF(AND($C199<=Z$1,Negyedéves!Z$1<Paraméterek!$C$11*4+$C199),1,0)","v":1},{"$f":"IF(AND($C199<=AA$1,Negyedéves!AA$1<Paraméterek!$C$11*4+$C199),1,0)","v":1},{"$f":"IF(AND($C199<=AB$1,Negyedéves!AB$1<Paraméterek!$C$11*4+$C199),1,0)","v":1},{"$f":"IF(AND($C199<=AC$1,Negyedéves!AC$1<Paraméterek!$C$11*4+$C199),1,0)","v":1},{"$f":"IF(AND($C199<=AD$1,Negyedéves!AD$1<Paraméterek!$C$11*4+$C199),1,0)","v":1},{"$f":"IF(AND($C199<=AE$1,Negyedéves!AE$1<Paraméterek!$C$11*4+$C199),1,0)","v":1},{"$f":"IF(AND($C199<=AF$1,Negyedéves!AF$1<Paraméterek!$C$11*4+$C199),1,0)","v":1},{"$f":"IF(AND($C199<=AG$1,Negyedéves!AG$1<Paraméterek!$C$11*4+$C199),1,0)","v":1},{"$f":"IF(AND($C199<=AH$1,Negyedéves!AH$1<Paraméterek!$C$11*4+$C199),1,0)","v":1},{"$f":"IF(AND($C199<=AI$1,Negyedéves!AI$1<Paraméterek!$C$11*4+$C199),1,0)","v":1},{"$f":"IF(AND($C199<=AJ$1,Negyedéves!AJ$1<Paraméterek!$C$11*4+$C199),1,0)","v":1},{"$f":"IF(AND($C199<=AK$1,Negyedéves!AK$1<Paraméterek!$C$11*4+$C199),1,0)","v":1},{"$f":"IF(AND($C199<=AL$1,Negyedéves!AL$1<Paraméterek!$C$11*4+$C199),1,0)","v":1},{"$f":"IF(AND($C199<=AM$1,Negyedéves!AM$1<Paraméterek!$C$11*4+$C199),1,0)","v":1},{"$f":"IF(AND($C199<=AN$1,Negyedéves!AN$1<Paraméterek!$C$11*4+$C199),1,0)","v":1},{"$f":"IF(AND($C199<=AO$1,Negyedéves!AO$1<Paraméterek!$C$11*4+$C199),1,0)","v":1},{"$f":"IF(AND($C199<=AP$1,Negyedéves!AP$1<Paraméterek!$C$11*4+$C199),1,0)","v":1},{"$f":"IF(AND($C199<=AQ$1,Negyedéves!AQ$1<Paraméterek!$C$11*4+$C199),1,0)","v":1},{"$f":"IF(AND($C199<=AR$1,Negyedéves!AR$1<Paraméterek!$C$11*4+$C199),1,0)","v":1},{"$f":"IF(AND($C199<=AS$1,Negyedéves!AS$1<Paraméterek!$C$11*4+$C199),1,0)","v":1},{"$f":"IF(AND($C199<=AT$1,Negyedéves!AT$1<Paraméterek!$C$11*4+$C199),1,0)","v":1},{"$f":"IF(AND($C199<=AU$1,Negyedéves!AU$1<Paraméterek!$C$11*4+$C199),1,0)","v":1},{"$f":"IF(AND($C199<=AV$1,Negyedéves!AV$1<Paraméterek!$C$11*4+$C199),1,0)","v":1},{"$f":"IF(AND($C199<=AW$1,Negyedéves!AW$1<Paraméterek!$C$11*4+$C199),1,0)","v":1},{"$f":"IF(AND($C199<=AX$1,Negyedéves!AX$1<Paraméterek!$C$11*4+$C199),1,0)","v":0},{"$f":"IF(AND($C199<=AY$1,Negyedéves!AY$1<Paraméterek!$C$11*4+$C199),1,0)","v":0},{"$f":"IF(AND($C199<=AZ$1,Negyedéves!AZ$1<Paraméterek!$C$11*4+$C199),1,0)","v":0},{"$f":"IF(AND($C199<=BA$1,Negyedéves!BA$1<Paraméterek!$C$11*4+$C199),1,0)","v":0},{"$f":"IF(AND($C199<=BB$1,Negyedéves!BB$1<Paraméterek!$C$11*4+$C199),1,0)","v":0},{"$f":"IF(AND($C199<=BC$1,Negyedéves!BC$1<Paraméterek!$C$11*4+$C199),1,0)","v":0},{"$f":"IF(AND($C199<=BD$1,Negyedéves!BD$1<Paraméterek!$C$11*4+$C199),1,0)","v":0},{"$f":"IF(AND($C199<=BE$1,Negyedéves!BE$1<Paraméterek!$C$11*4+$C199),1,0)","v":0},{"$f":"IF(AND($C199<=BF$1,Negyedéves!BF$1<Paraméterek!$C$11*4+$C199),1,0)","v":0},{"$f":"IF(AND($C199<=BG$1,Negyedéves!BG$1<Paraméterek!$C$11*4+$C199),1,0)","v":0},{"$f":"IF(AND($C199<=BH$1,Negyedéves!BH$1<Paraméterek!$C$11*4+$C199),1,0)","v":0},{"$f":"IF(AND($C199<=BI$1,Negyedéves!BI$1<Paraméterek!$C$11*4+$C199),1,0)","v":0},{"$f":"IF(AND($C199<=BJ$1,Negyedéves!BJ$1<Paraméterek!$C$11*4+$C199),1,0)","v":0},{"$f":"IF(AND($C199<=BK$1,Negyedéves!BK$1<Paraméterek!$C$11*4+$C199),1,0)","v":0},{"$f":"IF(AND($C199<=BL$1,Negyedéves!BL$1<Paraméterek!$C$11*4+$C199),1,0)","v":0},{"$f":"IF(AND($C199<=BM$1,Negyedéves!BM$1<Paraméterek!$C$11*4+$C199),1,0)","v":0},{"$f":"IF(AND($C199<=BN$1,Negyedéves!BN$1<Paraméterek!$C$11*4+$C199),1,0)","v":0},{"$f":"IF(AND($C199<=BO$1,Negyedéves!BO$1<Paraméterek!$C$11*4+$C199),1,0)","v":0},{"$f":"IF(AND($C199<=BP$1,Negyedéves!BP$1<Paraméterek!$C$11*4+$C199),1,0)","v":0},{"$f":"IF(AND($C199<=BQ$1,Negyedéves!BQ$1<Paraméterek!$C$11*4+$C199),1,0)","v":0},{"$f":"IF(AND($C199<=BR$1,Negyedéves!BR$1<Paraméterek!$C$11*4+$C199),1,0)","v":0},{"$f":"IF(AND($C199<=BS$1,Negyedéves!BS$1<Paraméterek!$C$11*4+$C199),1,0)","v":0},"x"]
[null,0,20,{"$f":"IF(AND($C200<=D$1,Negyedéves!D$1<Paraméterek!$C$11*4+$C200),1,0)","v":0},{"$f":"IF(AND($C200<=E$1,Negyedéves!E$1<Paraméterek!$C$11*4+$C200),1,0)","v":0},{"$f":"IF(AND($C200<=F$1,Negyedéves!F$1<Paraméterek!$C$11*4+$C200),1,0)","v":0},{"$f":"IF(AND($C200<=G$1,Negyedéves!G$1<Paraméterek!$C$11*4+$C200),1,0)","v":0},{"$f":"IF(AND($C200<=H$1,Negyedéves!H$1<Paraméterek!$C$11*4+$C200),1,0)","v":0},{"$f":"IF(AND($C200<=I$1,Negyedéves!I$1<Paraméterek!$C$11*4+$C200),1,0)","v":0},{"$f":"IF(AND($C200<=J$1,Negyedéves!J$1<Paraméterek!$C$11*4+$C200),1,0)","v":0},{"$f":"IF(AND($C200<=K$1,Negyedéves!K$1<Paraméterek!$C$11*4+$C200),1,0)","v":0},{"$f":"IF(AND($C200<=L$1,Negyedéves!L$1<Paraméterek!$C$11*4+$C200),1,0)","v":0},{"$f":"IF(AND($C200<=M$1,Negyedéves!M$1<Paraméterek!$C$11*4+$C200),1,0)","v":0},{"$f":"IF(AND($C200<=N$1,Negyedéves!N$1<Paraméterek!$C$11*4+$C200),1,0)","v":0},{"$f":"IF(AND($C200<=O$1,Negyedéves!O$1<Paraméterek!$C$11*4+$C200),1,0)","v":0},{"$f":"IF(AND($C200<=P$1,Negyedéves!P$1<Paraméterek!$C$11*4+$C200),1,0)","v":0},{"$f":"IF(AND($C200<=Q$1,Negyedéves!Q$1<Paraméterek!$C$11*4+$C200),1,0)","v":0},{"$f":"IF(AND($C200<=R$1,Negyedéves!R$1<Paraméterek!$C$11*4+$C200),1,0)","v":0},{"$f":"IF(AND($C200<=S$1,Negyedéves!S$1<Paraméterek!$C$11*4+$C200),1,0)","v":0},{"$f":"IF(AND($C200<=T$1,Negyedéves!T$1<Paraméterek!$C$11*4+$C200),1,0)","v":0},{"$f":"IF(AND($C200<=U$1,Negyedéves!U$1<Paraméterek!$C$11*4+$C200),1,0)","v":0},{"$f":"IF(AND($C200<=V$1,Negyedéves!V$1<Paraméterek!$C$11*4+$C200),1,0)","v":0},{"$f":"IF(AND($C200<=W$1,Negyedéves!W$1<Paraméterek!$C$11*4+$C200),1,0)","v":1},{"$f":"IF(AND($C200<=X$1,Negyedéves!X$1<Paraméterek!$C$11*4+$C200),1,0)","v":1},{"$f":"IF(AND($C200<=Y$1,Negyedéves!Y$1<Paraméterek!$C$11*4+$C200),1,0)","v":1},{"$f":"IF(AND($C200<=Z$1,Negyedéves!Z$1<Paraméterek!$C$11*4+$C200),1,0)","v":1},{"$f":"IF(AND($C200<=AA$1,Negyedéves!AA$1<Paraméterek!$C$11*4+$C200),1,0)","v":1},{"$f":"IF(AND($C200<=AB$1,Negyedéves!AB$1<Paraméterek!$C$11*4+$C200),1,0)","v":1},{"$f":"IF(AND($C200<=AC$1,Negyedéves!AC$1<Paraméterek!$C$11*4+$C200),1,0)","v":1},{"$f":"IF(AND($C200<=AD$1,Negyedéves!AD$1<Paraméterek!$C$11*4+$C200),1,0)","v":1},{"$f":"IF(AND($C200<=AE$1,Negyedéves!AE$1<Paraméterek!$C$11*4+$C200),1,0)","v":1},{"$f":"IF(AND($C200<=AF$1,Negyedéves!AF$1<Paraméterek!$C$11*4+$C200),1,0)","v":1},{"$f":"IF(AND($C200<=AG$1,Negyedéves!AG$1<Paraméterek!$C$11*4+$C200),1,0)","v":1},{"$f":"IF(AND($C200<=AH$1,Negyedéves!AH$1<Paraméterek!$C$11*4+$C200),1,0)","v":1},{"$f":"IF(AND($C200<=AI$1,Negyedéves!AI$1<Paraméterek!$C$11*4+$C200),1,0)","v":1},{"$f":"IF(AND($C200<=AJ$1,Negyedéves!AJ$1<Paraméterek!$C$11*4+$C200),1,0)","v":1},{"$f":"IF(AND($C200<=AK$1,Negyedéves!AK$1<Paraméterek!$C$11*4+$C200),1,0)","v":1},{"$f":"IF(AND($C200<=AL$1,Negyedéves!AL$1<Paraméterek!$C$11*4+$C200),1,0)","v":1},{"$f":"IF(AND($C200<=AM$1,Negyedéves!AM$1<Paraméterek!$C$11*4+$C200),1,0)","v":1},{"$f":"IF(AND($C200<=AN$1,Negyedéves!AN$1<Paraméterek!$C$11*4+$C200),1,0)","v":1},{"$f":"IF(AND($C200<=AO$1,Negyedéves!AO$1<Paraméterek!$C$11*4+$C200),1,0)","v":1},{"$f":"IF(AND($C200<=AP$1,Negyedéves!AP$1<Paraméterek!$C$11*4+$C200),1,0)","v":1},{"$f":"IF(AND($C200<=AQ$1,Negyedéves!AQ$1<Paraméterek!$C$11*4+$C200),1,0)","v":1},{"$f":"IF(AND($C200<=AR$1,Negyedéves!AR$1<Paraméterek!$C$11*4+$C200),1,0)","v":1},{"$f":"IF(AND($C200<=AS$1,Negyedéves!AS$1<Paraméterek!$C$11*4+$C200),1,0)","v":1},{"$f":"IF(AND($C200<=AT$1,Negyedéves!AT$1<Paraméterek!$C$11*4+$C200),1,0)","v":1},{"$f":"IF(AND($C200<=AU$1,Negyedéves!AU$1<Paraméterek!$C$11*4+$C200),1,0)","v":1},{"$f":"IF(AND($C200<=AV$1,Negyedéves!AV$1<Paraméterek!$C$11*4+$C200),1,0)","v":1},{"$f":"IF(AND($C200<=AW$1,Negyedéves!AW$1<Paraméterek!$C$11*4+$C200),1,0)","v":1},{"$f":"IF(AND($C200<=AX$1,Negyedéves!AX$1<Paraméterek!$C$11*4+$C200),1,0)","v":1},{"$f":"IF(AND($C200<=AY$1,Negyedéves!AY$1<Paraméterek!$C$11*4+$C200),1,0)","v":0},{"$f":"IF(AND($C200<=AZ$1,Negyedéves!AZ$1<Paraméterek!$C$11*4+$C200),1,0)","v":0},{"$f":"IF(AND($C200<=BA$1,Negyedéves!BA$1<Paraméterek!$C$11*4+$C200),1,0)","v":0},{"$f":"IF(AND($C200<=BB$1,Negyedéves!BB$1<Paraméterek!$C$11*4+$C200),1,0)","v":0},{"$f":"IF(AND($C200<=BC$1,Negyedéves!BC$1<Paraméterek!$C$11*4+$C200),1,0)","v":0},{"$f":"IF(AND($C200<=BD$1,Negyedéves!BD$1<Paraméterek!$C$11*4+$C200),1,0)","v":0},{"$f":"IF(AND($C200<=BE$1,Negyedéves!BE$1<Paraméterek!$C$11*4+$C200),1,0)","v":0},{"$f":"IF(AND($C200<=BF$1,Negyedéves!BF$1<Paraméterek!$C$11*4+$C200),1,0)","v":0},{"$f":"IF(AND($C200<=BG$1,Negyedéves!BG$1<Paraméterek!$C$11*4+$C200),1,0)","v":0},{"$f":"IF(AND($C200<=BH$1,Negyedéves!BH$1<Paraméterek!$C$11*4+$C200),1,0)","v":0},{"$f":"IF(AND($C200<=BI$1,Negyedéves!BI$1<Paraméterek!$C$11*4+$C200),1,0)","v":0},{"$f":"IF(AND($C200<=BJ$1,Negyedéves!BJ$1<Paraméterek!$C$11*4+$C200),1,0)","v":0},{"$f":"IF(AND($C200<=BK$1,Negyedéves!BK$1<Paraméterek!$C$11*4+$C200),1,0)","v":0},{"$f":"IF(AND($C200<=BL$1,Negyedéves!BL$1<Paraméterek!$C$11*4+$C200),1,0)","v":0},{"$f":"IF(AND($C200<=BM$1,Negyedéves!BM$1<Paraméterek!$C$11*4+$C200),1,0)","v":0},{"$f":"IF(AND($C200<=BN$1,Negyedéves!BN$1<Paraméterek!$C$11*4+$C200),1,0)","v":0},{"$f":"IF(AND($C200<=BO$1,Negyedéves!BO$1<Paraméterek!$C$11*4+$C200),1,0)","v":0},{"$f":"IF(AND($C200<=BP$1,Negyedéves!BP$1<Paraméterek!$C$11*4+$C200),1,0)","v":0},{"$f":"IF(AND($C200<=BQ$1,Negyedéves!BQ$1<Paraméterek!$C$11*4+$C200),1,0)","v":0},{"$f":"IF(AND($C200<=BR$1,Negyedéves!BR$1<Paraméterek!$C$11*4+$C200),1,0)","v":0},{"$f":"IF(AND($C200<=BS$1,Negyedéves!BS$1<Paraméterek!$C$11*4+$C200),1,0)","v":0},"x"]
[null,1109560.2806775712,21,{"$f":"IF(AND($C201<=D$1,Negyedéves!D$1<Paraméterek!$C$11*4+$C201),1,0)","v":0},{"$f":"IF(AND($C201<=E$1,Negyedéves!E$1<Paraméterek!$C$11*4+$C201),1,0)","v":0},{"$f":"IF(AND($C201<=F$1,Negyedéves!F$1<Paraméterek!$C$11*4+$C201),1,0)","v":0},{"$f":"IF(AND($C201<=G$1,Negyedéves!G$1<Paraméterek!$C$11*4+$C201),1,0)","v":0},{"$f":"IF(AND($C201<=H$1,Negyedéves!H$1<Paraméterek!$C$11*4+$C201),1,0)","v":0},{"$f":"IF(AND($C201<=I$1,Negyedéves!I$1<Paraméterek!$C$11*4+$C201),1,0)","v":0},{"$f":"IF(AND($C201<=J$1,Negyedéves!J$1<Paraméterek!$C$11*4+$C201),1,0)","v":0},{"$f":"IF(AND($C201<=K$1,Negyedéves!K$1<Paraméterek!$C$11*4+$C201),1,0)","v":0},{"$f":"IF(AND($C201<=L$1,Negyedéves!L$1<Paraméterek!$C$11*4+$C201),1,0)","v":0},{"$f":"IF(AND($C201<=M$1,Negyedéves!M$1<Paraméterek!$C$11*4+$C201),1,0)","v":0},{"$f":"IF(AND($C201<=N$1,Negyedéves!N$1<Paraméterek!$C$11*4+$C201),1,0)","v":0},{"$f":"IF(AND($C201<=O$1,Negyedéves!O$1<Paraméterek!$C$11*4+$C201),1,0)","v":0},{"$f":"IF(AND($C201<=P$1,Negyedéves!P$1<Paraméterek!$C$11*4+$C201),1,0)","v":0},{"$f":"IF(AND($C201<=Q$1,Negyedéves!Q$1<Paraméterek!$C$11*4+$C201),1,0)","v":0},{"$f":"IF(AND($C201<=R$1,Negyedéves!R$1<Paraméterek!$C$11*4+$C201),1,0)","v":0},{"$f":"IF(AND($C201<=S$1,Negyedéves!S$1<Paraméterek!$C$11*4+$C201),1,0)","v":0},{"$f":"IF(AND($C201<=T$1,Negyedéves!T$1<Paraméterek!$C$11*4+$C201),1,0)","v":0},{"$f":"IF(AND($C201<=U$1,Negyedéves!U$1<Paraméterek!$C$11*4+$C201),1,0)","v":0},{"$f":"IF(AND($C201<=V$1,Negyedéves!V$1<Paraméterek!$C$11*4+$C201),1,0)","v":0},{"$f":"IF(AND($C201<=W$1,Negyedéves!W$1<Paraméterek!$C$11*4+$C201),1,0)","v":0},{"$f":"IF(AND($C201<=X$1,Negyedéves!X$1<Paraméterek!$C$11*4+$C201),1,0)","v":1},{"$f":"IF(AND($C201<=Y$1,Negyedéves!Y$1<Paraméterek!$C$11*4+$C201),1,0)","v":1},{"$f":"IF(AND($C201<=Z$1,Negyedéves!Z$1<Paraméterek!$C$11*4+$C201),1,0)","v":1},{"$f":"IF(AND($C201<=AA$1,Negyedéves!AA$1<Paraméterek!$C$11*4+$C201),1,0)","v":1},{"$f":"IF(AND($C201<=AB$1,Negyedéves!AB$1<Paraméterek!$C$11*4+$C201),1,0)","v":1},{"$f":"IF(AND($C201<=AC$1,Negyedéves!AC$1<Paraméterek!$C$11*4+$C201),1,0)","v":1},{"$f":"IF(AND($C201<=AD$1,Negyedéves!AD$1<Paraméterek!$C$11*4+$C201),1,0)","v":1},{"$f":"IF(AND($C201<=AE$1,Negyedéves!AE$1<Paraméterek!$C$11*4+$C201),1,0)","v":1},{"$f":"IF(AND($C201<=AF$1,Negyedéves!AF$1<Paraméterek!$C$11*4+$C201),1,0)","v":1},{"$f":"IF(AND($C201<=AG$1,Negyedéves!AG$1<Paraméterek!$C$11*4+$C201),1,0)","v":1},{"$f":"IF(AND($C201<=AH$1,Negyedéves!AH$1<Paraméterek!$C$11*4+$C201),1,0)","v":1},{"$f":"IF(AND($C201<=AI$1,Negyedéves!AI$1<Paraméterek!$C$11*4+$C201),1,0)","v":1},{"$f":"IF(AND($C201<=AJ$1,Negyedéves!AJ$1<Paraméterek!$C$11*4+$C201),1,0)","v":1},{"$f":"IF(AND($C201<=AK$1,Negyedéves!AK$1<Paraméterek!$C$11*4+$C201),1,0)","v":1},{"$f":"IF(AND($C201<=AL$1,Negyedéves!AL$1<Paraméterek!$C$11*4+$C201),1,0)","v":1},{"$f":"IF(AND($C201<=AM$1,Negyedéves!AM$1<Paraméterek!$C$11*4+$C201),1,0)","v":1},{"$f":"IF(AND($C201<=AN$1,Negyedéves!AN$1<Paraméterek!$C$11*4+$C201),1,0)","v":1},{"$f":"IF(AND($C201<=AO$1,Negyedéves!AO$1<Paraméterek!$C$11*4+$C201),1,0)","v":1},{"$f":"IF(AND($C201<=AP$1,Negyedéves!AP$1<Paraméterek!$C$11*4+$C201),1,0)","v":1},{"$f":"IF(AND($C201<=AQ$1,Negyedéves!AQ$1<Paraméterek!$C$11*4+$C201),1,0)","v":1},{"$f":"IF(AND($C201<=AR$1,Negyedéves!AR$1<Paraméterek!$C$11*4+$C201),1,0)","v":1},{"$f":"IF(AND($C201<=AS$1,Negyedéves!AS$1<Paraméterek!$C$11*4+$C201),1,0)","v":1},{"$f":"IF(AND($C201<=AT$1,Negyedéves!AT$1<Paraméterek!$C$11*4+$C201),1,0)","v":1},{"$f":"IF(AND($C201<=AU$1,Negyedéves!AU$1<Paraméterek!$C$11*4+$C201),1,0)","v":1},{"$f":"IF(AND($C201<=AV$1,Negyedéves!AV$1<Paraméterek!$C$11*4+$C201),1,0)","v":1},{"$f":"IF(AND($C201<=AW$1,Negyedéves!AW$1<Paraméterek!$C$11*4+$C201),1,0)","v":1},{"$f":"IF(AND($C201<=AX$1,Negyedéves!AX$1<Paraméterek!$C$11*4+$C201),1,0)","v":1},{"$f":"IF(AND($C201<=AY$1,Negyedéves!AY$1<Paraméterek!$C$11*4+$C201),1,0)","v":1},{"$f":"IF(AND($C201<=AZ$1,Negyedéves!AZ$1<Paraméterek!$C$11*4+$C201),1,0)","v":0},{"$f":"IF(AND($C201<=BA$1,Negyedéves!BA$1<Paraméterek!$C$11*4+$C201),1,0)","v":0},{"$f":"IF(AND($C201<=BB$1,Negyedéves!BB$1<Paraméterek!$C$11*4+$C201),1,0)","v":0},{"$f":"IF(AND($C201<=BC$1,Negyedéves!BC$1<Paraméterek!$C$11*4+$C201),1,0)","v":0},{"$f":"IF(AND($C201<=BD$1,Negyedéves!BD$1<Paraméterek!$C$11*4+$C201),1,0)","v":0},{"$f":"IF(AND($C201<=BE$1,Negyedéves!BE$1<Paraméterek!$C$11*4+$C201),1,0)","v":0},{"$f":"IF(AND($C201<=BF$1,Negyedéves!BF$1<Paraméterek!$C$11*4+$C201),1,0)","v":0},{"$f":"IF(AND($C201<=BG$1,Negyedéves!BG$1<Paraméterek!$C$11*4+$C201),1,0)","v":0},{"$f":"IF(AND($C201<=BH$1,Negyedéves!BH$1<Paraméterek!$C$11*4+$C201),1,0)","v":0},{"$f":"IF(AND($C201<=BI$1,Negyedéves!BI$1<Paraméterek!$C$11*4+$C201),1,0)","v":0},{"$f":"IF(AND($C201<=BJ$1,Negyedéves!BJ$1<Paraméterek!$C$11*4+$C201),1,0)","v":0},{"$f":"IF(AND($C201<=BK$1,Negyedéves!BK$1<Paraméterek!$C$11*4+$C201),1,0)","v":0},{"$f":"IF(AND($C201<=BL$1,Negyedéves!BL$1<Paraméterek!$C$11*4+$C201),1,0)","v":0},{"$f":"IF(AND($C201<=BM$1,Negyedéves!BM$1<Paraméterek!$C$11*4+$C201),1,0)","v":0},{"$f":"IF(AND($C201<=BN$1,Negyedéves!BN$1<Paraméterek!$C$11*4+$C201),1,0)","v":0},{"$f":"IF(AND($C201<=BO$1,Negyedéves!BO$1<Paraméterek!$C$11*4+$C201),1,0)","v":0},{"$f":"IF(AND($C201<=BP$1,Negyedéves!BP$1<Paraméterek!$C$11*4+$C201),1,0)","v":0},{"$f":"IF(AND($C201<=BQ$1,Negyedéves!BQ$1<Paraméterek!$C$11*4+$C201),1,0)","v":0},{"$f":"IF(AND($C201<=BR$1,Negyedéves!BR$1<Paraméterek!$C$11*4+$C201),1,0)","v":0},{"$f":"IF(AND($C201<=BS$1,Negyedéves!BS$1<Paraméterek!$C$11*4+$C201),1,0)","v":0},"x"]
[null,0,22,{"$f":"IF(AND($C202<=D$1,Negyedéves!D$1<Paraméterek!$C$11*4+$C202),1,0)","v":0},{"$f":"IF(AND($C202<=E$1,Negyedéves!E$1<Paraméterek!$C$11*4+$C202),1,0)","v":0},{"$f":"IF(AND($C202<=F$1,Negyedéves!F$1<Paraméterek!$C$11*4+$C202),1,0)","v":0},{"$f":"IF(AND($C202<=G$1,Negyedéves!G$1<Paraméterek!$C$11*4+$C202),1,0)","v":0},{"$f":"IF(AND($C202<=H$1,Negyedéves!H$1<Paraméterek!$C$11*4+$C202),1,0)","v":0},{"$f":"IF(AND($C202<=I$1,Negyedéves!I$1<Paraméterek!$C$11*4+$C202),1,0)","v":0},{"$f":"IF(AND($C202<=J$1,Negyedéves!J$1<Paraméterek!$C$11*4+$C202),1,0)","v":0},{"$f":"IF(AND($C202<=K$1,Negyedéves!K$1<Paraméterek!$C$11*4+$C202),1,0)","v":0},{"$f":"IF(AND($C202<=L$1,Negyedéves!L$1<Paraméterek!$C$11*4+$C202),1,0)","v":0},{"$f":"IF(AND($C202<=M$1,Negyedéves!M$1<Paraméterek!$C$11*4+$C202),1,0)","v":0},{"$f":"IF(AND($C202<=N$1,Negyedéves!N$1<Paraméterek!$C$11*4+$C202),1,0)","v":0},{"$f":"IF(AND($C202<=O$1,Negyedéves!O$1<Paraméterek!$C$11*4+$C202),1,0)","v":0},{"$f":"IF(AND($C202<=P$1,Negyedéves!P$1<Paraméterek!$C$11*4+$C202),1,0)","v":0},{"$f":"IF(AND($C202<=Q$1,Negyedéves!Q$1<Paraméterek!$C$11*4+$C202),1,0)","v":0},{"$f":"IF(AND($C202<=R$1,Negyedéves!R$1<Paraméterek!$C$11*4+$C202),1,0)","v":0},{"$f":"IF(AND($C202<=S$1,Negyedéves!S$1<Paraméterek!$C$11*4+$C202),1,0)","v":0},{"$f":"IF(AND($C202<=T$1,Negyedéves!T$1<Paraméterek!$C$11*4+$C202),1,0)","v":0},{"$f":"IF(AND($C202<=U$1,Negyedéves!U$1<Paraméterek!$C$11*4+$C202),1,0)","v":0},{"$f":"IF(AND($C202<=V$1,Negyedéves!V$1<Paraméterek!$C$11*4+$C202),1,0)","v":0},{"$f":"IF(AND($C202<=W$1,Negyedéves!W$1<Paraméterek!$C$11*4+$C202),1,0)","v":0},{"$f":"IF(AND($C202<=X$1,Negyedéves!X$1<Paraméterek!$C$11*4+$C202),1,0)","v":0},{"$f":"IF(AND($C202<=Y$1,Negyedéves!Y$1<Paraméterek!$C$11*4+$C202),1,0)","v":1},{"$f":"IF(AND($C202<=Z$1,Negyedéves!Z$1<Paraméterek!$C$11*4+$C202),1,0)","v":1},{"$f":"IF(AND($C202<=AA$1,Negyedéves!AA$1<Paraméterek!$C$11*4+$C202),1,0)","v":1},{"$f":"IF(AND($C202<=AB$1,Negyedéves!AB$1<Paraméterek!$C$11*4+$C202),1,0)","v":1},{"$f":"IF(AND($C202<=AC$1,Negyedéves!AC$1<Paraméterek!$C$11*4+$C202),1,0)","v":1},{"$f":"IF(AND($C202<=AD$1,Negyedéves!AD$1<Paraméterek!$C$11*4+$C202),1,0)","v":1},{"$f":"IF(AND($C202<=AE$1,Negyedéves!AE$1<Paraméterek!$C$11*4+$C202),1,0)","v":1},{"$f":"IF(AND($C202<=AF$1,Negyedéves!AF$1<Paraméterek!$C$11*4+$C202),1,0)","v":1},{"$f":"IF(AND($C202<=AG$1,Negyedéves!AG$1<Paraméterek!$C$11*4+$C202),1,0)","v":1},{"$f":"IF(AND($C202<=AH$1,Negyedéves!AH$1<Paraméterek!$C$11*4+$C202),1,0)","v":1},{"$f":"IF(AND($C202<=AI$1,Negyedéves!AI$1<Paraméterek!$C$11*4+$C202),1,0)","v":1},{"$f":"IF(AND($C202<=AJ$1,Negyedéves!AJ$1<Paraméterek!$C$11*4+$C202),1,0)","v":1},{"$f":"IF(AND($C202<=AK$1,Negyedéves!AK$1<Paraméterek!$C$11*4+$C202),1,0)","v":1},{"$f":"IF(AND($C202<=AL$1,Negyedéves!AL$1<Paraméterek!$C$11*4+$C202),1,0)","v":1},{"$f":"IF(AND($C202<=AM$1,Negyedéves!AM$1<Paraméterek!$C$11*4+$C202),1,0)","v":1},{"$f":"IF(AND($C202<=AN$1,Negyedéves!AN$1<Paraméterek!$C$11*4+$C202),1,0)","v":1},{"$f":"IF(AND($C202<=AO$1,Negyedéves!AO$1<Paraméterek!$C$11*4+$C202),1,0)","v":1},{"$f":"IF(AND($C202<=AP$1,Negyedéves!AP$1<Paraméterek!$C$11*4+$C202),1,0)","v":1},{"$f":"IF(AND($C202<=AQ$1,Negyedéves!AQ$1<Paraméterek!$C$11*4+$C202),1,0)","v":1},{"$f":"IF(AND($C202<=AR$1,Negyedéves!AR$1<Paraméterek!$C$11*4+$C202),1,0)","v":1},{"$f":"IF(AND($C202<=AS$1,Negyedéves!AS$1<Paraméterek!$C$11*4+$C202),1,0)","v":1},{"$f":"IF(AND($C202<=AT$1,Negyedéves!AT$1<Paraméterek!$C$11*4+$C202),1,0)","v":1},{"$f":"IF(AND($C202<=AU$1,Negyedéves!AU$1<Paraméterek!$C$11*4+$C202),1,0)","v":1},{"$f":"IF(AND($C202<=AV$1,Negyedéves!AV$1<Paraméterek!$C$11*4+$C202),1,0)","v":1},{"$f":"IF(AND($C202<=AW$1,Negyedéves!AW$1<Paraméterek!$C$11*4+$C202),1,0)","v":1},{"$f":"IF(AND($C202<=AX$1,Negyedéves!AX$1<Paraméterek!$C$11*4+$C202),1,0)","v":1},{"$f":"IF(AND($C202<=AY$1,Negyedéves!AY$1<Paraméterek!$C$11*4+$C202),1,0)","v":1},{"$f":"IF(AND($C202<=AZ$1,Negyedéves!AZ$1<Paraméterek!$C$11*4+$C202),1,0)","v":1},{"$f":"IF(AND($C202<=BA$1,Negyedéves!BA$1<Paraméterek!$C$11*4+$C202),1,0)","v":0},{"$f":"IF(AND($C202<=BB$1,Negyedéves!BB$1<Paraméterek!$C$11*4+$C202),1,0)","v":0},{"$f":"IF(AND($C202<=BC$1,Negyedéves!BC$1<Paraméterek!$C$11*4+$C202),1,0)","v":0},{"$f":"IF(AND($C202<=BD$1,Negyedéves!BD$1<Paraméterek!$C$11*4+$C202),1,0)","v":0},{"$f":"IF(AND($C202<=BE$1,Negyedéves!BE$1<Paraméterek!$C$11*4+$C202),1,0)","v":0},{"$f":"IF(AND($C202<=BF$1,Negyedéves!BF$1<Paraméterek!$C$11*4+$C202),1,0)","v":0},{"$f":"IF(AND($C202<=BG$1,Negyedéves!BG$1<Paraméterek!$C$11*4+$C202),1,0)","v":0},{"$f":"IF(AND($C202<=BH$1,Negyedéves!BH$1<Paraméterek!$C$11*4+$C202),1,0)","v":0},{"$f":"IF(AND($C202<=BI$1,Negyedéves!BI$1<Paraméterek!$C$11*4+$C202),1,0)","v":0},{"$f":"IF(AND($C202<=BJ$1,Negyedéves!BJ$1<Paraméterek!$C$11*4+$C202),1,0)","v":0},{"$f":"IF(AND($C202<=BK$1,Negyedéves!BK$1<Paraméterek!$C$11*4+$C202),1,0)","v":0},{"$f":"IF(AND($C202<=BL$1,Negyedéves!BL$1<Paraméterek!$C$11*4+$C202),1,0)","v":0},{"$f":"IF(AND($C202<=BM$1,Negyedéves!BM$1<Paraméterek!$C$11*4+$C202),1,0)","v":0},{"$f":"IF(AND($C202<=BN$1,Negyedéves!BN$1<Paraméterek!$C$11*4+$C202),1,0)","v":0},{"$f":"IF(AND($C202<=BO$1,Negyedéves!BO$1<Paraméterek!$C$11*4+$C202),1,0)","v":0},{"$f":"IF(AND($C202<=BP$1,Negyedéves!BP$1<Paraméterek!$C$11*4+$C202),1,0)","v":0},{"$f":"IF(AND($C202<=BQ$1,Negyedéves!BQ$1<Paraméterek!$C$11*4+$C202),1,0)","v":0},{"$f":"IF(AND($C202<=BR$1,Negyedéves!BR$1<Paraméterek!$C$11*4+$C202),1,0)","v":0},{"$f":"IF(AND($C202<=BS$1,Negyedéves!BS$1<Paraméterek!$C$11*4+$C202),1,0)","v":0},"x"]
[null,0,23,{"$f":"IF(AND($C203<=D$1,Negyedéves!D$1<Paraméterek!$C$11*4+$C203),1,0)","v":0},{"$f":"IF(AND($C203<=E$1,Negyedéves!E$1<Paraméterek!$C$11*4+$C203),1,0)","v":0},{"$f":"IF(AND($C203<=F$1,Negyedéves!F$1<Paraméterek!$C$11*4+$C203),1,0)","v":0},{"$f":"IF(AND($C203<=G$1,Negyedéves!G$1<Paraméterek!$C$11*4+$C203),1,0)","v":0},{"$f":"IF(AND($C203<=H$1,Negyedéves!H$1<Paraméterek!$C$11*4+$C203),1,0)","v":0},{"$f":"IF(AND($C203<=I$1,Negyedéves!I$1<Paraméterek!$C$11*4+$C203),1,0)","v":0},{"$f":"IF(AND($C203<=J$1,Negyedéves!J$1<Paraméterek!$C$11*4+$C203),1,0)","v":0},{"$f":"IF(AND($C203<=K$1,Negyedéves!K$1<Paraméterek!$C$11*4+$C203),1,0)","v":0},{"$f":"IF(AND($C203<=L$1,Negyedéves!L$1<Paraméterek!$C$11*4+$C203),1,0)","v":0},{"$f":"IF(AND($C203<=M$1,Negyedéves!M$1<Paraméterek!$C$11*4+$C203),1,0)","v":0},{"$f":"IF(AND($C203<=N$1,Negyedéves!N$1<Paraméterek!$C$11*4+$C203),1,0)","v":0},{"$f":"IF(AND($C203<=O$1,Negyedéves!O$1<Paraméterek!$C$11*4+$C203),1,0)","v":0},{"$f":"IF(AND($C203<=P$1,Negyedéves!P$1<Paraméterek!$C$11*4+$C203),1,0)","v":0},{"$f":"IF(AND($C203<=Q$1,Negyedéves!Q$1<Paraméterek!$C$11*4+$C203),1,0)","v":0},{"$f":"IF(AND($C203<=R$1,Negyedéves!R$1<Paraméterek!$C$11*4+$C203),1,0)","v":0},{"$f":"IF(AND($C203<=S$1,Negyedéves!S$1<Paraméterek!$C$11*4+$C203),1,0)","v":0},{"$f":"IF(AND($C203<=T$1,Negyedéves!T$1<Paraméterek!$C$11*4+$C203),1,0)","v":0},{"$f":"IF(AND($C203<=U$1,Negyedéves!U$1<Paraméterek!$C$11*4+$C203),1,0)","v":0},{"$f":"IF(AND($C203<=V$1,Negyedéves!V$1<Paraméterek!$C$11*4+$C203),1,0)","v":0},{"$f":"IF(AND($C203<=W$1,Negyedéves!W$1<Paraméterek!$C$11*4+$C203),1,0)","v":0},{"$f":"IF(AND($C203<=X$1,Negyedéves!X$1<Paraméterek!$C$11*4+$C203),1,0)","v":0},{"$f":"IF(AND($C203<=Y$1,Negyedéves!Y$1<Paraméterek!$C$11*4+$C203),1,0)","v":0},{"$f":"IF(AND($C203<=Z$1,Negyedéves!Z$1<Paraméterek!$C$11*4+$C203),1,0)","v":1},{"$f":"IF(AND($C203<=AA$1,Negyedéves!AA$1<Paraméterek!$C$11*4+$C203),1,0)","v":1},{"$f":"IF(AND($C203<=AB$1,Negyedéves!AB$1<Paraméterek!$C$11*4+$C203),1,0)","v":1},{"$f":"IF(AND($C203<=AC$1,Negyedéves!AC$1<Paraméterek!$C$11*4+$C203),1,0)","v":1},{"$f":"IF(AND($C203<=AD$1,Negyedéves!AD$1<Paraméterek!$C$11*4+$C203),1,0)","v":1},{"$f":"IF(AND($C203<=AE$1,Negyedéves!AE$1<Paraméterek!$C$11*4+$C203),1,0)","v":1},{"$f":"IF(AND($C203<=AF$1,Negyedéves!AF$1<Paraméterek!$C$11*4+$C203),1,0)","v":1},{"$f":"IF(AND($C203<=AG$1,Negyedéves!AG$1<Paraméterek!$C$11*4+$C203),1,0)","v":1},{"$f":"IF(AND($C203<=AH$1,Negyedéves!AH$1<Paraméterek!$C$11*4+$C203),1,0)","v":1},{"$f":"IF(AND($C203<=AI$1,Negyedéves!AI$1<Paraméterek!$C$11*4+$C203),1,0)","v":1},{"$f":"IF(AND($C203<=AJ$1,Negyedéves!AJ$1<Paraméterek!$C$11*4+$C203),1,0)","v":1},{"$f":"IF(AND($C203<=AK$1,Negyedéves!AK$1<Paraméterek!$C$11*4+$C203),1,0)","v":1},{"$f":"IF(AND($C203<=AL$1,Negyedéves!AL$1<Paraméterek!$C$11*4+$C203),1,0)","v":1},{"$f":"IF(AND($C203<=AM$1,Negyedéves!AM$1<Paraméterek!$C$11*4+$C203),1,0)","v":1},{"$f":"IF(AND($C203<=AN$1,Negyedéves!AN$1<Paraméterek!$C$11*4+$C203),1,0)","v":1},{"$f":"IF(AND($C203<=AO$1,Negyedéves!AO$1<Paraméterek!$C$11*4+$C203),1,0)","v":1},{"$f":"IF(AND($C203<=AP$1,Negyedéves!AP$1<Paraméterek!$C$11*4+$C203),1,0)","v":1},{"$f":"IF(AND($C203<=AQ$1,Negyedéves!AQ$1<Paraméterek!$C$11*4+$C203),1,0)","v":1},{"$f":"IF(AND($C203<=AR$1,Negyedéves!AR$1<Paraméterek!$C$11*4+$C203),1,0)","v":1},{"$f":"IF(AND($C203<=AS$1,Negyedéves!AS$1<Paraméterek!$C$11*4+$C203),1,0)","v":1},{"$f":"IF(AND($C203<=AT$1,Negyedéves!AT$1<Paraméterek!$C$11*4+$C203),1,0)","v":1},{"$f":"IF(AND($C203<=AU$1,Negyedéves!AU$1<Paraméterek!$C$11*4+$C203),1,0)","v":1},{"$f":"IF(AND($C203<=AV$1,Negyedéves!AV$1<Paraméterek!$C$11*4+$C203),1,0)","v":1},{"$f":"IF(AND($C203<=AW$1,Negyedéves!AW$1<Paraméterek!$C$11*4+$C203),1,0)","v":1},{"$f":"IF(AND($C203<=AX$1,Negyedéves!AX$1<Paraméterek!$C$11*4+$C203),1,0)","v":1},{"$f":"IF(AND($C203<=AY$1,Negyedéves!AY$1<Paraméterek!$C$11*4+$C203),1,0)","v":1},{"$f":"IF(AND($C203<=AZ$1,Negyedéves!AZ$1<Paraméterek!$C$11*4+$C203),1,0)","v":1},{"$f":"IF(AND($C203<=BA$1,Negyedéves!BA$1<Paraméterek!$C$11*4+$C203),1,0)","v":1},{"$f":"IF(AND($C203<=BB$1,Negyedéves!BB$1<Paraméterek!$C$11*4+$C203),1,0)","v":0},{"$f":"IF(AND($C203<=BC$1,Negyedéves!BC$1<Paraméterek!$C$11*4+$C203),1,0)","v":0},{"$f":"IF(AND($C203<=BD$1,Negyedéves!BD$1<Paraméterek!$C$11*4+$C203),1,0)","v":0},{"$f":"IF(AND($C203<=BE$1,Negyedéves!BE$1<Paraméterek!$C$11*4+$C203),1,0)","v":0},{"$f":"IF(AND($C203<=BF$1,Negyedéves!BF$1<Paraméterek!$C$11*4+$C203),1,0)","v":0},{"$f":"IF(AND($C203<=BG$1,Negyedéves!BG$1<Paraméterek!$C$11*4+$C203),1,0)","v":0},{"$f":"IF(AND($C203<=BH$1,Negyedéves!BH$1<Paraméterek!$C$11*4+$C203),1,0)","v":0},{"$f":"IF(AND($C203<=BI$1,Negyedéves!BI$1<Paraméterek!$C$11*4+$C203),1,0)","v":0},{"$f":"IF(AND($C203<=BJ$1,Negyedéves!BJ$1<Paraméterek!$C$11*4+$C203),1,0)","v":0},{"$f":"IF(AND($C203<=BK$1,Negyedéves!BK$1<Paraméterek!$C$11*4+$C203),1,0)","v":0},{"$f":"IF(AND($C203<=BL$1,Negyedéves!BL$1<Paraméterek!$C$11*4+$C203),1,0)","v":0},{"$f":"IF(AND($C203<=BM$1,Negyedéves!BM$1<Paraméterek!$C$11*4+$C203),1,0)","v":0},{"$f":"IF(AND($C203<=BN$1,Negyedéves!BN$1<Paraméterek!$C$11*4+$C203),1,0)","v":0},{"$f":"IF(AND($C203<=BO$1,Negyedéves!BO$1<Paraméterek!$C$11*4+$C203),1,0)","v":0},{"$f":"IF(AND($C203<=BP$1,Negyedéves!BP$1<Paraméterek!$C$11*4+$C203),1,0)","v":0},{"$f":"IF(AND($C203<=BQ$1,Negyedéves!BQ$1<Paraméterek!$C$11*4+$C203),1,0)","v":0},{"$f":"IF(AND($C203<=BR$1,Negyedéves!BR$1<Paraméterek!$C$11*4+$C203),1,0)","v":0},{"$f":"IF(AND($C203<=BS$1,Negyedéves!BS$1<Paraméterek!$C$11*4+$C203),1,0)","v":0},"x"]
[null,0,24,{"$f":"IF(AND($C204<=D$1,Negyedéves!D$1<Paraméterek!$C$11*4+$C204),1,0)","v":0},{"$f":"IF(AND($C204<=E$1,Negyedéves!E$1<Paraméterek!$C$11*4+$C204),1,0)","v":0},{"$f":"IF(AND($C204<=F$1,Negyedéves!F$1<Paraméterek!$C$11*4+$C204),1,0)","v":0},{"$f":"IF(AND($C204<=G$1,Negyedéves!G$1<Paraméterek!$C$11*4+$C204),1,0)","v":0},{"$f":"IF(AND($C204<=H$1,Negyedéves!H$1<Paraméterek!$C$11*4+$C204),1,0)","v":0},{"$f":"IF(AND($C204<=I$1,Negyedéves!I$1<Paraméterek!$C$11*4+$C204),1,0)","v":0},{"$f":"IF(AND($C204<=J$1,Negyedéves!J$1<Paraméterek!$C$11*4+$C204),1,0)","v":0},{"$f":"IF(AND($C204<=K$1,Negyedéves!K$1<Paraméterek!$C$11*4+$C204),1,0)","v":0},{"$f":"IF(AND($C204<=L$1,Negyedéves!L$1<Paraméterek!$C$11*4+$C204),1,0)","v":0},{"$f":"IF(AND($C204<=M$1,Negyedéves!M$1<Paraméterek!$C$11*4+$C204),1,0)","v":0},{"$f":"IF(AND($C204<=N$1,Negyedéves!N$1<Paraméterek!$C$11*4+$C204),1,0)","v":0},{"$f":"IF(AND($C204<=O$1,Negyedéves!O$1<Paraméterek!$C$11*4+$C204),1,0)","v":0},{"$f":"IF(AND($C204<=P$1,Negyedéves!P$1<Paraméterek!$C$11*4+$C204),1,0)","v":0},{"$f":"IF(AND($C204<=Q$1,Negyedéves!Q$1<Paraméterek!$C$11*4+$C204),1,0)","v":0},{"$f":"IF(AND($C204<=R$1,Negyedéves!R$1<Paraméterek!$C$11*4+$C204),1,0)","v":0},{"$f":"IF(AND($C204<=S$1,Negyedéves!S$1<Paraméterek!$C$11*4+$C204),1,0)","v":0},{"$f":"IF(AND($C204<=T$1,Negyedéves!T$1<Paraméterek!$C$11*4+$C204),1,0)","v":0},{"$f":"IF(AND($C204<=U$1,Negyedéves!U$1<Paraméterek!$C$11*4+$C204),1,0)","v":0},{"$f":"IF(AND($C204<=V$1,Negyedéves!V$1<Paraméterek!$C$11*4+$C204),1,0)","v":0},{"$f":"IF(AND($C204<=W$1,Negyedéves!W$1<Paraméterek!$C$11*4+$C204),1,0)","v":0},{"$f":"IF(AND($C204<=X$1,Negyedéves!X$1<Paraméterek!$C$11*4+$C204),1,0)","v":0},{"$f":"IF(AND($C204<=Y$1,Negyedéves!Y$1<Paraméterek!$C$11*4+$C204),1,0)","v":0},{"$f":"IF(AND($C204<=Z$1,Negyedéves!Z$1<Paraméterek!$C$11*4+$C204),1,0)","v":0},{"$f":"IF(AND($C204<=AA$1,Negyedéves!AA$1<Paraméterek!$C$11*4+$C204),1,0)","v":1},{"$f":"IF(AND($C204<=AB$1,Negyedéves!AB$1<Paraméterek!$C$11*4+$C204),1,0)","v":1},{"$f":"IF(AND($C204<=AC$1,Negyedéves!AC$1<Paraméterek!$C$11*4+$C204),1,0)","v":1},{"$f":"IF(AND($C204<=AD$1,Negyedéves!AD$1<Paraméterek!$C$11*4+$C204),1,0)","v":1},{"$f":"IF(AND($C204<=AE$1,Negyedéves!AE$1<Paraméterek!$C$11*4+$C204),1,0)","v":1},{"$f":"IF(AND($C204<=AF$1,Negyedéves!AF$1<Paraméterek!$C$11*4+$C204),1,0)","v":1},{"$f":"IF(AND($C204<=AG$1,Negyedéves!AG$1<Paraméterek!$C$11*4+$C204),1,0)","v":1},{"$f":"IF(AND($C204<=AH$1,Negyedéves!AH$1<Paraméterek!$C$11*4+$C204),1,0)","v":1},{"$f":"IF(AND($C204<=AI$1,Negyedéves!AI$1<Paraméterek!$C$11*4+$C204),1,0)","v":1},{"$f":"IF(AND($C204<=AJ$1,Negyedéves!AJ$1<Paraméterek!$C$11*4+$C204),1,0)","v":1},{"$f":"IF(AND($C204<=AK$1,Negyedéves!AK$1<Paraméterek!$C$11*4+$C204),1,0)","v":1},{"$f":"IF(AND($C204<=AL$1,Negyedéves!AL$1<Paraméterek!$C$11*4+$C204),1,0)","v":1},{"$f":"IF(AND($C204<=AM$1,Negyedéves!AM$1<Paraméterek!$C$11*4+$C204),1,0)","v":1},{"$f":"IF(AND($C204<=AN$1,Negyedéves!AN$1<Paraméterek!$C$11*4+$C204),1,0)","v":1},{"$f":"IF(AND($C204<=AO$1,Negyedéves!AO$1<Paraméterek!$C$11*4+$C204),1,0)","v":1},{"$f":"IF(AND($C204<=AP$1,Negyedéves!AP$1<Paraméterek!$C$11*4+$C204),1,0)","v":1},{"$f":"IF(AND($C204<=AQ$1,Negyedéves!AQ$1<Paraméterek!$C$11*4+$C204),1,0)","v":1},{"$f":"IF(AND($C204<=AR$1,Negyedéves!AR$1<Paraméterek!$C$11*4+$C204),1,0)","v":1},{"$f":"IF(AND($C204<=AS$1,Negyedéves!AS$1<Paraméterek!$C$11*4+$C204),1,0)","v":1},{"$f":"IF(AND($C204<=AT$1,Negyedéves!AT$1<Paraméterek!$C$11*4+$C204),1,0)","v":1},{"$f":"IF(AND($C204<=AU$1,Negyedéves!AU$1<Paraméterek!$C$11*4+$C204),1,0)","v":1},{"$f":"IF(AND($C204<=AV$1,Negyedéves!AV$1<Paraméterek!$C$11*4+$C204),1,0)","v":1},{"$f":"IF(AND($C204<=AW$1,Negyedéves!AW$1<Paraméterek!$C$11*4+$C204),1,0)","v":1},{"$f":"IF(AND($C204<=AX$1,Negyedéves!AX$1<Paraméterek!$C$11*4+$C204),1,0)","v":1},{"$f":"IF(AND($C204<=AY$1,Negyedéves!AY$1<Paraméterek!$C$11*4+$C204),1,0)","v":1},{"$f":"IF(AND($C204<=AZ$1,Negyedéves!AZ$1<Paraméterek!$C$11*4+$C204),1,0)","v":1},{"$f":"IF(AND($C204<=BA$1,Negyedéves!BA$1<Paraméterek!$C$11*4+$C204),1,0)","v":1},{"$f":"IF(AND($C204<=BB$1,Negyedéves!BB$1<Paraméterek!$C$11*4+$C204),1,0)","v":1},{"$f":"IF(AND($C204<=BC$1,Negyedéves!BC$1<Paraméterek!$C$11*4+$C204),1,0)","v":0},{"$f":"IF(AND($C204<=BD$1,Negyedéves!BD$1<Paraméterek!$C$11*4+$C204),1,0)","v":0},{"$f":"IF(AND($C204<=BE$1,Negyedéves!BE$1<Paraméterek!$C$11*4+$C204),1,0)","v":0},{"$f":"IF(AND($C204<=BF$1,Negyedéves!BF$1<Paraméterek!$C$11*4+$C204),1,0)","v":0},{"$f":"IF(AND($C204<=BG$1,Negyedéves!BG$1<Paraméterek!$C$11*4+$C204),1,0)","v":0},{"$f":"IF(AND($C204<=BH$1,Negyedéves!BH$1<Paraméterek!$C$11*4+$C204),1,0)","v":0},{"$f":"IF(AND($C204<=BI$1,Negyedéves!BI$1<Paraméterek!$C$11*4+$C204),1,0)","v":0},{"$f":"IF(AND($C204<=BJ$1,Negyedéves!BJ$1<Paraméterek!$C$11*4+$C204),1,0)","v":0},{"$f":"IF(AND($C204<=BK$1,Negyedéves!BK$1<Paraméterek!$C$11*4+$C204),1,0)","v":0},{"$f":"IF(AND($C204<=BL$1,Negyedéves!BL$1<Paraméterek!$C$11*4+$C204),1,0)","v":0},{"$f":"IF(AND($C204<=BM$1,Negyedéves!BM$1<Paraméterek!$C$11*4+$C204),1,0)","v":0},{"$f":"IF(AND($C204<=BN$1,Negyedéves!BN$1<Paraméterek!$C$11*4+$C204),1,0)","v":0},{"$f":"IF(AND($C204<=BO$1,Negyedéves!BO$1<Paraméterek!$C$11*4+$C204),1,0)","v":0},{"$f":"IF(AND($C204<=BP$1,Negyedéves!BP$1<Paraméterek!$C$11*4+$C204),1,0)","v":0},{"$f":"IF(AND($C204<=BQ$1,Negyedéves!BQ$1<Paraméterek!$C$11*4+$C204),1,0)","v":0},{"$f":"IF(AND($C204<=BR$1,Negyedéves!BR$1<Paraméterek!$C$11*4+$C204),1,0)","v":0},{"$f":"IF(AND($C204<=BS$1,Negyedéves!BS$1<Paraméterek!$C$11*4+$C204),1,0)","v":0},"x"]
[null,1131751.4862911231,25,{"$f":"IF(AND($C205<=D$1,Negyedéves!D$1<Paraméterek!$C$11*4+$C205),1,0)","v":0},{"$f":"IF(AND($C205<=E$1,Negyedéves!E$1<Paraméterek!$C$11*4+$C205),1,0)","v":0},{"$f":"IF(AND($C205<=F$1,Negyedéves!F$1<Paraméterek!$C$11*4+$C205),1,0)","v":0},{"$f":"IF(AND($C205<=G$1,Negyedéves!G$1<Paraméterek!$C$11*4+$C205),1,0)","v":0},{"$f":"IF(AND($C205<=H$1,Negyedéves!H$1<Paraméterek!$C$11*4+$C205),1,0)","v":0},{"$f":"IF(AND($C205<=I$1,Negyedéves!I$1<Paraméterek!$C$11*4+$C205),1,0)","v":0},{"$f":"IF(AND($C205<=J$1,Negyedéves!J$1<Paraméterek!$C$11*4+$C205),1,0)","v":0},{"$f":"IF(AND($C205<=K$1,Negyedéves!K$1<Paraméterek!$C$11*4+$C205),1,0)","v":0},{"$f":"IF(AND($C205<=L$1,Negyedéves!L$1<Paraméterek!$C$11*4+$C205),1,0)","v":0},{"$f":"IF(AND($C205<=M$1,Negyedéves!M$1<Paraméterek!$C$11*4+$C205),1,0)","v":0},{"$f":"IF(AND($C205<=N$1,Negyedéves!N$1<Paraméterek!$C$11*4+$C205),1,0)","v":0},{"$f":"IF(AND($C205<=O$1,Negyedéves!O$1<Paraméterek!$C$11*4+$C205),1,0)","v":0},{"$f":"IF(AND($C205<=P$1,Negyedéves!P$1<Paraméterek!$C$11*4+$C205),1,0)","v":0},{"$f":"IF(AND($C205<=Q$1,Negyedéves!Q$1<Paraméterek!$C$11*4+$C205),1,0)","v":0},{"$f":"IF(AND($C205<=R$1,Negyedéves!R$1<Paraméterek!$C$11*4+$C205),1,0)","v":0},{"$f":"IF(AND($C205<=S$1,Negyedéves!S$1<Paraméterek!$C$11*4+$C205),1,0)","v":0},{"$f":"IF(AND($C205<=T$1,Negyedéves!T$1<Paraméterek!$C$11*4+$C205),1,0)","v":0},{"$f":"IF(AND($C205<=U$1,Negyedéves!U$1<Paraméterek!$C$11*4+$C205),1,0)","v":0},{"$f":"IF(AND($C205<=V$1,Negyedéves!V$1<Paraméterek!$C$11*4+$C205),1,0)","v":0},{"$f":"IF(AND($C205<=W$1,Negyedéves!W$1<Paraméterek!$C$11*4+$C205),1,0)","v":0},{"$f":"IF(AND($C205<=X$1,Negyedéves!X$1<Paraméterek!$C$11*4+$C205),1,0)","v":0},{"$f":"IF(AND($C205<=Y$1,Negyedéves!Y$1<Paraméterek!$C$11*4+$C205),1,0)","v":0},{"$f":"IF(AND($C205<=Z$1,Negyedéves!Z$1<Paraméterek!$C$11*4+$C205),1,0)","v":0},{"$f":"IF(AND($C205<=AA$1,Negyedéves!AA$1<Paraméterek!$C$11*4+$C205),1,0)","v":0},{"$f":"IF(AND($C205<=AB$1,Negyedéves!AB$1<Paraméterek!$C$11*4+$C205),1,0)","v":1},{"$f":"IF(AND($C205<=AC$1,Negyedéves!AC$1<Paraméterek!$C$11*4+$C205),1,0)","v":1},{"$f":"IF(AND($C205<=AD$1,Negyedéves!AD$1<Paraméterek!$C$11*4+$C205),1,0)","v":1},{"$f":"IF(AND($C205<=AE$1,Negyedéves!AE$1<Paraméterek!$C$11*4+$C205),1,0)","v":1},{"$f":"IF(AND($C205<=AF$1,Negyedéves!AF$1<Paraméterek!$C$11*4+$C205),1,0)","v":1},{"$f":"IF(AND($C205<=AG$1,Negyedéves!AG$1<Paraméterek!$C$11*4+$C205),1,0)","v":1},{"$f":"IF(AND($C205<=AH$1,Negyedéves!AH$1<Paraméterek!$C$11*4+$C205),1,0)","v":1},{"$f":"IF(AND($C205<=AI$1,Negyedéves!AI$1<Paraméterek!$C$11*4+$C205),1,0)","v":1},{"$f":"IF(AND($C205<=AJ$1,Negyedéves!AJ$1<Paraméterek!$C$11*4+$C205),1,0)","v":1},{"$f":"IF(AND($C205<=AK$1,Negyedéves!AK$1<Paraméterek!$C$11*4+$C205),1,0)","v":1},{"$f":"IF(AND($C205<=AL$1,Negyedéves!AL$1<Paraméterek!$C$11*4+$C205),1,0)","v":1},{"$f":"IF(AND($C205<=AM$1,Negyedéves!AM$1<Paraméterek!$C$11*4+$C205),1,0)","v":1},{"$f":"IF(AND($C205<=AN$1,Negyedéves!AN$1<Paraméterek!$C$11*4+$C205),1,0)","v":1},{"$f":"IF(AND($C205<=AO$1,Negyedéves!AO$1<Paraméterek!$C$11*4+$C205),1,0)","v":1},{"$f":"IF(AND($C205<=AP$1,Negyedéves!AP$1<Paraméterek!$C$11*4+$C205),1,0)","v":1},{"$f":"IF(AND($C205<=AQ$1,Negyedéves!AQ$1<Paraméterek!$C$11*4+$C205),1,0)","v":1},{"$f":"IF(AND($C205<=AR$1,Negyedéves!AR$1<Paraméterek!$C$11*4+$C205),1,0)","v":1},{"$f":"IF(AND($C205<=AS$1,Negyedéves!AS$1<Paraméterek!$C$11*4+$C205),1,0)","v":1},{"$f":"IF(AND($C205<=AT$1,Negyedéves!AT$1<Paraméterek!$C$11*4+$C205),1,0)","v":1},{"$f":"IF(AND($C205<=AU$1,Negyedéves!AU$1<Paraméterek!$C$11*4+$C205),1,0)","v":1},{"$f":"IF(AND($C205<=AV$1,Negyedéves!AV$1<Paraméterek!$C$11*4+$C205),1,0)","v":1},{"$f":"IF(AND($C205<=AW$1,Negyedéves!AW$1<Paraméterek!$C$11*4+$C205),1,0)","v":1},{"$f":"IF(AND($C205<=AX$1,Negyedéves!AX$1<Paraméterek!$C$11*4+$C205),1,0)","v":1},{"$f":"IF(AND($C205<=AY$1,Negyedéves!AY$1<Paraméterek!$C$11*4+$C205),1,0)","v":1},{"$f":"IF(AND($C205<=AZ$1,Negyedéves!AZ$1<Paraméterek!$C$11*4+$C205),1,0)","v":1},{"$f":"IF(AND($C205<=BA$1,Negyedéves!BA$1<Paraméterek!$C$11*4+$C205),1,0)","v":1},{"$f":"IF(AND($C205<=BB$1,Negyedéves!BB$1<Paraméterek!$C$11*4+$C205),1,0)","v":1},{"$f":"IF(AND($C205<=BC$1,Negyedéves!BC$1<Paraméterek!$C$11*4+$C205),1,0)","v":1},{"$f":"IF(AND($C205<=BD$1,Negyedéves!BD$1<Paraméterek!$C$11*4+$C205),1,0)","v":0},{"$f":"IF(AND($C205<=BE$1,Negyedéves!BE$1<Paraméterek!$C$11*4+$C205),1,0)","v":0},{"$f":"IF(AND($C205<=BF$1,Negyedéves!BF$1<Paraméterek!$C$11*4+$C205),1,0)","v":0},{"$f":"IF(AND($C205<=BG$1,Negyedéves!BG$1<Paraméterek!$C$11*4+$C205),1,0)","v":0},{"$f":"IF(AND($C205<=BH$1,Negyedéves!BH$1<Paraméterek!$C$11*4+$C205),1,0)","v":0},{"$f":"IF(AND($C205<=BI$1,Negyedéves!BI$1<Paraméterek!$C$11*4+$C205),1,0)","v":0},{"$f":"IF(AND($C205<=BJ$1,Negyedéves!BJ$1<Paraméterek!$C$11*4+$C205),1,0)","v":0},{"$f":"IF(AND($C205<=BK$1,Negyedéves!BK$1<Paraméterek!$C$11*4+$C205),1,0)","v":0},{"$f":"IF(AND($C205<=BL$1,Negyedéves!BL$1<Paraméterek!$C$11*4+$C205),1,0)","v":0},{"$f":"IF(AND($C205<=BM$1,Negyedéves!BM$1<Paraméterek!$C$11*4+$C205),1,0)","v":0},{"$f":"IF(AND($C205<=BN$1,Negyedéves!BN$1<Paraméterek!$C$11*4+$C205),1,0)","v":0},{"$f":"IF(AND($C205<=BO$1,Negyedéves!BO$1<Paraméterek!$C$11*4+$C205),1,0)","v":0},{"$f":"IF(AND($C205<=BP$1,Negyedéves!BP$1<Paraméterek!$C$11*4+$C205),1,0)","v":0},{"$f":"IF(AND($C205<=BQ$1,Negyedéves!BQ$1<Paraméterek!$C$11*4+$C205),1,0)","v":0},{"$f":"IF(AND($C205<=BR$1,Negyedéves!BR$1<Paraméterek!$C$11*4+$C205),1,0)","v":0},{"$f":"IF(AND($C205<=BS$1,Negyedéves!BS$1<Paraméterek!$C$11*4+$C205),1,0)","v":0},"x"]
[null,0,26,{"$f":"IF(AND($C206<=D$1,Negyedéves!D$1<Paraméterek!$C$11*4+$C206),1,0)","v":0},{"$f":"IF(AND($C206<=E$1,Negyedéves!E$1<Paraméterek!$C$11*4+$C206),1,0)","v":0},{"$f":"IF(AND($C206<=F$1,Negyedéves!F$1<Paraméterek!$C$11*4+$C206),1,0)","v":0},{"$f":"IF(AND($C206<=G$1,Negyedéves!G$1<Paraméterek!$C$11*4+$C206),1,0)","v":0},{"$f":"IF(AND($C206<=H$1,Negyedéves!H$1<Paraméterek!$C$11*4+$C206),1,0)","v":0},{"$f":"IF(AND($C206<=I$1,Negyedéves!I$1<Paraméterek!$C$11*4+$C206),1,0)","v":0},{"$f":"IF(AND($C206<=J$1,Negyedéves!J$1<Paraméterek!$C$11*4+$C206),1,0)","v":0},{"$f":"IF(AND($C206<=K$1,Negyedéves!K$1<Paraméterek!$C$11*4+$C206),1,0)","v":0},{"$f":"IF(AND($C206<=L$1,Negyedéves!L$1<Paraméterek!$C$11*4+$C206),1,0)","v":0},{"$f":"IF(AND($C206<=M$1,Negyedéves!M$1<Paraméterek!$C$11*4+$C206),1,0)","v":0},{"$f":"IF(AND($C206<=N$1,Negyedéves!N$1<Paraméterek!$C$11*4+$C206),1,0)","v":0},{"$f":"IF(AND($C206<=O$1,Negyedéves!O$1<Paraméterek!$C$11*4+$C206),1,0)","v":0},{"$f":"IF(AND($C206<=P$1,Negyedéves!P$1<Paraméterek!$C$11*4+$C206),1,0)","v":0},{"$f":"IF(AND($C206<=Q$1,Negyedéves!Q$1<Paraméterek!$C$11*4+$C206),1,0)","v":0},{"$f":"IF(AND($C206<=R$1,Negyedéves!R$1<Paraméterek!$C$11*4+$C206),1,0)","v":0},{"$f":"IF(AND($C206<=S$1,Negyedéves!S$1<Paraméterek!$C$11*4+$C206),1,0)","v":0},{"$f":"IF(AND($C206<=T$1,Negyedéves!T$1<Paraméterek!$C$11*4+$C206),1,0)","v":0},{"$f":"IF(AND($C206<=U$1,Negyedéves!U$1<Paraméterek!$C$11*4+$C206),1,0)","v":0},{"$f":"IF(AND($C206<=V$1,Negyedéves!V$1<Paraméterek!$C$11*4+$C206),1,0)","v":0},{"$f":"IF(AND($C206<=W$1,Negyedéves!W$1<Paraméterek!$C$11*4+$C206),1,0)","v":0},{"$f":"IF(AND($C206<=X$1,Negyedéves!X$1<Paraméterek!$C$11*4+$C206),1,0)","v":0},{"$f":"IF(AND($C206<=Y$1,Negyedéves!Y$1<Paraméterek!$C$11*4+$C206),1,0)","v":0},{"$f":"IF(AND($C206<=Z$1,Negyedéves!Z$1<Paraméterek!$C$11*4+$C206),1,0)","v":0},{"$f":"IF(AND($C206<=AA$1,Negyedéves!AA$1<Paraméterek!$C$11*4+$C206),1,0)","v":0},{"$f":"IF(AND($C206<=AB$1,Negyedéves!AB$1<Paraméterek!$C$11*4+$C206),1,0)","v":0},{"$f":"IF(AND($C206<=AC$1,Negyedéves!AC$1<Paraméterek!$C$11*4+$C206),1,0)","v":1},{"$f":"IF(AND($C206<=AD$1,Negyedéves!AD$1<Paraméterek!$C$11*4+$C206),1,0)","v":1},{"$f":"IF(AND($C206<=AE$1,Negyedéves!AE$1<Paraméterek!$C$11*4+$C206),1,0)","v":1},{"$f":"IF(AND($C206<=AF$1,Negyedéves!AF$1<Paraméterek!$C$11*4+$C206),1,0)","v":1},{"$f":"IF(AND($C206<=AG$1,Negyedéves!AG$1<Paraméterek!$C$11*4+$C206),1,0)","v":1},{"$f":"IF(AND($C206<=AH$1,Negyedéves!AH$1<Paraméterek!$C$11*4+$C206),1,0)","v":1},{"$f":"IF(AND($C206<=AI$1,Negyedéves!AI$1<Paraméterek!$C$11*4+$C206),1,0)","v":1},{"$f":"IF(AND($C206<=AJ$1,Negyedéves!AJ$1<Paraméterek!$C$11*4+$C206),1,0)","v":1},{"$f":"IF(AND($C206<=AK$1,Negyedéves!AK$1<Paraméterek!$C$11*4+$C206),1,0)","v":1},{"$f":"IF(AND($C206<=AL$1,Negyedéves!AL$1<Paraméterek!$C$11*4+$C206),1,0)","v":1},{"$f":"IF(AND($C206<=AM$1,Negyedéves!AM$1<Paraméterek!$C$11*4+$C206),1,0)","v":1},{"$f":"IF(AND($C206<=AN$1,Negyedéves!AN$1<Paraméterek!$C$11*4+$C206),1,0)","v":1},{"$f":"IF(AND($C206<=AO$1,Negyedéves!AO$1<Paraméterek!$C$11*4+$C206),1,0)","v":1},{"$f":"IF(AND($C206<=AP$1,Negyedéves!AP$1<Paraméterek!$C$11*4+$C206),1,0)","v":1},{"$f":"IF(AND($C206<=AQ$1,Negyedéves!AQ$1<Paraméterek!$C$11*4+$C206),1,0)","v":1},{"$f":"IF(AND($C206<=AR$1,Negyedéves!AR$1<Paraméterek!$C$11*4+$C206),1,0)","v":1},{"$f":"IF(AND($C206<=AS$1,Negyedéves!AS$1<Paraméterek!$C$11*4+$C206),1,0)","v":1},{"$f":"IF(AND($C206<=AT$1,Negyedéves!AT$1<Paraméterek!$C$11*4+$C206),1,0)","v":1},{"$f":"IF(AND($C206<=AU$1,Negyedéves!AU$1<Paraméterek!$C$11*4+$C206),1,0)","v":1},{"$f":"IF(AND($C206<=AV$1,Negyedéves!AV$1<Paraméterek!$C$11*4+$C206),1,0)","v":1},{"$f":"IF(AND($C206<=AW$1,Negyedéves!AW$1<Paraméterek!$C$11*4+$C206),1,0)","v":1},{"$f":"IF(AND($C206<=AX$1,Negyedéves!AX$1<Paraméterek!$C$11*4+$C206),1,0)","v":1},{"$f":"IF(AND($C206<=AY$1,Negyedéves!AY$1<Paraméterek!$C$11*4+$C206),1,0)","v":1},{"$f":"IF(AND($C206<=AZ$1,Negyedéves!AZ$1<Paraméterek!$C$11*4+$C206),1,0)","v":1},{"$f":"IF(AND($C206<=BA$1,Negyedéves!BA$1<Paraméterek!$C$11*4+$C206),1,0)","v":1},{"$f":"IF(AND($C206<=BB$1,Negyedéves!BB$1<Paraméterek!$C$11*4+$C206),1,0)","v":1},{"$f":"IF(AND($C206<=BC$1,Negyedéves!BC$1<Paraméterek!$C$11*4+$C206),1,0)","v":1},{"$f":"IF(AND($C206<=BD$1,Negyedéves!BD$1<Paraméterek!$C$11*4+$C206),1,0)","v":1},{"$f":"IF(AND($C206<=BE$1,Negyedéves!BE$1<Paraméterek!$C$11*4+$C206),1,0)","v":0},{"$f":"IF(AND($C206<=BF$1,Negyedéves!BF$1<Paraméterek!$C$11*4+$C206),1,0)","v":0},{"$f":"IF(AND($C206<=BG$1,Negyedéves!BG$1<Paraméterek!$C$11*4+$C206),1,0)","v":0},{"$f":"IF(AND($C206<=BH$1,Negyedéves!BH$1<Paraméterek!$C$11*4+$C206),1,0)","v":0},{"$f":"IF(AND($C206<=BI$1,Negyedéves!BI$1<Paraméterek!$C$11*4+$C206),1,0)","v":0},{"$f":"IF(AND($C206<=BJ$1,Negyedéves!BJ$1<Paraméterek!$C$11*4+$C206),1,0)","v":0},{"$f":"IF(AND($C206<=BK$1,Negyedéves!BK$1<Paraméterek!$C$11*4+$C206),1,0)","v":0},{"$f":"IF(AND($C206<=BL$1,Negyedéves!BL$1<Paraméterek!$C$11*4+$C206),1,0)","v":0},{"$f":"IF(AND($C206<=BM$1,Negyedéves!BM$1<Paraméterek!$C$11*4+$C206),1,0)","v":0},{"$f":"IF(AND($C206<=BN$1,Negyedéves!BN$1<Paraméterek!$C$11*4+$C206),1,0)","v":0},{"$f":"IF(AND($C206<=BO$1,Negyedéves!BO$1<Paraméterek!$C$11*4+$C206),1,0)","v":0},{"$f":"IF(AND($C206<=BP$1,Negyedéves!BP$1<Paraméterek!$C$11*4+$C206),1,0)","v":0},{"$f":"IF(AND($C206<=BQ$1,Negyedéves!BQ$1<Paraméterek!$C$11*4+$C206),1,0)","v":0},{"$f":"IF(AND($C206<=BR$1,Negyedéves!BR$1<Paraméterek!$C$11*4+$C206),1,0)","v":0},{"$f":"IF(AND($C206<=BS$1,Negyedéves!BS$1<Paraméterek!$C$11*4+$C206),1,0)","v":0},"x"]
[null,0,27,{"$f":"IF(AND($C207<=D$1,Negyedéves!D$1<Paraméterek!$C$11*4+$C207),1,0)","v":0},{"$f":"IF(AND($C207<=E$1,Negyedéves!E$1<Paraméterek!$C$11*4+$C207),1,0)","v":0},{"$f":"IF(AND($C207<=F$1,Negyedéves!F$1<Paraméterek!$C$11*4+$C207),1,0)","v":0},{"$f":"IF(AND($C207<=G$1,Negyedéves!G$1<Paraméterek!$C$11*4+$C207),1,0)","v":0},{"$f":"IF(AND($C207<=H$1,Negyedéves!H$1<Paraméterek!$C$11*4+$C207),1,0)","v":0},{"$f":"IF(AND($C207<=I$1,Negyedéves!I$1<Paraméterek!$C$11*4+$C207),1,0)","v":0},{"$f":"IF(AND($C207<=J$1,Negyedéves!J$1<Paraméterek!$C$11*4+$C207),1,0)","v":0},{"$f":"IF(AND($C207<=K$1,Negyedéves!K$1<Paraméterek!$C$11*4+$C207),1,0)","v":0},{"$f":"IF(AND($C207<=L$1,Negyedéves!L$1<Paraméterek!$C$11*4+$C207),1,0)","v":0},{"$f":"IF(AND($C207<=M$1,Negyedéves!M$1<Paraméterek!$C$11*4+$C207),1,0)","v":0},{"$f":"IF(AND($C207<=N$1,Negyedéves!N$1<Paraméterek!$C$11*4+$C207),1,0)","v":0},{"$f":"IF(AND($C207<=O$1,Negyedéves!O$1<Paraméterek!$C$11*4+$C207),1,0)","v":0},{"$f":"IF(AND($C207<=P$1,Negyedéves!P$1<Paraméterek!$C$11*4+$C207),1,0)","v":0},{"$f":"IF(AND($C207<=Q$1,Negyedéves!Q$1<Paraméterek!$C$11*4+$C207),1,0)","v":0},{"$f":"IF(AND($C207<=R$1,Negyedéves!R$1<Paraméterek!$C$11*4+$C207),1,0)","v":0},{"$f":"IF(AND($C207<=S$1,Negyedéves!S$1<Paraméterek!$C$11*4+$C207),1,0)","v":0},{"$f":"IF(AND($C207<=T$1,Negyedéves!T$1<Paraméterek!$C$11*4+$C207),1,0)","v":0},{"$f":"IF(AND($C207<=U$1,Negyedéves!U$1<Paraméterek!$C$11*4+$C207),1,0)","v":0},{"$f":"IF(AND($C207<=V$1,Negyedéves!V$1<Paraméterek!$C$11*4+$C207),1,0)","v":0},{"$f":"IF(AND($C207<=W$1,Negyedéves!W$1<Paraméterek!$C$11*4+$C207),1,0)","v":0},{"$f":"IF(AND($C207<=X$1,Negyedéves!X$1<Paraméterek!$C$11*4+$C207),1,0)","v":0},{"$f":"IF(AND($C207<=Y$1,Negyedéves!Y$1<Paraméterek!$C$11*4+$C207),1,0)","v":0},{"$f":"IF(AND($C207<=Z$1,Negyedéves!Z$1<Paraméterek!$C$11*4+$C207),1,0)","v":0},{"$f":"IF(AND($C207<=AA$1,Negyedéves!AA$1<Paraméterek!$C$11*4+$C207),1,0)","v":0},{"$f":"IF(AND($C207<=AB$1,Negyedéves!AB$1<Paraméterek!$C$11*4+$C207),1,0)","v":0},{"$f":"IF(AND($C207<=AC$1,Negyedéves!AC$1<Paraméterek!$C$11*4+$C207),1,0)","v":0},{"$f":"IF(AND($C207<=AD$1,Negyedéves!AD$1<Paraméterek!$C$11*4+$C207),1,0)","v":1},{"$f":"IF(AND($C207<=AE$1,Negyedéves!AE$1<Paraméterek!$C$11*4+$C207),1,0)","v":1},{"$f":"IF(AND($C207<=AF$1,Negyedéves!AF$1<Paraméterek!$C$11*4+$C207),1,0)","v":1},{"$f":"IF(AND($C207<=AG$1,Negyedéves!AG$1<Paraméterek!$C$11*4+$C207),1,0)","v":1},{"$f":"IF(AND($C207<=AH$1,Negyedéves!AH$1<Paraméterek!$C$11*4+$C207),1,0)","v":1},{"$f":"IF(AND($C207<=AI$1,Negyedéves!AI$1<Paraméterek!$C$11*4+$C207),1,0)","v":1},{"$f":"IF(AND($C207<=AJ$1,Negyedéves!AJ$1<Paraméterek!$C$11*4+$C207),1,0)","v":1},{"$f":"IF(AND($C207<=AK$1,Negyedéves!AK$1<Paraméterek!$C$11*4+$C207),1,0)","v":1},{"$f":"IF(AND($C207<=AL$1,Negyedéves!AL$1<Paraméterek!$C$11*4+$C207),1,0)","v":1},{"$f":"IF(AND($C207<=AM$1,Negyedéves!AM$1<Paraméterek!$C$11*4+$C207),1,0)","v":1},{"$f":"IF(AND($C207<=AN$1,Negyedéves!AN$1<Paraméterek!$C$11*4+$C207),1,0)","v":1},{"$f":"IF(AND($C207<=AO$1,Negyedéves!AO$1<Paraméterek!$C$11*4+$C207),1,0)","v":1},{"$f":"IF(AND($C207<=AP$1,Negyedéves!AP$1<Paraméterek!$C$11*4+$C207),1,0)","v":1},{"$f":"IF(AND($C207<=AQ$1,Negyedéves!AQ$1<Paraméterek!$C$11*4+$C207),1,0)","v":1},{"$f":"IF(AND($C207<=AR$1,Negyedéves!AR$1<Paraméterek!$C$11*4+$C207),1,0)","v":1},{"$f":"IF(AND($C207<=AS$1,Negyedéves!AS$1<Paraméterek!$C$11*4+$C207),1,0)","v":1},{"$f":"IF(AND($C207<=AT$1,Negyedéves!AT$1<Paraméterek!$C$11*4+$C207),1,0)","v":1},{"$f":"IF(AND($C207<=AU$1,Negyedéves!AU$1<Paraméterek!$C$11*4+$C207),1,0)","v":1},{"$f":"IF(AND($C207<=AV$1,Negyedéves!AV$1<Paraméterek!$C$11*4+$C207),1,0)","v":1},{"$f":"IF(AND($C207<=AW$1,Negyedéves!AW$1<Paraméterek!$C$11*4+$C207),1,0)","v":1},{"$f":"IF(AND($C207<=AX$1,Negyedéves!AX$1<Paraméterek!$C$11*4+$C207),1,0)","v":1},{"$f":"IF(AND($C207<=AY$1,Negyedéves!AY$1<Paraméterek!$C$11*4+$C207),1,0)","v":1},{"$f":"IF(AND($C207<=AZ$1,Negyedéves!AZ$1<Paraméterek!$C$11*4+$C207),1,0)","v":1},{"$f":"IF(AND($C207<=BA$1,Negyedéves!BA$1<Paraméterek!$C$11*4+$C207),1,0)","v":1},{"$f":"IF(AND($C207<=BB$1,Negyedéves!BB$1<Paraméterek!$C$11*4+$C207),1,0)","v":1},{"$f":"IF(AND($C207<=BC$1,Negyedéves!BC$1<Paraméterek!$C$11*4+$C207),1,0)","v":1},{"$f":"IF(AND($C207<=BD$1,Negyedéves!BD$1<Paraméterek!$C$11*4+$C207),1,0)","v":1},{"$f":"IF(AND($C207<=BE$1,Negyedéves!BE$1<Paraméterek!$C$11*4+$C207),1,0)","v":1},{"$f":"IF(AND($C207<=BF$1,Negyedéves!BF$1<Paraméterek!$C$11*4+$C207),1,0)","v":0},{"$f":"IF(AND($C207<=BG$1,Negyedéves!BG$1<Paraméterek!$C$11*4+$C207),1,0)","v":0},{"$f":"IF(AND($C207<=BH$1,Negyedéves!BH$1<Paraméterek!$C$11*4+$C207),1,0)","v":0},{"$f":"IF(AND($C207<=BI$1,Negyedéves!BI$1<Paraméterek!$C$11*4+$C207),1,0)","v":0},{"$f":"IF(AND($C207<=BJ$1,Negyedéves!BJ$1<Paraméterek!$C$11*4+$C207),1,0)","v":0},{"$f":"IF(AND($C207<=BK$1,Negyedéves!BK$1<Paraméterek!$C$11*4+$C207),1,0)","v":0},{"$f":"IF(AND($C207<=BL$1,Negyedéves!BL$1<Paraméterek!$C$11*4+$C207),1,0)","v":0},{"$f":"IF(AND($C207<=BM$1,Negyedéves!BM$1<Paraméterek!$C$11*4+$C207),1,0)","v":0},{"$f":"IF(AND($C207<=BN$1,Negyedéves!BN$1<Paraméterek!$C$11*4+$C207),1,0)","v":0},{"$f":"IF(AND($C207<=BO$1,Negyedéves!BO$1<Paraméterek!$C$11*4+$C207),1,0)","v":0},{"$f":"IF(AND($C207<=BP$1,Negyedéves!BP$1<Paraméterek!$C$11*4+$C207),1,0)","v":0},{"$f":"IF(AND($C207<=BQ$1,Negyedéves!BQ$1<Paraméterek!$C$11*4+$C207),1,0)","v":0},{"$f":"IF(AND($C207<=BR$1,Negyedéves!BR$1<Paraméterek!$C$11*4+$C207),1,0)","v":0},{"$f":"IF(AND($C207<=BS$1,Negyedéves!BS$1<Paraméterek!$C$11*4+$C207),1,0)","v":0},"x"]
[null,0,28,{"$f":"IF(AND($C208<=D$1,Negyedéves!D$1<Paraméterek!$C$11*4+$C208),1,0)","v":0},{"$f":"IF(AND($C208<=E$1,Negyedéves!E$1<Paraméterek!$C$11*4+$C208),1,0)","v":0},{"$f":"IF(AND($C208<=F$1,Negyedéves!F$1<Paraméterek!$C$11*4+$C208),1,0)","v":0},{"$f":"IF(AND($C208<=G$1,Negyedéves!G$1<Paraméterek!$C$11*4+$C208),1,0)","v":0},{"$f":"IF(AND($C208<=H$1,Negyedéves!H$1<Paraméterek!$C$11*4+$C208),1,0)","v":0},{"$f":"IF(AND($C208<=I$1,Negyedéves!I$1<Paraméterek!$C$11*4+$C208),1,0)","v":0},{"$f":"IF(AND($C208<=J$1,Negyedéves!J$1<Paraméterek!$C$11*4+$C208),1,0)","v":0},{"$f":"IF(AND($C208<=K$1,Negyedéves!K$1<Paraméterek!$C$11*4+$C208),1,0)","v":0},{"$f":"IF(AND($C208<=L$1,Negyedéves!L$1<Paraméterek!$C$11*4+$C208),1,0)","v":0},{"$f":"IF(AND($C208<=M$1,Negyedéves!M$1<Paraméterek!$C$11*4+$C208),1,0)","v":0},{"$f":"IF(AND($C208<=N$1,Negyedéves!N$1<Paraméterek!$C$11*4+$C208),1,0)","v":0},{"$f":"IF(AND($C208<=O$1,Negyedéves!O$1<Paraméterek!$C$11*4+$C208),1,0)","v":0},{"$f":"IF(AND($C208<=P$1,Negyedéves!P$1<Paraméterek!$C$11*4+$C208),1,0)","v":0},{"$f":"IF(AND($C208<=Q$1,Negyedéves!Q$1<Paraméterek!$C$11*4+$C208),1,0)","v":0},{"$f":"IF(AND($C208<=R$1,Negyedéves!R$1<Paraméterek!$C$11*4+$C208),1,0)","v":0},{"$f":"IF(AND($C208<=S$1,Negyedéves!S$1<Paraméterek!$C$11*4+$C208),1,0)","v":0},{"$f":"IF(AND($C208<=T$1,Negyedéves!T$1<Paraméterek!$C$11*4+$C208),1,0)","v":0},{"$f":"IF(AND($C208<=U$1,Negyedéves!U$1<Paraméterek!$C$11*4+$C208),1,0)","v":0},{"$f":"IF(AND($C208<=V$1,Negyedéves!V$1<Paraméterek!$C$11*4+$C208),1,0)","v":0},{"$f":"IF(AND($C208<=W$1,Negyedéves!W$1<Paraméterek!$C$11*4+$C208),1,0)","v":0},{"$f":"IF(AND($C208<=X$1,Negyedéves!X$1<Paraméterek!$C$11*4+$C208),1,0)","v":0},{"$f":"IF(AND($C208<=Y$1,Negyedéves!Y$1<Paraméterek!$C$11*4+$C208),1,0)","v":0},{"$f":"IF(AND($C208<=Z$1,Negyedéves!Z$1<Paraméterek!$C$11*4+$C208),1,0)","v":0},{"$f":"IF(AND($C208<=AA$1,Negyedéves!AA$1<Paraméterek!$C$11*4+$C208),1,0)","v":0},{"$f":"IF(AND($C208<=AB$1,Negyedéves!AB$1<Paraméterek!$C$11*4+$C208),1,0)","v":0},{"$f":"IF(AND($C208<=AC$1,Negyedéves!AC$1<Paraméterek!$C$11*4+$C208),1,0)","v":0},{"$f":"IF(AND($C208<=AD$1,Negyedéves!AD$1<Paraméterek!$C$11*4+$C208),1,0)","v":0},{"$f":"IF(AND($C208<=AE$1,Negyedéves!AE$1<Paraméterek!$C$11*4+$C208),1,0)","v":1},{"$f":"IF(AND($C208<=AF$1,Negyedéves!AF$1<Paraméterek!$C$11*4+$C208),1,0)","v":1},{"$f":"IF(AND($C208<=AG$1,Negyedéves!AG$1<Paraméterek!$C$11*4+$C208),1,0)","v":1},{"$f":"IF(AND($C208<=AH$1,Negyedéves!AH$1<Paraméterek!$C$11*4+$C208),1,0)","v":1},{"$f":"IF(AND($C208<=AI$1,Negyedéves!AI$1<Paraméterek!$C$11*4+$C208),1,0)","v":1},{"$f":"IF(AND($C208<=AJ$1,Negyedéves!AJ$1<Paraméterek!$C$11*4+$C208),1,0)","v":1},{"$f":"IF(AND($C208<=AK$1,Negyedéves!AK$1<Paraméterek!$C$11*4+$C208),1,0)","v":1},{"$f":"IF(AND($C208<=AL$1,Negyedéves!AL$1<Paraméterek!$C$11*4+$C208),1,0)","v":1},{"$f":"IF(AND($C208<=AM$1,Negyedéves!AM$1<Paraméterek!$C$11*4+$C208),1,0)","v":1},{"$f":"IF(AND($C208<=AN$1,Negyedéves!AN$1<Paraméterek!$C$11*4+$C208),1,0)","v":1},{"$f":"IF(AND($C208<=AO$1,Negyedéves!AO$1<Paraméterek!$C$11*4+$C208),1,0)","v":1},{"$f":"IF(AND($C208<=AP$1,Negyedéves!AP$1<Paraméterek!$C$11*4+$C208),1,0)","v":1},{"$f":"IF(AND($C208<=AQ$1,Negyedéves!AQ$1<Paraméterek!$C$11*4+$C208),1,0)","v":1},{"$f":"IF(AND($C208<=AR$1,Negyedéves!AR$1<Paraméterek!$C$11*4+$C208),1,0)","v":1},{"$f":"IF(AND($C208<=AS$1,Negyedéves!AS$1<Paraméterek!$C$11*4+$C208),1,0)","v":1},{"$f":"IF(AND($C208<=AT$1,Negyedéves!AT$1<Paraméterek!$C$11*4+$C208),1,0)","v":1},{"$f":"IF(AND($C208<=AU$1,Negyedéves!AU$1<Paraméterek!$C$11*4+$C208),1,0)","v":1},{"$f":"IF(AND($C208<=AV$1,Negyedéves!AV$1<Paraméterek!$C$11*4+$C208),1,0)","v":1},{"$f":"IF(AND($C208<=AW$1,Negyedéves!AW$1<Paraméterek!$C$11*4+$C208),1,0)","v":1},{"$f":"IF(AND($C208<=AX$1,Negyedéves!AX$1<Paraméterek!$C$11*4+$C208),1,0)","v":1},{"$f":"IF(AND($C208<=AY$1,Negyedéves!AY$1<Paraméterek!$C$11*4+$C208),1,0)","v":1},{"$f":"IF(AND($C208<=AZ$1,Negyedéves!AZ$1<Paraméterek!$C$11*4+$C208),1,0)","v":1},{"$f":"IF(AND($C208<=BA$1,Negyedéves!BA$1<Paraméterek!$C$11*4+$C208),1,0)","v":1},{"$f":"IF(AND($C208<=BB$1,Negyedéves!BB$1<Paraméterek!$C$11*4+$C208),1,0)","v":1},{"$f":"IF(AND($C208<=BC$1,Negyedéves!BC$1<Paraméterek!$C$11*4+$C208),1,0)","v":1},{"$f":"IF(AND($C208<=BD$1,Negyedéves!BD$1<Paraméterek!$C$11*4+$C208),1,0)","v":1},{"$f":"IF(AND($C208<=BE$1,Negyedéves!BE$1<Paraméterek!$C$11*4+$C208),1,0)","v":1},{"$f":"IF(AND($C208<=BF$1,Negyedéves!BF$1<Paraméterek!$C$11*4+$C208),1,0)","v":1},{"$f":"IF(AND($C208<=BG$1,Negyedéves!BG$1<Paraméterek!$C$11*4+$C208),1,0)","v":0},{"$f":"IF(AND($C208<=BH$1,Negyedéves!BH$1<Paraméterek!$C$11*4+$C208),1,0)","v":0},{"$f":"IF(AND($C208<=BI$1,Negyedéves!BI$1<Paraméterek!$C$11*4+$C208),1,0)","v":0},{"$f":"IF(AND($C208<=BJ$1,Negyedéves!BJ$1<Paraméterek!$C$11*4+$C208),1,0)","v":0},{"$f":"IF(AND($C208<=BK$1,Negyedéves!BK$1<Paraméterek!$C$11*4+$C208),1,0)","v":0},{"$f":"IF(AND($C208<=BL$1,Negyedéves!BL$1<Paraméterek!$C$11*4+$C208),1,0)","v":0},{"$f":"IF(AND($C208<=BM$1,Negyedéves!BM$1<Paraméterek!$C$11*4+$C208),1,0)","v":0},{"$f":"IF(AND($C208<=BN$1,Negyedéves!BN$1<Paraméterek!$C$11*4+$C208),1,0)","v":0},{"$f":"IF(AND($C208<=BO$1,Negyedéves!BO$1<Paraméterek!$C$11*4+$C208),1,0)","v":0},{"$f":"IF(AND($C208<=BP$1,Negyedéves!BP$1<Paraméterek!$C$11*4+$C208),1,0)","v":0},{"$f":"IF(AND($C208<=BQ$1,Negyedéves!BQ$1<Paraméterek!$C$11*4+$C208),1,0)","v":0},{"$f":"IF(AND($C208<=BR$1,Negyedéves!BR$1<Paraméterek!$C$11*4+$C208),1,0)","v":0},{"$f":"IF(AND($C208<=BS$1,Negyedéves!BS$1<Paraméterek!$C$11*4+$C208),1,0)","v":0},"x"]
[null,1154386.5160169457,29,{"$f":"IF(AND($C209<=D$1,Negyedéves!D$1<Paraméterek!$C$11*4+$C209),1,0)","v":0},{"$f":"IF(AND($C209<=E$1,Negyedéves!E$1<Paraméterek!$C$11*4+$C209),1,0)","v":0},{"$f":"IF(AND($C209<=F$1,Negyedéves!F$1<Paraméterek!$C$11*4+$C209),1,0)","v":0},{"$f":"IF(AND($C209<=G$1,Negyedéves!G$1<Paraméterek!$C$11*4+$C209),1,0)","v":0},{"$f":"IF(AND($C209<=H$1,Negyedéves!H$1<Paraméterek!$C$11*4+$C209),1,0)","v":0},{"$f":"IF(AND($C209<=I$1,Negyedéves!I$1<Paraméterek!$C$11*4+$C209),1,0)","v":0},{"$f":"IF(AND($C209<=J$1,Negyedéves!J$1<Paraméterek!$C$11*4+$C209),1,0)","v":0},{"$f":"IF(AND($C209<=K$1,Negyedéves!K$1<Paraméterek!$C$11*4+$C209),1,0)","v":0},{"$f":"IF(AND($C209<=L$1,Negyedéves!L$1<Paraméterek!$C$11*4+$C209),1,0)","v":0},{"$f":"IF(AND($C209<=M$1,Negyedéves!M$1<Paraméterek!$C$11*4+$C209),1,0)","v":0},{"$f":"IF(AND($C209<=N$1,Negyedéves!N$1<Paraméterek!$C$11*4+$C209),1,0)","v":0},{"$f":"IF(AND($C209<=O$1,Negyedéves!O$1<Paraméterek!$C$11*4+$C209),1,0)","v":0},{"$f":"IF(AND($C209<=P$1,Negyedéves!P$1<Paraméterek!$C$11*4+$C209),1,0)","v":0},{"$f":"IF(AND($C209<=Q$1,Negyedéves!Q$1<Paraméterek!$C$11*4+$C209),1,0)","v":0},{"$f":"IF(AND($C209<=R$1,Negyedéves!R$1<Paraméterek!$C$11*4+$C209),1,0)","v":0},{"$f":"IF(AND($C209<=S$1,Negyedéves!S$1<Paraméterek!$C$11*4+$C209),1,0)","v":0},{"$f":"IF(AND($C209<=T$1,Negyedéves!T$1<Paraméterek!$C$11*4+$C209),1,0)","v":0},{"$f":"IF(AND($C209<=U$1,Negyedéves!U$1<Paraméterek!$C$11*4+$C209),1,0)","v":0},{"$f":"IF(AND($C209<=V$1,Negyedéves!V$1<Paraméterek!$C$11*4+$C209),1,0)","v":0},{"$f":"IF(AND($C209<=W$1,Negyedéves!W$1<Paraméterek!$C$11*4+$C209),1,0)","v":0},{"$f":"IF(AND($C209<=X$1,Negyedéves!X$1<Paraméterek!$C$11*4+$C209),1,0)","v":0},{"$f":"IF(AND($C209<=Y$1,Negyedéves!Y$1<Paraméterek!$C$11*4+$C209),1,0)","v":0},{"$f":"IF(AND($C209<=Z$1,Negyedéves!Z$1<Paraméterek!$C$11*4+$C209),1,0)","v":0},{"$f":"IF(AND($C209<=AA$1,Negyedéves!AA$1<Paraméterek!$C$11*4+$C209),1,0)","v":0},{"$f":"IF(AND($C209<=AB$1,Negyedéves!AB$1<Paraméterek!$C$11*4+$C209),1,0)","v":0},{"$f":"IF(AND($C209<=AC$1,Negyedéves!AC$1<Paraméterek!$C$11*4+$C209),1,0)","v":0},{"$f":"IF(AND($C209<=AD$1,Negyedéves!AD$1<Paraméterek!$C$11*4+$C209),1,0)","v":0},{"$f":"IF(AND($C209<=AE$1,Negyedéves!AE$1<Paraméterek!$C$11*4+$C209),1,0)","v":0},{"$f":"IF(AND($C209<=AF$1,Negyedéves!AF$1<Paraméterek!$C$11*4+$C209),1,0)","v":1},{"$f":"IF(AND($C209<=AG$1,Negyedéves!AG$1<Paraméterek!$C$11*4+$C209),1,0)","v":1},{"$f":"IF(AND($C209<=AH$1,Negyedéves!AH$1<Paraméterek!$C$11*4+$C209),1,0)","v":1},{"$f":"IF(AND($C209<=AI$1,Negyedéves!AI$1<Paraméterek!$C$11*4+$C209),1,0)","v":1},{"$f":"IF(AND($C209<=AJ$1,Negyedéves!AJ$1<Paraméterek!$C$11*4+$C209),1,0)","v":1},{"$f":"IF(AND($C209<=AK$1,Negyedéves!AK$1<Paraméterek!$C$11*4+$C209),1,0)","v":1},{"$f":"IF(AND($C209<=AL$1,Negyedéves!AL$1<Paraméterek!$C$11*4+$C209),1,0)","v":1},{"$f":"IF(AND($C209<=AM$1,Negyedéves!AM$1<Paraméterek!$C$11*4+$C209),1,0)","v":1},{"$f":"IF(AND($C209<=AN$1,Negyedéves!AN$1<Paraméterek!$C$11*4+$C209),1,0)","v":1},{"$f":"IF(AND($C209<=AO$1,Negyedéves!AO$1<Paraméterek!$C$11*4+$C209),1,0)","v":1},{"$f":"IF(AND($C209<=AP$1,Negyedéves!AP$1<Paraméterek!$C$11*4+$C209),1,0)","v":1},{"$f":"IF(AND($C209<=AQ$1,Negyedéves!AQ$1<Paraméterek!$C$11*4+$C209),1,0)","v":1},{"$f":"IF(AND($C209<=AR$1,Negyedéves!AR$1<Paraméterek!$C$11*4+$C209),1,0)","v":1},{"$f":"IF(AND($C209<=AS$1,Negyedéves!AS$1<Paraméterek!$C$11*4+$C209),1,0)","v":1},{"$f":"IF(AND($C209<=AT$1,Negyedéves!AT$1<Paraméterek!$C$11*4+$C209),1,0)","v":1},{"$f":"IF(AND($C209<=AU$1,Negyedéves!AU$1<Paraméterek!$C$11*4+$C209),1,0)","v":1},{"$f":"IF(AND($C209<=AV$1,Negyedéves!AV$1<Paraméterek!$C$11*4+$C209),1,0)","v":1},{"$f":"IF(AND($C209<=AW$1,Negyedéves!AW$1<Paraméterek!$C$11*4+$C209),1,0)","v":1},{"$f":"IF(AND($C209<=AX$1,Negyedéves!AX$1<Paraméterek!$C$11*4+$C209),1,0)","v":1},{"$f":"IF(AND($C209<=AY$1,Negyedéves!AY$1<Paraméterek!$C$11*4+$C209),1,0)","v":1},{"$f":"IF(AND($C209<=AZ$1,Negyedéves!AZ$1<Paraméterek!$C$11*4+$C209),1,0)","v":1},{"$f":"IF(AND($C209<=BA$1,Negyedéves!BA$1<Paraméterek!$C$11*4+$C209),1,0)","v":1},{"$f":"IF(AND($C209<=BB$1,Negyedéves!BB$1<Paraméterek!$C$11*4+$C209),1,0)","v":1},{"$f":"IF(AND($C209<=BC$1,Negyedéves!BC$1<Paraméterek!$C$11*4+$C209),1,0)","v":1},{"$f":"IF(AND($C209<=BD$1,Negyedéves!BD$1<Paraméterek!$C$11*4+$C209),1,0)","v":1},{"$f":"IF(AND($C209<=BE$1,Negyedéves!BE$1<Paraméterek!$C$11*4+$C209),1,0)","v":1},{"$f":"IF(AND($C209<=BF$1,Negyedéves!BF$1<Paraméterek!$C$11*4+$C209),1,0)","v":1},{"$f":"IF(AND($C209<=BG$1,Negyedéves!BG$1<Paraméterek!$C$11*4+$C209),1,0)","v":1},{"$f":"IF(AND($C209<=BH$1,Negyedéves!BH$1<Paraméterek!$C$11*4+$C209),1,0)","v":0},{"$f":"IF(AND($C209<=BI$1,Negyedéves!BI$1<Paraméterek!$C$11*4+$C209),1,0)","v":0},{"$f":"IF(AND($C209<=BJ$1,Negyedéves!BJ$1<Paraméterek!$C$11*4+$C209),1,0)","v":0},{"$f":"IF(AND($C209<=BK$1,Negyedéves!BK$1<Paraméterek!$C$11*4+$C209),1,0)","v":0},{"$f":"IF(AND($C209<=BL$1,Negyedéves!BL$1<Paraméterek!$C$11*4+$C209),1,0)","v":0},{"$f":"IF(AND($C209<=BM$1,Negyedéves!BM$1<Paraméterek!$C$11*4+$C209),1,0)","v":0},{"$f":"IF(AND($C209<=BN$1,Negyedéves!BN$1<Paraméterek!$C$11*4+$C209),1,0)","v":0},{"$f":"IF(AND($C209<=BO$1,Negyedéves!BO$1<Paraméterek!$C$11*4+$C209),1,0)","v":0},{"$f":"IF(AND($C209<=BP$1,Negyedéves!BP$1<Paraméterek!$C$11*4+$C209),1,0)","v":0},{"$f":"IF(AND($C209<=BQ$1,Negyedéves!BQ$1<Paraméterek!$C$11*4+$C209),1,0)","v":0},{"$f":"IF(AND($C209<=BR$1,Negyedéves!BR$1<Paraméterek!$C$11*4+$C209),1,0)","v":0},{"$f":"IF(AND($C209<=BS$1,Negyedéves!BS$1<Paraméterek!$C$11*4+$C209),1,0)","v":0},"x"]
[null,0,30,{"$f":"IF(AND($C210<=D$1,Negyedéves!D$1<Paraméterek!$C$11*4+$C210),1,0)","v":0},{"$f":"IF(AND($C210<=E$1,Negyedéves!E$1<Paraméterek!$C$11*4+$C210),1,0)","v":0},{"$f":"IF(AND($C210<=F$1,Negyedéves!F$1<Paraméterek!$C$11*4+$C210),1,0)","v":0},{"$f":"IF(AND($C210<=G$1,Negyedéves!G$1<Paraméterek!$C$11*4+$C210),1,0)","v":0},{"$f":"IF(AND($C210<=H$1,Negyedéves!H$1<Paraméterek!$C$11*4+$C210),1,0)","v":0},{"$f":"IF(AND($C210<=I$1,Negyedéves!I$1<Paraméterek!$C$11*4+$C210),1,0)","v":0},{"$f":"IF(AND($C210<=J$1,Negyedéves!J$1<Paraméterek!$C$11*4+$C210),1,0)","v":0},{"$f":"IF(AND($C210<=K$1,Negyedéves!K$1<Paraméterek!$C$11*4+$C210),1,0)","v":0},{"$f":"IF(AND($C210<=L$1,Negyedéves!L$1<Paraméterek!$C$11*4+$C210),1,0)","v":0},{"$f":"IF(AND($C210<=M$1,Negyedéves!M$1<Paraméterek!$C$11*4+$C210),1,0)","v":0},{"$f":"IF(AND($C210<=N$1,Negyedéves!N$1<Paraméterek!$C$11*4+$C210),1,0)","v":0},{"$f":"IF(AND($C210<=O$1,Negyedéves!O$1<Paraméterek!$C$11*4+$C210),1,0)","v":0},{"$f":"IF(AND($C210<=P$1,Negyedéves!P$1<Paraméterek!$C$11*4+$C210),1,0)","v":0},{"$f":"IF(AND($C210<=Q$1,Negyedéves!Q$1<Paraméterek!$C$11*4+$C210),1,0)","v":0},{"$f":"IF(AND($C210<=R$1,Negyedéves!R$1<Paraméterek!$C$11*4+$C210),1,0)","v":0},{"$f":"IF(AND($C210<=S$1,Negyedéves!S$1<Paraméterek!$C$11*4+$C210),1,0)","v":0},{"$f":"IF(AND($C210<=T$1,Negyedéves!T$1<Paraméterek!$C$11*4+$C210),1,0)","v":0},{"$f":"IF(AND($C210<=U$1,Negyedéves!U$1<Paraméterek!$C$11*4+$C210),1,0)","v":0},{"$f":"IF(AND($C210<=V$1,Negyedéves!V$1<Paraméterek!$C$11*4+$C210),1,0)","v":0},{"$f":"IF(AND($C210<=W$1,Negyedéves!W$1<Paraméterek!$C$11*4+$C210),1,0)","v":0},{"$f":"IF(AND($C210<=X$1,Negyedéves!X$1<Paraméterek!$C$11*4+$C210),1,0)","v":0},{"$f":"IF(AND($C210<=Y$1,Negyedéves!Y$1<Paraméterek!$C$11*4+$C210),1,0)","v":0},{"$f":"IF(AND($C210<=Z$1,Negyedéves!Z$1<Paraméterek!$C$11*4+$C210),1,0)","v":0},{"$f":"IF(AND($C210<=AA$1,Negyedéves!AA$1<Paraméterek!$C$11*4+$C210),1,0)","v":0},{"$f":"IF(AND($C210<=AB$1,Negyedéves!AB$1<Paraméterek!$C$11*4+$C210),1,0)","v":0},{"$f":"IF(AND($C210<=AC$1,Negyedéves!AC$1<Paraméterek!$C$11*4+$C210),1,0)","v":0},{"$f":"IF(AND($C210<=AD$1,Negyedéves!AD$1<Paraméterek!$C$11*4+$C210),1,0)","v":0},{"$f":"IF(AND($C210<=AE$1,Negyedéves!AE$1<Paraméterek!$C$11*4+$C210),1,0)","v":0},{"$f":"IF(AND($C210<=AF$1,Negyedéves!AF$1<Paraméterek!$C$11*4+$C210),1,0)","v":0},{"$f":"IF(AND($C210<=AG$1,Negyedéves!AG$1<Paraméterek!$C$11*4+$C210),1,0)","v":1},{"$f":"IF(AND($C210<=AH$1,Negyedéves!AH$1<Paraméterek!$C$11*4+$C210),1,0)","v":1},{"$f":"IF(AND($C210<=AI$1,Negyedéves!AI$1<Paraméterek!$C$11*4+$C210),1,0)","v":1},{"$f":"IF(AND($C210<=AJ$1,Negyedéves!AJ$1<Paraméterek!$C$11*4+$C210),1,0)","v":1},{"$f":"IF(AND($C210<=AK$1,Negyedéves!AK$1<Paraméterek!$C$11*4+$C210),1,0)","v":1},{"$f":"IF(AND($C210<=AL$1,Negyedéves!AL$1<Paraméterek!$C$11*4+$C210),1,0)","v":1},{"$f":"IF(AND($C210<=AM$1,Negyedéves!AM$1<Paraméterek!$C$11*4+$C210),1,0)","v":1},{"$f":"IF(AND($C210<=AN$1,Negyedéves!AN$1<Paraméterek!$C$11*4+$C210),1,0)","v":1},{"$f":"IF(AND($C210<=AO$1,Negyedéves!AO$1<Paraméterek!$C$11*4+$C210),1,0)","v":1},{"$f":"IF(AND($C210<=AP$1,Negyedéves!AP$1<Paraméterek!$C$11*4+$C210),1,0)","v":1},{"$f":"IF(AND($C210<=AQ$1,Negyedéves!AQ$1<Paraméterek!$C$11*4+$C210),1,0)","v":1},{"$f":"IF(AND($C210<=AR$1,Negyedéves!AR$1<Paraméterek!$C$11*4+$C210),1,0)","v":1},{"$f":"IF(AND($C210<=AS$1,Negyedéves!AS$1<Paraméterek!$C$11*4+$C210),1,0)","v":1},{"$f":"IF(AND($C210<=AT$1,Negyedéves!AT$1<Paraméterek!$C$11*4+$C210),1,0)","v":1},{"$f":"IF(AND($C210<=AU$1,Negyedéves!AU$1<Paraméterek!$C$11*4+$C210),1,0)","v":1},{"$f":"IF(AND($C210<=AV$1,Negyedéves!AV$1<Paraméterek!$C$11*4+$C210),1,0)","v":1},{"$f":"IF(AND($C210<=AW$1,Negyedéves!AW$1<Paraméterek!$C$11*4+$C210),1,0)","v":1},{"$f":"IF(AND($C210<=AX$1,Negyedéves!AX$1<Paraméterek!$C$11*4+$C210),1,0)","v":1},{"$f":"IF(AND($C210<=AY$1,Negyedéves!AY$1<Paraméterek!$C$11*4+$C210),1,0)","v":1},{"$f":"IF(AND($C210<=AZ$1,Negyedéves!AZ$1<Paraméterek!$C$11*4+$C210),1,0)","v":1},{"$f":"IF(AND($C210<=BA$1,Negyedéves!BA$1<Paraméterek!$C$11*4+$C210),1,0)","v":1},{"$f":"IF(AND($C210<=BB$1,Negyedéves!BB$1<Paraméterek!$C$11*4+$C210),1,0)","v":1},{"$f":"IF(AND($C210<=BC$1,Negyedéves!BC$1<Paraméterek!$C$11*4+$C210),1,0)","v":1},{"$f":"IF(AND($C210<=BD$1,Negyedéves!BD$1<Paraméterek!$C$11*4+$C210),1,0)","v":1},{"$f":"IF(AND($C210<=BE$1,Negyedéves!BE$1<Paraméterek!$C$11*4+$C210),1,0)","v":1},{"$f":"IF(AND($C210<=BF$1,Negyedéves!BF$1<Paraméterek!$C$11*4+$C210),1,0)","v":1},{"$f":"IF(AND($C210<=BG$1,Negyedéves!BG$1<Paraméterek!$C$11*4+$C210),1,0)","v":1},{"$f":"IF(AND($C210<=BH$1,Negyedéves!BH$1<Paraméterek!$C$11*4+$C210),1,0)","v":1},{"$f":"IF(AND($C210<=BI$1,Negyedéves!BI$1<Paraméterek!$C$11*4+$C210),1,0)","v":0},{"$f":"IF(AND($C210<=BJ$1,Negyedéves!BJ$1<Paraméterek!$C$11*4+$C210),1,0)","v":0},{"$f":"IF(AND($C210<=BK$1,Negyedéves!BK$1<Paraméterek!$C$11*4+$C210),1,0)","v":0},{"$f":"IF(AND($C210<=BL$1,Negyedéves!BL$1<Paraméterek!$C$11*4+$C210),1,0)","v":0},{"$f":"IF(AND($C210<=BM$1,Negyedéves!BM$1<Paraméterek!$C$11*4+$C210),1,0)","v":0},{"$f":"IF(AND($C210<=BN$1,Negyedéves!BN$1<Paraméterek!$C$11*4+$C210),1,0)","v":0},{"$f":"IF(AND($C210<=BO$1,Negyedéves!BO$1<Paraméterek!$C$11*4+$C210),1,0)","v":0},{"$f":"IF(AND($C210<=BP$1,Negyedéves!BP$1<Paraméterek!$C$11*4+$C210),1,0)","v":0},{"$f":"IF(AND($C210<=BQ$1,Negyedéves!BQ$1<Paraméterek!$C$11*4+$C210),1,0)","v":0},{"$f":"IF(AND($C210<=BR$1,Negyedéves!BR$1<Paraméterek!$C$11*4+$C210),1,0)","v":0},{"$f":"IF(AND($C210<=BS$1,Negyedéves!BS$1<Paraméterek!$C$11*4+$C210),1,0)","v":0},"x"]
[null,0,31,{"$f":"IF(AND($C211<=D$1,Negyedéves!D$1<Paraméterek!$C$11*4+$C211),1,0)","v":0},{"$f":"IF(AND($C211<=E$1,Negyedéves!E$1<Paraméterek!$C$11*4+$C211),1,0)","v":0},{"$f":"IF(AND($C211<=F$1,Negyedéves!F$1<Paraméterek!$C$11*4+$C211),1,0)","v":0},{"$f":"IF(AND($C211<=G$1,Negyedéves!G$1<Paraméterek!$C$11*4+$C211),1,0)","v":0},{"$f":"IF(AND($C211<=H$1,Negyedéves!H$1<Paraméterek!$C$11*4+$C211),1,0)","v":0},{"$f":"IF(AND($C211<=I$1,Negyedéves!I$1<Paraméterek!$C$11*4+$C211),1,0)","v":0},{"$f":"IF(AND($C211<=J$1,Negyedéves!J$1<Paraméterek!$C$11*4+$C211),1,0)","v":0},{"$f":"IF(AND($C211<=K$1,Negyedéves!K$1<Paraméterek!$C$11*4+$C211),1,0)","v":0},{"$f":"IF(AND($C211<=L$1,Negyedéves!L$1<Paraméterek!$C$11*4+$C211),1,0)","v":0},{"$f":"IF(AND($C211<=M$1,Negyedéves!M$1<Paraméterek!$C$11*4+$C211),1,0)","v":0},{"$f":"IF(AND($C211<=N$1,Negyedéves!N$1<Paraméterek!$C$11*4+$C211),1,0)","v":0},{"$f":"IF(AND($C211<=O$1,Negyedéves!O$1<Paraméterek!$C$11*4+$C211),1,0)","v":0},{"$f":"IF(AND($C211<=P$1,Negyedéves!P$1<Paraméterek!$C$11*4+$C211),1,0)","v":0},{"$f":"IF(AND($C211<=Q$1,Negyedéves!Q$1<Paraméterek!$C$11*4+$C211),1,0)","v":0},{"$f":"IF(AND($C211<=R$1,Negyedéves!R$1<Paraméterek!$C$11*4+$C211),1,0)","v":0},{"$f":"IF(AND($C211<=S$1,Negyedéves!S$1<Paraméterek!$C$11*4+$C211),1,0)","v":0},{"$f":"IF(AND($C211<=T$1,Negyedéves!T$1<Paraméterek!$C$11*4+$C211),1,0)","v":0},{"$f":"IF(AND($C211<=U$1,Negyedéves!U$1<Paraméterek!$C$11*4+$C211),1,0)","v":0},{"$f":"IF(AND($C211<=V$1,Negyedéves!V$1<Paraméterek!$C$11*4+$C211),1,0)","v":0},{"$f":"IF(AND($C211<=W$1,Negyedéves!W$1<Paraméterek!$C$11*4+$C211),1,0)","v":0},{"$f":"IF(AND($C211<=X$1,Negyedéves!X$1<Paraméterek!$C$11*4+$C211),1,0)","v":0},{"$f":"IF(AND($C211<=Y$1,Negyedéves!Y$1<Paraméterek!$C$11*4+$C211),1,0)","v":0},{"$f":"IF(AND($C211<=Z$1,Negyedéves!Z$1<Paraméterek!$C$11*4+$C211),1,0)","v":0},{"$f":"IF(AND($C211<=AA$1,Negyedéves!AA$1<Paraméterek!$C$11*4+$C211),1,0)","v":0},{"$f":"IF(AND($C211<=AB$1,Negyedéves!AB$1<Paraméterek!$C$11*4+$C211),1,0)","v":0},{"$f":"IF(AND($C211<=AC$1,Negyedéves!AC$1<Paraméterek!$C$11*4+$C211),1,0)","v":0},{"$f":"IF(AND($C211<=AD$1,Negyedéves!AD$1<Paraméterek!$C$11*4+$C211),1,0)","v":0},{"$f":"IF(AND($C211<=AE$1,Negyedéves!AE$1<Paraméterek!$C$11*4+$C211),1,0)","v":0},{"$f":"IF(AND($C211<=AF$1,Negyedéves!AF$1<Paraméterek!$C$11*4+$C211),1,0)","v":0},{"$f":"IF(AND($C211<=AG$1,Negyedéves!AG$1<Paraméterek!$C$11*4+$C211),1,0)","v":0},{"$f":"IF(AND($C211<=AH$1,Negyedéves!AH$1<Paraméterek!$C$11*4+$C211),1,0)","v":1},{"$f":"IF(AND($C211<=AI$1,Negyedéves!AI$1<Paraméterek!$C$11*4+$C211),1,0)","v":1},{"$f":"IF(AND($C211<=AJ$1,Negyedéves!AJ$1<Paraméterek!$C$11*4+$C211),1,0)","v":1},{"$f":"IF(AND($C211<=AK$1,Negyedéves!AK$1<Paraméterek!$C$11*4+$C211),1,0)","v":1},{"$f":"IF(AND($C211<=AL$1,Negyedéves!AL$1<Paraméterek!$C$11*4+$C211),1,0)","v":1},{"$f":"IF(AND($C211<=AM$1,Negyedéves!AM$1<Paraméterek!$C$11*4+$C211),1,0)","v":1},{"$f":"IF(AND($C211<=AN$1,Negyedéves!AN$1<Paraméterek!$C$11*4+$C211),1,0)","v":1},{"$f":"IF(AND($C211<=AO$1,Negyedéves!AO$1<Paraméterek!$C$11*4+$C211),1,0)","v":1},{"$f":"IF(AND($C211<=AP$1,Negyedéves!AP$1<Paraméterek!$C$11*4+$C211),1,0)","v":1},{"$f":"IF(AND($C211<=AQ$1,Negyedéves!AQ$1<Paraméterek!$C$11*4+$C211),1,0)","v":1},{"$f":"IF(AND($C211<=AR$1,Negyedéves!AR$1<Paraméterek!$C$11*4+$C211),1,0)","v":1},{"$f":"IF(AND($C211<=AS$1,Negyedéves!AS$1<Paraméterek!$C$11*4+$C211),1,0)","v":1},{"$f":"IF(AND($C211<=AT$1,Negyedéves!AT$1<Paraméterek!$C$11*4+$C211),1,0)","v":1},{"$f":"IF(AND($C211<=AU$1,Negyedéves!AU$1<Paraméterek!$C$11*4+$C211),1,0)","v":1},{"$f":"IF(AND($C211<=AV$1,Negyedéves!AV$1<Paraméterek!$C$11*4+$C211),1,0)","v":1},{"$f":"IF(AND($C211<=AW$1,Negyedéves!AW$1<Paraméterek!$C$11*4+$C211),1,0)","v":1},{"$f":"IF(AND($C211<=AX$1,Negyedéves!AX$1<Paraméterek!$C$11*4+$C211),1,0)","v":1},{"$f":"IF(AND($C211<=AY$1,Negyedéves!AY$1<Paraméterek!$C$11*4+$C211),1,0)","v":1},{"$f":"IF(AND($C211<=AZ$1,Negyedéves!AZ$1<Paraméterek!$C$11*4+$C211),1,0)","v":1},{"$f":"IF(AND($C211<=BA$1,Negyedéves!BA$1<Paraméterek!$C$11*4+$C211),1,0)","v":1},{"$f":"IF(AND($C211<=BB$1,Negyedéves!BB$1<Paraméterek!$C$11*4+$C211),1,0)","v":1},{"$f":"IF(AND($C211<=BC$1,Negyedéves!BC$1<Paraméterek!$C$11*4+$C211),1,0)","v":1},{"$f":"IF(AND($C211<=BD$1,Negyedéves!BD$1<Paraméterek!$C$11*4+$C211),1,0)","v":1},{"$f":"IF(AND($C211<=BE$1,Negyedéves!BE$1<Paraméterek!$C$11*4+$C211),1,0)","v":1},{"$f":"IF(AND($C211<=BF$1,Negyedéves!BF$1<Paraméterek!$C$11*4+$C211),1,0)","v":1},{"$f":"IF(AND($C211<=BG$1,Negyedéves!BG$1<Paraméterek!$C$11*4+$C211),1,0)","v":1},{"$f":"IF(AND($C211<=BH$1,Negyedéves!BH$1<Paraméterek!$C$11*4+$C211),1,0)","v":1},{"$f":"IF(AND($C211<=BI$1,Negyedéves!BI$1<Paraméterek!$C$11*4+$C211),1,0)","v":1},{"$f":"IF(AND($C211<=BJ$1,Negyedéves!BJ$1<Paraméterek!$C$11*4+$C211),1,0)","v":0},{"$f":"IF(AND($C211<=BK$1,Negyedéves!BK$1<Paraméterek!$C$11*4+$C211),1,0)","v":0},{"$f":"IF(AND($C211<=BL$1,Negyedéves!BL$1<Paraméterek!$C$11*4+$C211),1,0)","v":0},{"$f":"IF(AND($C211<=BM$1,Negyedéves!BM$1<Paraméterek!$C$11*4+$C211),1,0)","v":0},{"$f":"IF(AND($C211<=BN$1,Negyedéves!BN$1<Paraméterek!$C$11*4+$C211),1,0)","v":0},{"$f":"IF(AND($C211<=BO$1,Negyedéves!BO$1<Paraméterek!$C$11*4+$C211),1,0)","v":0},{"$f":"IF(AND($C211<=BP$1,Negyedéves!BP$1<Paraméterek!$C$11*4+$C211),1,0)","v":0},{"$f":"IF(AND($C211<=BQ$1,Negyedéves!BQ$1<Paraméterek!$C$11*4+$C211),1,0)","v":0},{"$f":"IF(AND($C211<=BR$1,Negyedéves!BR$1<Paraméterek!$C$11*4+$C211),1,0)","v":0},{"$f":"IF(AND($C211<=BS$1,Negyedéves!BS$1<Paraméterek!$C$11*4+$C211),1,0)","v":0},"x"]
[null,0,32,{"$f":"IF(AND($C212<=D$1,Negyedéves!D$1<Paraméterek!$C$11*4+$C212),1,0)","v":0},{"$f":"IF(AND($C212<=E$1,Negyedéves!E$1<Paraméterek!$C$11*4+$C212),1,0)","v":0},{"$f":"IF(AND($C212<=F$1,Negyedéves!F$1<Paraméterek!$C$11*4+$C212),1,0)","v":0},{"$f":"IF(AND($C212<=G$1,Negyedéves!G$1<Paraméterek!$C$11*4+$C212),1,0)","v":0},{"$f":"IF(AND($C212<=H$1,Negyedéves!H$1<Paraméterek!$C$11*4+$C212),1,0)","v":0},{"$f":"IF(AND($C212<=I$1,Negyedéves!I$1<Paraméterek!$C$11*4+$C212),1,0)","v":0},{"$f":"IF(AND($C212<=J$1,Negyedéves!J$1<Paraméterek!$C$11*4+$C212),1,0)","v":0},{"$f":"IF(AND($C212<=K$1,Negyedéves!K$1<Paraméterek!$C$11*4+$C212),1,0)","v":0},{"$f":"IF(AND($C212<=L$1,Negyedéves!L$1<Paraméterek!$C$11*4+$C212),1,0)","v":0},{"$f":"IF(AND($C212<=M$1,Negyedéves!M$1<Paraméterek!$C$11*4+$C212),1,0)","v":0},{"$f":"IF(AND($C212<=N$1,Negyedéves!N$1<Paraméterek!$C$11*4+$C212),1,0)","v":0},{"$f":"IF(AND($C212<=O$1,Negyedéves!O$1<Paraméterek!$C$11*4+$C212),1,0)","v":0},{"$f":"IF(AND($C212<=P$1,Negyedéves!P$1<Paraméterek!$C$11*4+$C212),1,0)","v":0},{"$f":"IF(AND($C212<=Q$1,Negyedéves!Q$1<Paraméterek!$C$11*4+$C212),1,0)","v":0},{"$f":"IF(AND($C212<=R$1,Negyedéves!R$1<Paraméterek!$C$11*4+$C212),1,0)","v":0},{"$f":"IF(AND($C212<=S$1,Negyedéves!S$1<Paraméterek!$C$11*4+$C212),1,0)","v":0},{"$f":"IF(AND($C212<=T$1,Negyedéves!T$1<Paraméterek!$C$11*4+$C212),1,0)","v":0},{"$f":"IF(AND($C212<=U$1,Negyedéves!U$1<Paraméterek!$C$11*4+$C212),1,0)","v":0},{"$f":"IF(AND($C212<=V$1,Negyedéves!V$1<Paraméterek!$C$11*4+$C212),1,0)","v":0},{"$f":"IF(AND($C212<=W$1,Negyedéves!W$1<Paraméterek!$C$11*4+$C212),1,0)","v":0},{"$f":"IF(AND($C212<=X$1,Negyedéves!X$1<Paraméterek!$C$11*4+$C212),1,0)","v":0},{"$f":"IF(AND($C212<=Y$1,Negyedéves!Y$1<Paraméterek!$C$11*4+$C212),1,0)","v":0},{"$f":"IF(AND($C212<=Z$1,Negyedéves!Z$1<Paraméterek!$C$11*4+$C212),1,0)","v":0},{"$f":"IF(AND($C212<=AA$1,Negyedéves!AA$1<Paraméterek!$C$11*4+$C212),1,0)","v":0},{"$f":"IF(AND($C212<=AB$1,Negyedéves!AB$1<Paraméterek!$C$11*4+$C212),1,0)","v":0},{"$f":"IF(AND($C212<=AC$1,Negyedéves!AC$1<Paraméterek!$C$11*4+$C212),1,0)","v":0},{"$f":"IF(AND($C212<=AD$1,Negyedéves!AD$1<Paraméterek!$C$11*4+$C212),1,0)","v":0},{"$f":"IF(AND($C212<=AE$1,Negyedéves!AE$1<Paraméterek!$C$11*4+$C212),1,0)","v":0},{"$f":"IF(AND($C212<=AF$1,Negyedéves!AF$1<Paraméterek!$C$11*4+$C212),1,0)","v":0},{"$f":"IF(AND($C212<=AG$1,Negyedéves!AG$1<Paraméterek!$C$11*4+$C212),1,0)","v":0},{"$f":"IF(AND($C212<=AH$1,Negyedéves!AH$1<Paraméterek!$C$11*4+$C212),1,0)","v":0},{"$f":"IF(AND($C212<=AI$1,Negyedéves!AI$1<Paraméterek!$C$11*4+$C212),1,0)","v":1},{"$f":"IF(AND($C212<=AJ$1,Negyedéves!AJ$1<Paraméterek!$C$11*4+$C212),1,0)","v":1},{"$f":"IF(AND($C212<=AK$1,Negyedéves!AK$1<Paraméterek!$C$11*4+$C212),1,0)","v":1},{"$f":"IF(AND($C212<=AL$1,Negyedéves!AL$1<Paraméterek!$C$11*4+$C212),1,0)","v":1},{"$f":"IF(AND($C212<=AM$1,Negyedéves!AM$1<Paraméterek!$C$11*4+$C212),1,0)","v":1},{"$f":"IF(AND($C212<=AN$1,Negyedéves!AN$1<Paraméterek!$C$11*4+$C212),1,0)","v":1},{"$f":"IF(AND($C212<=AO$1,Negyedéves!AO$1<Paraméterek!$C$11*4+$C212),1,0)","v":1},{"$f":"IF(AND($C212<=AP$1,Negyedéves!AP$1<Paraméterek!$C$11*4+$C212),1,0)","v":1},{"$f":"IF(AND($C212<=AQ$1,Negyedéves!AQ$1<Paraméterek!$C$11*4+$C212),1,0)","v":1},{"$f":"IF(AND($C212<=AR$1,Negyedéves!AR$1<Paraméterek!$C$11*4+$C212),1,0)","v":1},{"$f":"IF(AND($C212<=AS$1,Negyedéves!AS$1<Paraméterek!$C$11*4+$C212),1,0)","v":1},{"$f":"IF(AND($C212<=AT$1,Negyedéves!AT$1<Paraméterek!$C$11*4+$C212),1,0)","v":1},{"$f":"IF(AND($C212<=AU$1,Negyedéves!AU$1<Paraméterek!$C$11*4+$C212),1,0)","v":1},{"$f":"IF(AND($C212<=AV$1,Negyedéves!AV$1<Paraméterek!$C$11*4+$C212),1,0)","v":1},{"$f":"IF(AND($C212<=AW$1,Negyedéves!AW$1<Paraméterek!$C$11*4+$C212),1,0)","v":1},{"$f":"IF(AND($C212<=AX$1,Negyedéves!AX$1<Paraméterek!$C$11*4+$C212),1,0)","v":1},{"$f":"IF(AND($C212<=AY$1,Negyedéves!AY$1<Paraméterek!$C$11*4+$C212),1,0)","v":1},{"$f":"IF(AND($C212<=AZ$1,Negyedéves!AZ$1<Paraméterek!$C$11*4+$C212),1,0)","v":1},{"$f":"IF(AND($C212<=BA$1,Negyedéves!BA$1<Paraméterek!$C$11*4+$C212),1,0)","v":1},{"$f":"IF(AND($C212<=BB$1,Negyedéves!BB$1<Paraméterek!$C$11*4+$C212),1,0)","v":1},{"$f":"IF(AND($C212<=BC$1,Negyedéves!BC$1<Paraméterek!$C$11*4+$C212),1,0)","v":1},{"$f":"IF(AND($C212<=BD$1,Negyedéves!BD$1<Paraméterek!$C$11*4+$C212),1,0)","v":1},{"$f":"IF(AND($C212<=BE$1,Negyedéves!BE$1<Paraméterek!$C$11*4+$C212),1,0)","v":1},{"$f":"IF(AND($C212<=BF$1,Negyedéves!BF$1<Paraméterek!$C$11*4+$C212),1,0)","v":1},{"$f":"IF(AND($C212<=BG$1,Negyedéves!BG$1<Paraméterek!$C$11*4+$C212),1,0)","v":1},{"$f":"IF(AND($C212<=BH$1,Negyedéves!BH$1<Paraméterek!$C$11*4+$C212),1,0)","v":1},{"$f":"IF(AND($C212<=BI$1,Negyedéves!BI$1<Paraméterek!$C$11*4+$C212),1,0)","v":1},{"$f":"IF(AND($C212<=BJ$1,Negyedéves!BJ$1<Paraméterek!$C$11*4+$C212),1,0)","v":1},{"$f":"IF(AND($C212<=BK$1,Negyedéves!BK$1<Paraméterek!$C$11*4+$C212),1,0)","v":0},{"$f":"IF(AND($C212<=BL$1,Negyedéves!BL$1<Paraméterek!$C$11*4+$C212),1,0)","v":0},{"$f":"IF(AND($C212<=BM$1,Negyedéves!BM$1<Paraméterek!$C$11*4+$C212),1,0)","v":0},{"$f":"IF(AND($C212<=BN$1,Negyedéves!BN$1<Paraméterek!$C$11*4+$C212),1,0)","v":0},{"$f":"IF(AND($C212<=BO$1,Negyedéves!BO$1<Paraméterek!$C$11*4+$C212),1,0)","v":0},{"$f":"IF(AND($C212<=BP$1,Negyedéves!BP$1<Paraméterek!$C$11*4+$C212),1,0)","v":0},{"$f":"IF(AND($C212<=BQ$1,Negyedéves!BQ$1<Paraméterek!$C$11*4+$C212),1,0)","v":0},{"$f":"IF(AND($C212<=BR$1,Negyedéves!BR$1<Paraméterek!$C$11*4+$C212),1,0)","v":0},{"$f":"IF(AND($C212<=BS$1,Negyedéves!BS$1<Paraméterek!$C$11*4+$C212),1,0)","v":0},"x"]
[null,1177474.2463372848,33,{"$f":"IF(AND($C213<=D$1,Negyedéves!D$1<Paraméterek!$C$11*4+$C213),1,0)","v":0},{"$f":"IF(AND($C213<=E$1,Negyedéves!E$1<Paraméterek!$C$11*4+$C213),1,0)","v":0},{"$f":"IF(AND($C213<=F$1,Negyedéves!F$1<Paraméterek!$C$11*4+$C213),1,0)","v":0},{"$f":"IF(AND($C213<=G$1,Negyedéves!G$1<Paraméterek!$C$11*4+$C213),1,0)","v":0},{"$f":"IF(AND($C213<=H$1,Negyedéves!H$1<Paraméterek!$C$11*4+$C213),1,0)","v":0},{"$f":"IF(AND($C213<=I$1,Negyedéves!I$1<Paraméterek!$C$11*4+$C213),1,0)","v":0},{"$f":"IF(AND($C213<=J$1,Negyedéves!J$1<Paraméterek!$C$11*4+$C213),1,0)","v":0},{"$f":"IF(AND($C213<=K$1,Negyedéves!K$1<Paraméterek!$C$11*4+$C213),1,0)","v":0},{"$f":"IF(AND($C213<=L$1,Negyedéves!L$1<Paraméterek!$C$11*4+$C213),1,0)","v":0},{"$f":"IF(AND($C213<=M$1,Negyedéves!M$1<Paraméterek!$C$11*4+$C213),1,0)","v":0},{"$f":"IF(AND($C213<=N$1,Negyedéves!N$1<Paraméterek!$C$11*4+$C213),1,0)","v":0},{"$f":"IF(AND($C213<=O$1,Negyedéves!O$1<Paraméterek!$C$11*4+$C213),1,0)","v":0},{"$f":"IF(AND($C213<=P$1,Negyedéves!P$1<Paraméterek!$C$11*4+$C213),1,0)","v":0},{"$f":"IF(AND($C213<=Q$1,Negyedéves!Q$1<Paraméterek!$C$11*4+$C213),1,0)","v":0},{"$f":"IF(AND($C213<=R$1,Negyedéves!R$1<Paraméterek!$C$11*4+$C213),1,0)","v":0},{"$f":"IF(AND($C213<=S$1,Negyedéves!S$1<Paraméterek!$C$11*4+$C213),1,0)","v":0},{"$f":"IF(AND($C213<=T$1,Negyedéves!T$1<Paraméterek!$C$11*4+$C213),1,0)","v":0},{"$f":"IF(AND($C213<=U$1,Negyedéves!U$1<Paraméterek!$C$11*4+$C213),1,0)","v":0},{"$f":"IF(AND($C213<=V$1,Negyedéves!V$1<Paraméterek!$C$11*4+$C213),1,0)","v":0},{"$f":"IF(AND($C213<=W$1,Negyedéves!W$1<Paraméterek!$C$11*4+$C213),1,0)","v":0},{"$f":"IF(AND($C213<=X$1,Negyedéves!X$1<Paraméterek!$C$11*4+$C213),1,0)","v":0},{"$f":"IF(AND($C213<=Y$1,Negyedéves!Y$1<Paraméterek!$C$11*4+$C213),1,0)","v":0},{"$f":"IF(AND($C213<=Z$1,Negyedéves!Z$1<Paraméterek!$C$11*4+$C213),1,0)","v":0},{"$f":"IF(AND($C213<=AA$1,Negyedéves!AA$1<Paraméterek!$C$11*4+$C213),1,0)","v":0},{"$f":"IF(AND($C213<=AB$1,Negyedéves!AB$1<Paraméterek!$C$11*4+$C213),1,0)","v":0},{"$f":"IF(AND($C213<=AC$1,Negyedéves!AC$1<Paraméterek!$C$11*4+$C213),1,0)","v":0},{"$f":"IF(AND($C213<=AD$1,Negyedéves!AD$1<Paraméterek!$C$11*4+$C213),1,0)","v":0},{"$f":"IF(AND($C213<=AE$1,Negyedéves!AE$1<Paraméterek!$C$11*4+$C213),1,0)","v":0},{"$f":"IF(AND($C213<=AF$1,Negyedéves!AF$1<Paraméterek!$C$11*4+$C213),1,0)","v":0},{"$f":"IF(AND($C213<=AG$1,Negyedéves!AG$1<Paraméterek!$C$11*4+$C213),1,0)","v":0},{"$f":"IF(AND($C213<=AH$1,Negyedéves!AH$1<Paraméterek!$C$11*4+$C213),1,0)","v":0},{"$f":"IF(AND($C213<=AI$1,Negyedéves!AI$1<Paraméterek!$C$11*4+$C213),1,0)","v":0},{"$f":"IF(AND($C213<=AJ$1,Negyedéves!AJ$1<Paraméterek!$C$11*4+$C213),1,0)","v":1},{"$f":"IF(AND($C213<=AK$1,Negyedéves!AK$1<Paraméterek!$C$11*4+$C213),1,0)","v":1},{"$f":"IF(AND($C213<=AL$1,Negyedéves!AL$1<Paraméterek!$C$11*4+$C213),1,0)","v":1},{"$f":"IF(AND($C213<=AM$1,Negyedéves!AM$1<Paraméterek!$C$11*4+$C213),1,0)","v":1},{"$f":"IF(AND($C213<=AN$1,Negyedéves!AN$1<Paraméterek!$C$11*4+$C213),1,0)","v":1},{"$f":"IF(AND($C213<=AO$1,Negyedéves!AO$1<Paraméterek!$C$11*4+$C213),1,0)","v":1},{"$f":"IF(AND($C213<=AP$1,Negyedéves!AP$1<Paraméterek!$C$11*4+$C213),1,0)","v":1},{"$f":"IF(AND($C213<=AQ$1,Negyedéves!AQ$1<Paraméterek!$C$11*4+$C213),1,0)","v":1},{"$f":"IF(AND($C213<=AR$1,Negyedéves!AR$1<Paraméterek!$C$11*4+$C213),1,0)","v":1},{"$f":"IF(AND($C213<=AS$1,Negyedéves!AS$1<Paraméterek!$C$11*4+$C213),1,0)","v":1},{"$f":"IF(AND($C213<=AT$1,Negyedéves!AT$1<Paraméterek!$C$11*4+$C213),1,0)","v":1},{"$f":"IF(AND($C213<=AU$1,Negyedéves!AU$1<Paraméterek!$C$11*4+$C213),1,0)","v":1},{"$f":"IF(AND($C213<=AV$1,Negyedéves!AV$1<Paraméterek!$C$11*4+$C213),1,0)","v":1},{"$f":"IF(AND($C213<=AW$1,Negyedéves!AW$1<Paraméterek!$C$11*4+$C213),1,0)","v":1},{"$f":"IF(AND($C213<=AX$1,Negyedéves!AX$1<Paraméterek!$C$11*4+$C213),1,0)","v":1},{"$f":"IF(AND($C213<=AY$1,Negyedéves!AY$1<Paraméterek!$C$11*4+$C213),1,0)","v":1},{"$f":"IF(AND($C213<=AZ$1,Negyedéves!AZ$1<Paraméterek!$C$11*4+$C213),1,0)","v":1},{"$f":"IF(AND($C213<=BA$1,Negyedéves!BA$1<Paraméterek!$C$11*4+$C213),1,0)","v":1},{"$f":"IF(AND($C213<=BB$1,Negyedéves!BB$1<Paraméterek!$C$11*4+$C213),1,0)","v":1},{"$f":"IF(AND($C213<=BC$1,Negyedéves!BC$1<Paraméterek!$C$11*4+$C213),1,0)","v":1},{"$f":"IF(AND($C213<=BD$1,Negyedéves!BD$1<Paraméterek!$C$11*4+$C213),1,0)","v":1},{"$f":"IF(AND($C213<=BE$1,Negyedéves!BE$1<Paraméterek!$C$11*4+$C213),1,0)","v":1},{"$f":"IF(AND($C213<=BF$1,Negyedéves!BF$1<Paraméterek!$C$11*4+$C213),1,0)","v":1},{"$f":"IF(AND($C213<=BG$1,Negyedéves!BG$1<Paraméterek!$C$11*4+$C213),1,0)","v":1},{"$f":"IF(AND($C213<=BH$1,Negyedéves!BH$1<Paraméterek!$C$11*4+$C213),1,0)","v":1},{"$f":"IF(AND($C213<=BI$1,Negyedéves!BI$1<Paraméterek!$C$11*4+$C213),1,0)","v":1},{"$f":"IF(AND($C213<=BJ$1,Negyedéves!BJ$1<Paraméterek!$C$11*4+$C213),1,0)","v":1},{"$f":"IF(AND($C213<=BK$1,Negyedéves!BK$1<Paraméterek!$C$11*4+$C213),1,0)","v":1},{"$f":"IF(AND($C213<=BL$1,Negyedéves!BL$1<Paraméterek!$C$11*4+$C213),1,0)","v":0},{"$f":"IF(AND($C213<=BM$1,Negyedéves!BM$1<Paraméterek!$C$11*4+$C213),1,0)","v":0},{"$f":"IF(AND($C213<=BN$1,Negyedéves!BN$1<Paraméterek!$C$11*4+$C213),1,0)","v":0},{"$f":"IF(AND($C213<=BO$1,Negyedéves!BO$1<Paraméterek!$C$11*4+$C213),1,0)","v":0},{"$f":"IF(AND($C213<=BP$1,Negyedéves!BP$1<Paraméterek!$C$11*4+$C213),1,0)","v":0},{"$f":"IF(AND($C213<=BQ$1,Negyedéves!BQ$1<Paraméterek!$C$11*4+$C213),1,0)","v":0},{"$f":"IF(AND($C213<=BR$1,Negyedéves!BR$1<Paraméterek!$C$11*4+$C213),1,0)","v":0},{"$f":"IF(AND($C213<=BS$1,Negyedéves!BS$1<Paraméterek!$C$11*4+$C213),1,0)","v":0},"x"]
[null,0,34,{"$f":"IF(AND($C214<=D$1,Negyedéves!D$1<Paraméterek!$C$11*4+$C214),1,0)","v":0},{"$f":"IF(AND($C214<=E$1,Negyedéves!E$1<Paraméterek!$C$11*4+$C214),1,0)","v":0},{"$f":"IF(AND($C214<=F$1,Negyedéves!F$1<Paraméterek!$C$11*4+$C214),1,0)","v":0},{"$f":"IF(AND($C214<=G$1,Negyedéves!G$1<Paraméterek!$C$11*4+$C214),1,0)","v":0},{"$f":"IF(AND($C214<=H$1,Negyedéves!H$1<Paraméterek!$C$11*4+$C214),1,0)","v":0},{"$f":"IF(AND($C214<=I$1,Negyedéves!I$1<Paraméterek!$C$11*4+$C214),1,0)","v":0},{"$f":"IF(AND($C214<=J$1,Negyedéves!J$1<Paraméterek!$C$11*4+$C214),1,0)","v":0},{"$f":"IF(AND($C214<=K$1,Negyedéves!K$1<Paraméterek!$C$11*4+$C214),1,0)","v":0},{"$f":"IF(AND($C214<=L$1,Negyedéves!L$1<Paraméterek!$C$11*4+$C214),1,0)","v":0},{"$f":"IF(AND($C214<=M$1,Negyedéves!M$1<Paraméterek!$C$11*4+$C214),1,0)","v":0},{"$f":"IF(AND($C214<=N$1,Negyedéves!N$1<Paraméterek!$C$11*4+$C214),1,0)","v":0},{"$f":"IF(AND($C214<=O$1,Negyedéves!O$1<Paraméterek!$C$11*4+$C214),1,0)","v":0},{"$f":"IF(AND($C214<=P$1,Negyedéves!P$1<Paraméterek!$C$11*4+$C214),1,0)","v":0},{"$f":"IF(AND($C214<=Q$1,Negyedéves!Q$1<Paraméterek!$C$11*4+$C214),1,0)","v":0},{"$f":"IF(AND($C214<=R$1,Negyedéves!R$1<Paraméterek!$C$11*4+$C214),1,0)","v":0},{"$f":"IF(AND($C214<=S$1,Negyedéves!S$1<Paraméterek!$C$11*4+$C214),1,0)","v":0},{"$f":"IF(AND($C214<=T$1,Negyedéves!T$1<Paraméterek!$C$11*4+$C214),1,0)","v":0},{"$f":"IF(AND($C214<=U$1,Negyedéves!U$1<Paraméterek!$C$11*4+$C214),1,0)","v":0},{"$f":"IF(AND($C214<=V$1,Negyedéves!V$1<Paraméterek!$C$11*4+$C214),1,0)","v":0},{"$f":"IF(AND($C214<=W$1,Negyedéves!W$1<Paraméterek!$C$11*4+$C214),1,0)","v":0},{"$f":"IF(AND($C214<=X$1,Negyedéves!X$1<Paraméterek!$C$11*4+$C214),1,0)","v":0},{"$f":"IF(AND($C214<=Y$1,Negyedéves!Y$1<Paraméterek!$C$11*4+$C214),1,0)","v":0},{"$f":"IF(AND($C214<=Z$1,Negyedéves!Z$1<Paraméterek!$C$11*4+$C214),1,0)","v":0},{"$f":"IF(AND($C214<=AA$1,Negyedéves!AA$1<Paraméterek!$C$11*4+$C214),1,0)","v":0},{"$f":"IF(AND($C214<=AB$1,Negyedéves!AB$1<Paraméterek!$C$11*4+$C214),1,0)","v":0},{"$f":"IF(AND($C214<=AC$1,Negyedéves!AC$1<Paraméterek!$C$11*4+$C214),1,0)","v":0},{"$f":"IF(AND($C214<=AD$1,Negyedéves!AD$1<Paraméterek!$C$11*4+$C214),1,0)","v":0},{"$f":"IF(AND($C214<=AE$1,Negyedéves!AE$1<Paraméterek!$C$11*4+$C214),1,0)","v":0},{"$f":"IF(AND($C214<=AF$1,Negyedéves!AF$1<Paraméterek!$C$11*4+$C214),1,0)","v":0},{"$f":"IF(AND($C214<=AG$1,Negyedéves!AG$1<Paraméterek!$C$11*4+$C214),1,0)","v":0},{"$f":"IF(AND($C214<=AH$1,Negyedéves!AH$1<Paraméterek!$C$11*4+$C214),1,0)","v":0},{"$f":"IF(AND($C214<=AI$1,Negyedéves!AI$1<Paraméterek!$C$11*4+$C214),1,0)","v":0},{"$f":"IF(AND($C214<=AJ$1,Negyedéves!AJ$1<Paraméterek!$C$11*4+$C214),1,0)","v":0},{"$f":"IF(AND($C214<=AK$1,Negyedéves!AK$1<Paraméterek!$C$11*4+$C214),1,0)","v":1},{"$f":"IF(AND($C214<=AL$1,Negyedéves!AL$1<Paraméterek!$C$11*4+$C214),1,0)","v":1},{"$f":"IF(AND($C214<=AM$1,Negyedéves!AM$1<Paraméterek!$C$11*4+$C214),1,0)","v":1},{"$f":"IF(AND($C214<=AN$1,Negyedéves!AN$1<Paraméterek!$C$11*4+$C214),1,0)","v":1},{"$f":"IF(AND($C214<=AO$1,Negyedéves!AO$1<Paraméterek!$C$11*4+$C214),1,0)","v":1},{"$f":"IF(AND($C214<=AP$1,Negyedéves!AP$1<Paraméterek!$C$11*4+$C214),1,0)","v":1},{"$f":"IF(AND($C214<=AQ$1,Negyedéves!AQ$1<Paraméterek!$C$11*4+$C214),1,0)","v":1},{"$f":"IF(AND($C214<=AR$1,Negyedéves!AR$1<Paraméterek!$C$11*4+$C214),1,0)","v":1},{"$f":"IF(AND($C214<=AS$1,Negyedéves!AS$1<Paraméterek!$C$11*4+$C214),1,0)","v":1},{"$f":"IF(AND($C214<=AT$1,Negyedéves!AT$1<Paraméterek!$C$11*4+$C214),1,0)","v":1},{"$f":"IF(AND($C214<=AU$1,Negyedéves!AU$1<Paraméterek!$C$11*4+$C214),1,0)","v":1},{"$f":"IF(AND($C214<=AV$1,Negyedéves!AV$1<Paraméterek!$C$11*4+$C214),1,0)","v":1},{"$f":"IF(AND($C214<=AW$1,Negyedéves!AW$1<Paraméterek!$C$11*4+$C214),1,0)","v":1},{"$f":"IF(AND($C214<=AX$1,Negyedéves!AX$1<Paraméterek!$C$11*4+$C214),1,0)","v":1},{"$f":"IF(AND($C214<=AY$1,Negyedéves!AY$1<Paraméterek!$C$11*4+$C214),1,0)","v":1},{"$f":"IF(AND($C214<=AZ$1,Negyedéves!AZ$1<Paraméterek!$C$11*4+$C214),1,0)","v":1},{"$f":"IF(AND($C214<=BA$1,Negyedéves!BA$1<Paraméterek!$C$11*4+$C214),1,0)","v":1},{"$f":"IF(AND($C214<=BB$1,Negyedéves!BB$1<Paraméterek!$C$11*4+$C214),1,0)","v":1},{"$f":"IF(AND($C214<=BC$1,Negyedéves!BC$1<Paraméterek!$C$11*4+$C214),1,0)","v":1},{"$f":"IF(AND($C214<=BD$1,Negyedéves!BD$1<Paraméterek!$C$11*4+$C214),1,0)","v":1},{"$f":"IF(AND($C214<=BE$1,Negyedéves!BE$1<Paraméterek!$C$11*4+$C214),1,0)","v":1},{"$f":"IF(AND($C214<=BF$1,Negyedéves!BF$1<Paraméterek!$C$11*4+$C214),1,0)","v":1},{"$f":"IF(AND($C214<=BG$1,Negyedéves!BG$1<Paraméterek!$C$11*4+$C214),1,0)","v":1},{"$f":"IF(AND($C214<=BH$1,Negyedéves!BH$1<Paraméterek!$C$11*4+$C214),1,0)","v":1},{"$f":"IF(AND($C214<=BI$1,Negyedéves!BI$1<Paraméterek!$C$11*4+$C214),1,0)","v":1},{"$f":"IF(AND($C214<=BJ$1,Negyedéves!BJ$1<Paraméterek!$C$11*4+$C214),1,0)","v":1},{"$f":"IF(AND($C214<=BK$1,Negyedéves!BK$1<Paraméterek!$C$11*4+$C214),1,0)","v":1},{"$f":"IF(AND($C214<=BL$1,Negyedéves!BL$1<Paraméterek!$C$11*4+$C214),1,0)","v":1},{"$f":"IF(AND($C214<=BM$1,Negyedéves!BM$1<Paraméterek!$C$11*4+$C214),1,0)","v":0},{"$f":"IF(AND($C214<=BN$1,Negyedéves!BN$1<Paraméterek!$C$11*4+$C214),1,0)","v":0},{"$f":"IF(AND($C214<=BO$1,Negyedéves!BO$1<Paraméterek!$C$11*4+$C214),1,0)","v":0},{"$f":"IF(AND($C214<=BP$1,Negyedéves!BP$1<Paraméterek!$C$11*4+$C214),1,0)","v":0},{"$f":"IF(AND($C214<=BQ$1,Negyedéves!BQ$1<Paraméterek!$C$11*4+$C214),1,0)","v":0},{"$f":"IF(AND($C214<=BR$1,Negyedéves!BR$1<Paraméterek!$C$11*4+$C214),1,0)","v":0},{"$f":"IF(AND($C214<=BS$1,Negyedéves!BS$1<Paraméterek!$C$11*4+$C214),1,0)","v":0},"x"]
[null,0,35,{"$f":"IF(AND($C215<=D$1,Negyedéves!D$1<Paraméterek!$C$11*4+$C215),1,0)","v":0},{"$f":"IF(AND($C215<=E$1,Negyedéves!E$1<Paraméterek!$C$11*4+$C215),1,0)","v":0},{"$f":"IF(AND($C215<=F$1,Negyedéves!F$1<Paraméterek!$C$11*4+$C215),1,0)","v":0},{"$f":"IF(AND($C215<=G$1,Negyedéves!G$1<Paraméterek!$C$11*4+$C215),1,0)","v":0},{"$f":"IF(AND($C215<=H$1,Negyedéves!H$1<Paraméterek!$C$11*4+$C215),1,0)","v":0},{"$f":"IF(AND($C215<=I$1,Negyedéves!I$1<Paraméterek!$C$11*4+$C215),1,0)","v":0},{"$f":"IF(AND($C215<=J$1,Negyedéves!J$1<Paraméterek!$C$11*4+$C215),1,0)","v":0},{"$f":"IF(AND($C215<=K$1,Negyedéves!K$1<Paraméterek!$C$11*4+$C215),1,0)","v":0},{"$f":"IF(AND($C215<=L$1,Negyedéves!L$1<Paraméterek!$C$11*4+$C215),1,0)","v":0},{"$f":"IF(AND($C215<=M$1,Negyedéves!M$1<Paraméterek!$C$11*4+$C215),1,0)","v":0},{"$f":"IF(AND($C215<=N$1,Negyedéves!N$1<Paraméterek!$C$11*4+$C215),1,0)","v":0},{"$f":"IF(AND($C215<=O$1,Negyedéves!O$1<Paraméterek!$C$11*4+$C215),1,0)","v":0},{"$f":"IF(AND($C215<=P$1,Negyedéves!P$1<Paraméterek!$C$11*4+$C215),1,0)","v":0},{"$f":"IF(AND($C215<=Q$1,Negyedéves!Q$1<Paraméterek!$C$11*4+$C215),1,0)","v":0},{"$f":"IF(AND($C215<=R$1,Negyedéves!R$1<Paraméterek!$C$11*4+$C215),1,0)","v":0},{"$f":"IF(AND($C215<=S$1,Negyedéves!S$1<Paraméterek!$C$11*4+$C215),1,0)","v":0},{"$f":"IF(AND($C215<=T$1,Negyedéves!T$1<Paraméterek!$C$11*4+$C215),1,0)","v":0},{"$f":"IF(AND($C215<=U$1,Negyedéves!U$1<Paraméterek!$C$11*4+$C215),1,0)","v":0},{"$f":"IF(AND($C215<=V$1,Negyedéves!V$1<Paraméterek!$C$11*4+$C215),1,0)","v":0},{"$f":"IF(AND($C215<=W$1,Negyedéves!W$1<Paraméterek!$C$11*4+$C215),1,0)","v":0},{"$f":"IF(AND($C215<=X$1,Negyedéves!X$1<Paraméterek!$C$11*4+$C215),1,0)","v":0},{"$f":"IF(AND($C215<=Y$1,Negyedéves!Y$1<Paraméterek!$C$11*4+$C215),1,0)","v":0},{"$f":"IF(AND($C215<=Z$1,Negyedéves!Z$1<Paraméterek!$C$11*4+$C215),1,0)","v":0},{"$f":"IF(AND($C215<=AA$1,Negyedéves!AA$1<Paraméterek!$C$11*4+$C215),1,0)","v":0},{"$f":"IF(AND($C215<=AB$1,Negyedéves!AB$1<Paraméterek!$C$11*4+$C215),1,0)","v":0},{"$f":"IF(AND($C215<=AC$1,Negyedéves!AC$1<Paraméterek!$C$11*4+$C215),1,0)","v":0},{"$f":"IF(AND($C215<=AD$1,Negyedéves!AD$1<Paraméterek!$C$11*4+$C215),1,0)","v":0},{"$f":"IF(AND($C215<=AE$1,Negyedéves!AE$1<Paraméterek!$C$11*4+$C215),1,0)","v":0},{"$f":"IF(AND($C215<=AF$1,Negyedéves!AF$1<Paraméterek!$C$11*4+$C215),1,0)","v":0},{"$f":"IF(AND($C215<=AG$1,Negyedéves!AG$1<Paraméterek!$C$11*4+$C215),1,0)","v":0},{"$f":"IF(AND($C215<=AH$1,Negyedéves!AH$1<Paraméterek!$C$11*4+$C215),1,0)","v":0},{"$f":"IF(AND($C215<=AI$1,Negyedéves!AI$1<Paraméterek!$C$11*4+$C215),1,0)","v":0},{"$f":"IF(AND($C215<=AJ$1,Negyedéves!AJ$1<Paraméterek!$C$11*4+$C215),1,0)","v":0},{"$f":"IF(AND($C215<=AK$1,Negyedéves!AK$1<Paraméterek!$C$11*4+$C215),1,0)","v":0},{"$f":"IF(AND($C215<=AL$1,Negyedéves!AL$1<Paraméterek!$C$11*4+$C215),1,0)","v":1},{"$f":"IF(AND($C215<=AM$1,Negyedéves!AM$1<Paraméterek!$C$11*4+$C215),1,0)","v":1},{"$f":"IF(AND($C215<=AN$1,Negyedéves!AN$1<Paraméterek!$C$11*4+$C215),1,0)","v":1},{"$f":"IF(AND($C215<=AO$1,Negyedéves!AO$1<Paraméterek!$C$11*4+$C215),1,0)","v":1},{"$f":"IF(AND($C215<=AP$1,Negyedéves!AP$1<Paraméterek!$C$11*4+$C215),1,0)","v":1},{"$f":"IF(AND($C215<=AQ$1,Negyedéves!AQ$1<Paraméterek!$C$11*4+$C215),1,0)","v":1},{"$f":"IF(AND($C215<=AR$1,Negyedéves!AR$1<Paraméterek!$C$11*4+$C215),1,0)","v":1},{"$f":"IF(AND($C215<=AS$1,Negyedéves!AS$1<Paraméterek!$C$11*4+$C215),1,0)","v":1},{"$f":"IF(AND($C215<=AT$1,Negyedéves!AT$1<Paraméterek!$C$11*4+$C215),1,0)","v":1},{"$f":"IF(AND($C215<=AU$1,Negyedéves!AU$1<Paraméterek!$C$11*4+$C215),1,0)","v":1},{"$f":"IF(AND($C215<=AV$1,Negyedéves!AV$1<Paraméterek!$C$11*4+$C215),1,0)","v":1},{"$f":"IF(AND($C215<=AW$1,Negyedéves!AW$1<Paraméterek!$C$11*4+$C215),1,0)","v":1},{"$f":"IF(AND($C215<=AX$1,Negyedéves!AX$1<Paraméterek!$C$11*4+$C215),1,0)","v":1},{"$f":"IF(AND($C215<=AY$1,Negyedéves!AY$1<Paraméterek!$C$11*4+$C215),1,0)","v":1},{"$f":"IF(AND($C215<=AZ$1,Negyedéves!AZ$1<Paraméterek!$C$11*4+$C215),1,0)","v":1},{"$f":"IF(AND($C215<=BA$1,Negyedéves!BA$1<Paraméterek!$C$11*4+$C215),1,0)","v":1},{"$f":"IF(AND($C215<=BB$1,Negyedéves!BB$1<Paraméterek!$C$11*4+$C215),1,0)","v":1},{"$f":"IF(AND($C215<=BC$1,Negyedéves!BC$1<Paraméterek!$C$11*4+$C215),1,0)","v":1},{"$f":"IF(AND($C215<=BD$1,Negyedéves!BD$1<Paraméterek!$C$11*4+$C215),1,0)","v":1},{"$f":"IF(AND($C215<=BE$1,Negyedéves!BE$1<Paraméterek!$C$11*4+$C215),1,0)","v":1},{"$f":"IF(AND($C215<=BF$1,Negyedéves!BF$1<Paraméterek!$C$11*4+$C215),1,0)","v":1},{"$f":"IF(AND($C215<=BG$1,Negyedéves!BG$1<Paraméterek!$C$11*4+$C215),1,0)","v":1},{"$f":"IF(AND($C215<=BH$1,Negyedéves!BH$1<Paraméterek!$C$11*4+$C215),1,0)","v":1},{"$f":"IF(AND($C215<=BI$1,Negyedéves!BI$1<Paraméterek!$C$11*4+$C215),1,0)","v":1},{"$f":"IF(AND($C215<=BJ$1,Negyedéves!BJ$1<Paraméterek!$C$11*4+$C215),1,0)","v":1},{"$f":"IF(AND($C215<=BK$1,Negyedéves!BK$1<Paraméterek!$C$11*4+$C215),1,0)","v":1},{"$f":"IF(AND($C215<=BL$1,Negyedéves!BL$1<Paraméterek!$C$11*4+$C215),1,0)","v":1},{"$f":"IF(AND($C215<=BM$1,Negyedéves!BM$1<Paraméterek!$C$11*4+$C215),1,0)","v":1},{"$f":"IF(AND($C215<=BN$1,Negyedéves!BN$1<Paraméterek!$C$11*4+$C215),1,0)","v":0},{"$f":"IF(AND($C215<=BO$1,Negyedéves!BO$1<Paraméterek!$C$11*4+$C215),1,0)","v":0},{"$f":"IF(AND($C215<=BP$1,Negyedéves!BP$1<Paraméterek!$C$11*4+$C215),1,0)","v":0},{"$f":"IF(AND($C215<=BQ$1,Negyedéves!BQ$1<Paraméterek!$C$11*4+$C215),1,0)","v":0},{"$f":"IF(AND($C215<=BR$1,Negyedéves!BR$1<Paraméterek!$C$11*4+$C215),1,0)","v":0},{"$f":"IF(AND($C215<=BS$1,Negyedéves!BS$1<Paraméterek!$C$11*4+$C215),1,0)","v":0},"x"]
[null,0,36,{"$f":"IF(AND($C216<=D$1,Negyedéves!D$1<Paraméterek!$C$11*4+$C216),1,0)","v":0},{"$f":"IF(AND($C216<=E$1,Negyedéves!E$1<Paraméterek!$C$11*4+$C216),1,0)","v":0},{"$f":"IF(AND($C216<=F$1,Negyedéves!F$1<Paraméterek!$C$11*4+$C216),1,0)","v":0},{"$f":"IF(AND($C216<=G$1,Negyedéves!G$1<Paraméterek!$C$11*4+$C216),1,0)","v":0},{"$f":"IF(AND($C216<=H$1,Negyedéves!H$1<Paraméterek!$C$11*4+$C216),1,0)","v":0},{"$f":"IF(AND($C216<=I$1,Negyedéves!I$1<Paraméterek!$C$11*4+$C216),1,0)","v":0},{"$f":"IF(AND($C216<=J$1,Negyedéves!J$1<Paraméterek!$C$11*4+$C216),1,0)","v":0},{"$f":"IF(AND($C216<=K$1,Negyedéves!K$1<Paraméterek!$C$11*4+$C216),1,0)","v":0},{"$f":"IF(AND($C216<=L$1,Negyedéves!L$1<Paraméterek!$C$11*4+$C216),1,0)","v":0},{"$f":"IF(AND($C216<=M$1,Negyedéves!M$1<Paraméterek!$C$11*4+$C216),1,0)","v":0},{"$f":"IF(AND($C216<=N$1,Negyedéves!N$1<Paraméterek!$C$11*4+$C216),1,0)","v":0},{"$f":"IF(AND($C216<=O$1,Negyedéves!O$1<Paraméterek!$C$11*4+$C216),1,0)","v":0},{"$f":"IF(AND($C216<=P$1,Negyedéves!P$1<Paraméterek!$C$11*4+$C216),1,0)","v":0},{"$f":"IF(AND($C216<=Q$1,Negyedéves!Q$1<Paraméterek!$C$11*4+$C216),1,0)","v":0},{"$f":"IF(AND($C216<=R$1,Negyedéves!R$1<Paraméterek!$C$11*4+$C216),1,0)","v":0},{"$f":"IF(AND($C216<=S$1,Negyedéves!S$1<Paraméterek!$C$11*4+$C216),1,0)","v":0},{"$f":"IF(AND($C216<=T$1,Negyedéves!T$1<Paraméterek!$C$11*4+$C216),1,0)","v":0},{"$f":"IF(AND($C216<=U$1,Negyedéves!U$1<Paraméterek!$C$11*4+$C216),1,0)","v":0},{"$f":"IF(AND($C216<=V$1,Negyedéves!V$1<Paraméterek!$C$11*4+$C216),1,0)","v":0},{"$f":"IF(AND($C216<=W$1,Negyedéves!W$1<Paraméterek!$C$11*4+$C216),1,0)","v":0},{"$f":"IF(AND($C216<=X$1,Negyedéves!X$1<Paraméterek!$C$11*4+$C216),1,0)","v":0},{"$f":"IF(AND($C216<=Y$1,Negyedéves!Y$1<Paraméterek!$C$11*4+$C216),1,0)","v":0},{"$f":"IF(AND($C216<=Z$1,Negyedéves!Z$1<Paraméterek!$C$11*4+$C216),1,0)","v":0},{"$f":"IF(AND($C216<=AA$1,Negyedéves!AA$1<Paraméterek!$C$11*4+$C216),1,0)","v":0},{"$f":"IF(AND($C216<=AB$1,Negyedéves!AB$1<Paraméterek!$C$11*4+$C216),1,0)","v":0},{"$f":"IF(AND($C216<=AC$1,Negyedéves!AC$1<Paraméterek!$C$11*4+$C216),1,0)","v":0},{"$f":"IF(AND($C216<=AD$1,Negyedéves!AD$1<Paraméterek!$C$11*4+$C216),1,0)","v":0},{"$f":"IF(AND($C216<=AE$1,Negyedéves!AE$1<Paraméterek!$C$11*4+$C216),1,0)","v":0},{"$f":"IF(AND($C216<=AF$1,Negyedéves!AF$1<Paraméterek!$C$11*4+$C216),1,0)","v":0},{"$f":"IF(AND($C216<=AG$1,Negyedéves!AG$1<Paraméterek!$C$11*4+$C216),1,0)","v":0},{"$f":"IF(AND($C216<=AH$1,Negyedéves!AH$1<Paraméterek!$C$11*4+$C216),1,0)","v":0},{"$f":"IF(AND($C216<=AI$1,Negyedéves!AI$1<Paraméterek!$C$11*4+$C216),1,0)","v":0},{"$f":"IF(AND($C216<=AJ$1,Negyedéves!AJ$1<Paraméterek!$C$11*4+$C216),1,0)","v":0},{"$f":"IF(AND($C216<=AK$1,Negyedéves!AK$1<Paraméterek!$C$11*4+$C216),1,0)","v":0},{"$f":"IF(AND($C216<=AL$1,Negyedéves!AL$1<Paraméterek!$C$11*4+$C216),1,0)","v":0},{"$f":"IF(AND($C216<=AM$1,Negyedéves!AM$1<Paraméterek!$C$11*4+$C216),1,0)","v":1},{"$f":"IF(AND($C216<=AN$1,Negyedéves!AN$1<Paraméterek!$C$11*4+$C216),1,0)","v":1},{"$f":"IF(AND($C216<=AO$1,Negyedéves!AO$1<Paraméterek!$C$11*4+$C216),1,0)","v":1},{"$f":"IF(AND($C216<=AP$1,Negyedéves!AP$1<Paraméterek!$C$11*4+$C216),1,0)","v":1},{"$f":"IF(AND($C216<=AQ$1,Negyedéves!AQ$1<Paraméterek!$C$11*4+$C216),1,0)","v":1},{"$f":"IF(AND($C216<=AR$1,Negyedéves!AR$1<Paraméterek!$C$11*4+$C216),1,0)","v":1},{"$f":"IF(AND($C216<=AS$1,Negyedéves!AS$1<Paraméterek!$C$11*4+$C216),1,0)","v":1},{"$f":"IF(AND($C216<=AT$1,Negyedéves!AT$1<Paraméterek!$C$11*4+$C216),1,0)","v":1},{"$f":"IF(AND($C216<=AU$1,Negyedéves!AU$1<Paraméterek!$C$11*4+$C216),1,0)","v":1},{"$f":"IF(AND($C216<=AV$1,Negyedéves!AV$1<Paraméterek!$C$11*4+$C216),1,0)","v":1},{"$f":"IF(AND($C216<=AW$1,Negyedéves!AW$1<Paraméterek!$C$11*4+$C216),1,0)","v":1},{"$f":"IF(AND($C216<=AX$1,Negyedéves!AX$1<Paraméterek!$C$11*4+$C216),1,0)","v":1},{"$f":"IF(AND($C216<=AY$1,Negyedéves!AY$1<Paraméterek!$C$11*4+$C216),1,0)","v":1},{"$f":"IF(AND($C216<=AZ$1,Negyedéves!AZ$1<Paraméterek!$C$11*4+$C216),1,0)","v":1},{"$f":"IF(AND($C216<=BA$1,Negyedéves!BA$1<Paraméterek!$C$11*4+$C216),1,0)","v":1},{"$f":"IF(AND($C216<=BB$1,Negyedéves!BB$1<Paraméterek!$C$11*4+$C216),1,0)","v":1},{"$f":"IF(AND($C216<=BC$1,Negyedéves!BC$1<Paraméterek!$C$11*4+$C216),1,0)","v":1},{"$f":"IF(AND($C216<=BD$1,Negyedéves!BD$1<Paraméterek!$C$11*4+$C216),1,0)","v":1},{"$f":"IF(AND($C216<=BE$1,Negyedéves!BE$1<Paraméterek!$C$11*4+$C216),1,0)","v":1},{"$f":"IF(AND($C216<=BF$1,Negyedéves!BF$1<Paraméterek!$C$11*4+$C216),1,0)","v":1},{"$f":"IF(AND($C216<=BG$1,Negyedéves!BG$1<Paraméterek!$C$11*4+$C216),1,0)","v":1},{"$f":"IF(AND($C216<=BH$1,Negyedéves!BH$1<Paraméterek!$C$11*4+$C216),1,0)","v":1},{"$f":"IF(AND($C216<=BI$1,Negyedéves!BI$1<Paraméterek!$C$11*4+$C216),1,0)","v":1},{"$f":"IF(AND($C216<=BJ$1,Negyedéves!BJ$1<Paraméterek!$C$11*4+$C216),1,0)","v":1},{"$f":"IF(AND($C216<=BK$1,Negyedéves!BK$1<Paraméterek!$C$11*4+$C216),1,0)","v":1},{"$f":"IF(AND($C216<=BL$1,Negyedéves!BL$1<Paraméterek!$C$11*4+$C216),1,0)","v":1},{"$f":"IF(AND($C216<=BM$1,Negyedéves!BM$1<Paraméterek!$C$11*4+$C216),1,0)","v":1},{"$f":"IF(AND($C216<=BN$1,Negyedéves!BN$1<Paraméterek!$C$11*4+$C216),1,0)","v":1},{"$f":"IF(AND($C216<=BO$1,Negyedéves!BO$1<Paraméterek!$C$11*4+$C216),1,0)","v":0},{"$f":"IF(AND($C216<=BP$1,Negyedéves!BP$1<Paraméterek!$C$11*4+$C216),1,0)","v":0},{"$f":"IF(AND($C216<=BQ$1,Negyedéves!BQ$1<Paraméterek!$C$11*4+$C216),1,0)","v":0},{"$f":"IF(AND($C216<=BR$1,Negyedéves!BR$1<Paraméterek!$C$11*4+$C216),1,0)","v":0},{"$f":"IF(AND($C216<=BS$1,Negyedéves!BS$1<Paraméterek!$C$11*4+$C216),1,0)","v":0},"x"]
[null,1201023.7312640306,37,{"$f":"IF(AND($C217<=D$1,Negyedéves!D$1<Paraméterek!$C$11*4+$C217),1,0)","v":0},{"$f":"IF(AND($C217<=E$1,Negyedéves!E$1<Paraméterek!$C$11*4+$C217),1,0)","v":0},{"$f":"IF(AND($C217<=F$1,Negyedéves!F$1<Paraméterek!$C$11*4+$C217),1,0)","v":0},{"$f":"IF(AND($C217<=G$1,Negyedéves!G$1<Paraméterek!$C$11*4+$C217),1,0)","v":0},{"$f":"IF(AND($C217<=H$1,Negyedéves!H$1<Paraméterek!$C$11*4+$C217),1,0)","v":0},{"$f":"IF(AND($C217<=I$1,Negyedéves!I$1<Paraméterek!$C$11*4+$C217),1,0)","v":0},{"$f":"IF(AND($C217<=J$1,Negyedéves!J$1<Paraméterek!$C$11*4+$C217),1,0)","v":0},{"$f":"IF(AND($C217<=K$1,Negyedéves!K$1<Paraméterek!$C$11*4+$C217),1,0)","v":0},{"$f":"IF(AND($C217<=L$1,Negyedéves!L$1<Paraméterek!$C$11*4+$C217),1,0)","v":0},{"$f":"IF(AND($C217<=M$1,Negyedéves!M$1<Paraméterek!$C$11*4+$C217),1,0)","v":0},{"$f":"IF(AND($C217<=N$1,Negyedéves!N$1<Paraméterek!$C$11*4+$C217),1,0)","v":0},{"$f":"IF(AND($C217<=O$1,Negyedéves!O$1<Paraméterek!$C$11*4+$C217),1,0)","v":0},{"$f":"IF(AND($C217<=P$1,Negyedéves!P$1<Paraméterek!$C$11*4+$C217),1,0)","v":0},{"$f":"IF(AND($C217<=Q$1,Negyedéves!Q$1<Paraméterek!$C$11*4+$C217),1,0)","v":0},{"$f":"IF(AND($C217<=R$1,Negyedéves!R$1<Paraméterek!$C$11*4+$C217),1,0)","v":0},{"$f":"IF(AND($C217<=S$1,Negyedéves!S$1<Paraméterek!$C$11*4+$C217),1,0)","v":0},{"$f":"IF(AND($C217<=T$1,Negyedéves!T$1<Paraméterek!$C$11*4+$C217),1,0)","v":0},{"$f":"IF(AND($C217<=U$1,Negyedéves!U$1<Paraméterek!$C$11*4+$C217),1,0)","v":0},{"$f":"IF(AND($C217<=V$1,Negyedéves!V$1<Paraméterek!$C$11*4+$C217),1,0)","v":0},{"$f":"IF(AND($C217<=W$1,Negyedéves!W$1<Paraméterek!$C$11*4+$C217),1,0)","v":0},{"$f":"IF(AND($C217<=X$1,Negyedéves!X$1<Paraméterek!$C$11*4+$C217),1,0)","v":0},{"$f":"IF(AND($C217<=Y$1,Negyedéves!Y$1<Paraméterek!$C$11*4+$C217),1,0)","v":0},{"$f":"IF(AND($C217<=Z$1,Negyedéves!Z$1<Paraméterek!$C$11*4+$C217),1,0)","v":0},{"$f":"IF(AND($C217<=AA$1,Negyedéves!AA$1<Paraméterek!$C$11*4+$C217),1,0)","v":0},{"$f":"IF(AND($C217<=AB$1,Negyedéves!AB$1<Paraméterek!$C$11*4+$C217),1,0)","v":0},{"$f":"IF(AND($C217<=AC$1,Negyedéves!AC$1<Paraméterek!$C$11*4+$C217),1,0)","v":0},{"$f":"IF(AND($C217<=AD$1,Negyedéves!AD$1<Paraméterek!$C$11*4+$C217),1,0)","v":0},{"$f":"IF(AND($C217<=AE$1,Negyedéves!AE$1<Paraméterek!$C$11*4+$C217),1,0)","v":0},{"$f":"IF(AND($C217<=AF$1,Negyedéves!AF$1<Paraméterek!$C$11*4+$C217),1,0)","v":0},{"$f":"IF(AND($C217<=AG$1,Negyedéves!AG$1<Paraméterek!$C$11*4+$C217),1,0)","v":0},{"$f":"IF(AND($C217<=AH$1,Negyedéves!AH$1<Paraméterek!$C$11*4+$C217),1,0)","v":0},{"$f":"IF(AND($C217<=AI$1,Negyedéves!AI$1<Paraméterek!$C$11*4+$C217),1,0)","v":0},{"$f":"IF(AND($C217<=AJ$1,Negyedéves!AJ$1<Paraméterek!$C$11*4+$C217),1,0)","v":0},{"$f":"IF(AND($C217<=AK$1,Negyedéves!AK$1<Paraméterek!$C$11*4+$C217),1,0)","v":0},{"$f":"IF(AND($C217<=AL$1,Negyedéves!AL$1<Paraméterek!$C$11*4+$C217),1,0)","v":0},{"$f":"IF(AND($C217<=AM$1,Negyedéves!AM$1<Paraméterek!$C$11*4+$C217),1,0)","v":0},{"$f":"IF(AND($C217<=AN$1,Negyedéves!AN$1<Paraméterek!$C$11*4+$C217),1,0)","v":1},{"$f":"IF(AND($C217<=AO$1,Negyedéves!AO$1<Paraméterek!$C$11*4+$C217),1,0)","v":1},{"$f":"IF(AND($C217<=AP$1,Negyedéves!AP$1<Paraméterek!$C$11*4+$C217),1,0)","v":1},{"$f":"IF(AND($C217<=AQ$1,Negyedéves!AQ$1<Paraméterek!$C$11*4+$C217),1,0)","v":1},{"$f":"IF(AND($C217<=AR$1,Negyedéves!AR$1<Paraméterek!$C$11*4+$C217),1,0)","v":1},{"$f":"IF(AND($C217<=AS$1,Negyedéves!AS$1<Paraméterek!$C$11*4+$C217),1,0)","v":1},{"$f":"IF(AND($C217<=AT$1,Negyedéves!AT$1<Paraméterek!$C$11*4+$C217),1,0)","v":1},{"$f":"IF(AND($C217<=AU$1,Negyedéves!AU$1<Paraméterek!$C$11*4+$C217),1,0)","v":1},{"$f":"IF(AND($C217<=AV$1,Negyedéves!AV$1<Paraméterek!$C$11*4+$C217),1,0)","v":1},{"$f":"IF(AND($C217<=AW$1,Negyedéves!AW$1<Paraméterek!$C$11*4+$C217),1,0)","v":1},{"$f":"IF(AND($C217<=AX$1,Negyedéves!AX$1<Paraméterek!$C$11*4+$C217),1,0)","v":1},{"$f":"IF(AND($C217<=AY$1,Negyedéves!AY$1<Paraméterek!$C$11*4+$C217),1,0)","v":1},{"$f":"IF(AND($C217<=AZ$1,Negyedéves!AZ$1<Paraméterek!$C$11*4+$C217),1,0)","v":1},{"$f":"IF(AND($C217<=BA$1,Negyedéves!BA$1<Paraméterek!$C$11*4+$C217),1,0)","v":1},{"$f":"IF(AND($C217<=BB$1,Negyedéves!BB$1<Paraméterek!$C$11*4+$C217),1,0)","v":1},{"$f":"IF(AND($C217<=BC$1,Negyedéves!BC$1<Paraméterek!$C$11*4+$C217),1,0)","v":1},{"$f":"IF(AND($C217<=BD$1,Negyedéves!BD$1<Paraméterek!$C$11*4+$C217),1,0)","v":1},{"$f":"IF(AND($C217<=BE$1,Negyedéves!BE$1<Paraméterek!$C$11*4+$C217),1,0)","v":1},{"$f":"IF(AND($C217<=BF$1,Negyedéves!BF$1<Paraméterek!$C$11*4+$C217),1,0)","v":1},{"$f":"IF(AND($C217<=BG$1,Negyedéves!BG$1<Paraméterek!$C$11*4+$C217),1,0)","v":1},{"$f":"IF(AND($C217<=BH$1,Negyedéves!BH$1<Paraméterek!$C$11*4+$C217),1,0)","v":1},{"$f":"IF(AND($C217<=BI$1,Negyedéves!BI$1<Paraméterek!$C$11*4+$C217),1,0)","v":1},{"$f":"IF(AND($C217<=BJ$1,Negyedéves!BJ$1<Paraméterek!$C$11*4+$C217),1,0)","v":1},{"$f":"IF(AND($C217<=BK$1,Negyedéves!BK$1<Paraméterek!$C$11*4+$C217),1,0)","v":1},{"$f":"IF(AND($C217<=BL$1,Negyedéves!BL$1<Paraméterek!$C$11*4+$C217),1,0)","v":1},{"$f":"IF(AND($C217<=BM$1,Negyedéves!BM$1<Paraméterek!$C$11*4+$C217),1,0)","v":1},{"$f":"IF(AND($C217<=BN$1,Negyedéves!BN$1<Paraméterek!$C$11*4+$C217),1,0)","v":1},{"$f":"IF(AND($C217<=BO$1,Negyedéves!BO$1<Paraméterek!$C$11*4+$C217),1,0)","v":1},{"$f":"IF(AND($C217<=BP$1,Negyedéves!BP$1<Paraméterek!$C$11*4+$C217),1,0)","v":0},{"$f":"IF(AND($C217<=BQ$1,Negyedéves!BQ$1<Paraméterek!$C$11*4+$C217),1,0)","v":0},{"$f":"IF(AND($C217<=BR$1,Negyedéves!BR$1<Paraméterek!$C$11*4+$C217),1,0)","v":0},{"$f":"IF(AND($C217<=BS$1,Negyedéves!BS$1<Paraméterek!$C$11*4+$C217),1,0)","v":0},"x"]
[null,0,38,{"$f":"IF(AND($C218<=D$1,Negyedéves!D$1<Paraméterek!$C$11*4+$C218),1,0)","v":0},{"$f":"IF(AND($C218<=E$1,Negyedéves!E$1<Paraméterek!$C$11*4+$C218),1,0)","v":0},{"$f":"IF(AND($C218<=F$1,Negyedéves!F$1<Paraméterek!$C$11*4+$C218),1,0)","v":0},{"$f":"IF(AND($C218<=G$1,Negyedéves!G$1<Paraméterek!$C$11*4+$C218),1,0)","v":0},{"$f":"IF(AND($C218<=H$1,Negyedéves!H$1<Paraméterek!$C$11*4+$C218),1,0)","v":0},{"$f":"IF(AND($C218<=I$1,Negyedéves!I$1<Paraméterek!$C$11*4+$C218),1,0)","v":0},{"$f":"IF(AND($C218<=J$1,Negyedéves!J$1<Paraméterek!$C$11*4+$C218),1,0)","v":0},{"$f":"IF(AND($C218<=K$1,Negyedéves!K$1<Paraméterek!$C$11*4+$C218),1,0)","v":0},{"$f":"IF(AND($C218<=L$1,Negyedéves!L$1<Paraméterek!$C$11*4+$C218),1,0)","v":0},{"$f":"IF(AND($C218<=M$1,Negyedéves!M$1<Paraméterek!$C$11*4+$C218),1,0)","v":0},{"$f":"IF(AND($C218<=N$1,Negyedéves!N$1<Paraméterek!$C$11*4+$C218),1,0)","v":0},{"$f":"IF(AND($C218<=O$1,Negyedéves!O$1<Paraméterek!$C$11*4+$C218),1,0)","v":0},{"$f":"IF(AND($C218<=P$1,Negyedéves!P$1<Paraméterek!$C$11*4+$C218),1,0)","v":0},{"$f":"IF(AND($C218<=Q$1,Negyedéves!Q$1<Paraméterek!$C$11*4+$C218),1,0)","v":0},{"$f":"IF(AND($C218<=R$1,Negyedéves!R$1<Paraméterek!$C$11*4+$C218),1,0)","v":0},{"$f":"IF(AND($C218<=S$1,Negyedéves!S$1<Paraméterek!$C$11*4+$C218),1,0)","v":0},{"$f":"IF(AND($C218<=T$1,Negyedéves!T$1<Paraméterek!$C$11*4+$C218),1,0)","v":0},{"$f":"IF(AND($C218<=U$1,Negyedéves!U$1<Paraméterek!$C$11*4+$C218),1,0)","v":0},{"$f":"IF(AND($C218<=V$1,Negyedéves!V$1<Paraméterek!$C$11*4+$C218),1,0)","v":0},{"$f":"IF(AND($C218<=W$1,Negyedéves!W$1<Paraméterek!$C$11*4+$C218),1,0)","v":0},{"$f":"IF(AND($C218<=X$1,Negyedéves!X$1<Paraméterek!$C$11*4+$C218),1,0)","v":0},{"$f":"IF(AND($C218<=Y$1,Negyedéves!Y$1<Paraméterek!$C$11*4+$C218),1,0)","v":0},{"$f":"IF(AND($C218<=Z$1,Negyedéves!Z$1<Paraméterek!$C$11*4+$C218),1,0)","v":0},{"$f":"IF(AND($C218<=AA$1,Negyedéves!AA$1<Paraméterek!$C$11*4+$C218),1,0)","v":0},{"$f":"IF(AND($C218<=AB$1,Negyedéves!AB$1<Paraméterek!$C$11*4+$C218),1,0)","v":0},{"$f":"IF(AND($C218<=AC$1,Negyedéves!AC$1<Paraméterek!$C$11*4+$C218),1,0)","v":0},{"$f":"IF(AND($C218<=AD$1,Negyedéves!AD$1<Paraméterek!$C$11*4+$C218),1,0)","v":0},{"$f":"IF(AND($C218<=AE$1,Negyedéves!AE$1<Paraméterek!$C$11*4+$C218),1,0)","v":0},{"$f":"IF(AND($C218<=AF$1,Negyedéves!AF$1<Paraméterek!$C$11*4+$C218),1,0)","v":0},{"$f":"IF(AND($C218<=AG$1,Negyedéves!AG$1<Paraméterek!$C$11*4+$C218),1,0)","v":0},{"$f":"IF(AND($C218<=AH$1,Negyedéves!AH$1<Paraméterek!$C$11*4+$C218),1,0)","v":0},{"$f":"IF(AND($C218<=AI$1,Negyedéves!AI$1<Paraméterek!$C$11*4+$C218),1,0)","v":0},{"$f":"IF(AND($C218<=AJ$1,Negyedéves!AJ$1<Paraméterek!$C$11*4+$C218),1,0)","v":0},{"$f":"IF(AND($C218<=AK$1,Negyedéves!AK$1<Paraméterek!$C$11*4+$C218),1,0)","v":0},{"$f":"IF(AND($C218<=AL$1,Negyedéves!AL$1<Paraméterek!$C$11*4+$C218),1,0)","v":0},{"$f":"IF(AND($C218<=AM$1,Negyedéves!AM$1<Paraméterek!$C$11*4+$C218),1,0)","v":0},{"$f":"IF(AND($C218<=AN$1,Negyedéves!AN$1<Paraméterek!$C$11*4+$C218),1,0)","v":0},{"$f":"IF(AND($C218<=AO$1,Negyedéves!AO$1<Paraméterek!$C$11*4+$C218),1,0)","v":1},{"$f":"IF(AND($C218<=AP$1,Negyedéves!AP$1<Paraméterek!$C$11*4+$C218),1,0)","v":1},{"$f":"IF(AND($C218<=AQ$1,Negyedéves!AQ$1<Paraméterek!$C$11*4+$C218),1,0)","v":1},{"$f":"IF(AND($C218<=AR$1,Negyedéves!AR$1<Paraméterek!$C$11*4+$C218),1,0)","v":1},{"$f":"IF(AND($C218<=AS$1,Negyedéves!AS$1<Paraméterek!$C$11*4+$C218),1,0)","v":1},{"$f":"IF(AND($C218<=AT$1,Negyedéves!AT$1<Paraméterek!$C$11*4+$C218),1,0)","v":1},{"$f":"IF(AND($C218<=AU$1,Negyedéves!AU$1<Paraméterek!$C$11*4+$C218),1,0)","v":1},{"$f":"IF(AND($C218<=AV$1,Negyedéves!AV$1<Paraméterek!$C$11*4+$C218),1,0)","v":1},{"$f":"IF(AND($C218<=AW$1,Negyedéves!AW$1<Paraméterek!$C$11*4+$C218),1,0)","v":1},{"$f":"IF(AND($C218<=AX$1,Negyedéves!AX$1<Paraméterek!$C$11*4+$C218),1,0)","v":1},{"$f":"IF(AND($C218<=AY$1,Negyedéves!AY$1<Paraméterek!$C$11*4+$C218),1,0)","v":1},{"$f":"IF(AND($C218<=AZ$1,Negyedéves!AZ$1<Paraméterek!$C$11*4+$C218),1,0)","v":1},{"$f":"IF(AND($C218<=BA$1,Negyedéves!BA$1<Paraméterek!$C$11*4+$C218),1,0)","v":1},{"$f":"IF(AND($C218<=BB$1,Negyedéves!BB$1<Paraméterek!$C$11*4+$C218),1,0)","v":1},{"$f":"IF(AND($C218<=BC$1,Negyedéves!BC$1<Paraméterek!$C$11*4+$C218),1,0)","v":1},{"$f":"IF(AND($C218<=BD$1,Negyedéves!BD$1<Paraméterek!$C$11*4+$C218),1,0)","v":1},{"$f":"IF(AND($C218<=BE$1,Negyedéves!BE$1<Paraméterek!$C$11*4+$C218),1,0)","v":1},{"$f":"IF(AND($C218<=BF$1,Negyedéves!BF$1<Paraméterek!$C$11*4+$C218),1,0)","v":1},{"$f":"IF(AND($C218<=BG$1,Negyedéves!BG$1<Paraméterek!$C$11*4+$C218),1,0)","v":1},{"$f":"IF(AND($C218<=BH$1,Negyedéves!BH$1<Paraméterek!$C$11*4+$C218),1,0)","v":1},{"$f":"IF(AND($C218<=BI$1,Negyedéves!BI$1<Paraméterek!$C$11*4+$C218),1,0)","v":1},{"$f":"IF(AND($C218<=BJ$1,Negyedéves!BJ$1<Paraméterek!$C$11*4+$C218),1,0)","v":1},{"$f":"IF(AND($C218<=BK$1,Negyedéves!BK$1<Paraméterek!$C$11*4+$C218),1,0)","v":1},{"$f":"IF(AND($C218<=BL$1,Negyedéves!BL$1<Paraméterek!$C$11*4+$C218),1,0)","v":1},{"$f":"IF(AND($C218<=BM$1,Negyedéves!BM$1<Paraméterek!$C$11*4+$C218),1,0)","v":1},{"$f":"IF(AND($C218<=BN$1,Negyedéves!BN$1<Paraméterek!$C$11*4+$C218),1,0)","v":1},{"$f":"IF(AND($C218<=BO$1,Negyedéves!BO$1<Paraméterek!$C$11*4+$C218),1,0)","v":1},{"$f":"IF(AND($C218<=BP$1,Negyedéves!BP$1<Paraméterek!$C$11*4+$C218),1,0)","v":1},{"$f":"IF(AND($C218<=BQ$1,Negyedéves!BQ$1<Paraméterek!$C$11*4+$C218),1,0)","v":0},{"$f":"IF(AND($C218<=BR$1,Negyedéves!BR$1<Paraméterek!$C$11*4+$C218),1,0)","v":0},{"$f":"IF(AND($C218<=BS$1,Negyedéves!BS$1<Paraméterek!$C$11*4+$C218),1,0)","v":0},"x"]
[null,0,39,{"$f":"IF(AND($C219<=D$1,Negyedéves!D$1<Paraméterek!$C$11*4+$C219),1,0)","v":0},{"$f":"IF(AND($C219<=E$1,Negyedéves!E$1<Paraméterek!$C$11*4+$C219),1,0)","v":0},{"$f":"IF(AND($C219<=F$1,Negyedéves!F$1<Paraméterek!$C$11*4+$C219),1,0)","v":0},{"$f":"IF(AND($C219<=G$1,Negyedéves!G$1<Paraméterek!$C$11*4+$C219),1,0)","v":0},{"$f":"IF(AND($C219<=H$1,Negyedéves!H$1<Paraméterek!$C$11*4+$C219),1,0)","v":0},{"$f":"IF(AND($C219<=I$1,Negyedéves!I$1<Paraméterek!$C$11*4+$C219),1,0)","v":0},{"$f":"IF(AND($C219<=J$1,Negyedéves!J$1<Paraméterek!$C$11*4+$C219),1,0)","v":0},{"$f":"IF(AND($C219<=K$1,Negyedéves!K$1<Paraméterek!$C$11*4+$C219),1,0)","v":0},{"$f":"IF(AND($C219<=L$1,Negyedéves!L$1<Paraméterek!$C$11*4+$C219),1,0)","v":0},{"$f":"IF(AND($C219<=M$1,Negyedéves!M$1<Paraméterek!$C$11*4+$C219),1,0)","v":0},{"$f":"IF(AND($C219<=N$1,Negyedéves!N$1<Paraméterek!$C$11*4+$C219),1,0)","v":0},{"$f":"IF(AND($C219<=O$1,Negyedéves!O$1<Paraméterek!$C$11*4+$C219),1,0)","v":0},{"$f":"IF(AND($C219<=P$1,Negyedéves!P$1<Paraméterek!$C$11*4+$C219),1,0)","v":0},{"$f":"IF(AND($C219<=Q$1,Negyedéves!Q$1<Paraméterek!$C$11*4+$C219),1,0)","v":0},{"$f":"IF(AND($C219<=R$1,Negyedéves!R$1<Paraméterek!$C$11*4+$C219),1,0)","v":0},{"$f":"IF(AND($C219<=S$1,Negyedéves!S$1<Paraméterek!$C$11*4+$C219),1,0)","v":0},{"$f":"IF(AND($C219<=T$1,Negyedéves!T$1<Paraméterek!$C$11*4+$C219),1,0)","v":0},{"$f":"IF(AND($C219<=U$1,Negyedéves!U$1<Paraméterek!$C$11*4+$C219),1,0)","v":0},{"$f":"IF(AND($C219<=V$1,Negyedéves!V$1<Paraméterek!$C$11*4+$C219),1,0)","v":0},{"$f":"IF(AND($C219<=W$1,Negyedéves!W$1<Paraméterek!$C$11*4+$C219),1,0)","v":0},{"$f":"IF(AND($C219<=X$1,Negyedéves!X$1<Paraméterek!$C$11*4+$C219),1,0)","v":0},{"$f":"IF(AND($C219<=Y$1,Negyedéves!Y$1<Paraméterek!$C$11*4+$C219),1,0)","v":0},{"$f":"IF(AND($C219<=Z$1,Negyedéves!Z$1<Paraméterek!$C$11*4+$C219),1,0)","v":0},{"$f":"IF(AND($C219<=AA$1,Negyedéves!AA$1<Paraméterek!$C$11*4+$C219),1,0)","v":0},{"$f":"IF(AND($C219<=AB$1,Negyedéves!AB$1<Paraméterek!$C$11*4+$C219),1,0)","v":0},{"$f":"IF(AND($C219<=AC$1,Negyedéves!AC$1<Paraméterek!$C$11*4+$C219),1,0)","v":0},{"$f":"IF(AND($C219<=AD$1,Negyedéves!AD$1<Paraméterek!$C$11*4+$C219),1,0)","v":0},{"$f":"IF(AND($C219<=AE$1,Negyedéves!AE$1<Paraméterek!$C$11*4+$C219),1,0)","v":0},{"$f":"IF(AND($C219<=AF$1,Negyedéves!AF$1<Paraméterek!$C$11*4+$C219),1,0)","v":0},{"$f":"IF(AND($C219<=AG$1,Negyedéves!AG$1<Paraméterek!$C$11*4+$C219),1,0)","v":0},{"$f":"IF(AND($C219<=AH$1,Negyedéves!AH$1<Paraméterek!$C$11*4+$C219),1,0)","v":0},{"$f":"IF(AND($C219<=AI$1,Negyedéves!AI$1<Paraméterek!$C$11*4+$C219),1,0)","v":0},{"$f":"IF(AND($C219<=AJ$1,Negyedéves!AJ$1<Paraméterek!$C$11*4+$C219),1,0)","v":0},{"$f":"IF(AND($C219<=AK$1,Negyedéves!AK$1<Paraméterek!$C$11*4+$C219),1,0)","v":0},{"$f":"IF(AND($C219<=AL$1,Negyedéves!AL$1<Paraméterek!$C$11*4+$C219),1,0)","v":0},{"$f":"IF(AND($C219<=AM$1,Negyedéves!AM$1<Paraméterek!$C$11*4+$C219),1,0)","v":0},{"$f":"IF(AND($C219<=AN$1,Negyedéves!AN$1<Paraméterek!$C$11*4+$C219),1,0)","v":0},{"$f":"IF(AND($C219<=AO$1,Negyedéves!AO$1<Paraméterek!$C$11*4+$C219),1,0)","v":0},{"$f":"IF(AND($C219<=AP$1,Negyedéves!AP$1<Paraméterek!$C$11*4+$C219),1,0)","v":1},{"$f":"IF(AND($C219<=AQ$1,Negyedéves!AQ$1<Paraméterek!$C$11*4+$C219),1,0)","v":1},{"$f":"IF(AND($C219<=AR$1,Negyedéves!AR$1<Paraméterek!$C$11*4+$C219),1,0)","v":1},{"$f":"IF(AND($C219<=AS$1,Negyedéves!AS$1<Paraméterek!$C$11*4+$C219),1,0)","v":1},{"$f":"IF(AND($C219<=AT$1,Negyedéves!AT$1<Paraméterek!$C$11*4+$C219),1,0)","v":1},{"$f":"IF(AND($C219<=AU$1,Negyedéves!AU$1<Paraméterek!$C$11*4+$C219),1,0)","v":1},{"$f":"IF(AND($C219<=AV$1,Negyedéves!AV$1<Paraméterek!$C$11*4+$C219),1,0)","v":1},{"$f":"IF(AND($C219<=AW$1,Negyedéves!AW$1<Paraméterek!$C$11*4+$C219),1,0)","v":1},{"$f":"IF(AND($C219<=AX$1,Negyedéves!AX$1<Paraméterek!$C$11*4+$C219),1,0)","v":1},{"$f":"IF(AND($C219<=AY$1,Negyedéves!AY$1<Paraméterek!$C$11*4+$C219),1,0)","v":1},{"$f":"IF(AND($C219<=AZ$1,Negyedéves!AZ$1<Paraméterek!$C$11*4+$C219),1,0)","v":1},{"$f":"IF(AND($C219<=BA$1,Negyedéves!BA$1<Paraméterek!$C$11*4+$C219),1,0)","v":1},{"$f":"IF(AND($C219<=BB$1,Negyedéves!BB$1<Paraméterek!$C$11*4+$C219),1,0)","v":1},{"$f":"IF(AND($C219<=BC$1,Negyedéves!BC$1<Paraméterek!$C$11*4+$C219),1,0)","v":1},{"$f":"IF(AND($C219<=BD$1,Negyedéves!BD$1<Paraméterek!$C$11*4+$C219),1,0)","v":1},{"$f":"IF(AND($C219<=BE$1,Negyedéves!BE$1<Paraméterek!$C$11*4+$C219),1,0)","v":1},{"$f":"IF(AND($C219<=BF$1,Negyedéves!BF$1<Paraméterek!$C$11*4+$C219),1,0)","v":1},{"$f":"IF(AND($C219<=BG$1,Negyedéves!BG$1<Paraméterek!$C$11*4+$C219),1,0)","v":1},{"$f":"IF(AND($C219<=BH$1,Negyedéves!BH$1<Paraméterek!$C$11*4+$C219),1,0)","v":1},{"$f":"IF(AND($C219<=BI$1,Negyedéves!BI$1<Paraméterek!$C$11*4+$C219),1,0)","v":1},{"$f":"IF(AND($C219<=BJ$1,Negyedéves!BJ$1<Paraméterek!$C$11*4+$C219),1,0)","v":1},{"$f":"IF(AND($C219<=BK$1,Negyedéves!BK$1<Paraméterek!$C$11*4+$C219),1,0)","v":1},{"$f":"IF(AND($C219<=BL$1,Negyedéves!BL$1<Paraméterek!$C$11*4+$C219),1,0)","v":1},{"$f":"IF(AND($C219<=BM$1,Negyedéves!BM$1<Paraméterek!$C$11*4+$C219),1,0)","v":1},{"$f":"IF(AND($C219<=BN$1,Negyedéves!BN$1<Paraméterek!$C$11*4+$C219),1,0)","v":1},{"$f":"IF(AND($C219<=BO$1,Negyedéves!BO$1<Paraméterek!$C$11*4+$C219),1,0)","v":1},{"$f":"IF(AND($C219<=BP$1,Negyedéves!BP$1<Paraméterek!$C$11*4+$C219),1,0)","v":1},{"$f":"IF(AND($C219<=BQ$1,Negyedéves!BQ$1<Paraméterek!$C$11*4+$C219),1,0)","v":1},{"$f":"IF(AND($C219<=BR$1,Negyedéves!BR$1<Paraméterek!$C$11*4+$C219),1,0)","v":0},{"$f":"IF(AND($C219<=BS$1,Negyedéves!BS$1<Paraméterek!$C$11*4+$C219),1,0)","v":0},"x"]
[null,0,40,{"$f":"IF(AND($C220<=D$1,Negyedéves!D$1<Paraméterek!$C$11*4+$C220),1,0)","v":0},{"$f":"IF(AND($C220<=E$1,Negyedéves!E$1<Paraméterek!$C$11*4+$C220),1,0)","v":0},{"$f":"IF(AND($C220<=F$1,Negyedéves!F$1<Paraméterek!$C$11*4+$C220),1,0)","v":0},{"$f":"IF(AND($C220<=G$1,Negyedéves!G$1<Paraméterek!$C$11*4+$C220),1,0)","v":0},{"$f":"IF(AND($C220<=H$1,Negyedéves!H$1<Paraméterek!$C$11*4+$C220),1,0)","v":0},{"$f":"IF(AND($C220<=I$1,Negyedéves!I$1<Paraméterek!$C$11*4+$C220),1,0)","v":0},{"$f":"IF(AND($C220<=J$1,Negyedéves!J$1<Paraméterek!$C$11*4+$C220),1,0)","v":0},{"$f":"IF(AND($C220<=K$1,Negyedéves!K$1<Paraméterek!$C$11*4+$C220),1,0)","v":0},{"$f":"IF(AND($C220<=L$1,Negyedéves!L$1<Paraméterek!$C$11*4+$C220),1,0)","v":0},{"$f":"IF(AND($C220<=M$1,Negyedéves!M$1<Paraméterek!$C$11*4+$C220),1,0)","v":0},{"$f":"IF(AND($C220<=N$1,Negyedéves!N$1<Paraméterek!$C$11*4+$C220),1,0)","v":0},{"$f":"IF(AND($C220<=O$1,Negyedéves!O$1<Paraméterek!$C$11*4+$C220),1,0)","v":0},{"$f":"IF(AND($C220<=P$1,Negyedéves!P$1<Paraméterek!$C$11*4+$C220),1,0)","v":0},{"$f":"IF(AND($C220<=Q$1,Negyedéves!Q$1<Paraméterek!$C$11*4+$C220),1,0)","v":0},{"$f":"IF(AND($C220<=R$1,Negyedéves!R$1<Paraméterek!$C$11*4+$C220),1,0)","v":0},{"$f":"IF(AND($C220<=S$1,Negyedéves!S$1<Paraméterek!$C$11*4+$C220),1,0)","v":0},{"$f":"IF(AND($C220<=T$1,Negyedéves!T$1<Paraméterek!$C$11*4+$C220),1,0)","v":0},{"$f":"IF(AND($C220<=U$1,Negyedéves!U$1<Paraméterek!$C$11*4+$C220),1,0)","v":0},{"$f":"IF(AND($C220<=V$1,Negyedéves!V$1<Paraméterek!$C$11*4+$C220),1,0)","v":0},{"$f":"IF(AND($C220<=W$1,Negyedéves!W$1<Paraméterek!$C$11*4+$C220),1,0)","v":0},{"$f":"IF(AND($C220<=X$1,Negyedéves!X$1<Paraméterek!$C$11*4+$C220),1,0)","v":0},{"$f":"IF(AND($C220<=Y$1,Negyedéves!Y$1<Paraméterek!$C$11*4+$C220),1,0)","v":0},{"$f":"IF(AND($C220<=Z$1,Negyedéves!Z$1<Paraméterek!$C$11*4+$C220),1,0)","v":0},{"$f":"IF(AND($C220<=AA$1,Negyedéves!AA$1<Paraméterek!$C$11*4+$C220),1,0)","v":0},{"$f":"IF(AND($C220<=AB$1,Negyedéves!AB$1<Paraméterek!$C$11*4+$C220),1,0)","v":0},{"$f":"IF(AND($C220<=AC$1,Negyedéves!AC$1<Paraméterek!$C$11*4+$C220),1,0)","v":0},{"$f":"IF(AND($C220<=AD$1,Negyedéves!AD$1<Paraméterek!$C$11*4+$C220),1,0)","v":0},{"$f":"IF(AND($C220<=AE$1,Negyedéves!AE$1<Paraméterek!$C$11*4+$C220),1,0)","v":0},{"$f":"IF(AND($C220<=AF$1,Negyedéves!AF$1<Paraméterek!$C$11*4+$C220),1,0)","v":0},{"$f":"IF(AND($C220<=AG$1,Negyedéves!AG$1<Paraméterek!$C$11*4+$C220),1,0)","v":0},{"$f":"IF(AND($C220<=AH$1,Negyedéves!AH$1<Paraméterek!$C$11*4+$C220),1,0)","v":0},{"$f":"IF(AND($C220<=AI$1,Negyedéves!AI$1<Paraméterek!$C$11*4+$C220),1,0)","v":0},{"$f":"IF(AND($C220<=AJ$1,Negyedéves!AJ$1<Paraméterek!$C$11*4+$C220),1,0)","v":0},{"$f":"IF(AND($C220<=AK$1,Negyedéves!AK$1<Paraméterek!$C$11*4+$C220),1,0)","v":0},{"$f":"IF(AND($C220<=AL$1,Negyedéves!AL$1<Paraméterek!$C$11*4+$C220),1,0)","v":0},{"$f":"IF(AND($C220<=AM$1,Negyedéves!AM$1<Paraméterek!$C$11*4+$C220),1,0)","v":0},{"$f":"IF(AND($C220<=AN$1,Negyedéves!AN$1<Paraméterek!$C$11*4+$C220),1,0)","v":0},{"$f":"IF(AND($C220<=AO$1,Negyedéves!AO$1<Paraméterek!$C$11*4+$C220),1,0)","v":0},{"$f":"IF(AND($C220<=AP$1,Negyedéves!AP$1<Paraméterek!$C$11*4+$C220),1,0)","v":0},{"$f":"IF(AND($C220<=AQ$1,Negyedéves!AQ$1<Paraméterek!$C$11*4+$C220),1,0)","v":1},{"$f":"IF(AND($C220<=AR$1,Negyedéves!AR$1<Paraméterek!$C$11*4+$C220),1,0)","v":1},{"$f":"IF(AND($C220<=AS$1,Negyedéves!AS$1<Paraméterek!$C$11*4+$C220),1,0)","v":1},{"$f":"IF(AND($C220<=AT$1,Negyedéves!AT$1<Paraméterek!$C$11*4+$C220),1,0)","v":1},{"$f":"IF(AND($C220<=AU$1,Negyedéves!AU$1<Paraméterek!$C$11*4+$C220),1,0)","v":1},{"$f":"IF(AND($C220<=AV$1,Negyedéves!AV$1<Paraméterek!$C$11*4+$C220),1,0)","v":1},{"$f":"IF(AND($C220<=AW$1,Negyedéves!AW$1<Paraméterek!$C$11*4+$C220),1,0)","v":1},{"$f":"IF(AND($C220<=AX$1,Negyedéves!AX$1<Paraméterek!$C$11*4+$C220),1,0)","v":1},{"$f":"IF(AND($C220<=AY$1,Negyedéves!AY$1<Paraméterek!$C$11*4+$C220),1,0)","v":1},{"$f":"IF(AND($C220<=AZ$1,Negyedéves!AZ$1<Paraméterek!$C$11*4+$C220),1,0)","v":1},{"$f":"IF(AND($C220<=BA$1,Negyedéves!BA$1<Paraméterek!$C$11*4+$C220),1,0)","v":1},{"$f":"IF(AND($C220<=BB$1,Negyedéves!BB$1<Paraméterek!$C$11*4+$C220),1,0)","v":1},{"$f":"IF(AND($C220<=BC$1,Negyedéves!BC$1<Paraméterek!$C$11*4+$C220),1,0)","v":1},{"$f":"IF(AND($C220<=BD$1,Negyedéves!BD$1<Paraméterek!$C$11*4+$C220),1,0)","v":1},{"$f":"IF(AND($C220<=BE$1,Negyedéves!BE$1<Paraméterek!$C$11*4+$C220),1,0)","v":1},{"$f":"IF(AND($C220<=BF$1,Negyedéves!BF$1<Paraméterek!$C$11*4+$C220),1,0)","v":1},{"$f":"IF(AND($C220<=BG$1,Negyedéves!BG$1<Paraméterek!$C$11*4+$C220),1,0)","v":1},{"$f":"IF(AND($C220<=BH$1,Negyedéves!BH$1<Paraméterek!$C$11*4+$C220),1,0)","v":1},{"$f":"IF(AND($C220<=BI$1,Negyedéves!BI$1<Paraméterek!$C$11*4+$C220),1,0)","v":1},{"$f":"IF(AND($C220<=BJ$1,Negyedéves!BJ$1<Paraméterek!$C$11*4+$C220),1,0)","v":1},{"$f":"IF(AND($C220<=BK$1,Negyedéves!BK$1<Paraméterek!$C$11*4+$C220),1,0)","v":1},{"$f":"IF(AND($C220<=BL$1,Negyedéves!BL$1<Paraméterek!$C$11*4+$C220),1,0)","v":1},{"$f":"IF(AND($C220<=BM$1,Negyedéves!BM$1<Paraméterek!$C$11*4+$C220),1,0)","v":1},{"$f":"IF(AND($C220<=BN$1,Negyedéves!BN$1<Paraméterek!$C$11*4+$C220),1,0)","v":1},{"$f":"IF(AND($C220<=BO$1,Negyedéves!BO$1<Paraméterek!$C$11*4+$C220),1,0)","v":1},{"$f":"IF(AND($C220<=BP$1,Negyedéves!BP$1<Paraméterek!$C$11*4+$C220),1,0)","v":1},{"$f":"IF(AND($C220<=BQ$1,Negyedéves!BQ$1<Paraméterek!$C$11*4+$C220),1,0)","v":1},{"$f":"IF(AND($C220<=BR$1,Negyedéves!BR$1<Paraméterek!$C$11*4+$C220),1,0)","v":1},{"$f":"IF(AND($C220<=BS$1,Negyedéves!BS$1<Paraméterek!$C$11*4+$C220),1,0)","v":0},"x"]
[null,1225044.2058893114,41,{"$f":"IF(AND($C221<=D$1,Negyedéves!D$1<Paraméterek!$C$11*4+$C221),1,0)","v":0},{"$f":"IF(AND($C221<=E$1,Negyedéves!E$1<Paraméterek!$C$11*4+$C221),1,0)","v":0},{"$f":"IF(AND($C221<=F$1,Negyedéves!F$1<Paraméterek!$C$11*4+$C221),1,0)","v":0},{"$f":"IF(AND($C221<=G$1,Negyedéves!G$1<Paraméterek!$C$11*4+$C221),1,0)","v":0},{"$f":"IF(AND($C221<=H$1,Negyedéves!H$1<Paraméterek!$C$11*4+$C221),1,0)","v":0},{"$f":"IF(AND($C221<=I$1,Negyedéves!I$1<Paraméterek!$C$11*4+$C221),1,0)","v":0},{"$f":"IF(AND($C221<=J$1,Negyedéves!J$1<Paraméterek!$C$11*4+$C221),1,0)","v":0},{"$f":"IF(AND($C221<=K$1,Negyedéves!K$1<Paraméterek!$C$11*4+$C221),1,0)","v":0},{"$f":"IF(AND($C221<=L$1,Negyedéves!L$1<Paraméterek!$C$11*4+$C221),1,0)","v":0},{"$f":"IF(AND($C221<=M$1,Negyedéves!M$1<Paraméterek!$C$11*4+$C221),1,0)","v":0},{"$f":"IF(AND($C221<=N$1,Negyedéves!N$1<Paraméterek!$C$11*4+$C221),1,0)","v":0},{"$f":"IF(AND($C221<=O$1,Negyedéves!O$1<Paraméterek!$C$11*4+$C221),1,0)","v":0},{"$f":"IF(AND($C221<=P$1,Negyedéves!P$1<Paraméterek!$C$11*4+$C221),1,0)","v":0},{"$f":"IF(AND($C221<=Q$1,Negyedéves!Q$1<Paraméterek!$C$11*4+$C221),1,0)","v":0},{"$f":"IF(AND($C221<=R$1,Negyedéves!R$1<Paraméterek!$C$11*4+$C221),1,0)","v":0},{"$f":"IF(AND($C221<=S$1,Negyedéves!S$1<Paraméterek!$C$11*4+$C221),1,0)","v":0},{"$f":"IF(AND($C221<=T$1,Negyedéves!T$1<Paraméterek!$C$11*4+$C221),1,0)","v":0},{"$f":"IF(AND($C221<=U$1,Negyedéves!U$1<Paraméterek!$C$11*4+$C221),1,0)","v":0},{"$f":"IF(AND($C221<=V$1,Negyedéves!V$1<Paraméterek!$C$11*4+$C221),1,0)","v":0},{"$f":"IF(AND($C221<=W$1,Negyedéves!W$1<Paraméterek!$C$11*4+$C221),1,0)","v":0},{"$f":"IF(AND($C221<=X$1,Negyedéves!X$1<Paraméterek!$C$11*4+$C221),1,0)","v":0},{"$f":"IF(AND($C221<=Y$1,Negyedéves!Y$1<Paraméterek!$C$11*4+$C221),1,0)","v":0},{"$f":"IF(AND($C221<=Z$1,Negyedéves!Z$1<Paraméterek!$C$11*4+$C221),1,0)","v":0},{"$f":"IF(AND($C221<=AA$1,Negyedéves!AA$1<Paraméterek!$C$11*4+$C221),1,0)","v":0},{"$f":"IF(AND($C221<=AB$1,Negyedéves!AB$1<Paraméterek!$C$11*4+$C221),1,0)","v":0},{"$f":"IF(AND($C221<=AC$1,Negyedéves!AC$1<Paraméterek!$C$11*4+$C221),1,0)","v":0},{"$f":"IF(AND($C221<=AD$1,Negyedéves!AD$1<Paraméterek!$C$11*4+$C221),1,0)","v":0},{"$f":"IF(AND($C221<=AE$1,Negyedéves!AE$1<Paraméterek!$C$11*4+$C221),1,0)","v":0},{"$f":"IF(AND($C221<=AF$1,Negyedéves!AF$1<Paraméterek!$C$11*4+$C221),1,0)","v":0},{"$f":"IF(AND($C221<=AG$1,Negyedéves!AG$1<Paraméterek!$C$11*4+$C221),1,0)","v":0},{"$f":"IF(AND($C221<=AH$1,Negyedéves!AH$1<Paraméterek!$C$11*4+$C221),1,0)","v":0},{"$f":"IF(AND($C221<=AI$1,Negyedéves!AI$1<Paraméterek!$C$11*4+$C221),1,0)","v":0},{"$f":"IF(AND($C221<=AJ$1,Negyedéves!AJ$1<Paraméterek!$C$11*4+$C221),1,0)","v":0},{"$f":"IF(AND($C221<=AK$1,Negyedéves!AK$1<Paraméterek!$C$11*4+$C221),1,0)","v":0},{"$f":"IF(AND($C221<=AL$1,Negyedéves!AL$1<Paraméterek!$C$11*4+$C221),1,0)","v":0},{"$f":"IF(AND($C221<=AM$1,Negyedéves!AM$1<Paraméterek!$C$11*4+$C221),1,0)","v":0},{"$f":"IF(AND($C221<=AN$1,Negyedéves!AN$1<Paraméterek!$C$11*4+$C221),1,0)","v":0},{"$f":"IF(AND($C221<=AO$1,Negyedéves!AO$1<Paraméterek!$C$11*4+$C221),1,0)","v":0},{"$f":"IF(AND($C221<=AP$1,Negyedéves!AP$1<Paraméterek!$C$11*4+$C221),1,0)","v":0},{"$f":"IF(AND($C221<=AQ$1,Negyedéves!AQ$1<Paraméterek!$C$11*4+$C221),1,0)","v":0},{"$f":"IF(AND($C221<=AR$1,Negyedéves!AR$1<Paraméterek!$C$11*4+$C221),1,0)","v":1},{"$f":"IF(AND($C221<=AS$1,Negyedéves!AS$1<Paraméterek!$C$11*4+$C221),1,0)","v":1},{"$f":"IF(AND($C221<=AT$1,Negyedéves!AT$1<Paraméterek!$C$11*4+$C221),1,0)","v":1},{"$f":"IF(AND($C221<=AU$1,Negyedéves!AU$1<Paraméterek!$C$11*4+$C221),1,0)","v":1},{"$f":"IF(AND($C221<=AV$1,Negyedéves!AV$1<Paraméterek!$C$11*4+$C221),1,0)","v":1},{"$f":"IF(AND($C221<=AW$1,Negyedéves!AW$1<Paraméterek!$C$11*4+$C221),1,0)","v":1},{"$f":"IF(AND($C221<=AX$1,Negyedéves!AX$1<Paraméterek!$C$11*4+$C221),1,0)","v":1},{"$f":"IF(AND($C221<=AY$1,Negyedéves!AY$1<Paraméterek!$C$11*4+$C221),1,0)","v":1},{"$f":"IF(AND($C221<=AZ$1,Negyedéves!AZ$1<Paraméterek!$C$11*4+$C221),1,0)","v":1},{"$f":"IF(AND($C221<=BA$1,Negyedéves!BA$1<Paraméterek!$C$11*4+$C221),1,0)","v":1},{"$f":"IF(AND($C221<=BB$1,Negyedéves!BB$1<Paraméterek!$C$11*4+$C221),1,0)","v":1},{"$f":"IF(AND($C221<=BC$1,Negyedéves!BC$1<Paraméterek!$C$11*4+$C221),1,0)","v":1},{"$f":"IF(AND($C221<=BD$1,Negyedéves!BD$1<Paraméterek!$C$11*4+$C221),1,0)","v":1},{"$f":"IF(AND($C221<=BE$1,Negyedéves!BE$1<Paraméterek!$C$11*4+$C221),1,0)","v":1},{"$f":"IF(AND($C221<=BF$1,Negyedéves!BF$1<Paraméterek!$C$11*4+$C221),1,0)","v":1},{"$f":"IF(AND($C221<=BG$1,Negyedéves!BG$1<Paraméterek!$C$11*4+$C221),1,0)","v":1},{"$f":"IF(AND($C221<=BH$1,Negyedéves!BH$1<Paraméterek!$C$11*4+$C221),1,0)","v":1},{"$f":"IF(AND($C221<=BI$1,Negyedéves!BI$1<Paraméterek!$C$11*4+$C221),1,0)","v":1},{"$f":"IF(AND($C221<=BJ$1,Negyedéves!BJ$1<Paraméterek!$C$11*4+$C221),1,0)","v":1},{"$f":"IF(AND($C221<=BK$1,Negyedéves!BK$1<Paraméterek!$C$11*4+$C221),1,0)","v":1},{"$f":"IF(AND($C221<=BL$1,Negyedéves!BL$1<Paraméterek!$C$11*4+$C221),1,0)","v":1},{"$f":"IF(AND($C221<=BM$1,Negyedéves!BM$1<Paraméterek!$C$11*4+$C221),1,0)","v":1},{"$f":"IF(AND($C221<=BN$1,Negyedéves!BN$1<Paraméterek!$C$11*4+$C221),1,0)","v":1},{"$f":"IF(AND($C221<=BO$1,Negyedéves!BO$1<Paraméterek!$C$11*4+$C221),1,0)","v":1},{"$f":"IF(AND($C221<=BP$1,Negyedéves!BP$1<Paraméterek!$C$11*4+$C221),1,0)","v":1},{"$f":"IF(AND($C221<=BQ$1,Negyedéves!BQ$1<Paraméterek!$C$11*4+$C221),1,0)","v":1},{"$f":"IF(AND($C221<=BR$1,Negyedéves!BR$1<Paraméterek!$C$11*4+$C221),1,0)","v":1},{"$f":"IF(AND($C221<=BS$1,Negyedéves!BS$1<Paraméterek!$C$11*4+$C221),1,0)","v":1},"x"]
[null,0,42,{"$f":"IF(AND($C222<=D$1,Negyedéves!D$1<Paraméterek!$C$11*4+$C222),1,0)","v":0},{"$f":"IF(AND($C222<=E$1,Negyedéves!E$1<Paraméterek!$C$11*4+$C222),1,0)","v":0},{"$f":"IF(AND($C222<=F$1,Negyedéves!F$1<Paraméterek!$C$11*4+$C222),1,0)","v":0},{"$f":"IF(AND($C222<=G$1,Negyedéves!G$1<Paraméterek!$C$11*4+$C222),1,0)","v":0},{"$f":"IF(AND($C222<=H$1,Negyedéves!H$1<Paraméterek!$C$11*4+$C222),1,0)","v":0},{"$f":"IF(AND($C222<=I$1,Negyedéves!I$1<Paraméterek!$C$11*4+$C222),1,0)","v":0},{"$f":"IF(AND($C222<=J$1,Negyedéves!J$1<Paraméterek!$C$11*4+$C222),1,0)","v":0},{"$f":"IF(AND($C222<=K$1,Negyedéves!K$1<Paraméterek!$C$11*4+$C222),1,0)","v":0},{"$f":"IF(AND($C222<=L$1,Negyedéves!L$1<Paraméterek!$C$11*4+$C222),1,0)","v":0},{"$f":"IF(AND($C222<=M$1,Negyedéves!M$1<Paraméterek!$C$11*4+$C222),1,0)","v":0},{"$f":"IF(AND($C222<=N$1,Negyedéves!N$1<Paraméterek!$C$11*4+$C222),1,0)","v":0},{"$f":"IF(AND($C222<=O$1,Negyedéves!O$1<Paraméterek!$C$11*4+$C222),1,0)","v":0},{"$f":"IF(AND($C222<=P$1,Negyedéves!P$1<Paraméterek!$C$11*4+$C222),1,0)","v":0},{"$f":"IF(AND($C222<=Q$1,Negyedéves!Q$1<Paraméterek!$C$11*4+$C222),1,0)","v":0},{"$f":"IF(AND($C222<=R$1,Negyedéves!R$1<Paraméterek!$C$11*4+$C222),1,0)","v":0},{"$f":"IF(AND($C222<=S$1,Negyedéves!S$1<Paraméterek!$C$11*4+$C222),1,0)","v":0},{"$f":"IF(AND($C222<=T$1,Negyedéves!T$1<Paraméterek!$C$11*4+$C222),1,0)","v":0},{"$f":"IF(AND($C222<=U$1,Negyedéves!U$1<Paraméterek!$C$11*4+$C222),1,0)","v":0},{"$f":"IF(AND($C222<=V$1,Negyedéves!V$1<Paraméterek!$C$11*4+$C222),1,0)","v":0},{"$f":"IF(AND($C222<=W$1,Negyedéves!W$1<Paraméterek!$C$11*4+$C222),1,0)","v":0},{"$f":"IF(AND($C222<=X$1,Negyedéves!X$1<Paraméterek!$C$11*4+$C222),1,0)","v":0},{"$f":"IF(AND($C222<=Y$1,Negyedéves!Y$1<Paraméterek!$C$11*4+$C222),1,0)","v":0},{"$f":"IF(AND($C222<=Z$1,Negyedéves!Z$1<Paraméterek!$C$11*4+$C222),1,0)","v":0},{"$f":"IF(AND($C222<=AA$1,Negyedéves!AA$1<Paraméterek!$C$11*4+$C222),1,0)","v":0},{"$f":"IF(AND($C222<=AB$1,Negyedéves!AB$1<Paraméterek!$C$11*4+$C222),1,0)","v":0},{"$f":"IF(AND($C222<=AC$1,Negyedéves!AC$1<Paraméterek!$C$11*4+$C222),1,0)","v":0},{"$f":"IF(AND($C222<=AD$1,Negyedéves!AD$1<Paraméterek!$C$11*4+$C222),1,0)","v":0},{"$f":"IF(AND($C222<=AE$1,Negyedéves!AE$1<Paraméterek!$C$11*4+$C222),1,0)","v":0},{"$f":"IF(AND($C222<=AF$1,Negyedéves!AF$1<Paraméterek!$C$11*4+$C222),1,0)","v":0},{"$f":"IF(AND($C222<=AG$1,Negyedéves!AG$1<Paraméterek!$C$11*4+$C222),1,0)","v":0},{"$f":"IF(AND($C222<=AH$1,Negyedéves!AH$1<Paraméterek!$C$11*4+$C222),1,0)","v":0},{"$f":"IF(AND($C222<=AI$1,Negyedéves!AI$1<Paraméterek!$C$11*4+$C222),1,0)","v":0},{"$f":"IF(AND($C222<=AJ$1,Negyedéves!AJ$1<Paraméterek!$C$11*4+$C222),1,0)","v":0},{"$f":"IF(AND($C222<=AK$1,Negyedéves!AK$1<Paraméterek!$C$11*4+$C222),1,0)","v":0},{"$f":"IF(AND($C222<=AL$1,Negyedéves!AL$1<Paraméterek!$C$11*4+$C222),1,0)","v":0},{"$f":"IF(AND($C222<=AM$1,Negyedéves!AM$1<Paraméterek!$C$11*4+$C222),1,0)","v":0},{"$f":"IF(AND($C222<=AN$1,Negyedéves!AN$1<Paraméterek!$C$11*4+$C222),1,0)","v":0},{"$f":"IF(AND($C222<=AO$1,Negyedéves!AO$1<Paraméterek!$C$11*4+$C222),1,0)","v":0},{"$f":"IF(AND($C222<=AP$1,Negyedéves!AP$1<Paraméterek!$C$11*4+$C222),1,0)","v":0},{"$f":"IF(AND($C222<=AQ$1,Negyedéves!AQ$1<Paraméterek!$C$11*4+$C222),1,0)","v":0},{"$f":"IF(AND($C222<=AR$1,Negyedéves!AR$1<Paraméterek!$C$11*4+$C222),1,0)","v":0},{"$f":"IF(AND($C222<=AS$1,Negyedéves!AS$1<Paraméterek!$C$11*4+$C222),1,0)","v":1},{"$f":"IF(AND($C222<=AT$1,Negyedéves!AT$1<Paraméterek!$C$11*4+$C222),1,0)","v":1},{"$f":"IF(AND($C222<=AU$1,Negyedéves!AU$1<Paraméterek!$C$11*4+$C222),1,0)","v":1},{"$f":"IF(AND($C222<=AV$1,Negyedéves!AV$1<Paraméterek!$C$11*4+$C222),1,0)","v":1},{"$f":"IF(AND($C222<=AW$1,Negyedéves!AW$1<Paraméterek!$C$11*4+$C222),1,0)","v":1},{"$f":"IF(AND($C222<=AX$1,Negyedéves!AX$1<Paraméterek!$C$11*4+$C222),1,0)","v":1},{"$f":"IF(AND($C222<=AY$1,Negyedéves!AY$1<Paraméterek!$C$11*4+$C222),1,0)","v":1},{"$f":"IF(AND($C222<=AZ$1,Negyedéves!AZ$1<Paraméterek!$C$11*4+$C222),1,0)","v":1},{"$f":"IF(AND($C222<=BA$1,Negyedéves!BA$1<Paraméterek!$C$11*4+$C222),1,0)","v":1},{"$f":"IF(AND($C222<=BB$1,Negyedéves!BB$1<Paraméterek!$C$11*4+$C222),1,0)","v":1},{"$f":"IF(AND($C222<=BC$1,Negyedéves!BC$1<Paraméterek!$C$11*4+$C222),1,0)","v":1},{"$f":"IF(AND($C222<=BD$1,Negyedéves!BD$1<Paraméterek!$C$11*4+$C222),1,0)","v":1},{"$f":"IF(AND($C222<=BE$1,Negyedéves!BE$1<Paraméterek!$C$11*4+$C222),1,0)","v":1},{"$f":"IF(AND($C222<=BF$1,Negyedéves!BF$1<Paraméterek!$C$11*4+$C222),1,0)","v":1},{"$f":"IF(AND($C222<=BG$1,Negyedéves!BG$1<Paraméterek!$C$11*4+$C222),1,0)","v":1},{"$f":"IF(AND($C222<=BH$1,Negyedéves!BH$1<Paraméterek!$C$11*4+$C222),1,0)","v":1},{"$f":"IF(AND($C222<=BI$1,Negyedéves!BI$1<Paraméterek!$C$11*4+$C222),1,0)","v":1},{"$f":"IF(AND($C222<=BJ$1,Negyedéves!BJ$1<Paraméterek!$C$11*4+$C222),1,0)","v":1},{"$f":"IF(AND($C222<=BK$1,Negyedéves!BK$1<Paraméterek!$C$11*4+$C222),1,0)","v":1},{"$f":"IF(AND($C222<=BL$1,Negyedéves!BL$1<Paraméterek!$C$11*4+$C222),1,0)","v":1},{"$f":"IF(AND($C222<=BM$1,Negyedéves!BM$1<Paraméterek!$C$11*4+$C222),1,0)","v":1},{"$f":"IF(AND($C222<=BN$1,Negyedéves!BN$1<Paraméterek!$C$11*4+$C222),1,0)","v":1},{"$f":"IF(AND($C222<=BO$1,Negyedéves!BO$1<Paraméterek!$C$11*4+$C222),1,0)","v":1},{"$f":"IF(AND($C222<=BP$1,Negyedéves!BP$1<Paraméterek!$C$11*4+$C222),1,0)","v":1},{"$f":"IF(AND($C222<=BQ$1,Negyedéves!BQ$1<Paraméterek!$C$11*4+$C222),1,0)","v":1},{"$f":"IF(AND($C222<=BR$1,Negyedéves!BR$1<Paraméterek!$C$11*4+$C222),1,0)","v":1},{"$f":"IF(AND($C222<=BS$1,Negyedéves!BS$1<Paraméterek!$C$11*4+$C222),1,0)","v":1},"x"]
[null,0,43,{"$f":"IF(AND($C223<=D$1,Negyedéves!D$1<Paraméterek!$C$11*4+$C223),1,0)","v":0},{"$f":"IF(AND($C223<=E$1,Negyedéves!E$1<Paraméterek!$C$11*4+$C223),1,0)","v":0},{"$f":"IF(AND($C223<=F$1,Negyedéves!F$1<Paraméterek!$C$11*4+$C223),1,0)","v":0},{"$f":"IF(AND($C223<=G$1,Negyedéves!G$1<Paraméterek!$C$11*4+$C223),1,0)","v":0},{"$f":"IF(AND($C223<=H$1,Negyedéves!H$1<Paraméterek!$C$11*4+$C223),1,0)","v":0},{"$f":"IF(AND($C223<=I$1,Negyedéves!I$1<Paraméterek!$C$11*4+$C223),1,0)","v":0},{"$f":"IF(AND($C223<=J$1,Negyedéves!J$1<Paraméterek!$C$11*4+$C223),1,0)","v":0},{"$f":"IF(AND($C223<=K$1,Negyedéves!K$1<Paraméterek!$C$11*4+$C223),1,0)","v":0},{"$f":"IF(AND($C223<=L$1,Negyedéves!L$1<Paraméterek!$C$11*4+$C223),1,0)","v":0},{"$f":"IF(AND($C223<=M$1,Negyedéves!M$1<Paraméterek!$C$11*4+$C223),1,0)","v":0},{"$f":"IF(AND($C223<=N$1,Negyedéves!N$1<Paraméterek!$C$11*4+$C223),1,0)","v":0},{"$f":"IF(AND($C223<=O$1,Negyedéves!O$1<Paraméterek!$C$11*4+$C223),1,0)","v":0},{"$f":"IF(AND($C223<=P$1,Negyedéves!P$1<Paraméterek!$C$11*4+$C223),1,0)","v":0},{"$f":"IF(AND($C223<=Q$1,Negyedéves!Q$1<Paraméterek!$C$11*4+$C223),1,0)","v":0},{"$f":"IF(AND($C223<=R$1,Negyedéves!R$1<Paraméterek!$C$11*4+$C223),1,0)","v":0},{"$f":"IF(AND($C223<=S$1,Negyedéves!S$1<Paraméterek!$C$11*4+$C223),1,0)","v":0},{"$f":"IF(AND($C223<=T$1,Negyedéves!T$1<Paraméterek!$C$11*4+$C223),1,0)","v":0},{"$f":"IF(AND($C223<=U$1,Negyedéves!U$1<Paraméterek!$C$11*4+$C223),1,0)","v":0},{"$f":"IF(AND($C223<=V$1,Negyedéves!V$1<Paraméterek!$C$11*4+$C223),1,0)","v":0},{"$f":"IF(AND($C223<=W$1,Negyedéves!W$1<Paraméterek!$C$11*4+$C223),1,0)","v":0},{"$f":"IF(AND($C223<=X$1,Negyedéves!X$1<Paraméterek!$C$11*4+$C223),1,0)","v":0},{"$f":"IF(AND($C223<=Y$1,Negyedéves!Y$1<Paraméterek!$C$11*4+$C223),1,0)","v":0},{"$f":"IF(AND($C223<=Z$1,Negyedéves!Z$1<Paraméterek!$C$11*4+$C223),1,0)","v":0},{"$f":"IF(AND($C223<=AA$1,Negyedéves!AA$1<Paraméterek!$C$11*4+$C223),1,0)","v":0},{"$f":"IF(AND($C223<=AB$1,Negyedéves!AB$1<Paraméterek!$C$11*4+$C223),1,0)","v":0},{"$f":"IF(AND($C223<=AC$1,Negyedéves!AC$1<Paraméterek!$C$11*4+$C223),1,0)","v":0},{"$f":"IF(AND($C223<=AD$1,Negyedéves!AD$1<Paraméterek!$C$11*4+$C223),1,0)","v":0},{"$f":"IF(AND($C223<=AE$1,Negyedéves!AE$1<Paraméterek!$C$11*4+$C223),1,0)","v":0},{"$f":"IF(AND($C223<=AF$1,Negyedéves!AF$1<Paraméterek!$C$11*4+$C223),1,0)","v":0},{"$f":"IF(AND($C223<=AG$1,Negyedéves!AG$1<Paraméterek!$C$11*4+$C223),1,0)","v":0},{"$f":"IF(AND($C223<=AH$1,Negyedéves!AH$1<Paraméterek!$C$11*4+$C223),1,0)","v":0},{"$f":"IF(AND($C223<=AI$1,Negyedéves!AI$1<Paraméterek!$C$11*4+$C223),1,0)","v":0},{"$f":"IF(AND($C223<=AJ$1,Negyedéves!AJ$1<Paraméterek!$C$11*4+$C223),1,0)","v":0},{"$f":"IF(AND($C223<=AK$1,Negyedéves!AK$1<Paraméterek!$C$11*4+$C223),1,0)","v":0},{"$f":"IF(AND($C223<=AL$1,Negyedéves!AL$1<Paraméterek!$C$11*4+$C223),1,0)","v":0},{"$f":"IF(AND($C223<=AM$1,Negyedéves!AM$1<Paraméterek!$C$11*4+$C223),1,0)","v":0},{"$f":"IF(AND($C223<=AN$1,Negyedéves!AN$1<Paraméterek!$C$11*4+$C223),1,0)","v":0},{"$f":"IF(AND($C223<=AO$1,Negyedéves!AO$1<Paraméterek!$C$11*4+$C223),1,0)","v":0},{"$f":"IF(AND($C223<=AP$1,Negyedéves!AP$1<Paraméterek!$C$11*4+$C223),1,0)","v":0},{"$f":"IF(AND($C223<=AQ$1,Negyedéves!AQ$1<Paraméterek!$C$11*4+$C223),1,0)","v":0},{"$f":"IF(AND($C223<=AR$1,Negyedéves!AR$1<Paraméterek!$C$11*4+$C223),1,0)","v":0},{"$f":"IF(AND($C223<=AS$1,Negyedéves!AS$1<Paraméterek!$C$11*4+$C223),1,0)","v":0},{"$f":"IF(AND($C223<=AT$1,Negyedéves!AT$1<Paraméterek!$C$11*4+$C223),1,0)","v":1},{"$f":"IF(AND($C223<=AU$1,Negyedéves!AU$1<Paraméterek!$C$11*4+$C223),1,0)","v":1},{"$f":"IF(AND($C223<=AV$1,Negyedéves!AV$1<Paraméterek!$C$11*4+$C223),1,0)","v":1},{"$f":"IF(AND($C223<=AW$1,Negyedéves!AW$1<Paraméterek!$C$11*4+$C223),1,0)","v":1},{"$f":"IF(AND($C223<=AX$1,Negyedéves!AX$1<Paraméterek!$C$11*4+$C223),1,0)","v":1},{"$f":"IF(AND($C223<=AY$1,Negyedéves!AY$1<Paraméterek!$C$11*4+$C223),1,0)","v":1},{"$f":"IF(AND($C223<=AZ$1,Negyedéves!AZ$1<Paraméterek!$C$11*4+$C223),1,0)","v":1},{"$f":"IF(AND($C223<=BA$1,Negyedéves!BA$1<Paraméterek!$C$11*4+$C223),1,0)","v":1},{"$f":"IF(AND($C223<=BB$1,Negyedéves!BB$1<Paraméterek!$C$11*4+$C223),1,0)","v":1},{"$f":"IF(AND($C223<=BC$1,Negyedéves!BC$1<Paraméterek!$C$11*4+$C223),1,0)","v":1},{"$f":"IF(AND($C223<=BD$1,Negyedéves!BD$1<Paraméterek!$C$11*4+$C223),1,0)","v":1},{"$f":"IF(AND($C223<=BE$1,Negyedéves!BE$1<Paraméterek!$C$11*4+$C223),1,0)","v":1},{"$f":"IF(AND($C223<=BF$1,Negyedéves!BF$1<Paraméterek!$C$11*4+$C223),1,0)","v":1},{"$f":"IF(AND($C223<=BG$1,Negyedéves!BG$1<Paraméterek!$C$11*4+$C223),1,0)","v":1},{"$f":"IF(AND($C223<=BH$1,Negyedéves!BH$1<Paraméterek!$C$11*4+$C223),1,0)","v":1},{"$f":"IF(AND($C223<=BI$1,Negyedéves!BI$1<Paraméterek!$C$11*4+$C223),1,0)","v":1},{"$f":"IF(AND($C223<=BJ$1,Negyedéves!BJ$1<Paraméterek!$C$11*4+$C223),1,0)","v":1},{"$f":"IF(AND($C223<=BK$1,Negyedéves!BK$1<Paraméterek!$C$11*4+$C223),1,0)","v":1},{"$f":"IF(AND($C223<=BL$1,Negyedéves!BL$1<Paraméterek!$C$11*4+$C223),1,0)","v":1},{"$f":"IF(AND($C223<=BM$1,Negyedéves!BM$1<Paraméterek!$C$11*4+$C223),1,0)","v":1},{"$f":"IF(AND($C223<=BN$1,Negyedéves!BN$1<Paraméterek!$C$11*4+$C223),1,0)","v":1},{"$f":"IF(AND($C223<=BO$1,Negyedéves!BO$1<Paraméterek!$C$11*4+$C223),1,0)","v":1},{"$f":"IF(AND($C223<=BP$1,Negyedéves!BP$1<Paraméterek!$C$11*4+$C223),1,0)","v":1},{"$f":"IF(AND($C223<=BQ$1,Negyedéves!BQ$1<Paraméterek!$C$11*4+$C223),1,0)","v":1},{"$f":"IF(AND($C223<=BR$1,Negyedéves!BR$1<Paraméterek!$C$11*4+$C223),1,0)","v":1},{"$f":"IF(AND($C223<=BS$1,Negyedéves!BS$1<Paraméterek!$C$11*4+$C223),1,0)","v":1},"x"]
[null,0,44,{"$f":"IF(AND($C224<=D$1,Negyedéves!D$1<Paraméterek!$C$11*4+$C224),1,0)","v":0},{"$f":"IF(AND($C224<=E$1,Negyedéves!E$1<Paraméterek!$C$11*4+$C224),1,0)","v":0},{"$f":"IF(AND($C224<=F$1,Negyedéves!F$1<Paraméterek!$C$11*4+$C224),1,0)","v":0},{"$f":"IF(AND($C224<=G$1,Negyedéves!G$1<Paraméterek!$C$11*4+$C224),1,0)","v":0},{"$f":"IF(AND($C224<=H$1,Negyedéves!H$1<Paraméterek!$C$11*4+$C224),1,0)","v":0},{"$f":"IF(AND($C224<=I$1,Negyedéves!I$1<Paraméterek!$C$11*4+$C224),1,0)","v":0},{"$f":"IF(AND($C224<=J$1,Negyedéves!J$1<Paraméterek!$C$11*4+$C224),1,0)","v":0},{"$f":"IF(AND($C224<=K$1,Negyedéves!K$1<Paraméterek!$C$11*4+$C224),1,0)","v":0},{"$f":"IF(AND($C224<=L$1,Negyedéves!L$1<Paraméterek!$C$11*4+$C224),1,0)","v":0},{"$f":"IF(AND($C224<=M$1,Negyedéves!M$1<Paraméterek!$C$11*4+$C224),1,0)","v":0},{"$f":"IF(AND($C224<=N$1,Negyedéves!N$1<Paraméterek!$C$11*4+$C224),1,0)","v":0},{"$f":"IF(AND($C224<=O$1,Negyedéves!O$1<Paraméterek!$C$11*4+$C224),1,0)","v":0},{"$f":"IF(AND($C224<=P$1,Negyedéves!P$1<Paraméterek!$C$11*4+$C224),1,0)","v":0},{"$f":"IF(AND($C224<=Q$1,Negyedéves!Q$1<Paraméterek!$C$11*4+$C224),1,0)","v":0},{"$f":"IF(AND($C224<=R$1,Negyedéves!R$1<Paraméterek!$C$11*4+$C224),1,0)","v":0},{"$f":"IF(AND($C224<=S$1,Negyedéves!S$1<Paraméterek!$C$11*4+$C224),1,0)","v":0},{"$f":"IF(AND($C224<=T$1,Negyedéves!T$1<Paraméterek!$C$11*4+$C224),1,0)","v":0},{"$f":"IF(AND($C224<=U$1,Negyedéves!U$1<Paraméterek!$C$11*4+$C224),1,0)","v":0},{"$f":"IF(AND($C224<=V$1,Negyedéves!V$1<Paraméterek!$C$11*4+$C224),1,0)","v":0},{"$f":"IF(AND($C224<=W$1,Negyedéves!W$1<Paraméterek!$C$11*4+$C224),1,0)","v":0},{"$f":"IF(AND($C224<=X$1,Negyedéves!X$1<Paraméterek!$C$11*4+$C224),1,0)","v":0},{"$f":"IF(AND($C224<=Y$1,Negyedéves!Y$1<Paraméterek!$C$11*4+$C224),1,0)","v":0},{"$f":"IF(AND($C224<=Z$1,Negyedéves!Z$1<Paraméterek!$C$11*4+$C224),1,0)","v":0},{"$f":"IF(AND($C224<=AA$1,Negyedéves!AA$1<Paraméterek!$C$11*4+$C224),1,0)","v":0},{"$f":"IF(AND($C224<=AB$1,Negyedéves!AB$1<Paraméterek!$C$11*4+$C224),1,0)","v":0},{"$f":"IF(AND($C224<=AC$1,Negyedéves!AC$1<Paraméterek!$C$11*4+$C224),1,0)","v":0},{"$f":"IF(AND($C224<=AD$1,Negyedéves!AD$1<Paraméterek!$C$11*4+$C224),1,0)","v":0},{"$f":"IF(AND($C224<=AE$1,Negyedéves!AE$1<Paraméterek!$C$11*4+$C224),1,0)","v":0},{"$f":"IF(AND($C224<=AF$1,Negyedéves!AF$1<Paraméterek!$C$11*4+$C224),1,0)","v":0},{"$f":"IF(AND($C224<=AG$1,Negyedéves!AG$1<Paraméterek!$C$11*4+$C224),1,0)","v":0},{"$f":"IF(AND($C224<=AH$1,Negyedéves!AH$1<Paraméterek!$C$11*4+$C224),1,0)","v":0},{"$f":"IF(AND($C224<=AI$1,Negyedéves!AI$1<Paraméterek!$C$11*4+$C224),1,0)","v":0},{"$f":"IF(AND($C224<=AJ$1,Negyedéves!AJ$1<Paraméterek!$C$11*4+$C224),1,0)","v":0},{"$f":"IF(AND($C224<=AK$1,Negyedéves!AK$1<Paraméterek!$C$11*4+$C224),1,0)","v":0},{"$f":"IF(AND($C224<=AL$1,Negyedéves!AL$1<Paraméterek!$C$11*4+$C224),1,0)","v":0},{"$f":"IF(AND($C224<=AM$1,Negyedéves!AM$1<Paraméterek!$C$11*4+$C224),1,0)","v":0},{"$f":"IF(AND($C224<=AN$1,Negyedéves!AN$1<Paraméterek!$C$11*4+$C224),1,0)","v":0},{"$f":"IF(AND($C224<=AO$1,Negyedéves!AO$1<Paraméterek!$C$11*4+$C224),1,0)","v":0},{"$f":"IF(AND($C224<=AP$1,Negyedéves!AP$1<Paraméterek!$C$11*4+$C224),1,0)","v":0},{"$f":"IF(AND($C224<=AQ$1,Negyedéves!AQ$1<Paraméterek!$C$11*4+$C224),1,0)","v":0},{"$f":"IF(AND($C224<=AR$1,Negyedéves!AR$1<Paraméterek!$C$11*4+$C224),1,0)","v":0},{"$f":"IF(AND($C224<=AS$1,Negyedéves!AS$1<Paraméterek!$C$11*4+$C224),1,0)","v":0},{"$f":"IF(AND($C224<=AT$1,Negyedéves!AT$1<Paraméterek!$C$11*4+$C224),1,0)","v":0},{"$f":"IF(AND($C224<=AU$1,Negyedéves!AU$1<Paraméterek!$C$11*4+$C224),1,0)","v":1},{"$f":"IF(AND($C224<=AV$1,Negyedéves!AV$1<Paraméterek!$C$11*4+$C224),1,0)","v":1},{"$f":"IF(AND($C224<=AW$1,Negyedéves!AW$1<Paraméterek!$C$11*4+$C224),1,0)","v":1},{"$f":"IF(AND($C224<=AX$1,Negyedéves!AX$1<Paraméterek!$C$11*4+$C224),1,0)","v":1},{"$f":"IF(AND($C224<=AY$1,Negyedéves!AY$1<Paraméterek!$C$11*4+$C224),1,0)","v":1},{"$f":"IF(AND($C224<=AZ$1,Negyedéves!AZ$1<Paraméterek!$C$11*4+$C224),1,0)","v":1},{"$f":"IF(AND($C224<=BA$1,Negyedéves!BA$1<Paraméterek!$C$11*4+$C224),1,0)","v":1},{"$f":"IF(AND($C224<=BB$1,Negyedéves!BB$1<Paraméterek!$C$11*4+$C224),1,0)","v":1},{"$f":"IF(AND($C224<=BC$1,Negyedéves!BC$1<Paraméterek!$C$11*4+$C224),1,0)","v":1},{"$f":"IF(AND($C224<=BD$1,Negyedéves!BD$1<Paraméterek!$C$11*4+$C224),1,0)","v":1},{"$f":"IF(AND($C224<=BE$1,Negyedéves!BE$1<Paraméterek!$C$11*4+$C224),1,0)","v":1},{"$f":"IF(AND($C224<=BF$1,Negyedéves!BF$1<Paraméterek!$C$11*4+$C224),1,0)","v":1},{"$f":"IF(AND($C224<=BG$1,Negyedéves!BG$1<Paraméterek!$C$11*4+$C224),1,0)","v":1},{"$f":"IF(AND($C224<=BH$1,Negyedéves!BH$1<Paraméterek!$C$11*4+$C224),1,0)","v":1},{"$f":"IF(AND($C224<=BI$1,Negyedéves!BI$1<Paraméterek!$C$11*4+$C224),1,0)","v":1},{"$f":"IF(AND($C224<=BJ$1,Negyedéves!BJ$1<Paraméterek!$C$11*4+$C224),1,0)","v":1},{"$f":"IF(AND($C224<=BK$1,Negyedéves!BK$1<Paraméterek!$C$11*4+$C224),1,0)","v":1},{"$f":"IF(AND($C224<=BL$1,Negyedéves!BL$1<Paraméterek!$C$11*4+$C224),1,0)","v":1},{"$f":"IF(AND($C224<=BM$1,Negyedéves!BM$1<Paraméterek!$C$11*4+$C224),1,0)","v":1},{"$f":"IF(AND($C224<=BN$1,Negyedéves!BN$1<Paraméterek!$C$11*4+$C224),1,0)","v":1},{"$f":"IF(AND($C224<=BO$1,Negyedéves!BO$1<Paraméterek!$C$11*4+$C224),1,0)","v":1},{"$f":"IF(AND($C224<=BP$1,Negyedéves!BP$1<Paraméterek!$C$11*4+$C224),1,0)","v":1},{"$f":"IF(AND($C224<=BQ$1,Negyedéves!BQ$1<Paraméterek!$C$11*4+$C224),1,0)","v":1},{"$f":"IF(AND($C224<=BR$1,Negyedéves!BR$1<Paraméterek!$C$11*4+$C224),1,0)","v":1},{"$f":"IF(AND($C224<=BS$1,Negyedéves!BS$1<Paraméterek!$C$11*4+$C224),1,0)","v":1},"x"]
[null,1249545.0900070979,45,{"$f":"IF(AND($C225<=D$1,Negyedéves!D$1<Paraméterek!$C$11*4+$C225),1,0)","v":0},{"$f":"IF(AND($C225<=E$1,Negyedéves!E$1<Paraméterek!$C$11*4+$C225),1,0)","v":0},{"$f":"IF(AND($C225<=F$1,Negyedéves!F$1<Paraméterek!$C$11*4+$C225),1,0)","v":0},{"$f":"IF(AND($C225<=G$1,Negyedéves!G$1<Paraméterek!$C$11*4+$C225),1,0)","v":0},{"$f":"IF(AND($C225<=H$1,Negyedéves!H$1<Paraméterek!$C$11*4+$C225),1,0)","v":0},{"$f":"IF(AND($C225<=I$1,Negyedéves!I$1<Paraméterek!$C$11*4+$C225),1,0)","v":0},{"$f":"IF(AND($C225<=J$1,Negyedéves!J$1<Paraméterek!$C$11*4+$C225),1,0)","v":0},{"$f":"IF(AND($C225<=K$1,Negyedéves!K$1<Paraméterek!$C$11*4+$C225),1,0)","v":0},{"$f":"IF(AND($C225<=L$1,Negyedéves!L$1<Paraméterek!$C$11*4+$C225),1,0)","v":0},{"$f":"IF(AND($C225<=M$1,Negyedéves!M$1<Paraméterek!$C$11*4+$C225),1,0)","v":0},{"$f":"IF(AND($C225<=N$1,Negyedéves!N$1<Paraméterek!$C$11*4+$C225),1,0)","v":0},{"$f":"IF(AND($C225<=O$1,Negyedéves!O$1<Paraméterek!$C$11*4+$C225),1,0)","v":0},{"$f":"IF(AND($C225<=P$1,Negyedéves!P$1<Paraméterek!$C$11*4+$C225),1,0)","v":0},{"$f":"IF(AND($C225<=Q$1,Negyedéves!Q$1<Paraméterek!$C$11*4+$C225),1,0)","v":0},{"$f":"IF(AND($C225<=R$1,Negyedéves!R$1<Paraméterek!$C$11*4+$C225),1,0)","v":0},{"$f":"IF(AND($C225<=S$1,Negyedéves!S$1<Paraméterek!$C$11*4+$C225),1,0)","v":0},{"$f":"IF(AND($C225<=T$1,Negyedéves!T$1<Paraméterek!$C$11*4+$C225),1,0)","v":0},{"$f":"IF(AND($C225<=U$1,Negyedéves!U$1<Paraméterek!$C$11*4+$C225),1,0)","v":0},{"$f":"IF(AND($C225<=V$1,Negyedéves!V$1<Paraméterek!$C$11*4+$C225),1,0)","v":0},{"$f":"IF(AND($C225<=W$1,Negyedéves!W$1<Paraméterek!$C$11*4+$C225),1,0)","v":0},{"$f":"IF(AND($C225<=X$1,Negyedéves!X$1<Paraméterek!$C$11*4+$C225),1,0)","v":0},{"$f":"IF(AND($C225<=Y$1,Negyedéves!Y$1<Paraméterek!$C$11*4+$C225),1,0)","v":0},{"$f":"IF(AND($C225<=Z$1,Negyedéves!Z$1<Paraméterek!$C$11*4+$C225),1,0)","v":0},{"$f":"IF(AND($C225<=AA$1,Negyedéves!AA$1<Paraméterek!$C$11*4+$C225),1,0)","v":0},{"$f":"IF(AND($C225<=AB$1,Negyedéves!AB$1<Paraméterek!$C$11*4+$C225),1,0)","v":0},{"$f":"IF(AND($C225<=AC$1,Negyedéves!AC$1<Paraméterek!$C$11*4+$C225),1,0)","v":0},{"$f":"IF(AND($C225<=AD$1,Negyedéves!AD$1<Paraméterek!$C$11*4+$C225),1,0)","v":0},{"$f":"IF(AND($C225<=AE$1,Negyedéves!AE$1<Paraméterek!$C$11*4+$C225),1,0)","v":0},{"$f":"IF(AND($C225<=AF$1,Negyedéves!AF$1<Paraméterek!$C$11*4+$C225),1,0)","v":0},{"$f":"IF(AND($C225<=AG$1,Negyedéves!AG$1<Paraméterek!$C$11*4+$C225),1,0)","v":0},{"$f":"IF(AND($C225<=AH$1,Negyedéves!AH$1<Paraméterek!$C$11*4+$C225),1,0)","v":0},{"$f":"IF(AND($C225<=AI$1,Negyedéves!AI$1<Paraméterek!$C$11*4+$C225),1,0)","v":0},{"$f":"IF(AND($C225<=AJ$1,Negyedéves!AJ$1<Paraméterek!$C$11*4+$C225),1,0)","v":0},{"$f":"IF(AND($C225<=AK$1,Negyedéves!AK$1<Paraméterek!$C$11*4+$C225),1,0)","v":0},{"$f":"IF(AND($C225<=AL$1,Negyedéves!AL$1<Paraméterek!$C$11*4+$C225),1,0)","v":0},{"$f":"IF(AND($C225<=AM$1,Negyedéves!AM$1<Paraméterek!$C$11*4+$C225),1,0)","v":0},{"$f":"IF(AND($C225<=AN$1,Negyedéves!AN$1<Paraméterek!$C$11*4+$C225),1,0)","v":0},{"$f":"IF(AND($C225<=AO$1,Negyedéves!AO$1<Paraméterek!$C$11*4+$C225),1,0)","v":0},{"$f":"IF(AND($C225<=AP$1,Negyedéves!AP$1<Paraméterek!$C$11*4+$C225),1,0)","v":0},{"$f":"IF(AND($C225<=AQ$1,Negyedéves!AQ$1<Paraméterek!$C$11*4+$C225),1,0)","v":0},{"$f":"IF(AND($C225<=AR$1,Negyedéves!AR$1<Paraméterek!$C$11*4+$C225),1,0)","v":0},{"$f":"IF(AND($C225<=AS$1,Negyedéves!AS$1<Paraméterek!$C$11*4+$C225),1,0)","v":0},{"$f":"IF(AND($C225<=AT$1,Negyedéves!AT$1<Paraméterek!$C$11*4+$C225),1,0)","v":0},{"$f":"IF(AND($C225<=AU$1,Negyedéves!AU$1<Paraméterek!$C$11*4+$C225),1,0)","v":0},{"$f":"IF(AND($C225<=AV$1,Negyedéves!AV$1<Paraméterek!$C$11*4+$C225),1,0)","v":1},{"$f":"IF(AND($C225<=AW$1,Negyedéves!AW$1<Paraméterek!$C$11*4+$C225),1,0)","v":1},{"$f":"IF(AND($C225<=AX$1,Negyedéves!AX$1<Paraméterek!$C$11*4+$C225),1,0)","v":1},{"$f":"IF(AND($C225<=AY$1,Negyedéves!AY$1<Paraméterek!$C$11*4+$C225),1,0)","v":1},{"$f":"IF(AND($C225<=AZ$1,Negyedéves!AZ$1<Paraméterek!$C$11*4+$C225),1,0)","v":1},{"$f":"IF(AND($C225<=BA$1,Negyedéves!BA$1<Paraméterek!$C$11*4+$C225),1,0)","v":1},{"$f":"IF(AND($C225<=BB$1,Negyedéves!BB$1<Paraméterek!$C$11*4+$C225),1,0)","v":1},{"$f":"IF(AND($C225<=BC$1,Negyedéves!BC$1<Paraméterek!$C$11*4+$C225),1,0)","v":1},{"$f":"IF(AND($C225<=BD$1,Negyedéves!BD$1<Paraméterek!$C$11*4+$C225),1,0)","v":1},{"$f":"IF(AND($C225<=BE$1,Negyedéves!BE$1<Paraméterek!$C$11*4+$C225),1,0)","v":1},{"$f":"IF(AND($C225<=BF$1,Negyedéves!BF$1<Paraméterek!$C$11*4+$C225),1,0)","v":1},{"$f":"IF(AND($C225<=BG$1,Negyedéves!BG$1<Paraméterek!$C$11*4+$C225),1,0)","v":1},{"$f":"IF(AND($C225<=BH$1,Negyedéves!BH$1<Paraméterek!$C$11*4+$C225),1,0)","v":1},{"$f":"IF(AND($C225<=BI$1,Negyedéves!BI$1<Paraméterek!$C$11*4+$C225),1,0)","v":1},{"$f":"IF(AND($C225<=BJ$1,Negyedéves!BJ$1<Paraméterek!$C$11*4+$C225),1,0)","v":1},{"$f":"IF(AND($C225<=BK$1,Negyedéves!BK$1<Paraméterek!$C$11*4+$C225),1,0)","v":1},{"$f":"IF(AND($C225<=BL$1,Negyedéves!BL$1<Paraméterek!$C$11*4+$C225),1,0)","v":1},{"$f":"IF(AND($C225<=BM$1,Negyedéves!BM$1<Paraméterek!$C$11*4+$C225),1,0)","v":1},{"$f":"IF(AND($C225<=BN$1,Negyedéves!BN$1<Paraméterek!$C$11*4+$C225),1,0)","v":1},{"$f":"IF(AND($C225<=BO$1,Negyedéves!BO$1<Paraméterek!$C$11*4+$C225),1,0)","v":1},{"$f":"IF(AND($C225<=BP$1,Negyedéves!BP$1<Paraméterek!$C$11*4+$C225),1,0)","v":1},{"$f":"IF(AND($C225<=BQ$1,Negyedéves!BQ$1<Paraméterek!$C$11*4+$C225),1,0)","v":1},{"$f":"IF(AND($C225<=BR$1,Negyedéves!BR$1<Paraméterek!$C$11*4+$C225),1,0)","v":1},{"$f":"IF(AND($C225<=BS$1,Negyedéves!BS$1<Paraméterek!$C$11*4+$C225),1,0)","v":1},"x"]
[null,0,46,{"$f":"IF(AND($C226<=D$1,Negyedéves!D$1<Paraméterek!$C$11*4+$C226),1,0)","v":0},{"$f":"IF(AND($C226<=E$1,Negyedéves!E$1<Paraméterek!$C$11*4+$C226),1,0)","v":0},{"$f":"IF(AND($C226<=F$1,Negyedéves!F$1<Paraméterek!$C$11*4+$C226),1,0)","v":0},{"$f":"IF(AND($C226<=G$1,Negyedéves!G$1<Paraméterek!$C$11*4+$C226),1,0)","v":0},{"$f":"IF(AND($C226<=H$1,Negyedéves!H$1<Paraméterek!$C$11*4+$C226),1,0)","v":0},{"$f":"IF(AND($C226<=I$1,Negyedéves!I$1<Paraméterek!$C$11*4+$C226),1,0)","v":0},{"$f":"IF(AND($C226<=J$1,Negyedéves!J$1<Paraméterek!$C$11*4+$C226),1,0)","v":0},{"$f":"IF(AND($C226<=K$1,Negyedéves!K$1<Paraméterek!$C$11*4+$C226),1,0)","v":0},{"$f":"IF(AND($C226<=L$1,Negyedéves!L$1<Paraméterek!$C$11*4+$C226),1,0)","v":0},{"$f":"IF(AND($C226<=M$1,Negyedéves!M$1<Paraméterek!$C$11*4+$C226),1,0)","v":0},{"$f":"IF(AND($C226<=N$1,Negyedéves!N$1<Paraméterek!$C$11*4+$C226),1,0)","v":0},{"$f":"IF(AND($C226<=O$1,Negyedéves!O$1<Paraméterek!$C$11*4+$C226),1,0)","v":0},{"$f":"IF(AND($C226<=P$1,Negyedéves!P$1<Paraméterek!$C$11*4+$C226),1,0)","v":0},{"$f":"IF(AND($C226<=Q$1,Negyedéves!Q$1<Paraméterek!$C$11*4+$C226),1,0)","v":0},{"$f":"IF(AND($C226<=R$1,Negyedéves!R$1<Paraméterek!$C$11*4+$C226),1,0)","v":0},{"$f":"IF(AND($C226<=S$1,Negyedéves!S$1<Paraméterek!$C$11*4+$C226),1,0)","v":0},{"$f":"IF(AND($C226<=T$1,Negyedéves!T$1<Paraméterek!$C$11*4+$C226),1,0)","v":0},{"$f":"IF(AND($C226<=U$1,Negyedéves!U$1<Paraméterek!$C$11*4+$C226),1,0)","v":0},{"$f":"IF(AND($C226<=V$1,Negyedéves!V$1<Paraméterek!$C$11*4+$C226),1,0)","v":0},{"$f":"IF(AND($C226<=W$1,Negyedéves!W$1<Paraméterek!$C$11*4+$C226),1,0)","v":0},{"$f":"IF(AND($C226<=X$1,Negyedéves!X$1<Paraméterek!$C$11*4+$C226),1,0)","v":0},{"$f":"IF(AND($C226<=Y$1,Negyedéves!Y$1<Paraméterek!$C$11*4+$C226),1,0)","v":0},{"$f":"IF(AND($C226<=Z$1,Negyedéves!Z$1<Paraméterek!$C$11*4+$C226),1,0)","v":0},{"$f":"IF(AND($C226<=AA$1,Negyedéves!AA$1<Paraméterek!$C$11*4+$C226),1,0)","v":0},{"$f":"IF(AND($C226<=AB$1,Negyedéves!AB$1<Paraméterek!$C$11*4+$C226),1,0)","v":0},{"$f":"IF(AND($C226<=AC$1,Negyedéves!AC$1<Paraméterek!$C$11*4+$C226),1,0)","v":0},{"$f":"IF(AND($C226<=AD$1,Negyedéves!AD$1<Paraméterek!$C$11*4+$C226),1,0)","v":0},{"$f":"IF(AND($C226<=AE$1,Negyedéves!AE$1<Paraméterek!$C$11*4+$C226),1,0)","v":0},{"$f":"IF(AND($C226<=AF$1,Negyedéves!AF$1<Paraméterek!$C$11*4+$C226),1,0)","v":0},{"$f":"IF(AND($C226<=AG$1,Negyedéves!AG$1<Paraméterek!$C$11*4+$C226),1,0)","v":0},{"$f":"IF(AND($C226<=AH$1,Negyedéves!AH$1<Paraméterek!$C$11*4+$C226),1,0)","v":0},{"$f":"IF(AND($C226<=AI$1,Negyedéves!AI$1<Paraméterek!$C$11*4+$C226),1,0)","v":0},{"$f":"IF(AND($C226<=AJ$1,Negyedéves!AJ$1<Paraméterek!$C$11*4+$C226),1,0)","v":0},{"$f":"IF(AND($C226<=AK$1,Negyedéves!AK$1<Paraméterek!$C$11*4+$C226),1,0)","v":0},{"$f":"IF(AND($C226<=AL$1,Negyedéves!AL$1<Paraméterek!$C$11*4+$C226),1,0)","v":0},{"$f":"IF(AND($C226<=AM$1,Negyedéves!AM$1<Paraméterek!$C$11*4+$C226),1,0)","v":0},{"$f":"IF(AND($C226<=AN$1,Negyedéves!AN$1<Paraméterek!$C$11*4+$C226),1,0)","v":0},{"$f":"IF(AND($C226<=AO$1,Negyedéves!AO$1<Paraméterek!$C$11*4+$C226),1,0)","v":0},{"$f":"IF(AND($C226<=AP$1,Negyedéves!AP$1<Paraméterek!$C$11*4+$C226),1,0)","v":0},{"$f":"IF(AND($C226<=AQ$1,Negyedéves!AQ$1<Paraméterek!$C$11*4+$C226),1,0)","v":0},{"$f":"IF(AND($C226<=AR$1,Negyedéves!AR$1<Paraméterek!$C$11*4+$C226),1,0)","v":0},{"$f":"IF(AND($C226<=AS$1,Negyedéves!AS$1<Paraméterek!$C$11*4+$C226),1,0)","v":0},{"$f":"IF(AND($C226<=AT$1,Negyedéves!AT$1<Paraméterek!$C$11*4+$C226),1,0)","v":0},{"$f":"IF(AND($C226<=AU$1,Negyedéves!AU$1<Paraméterek!$C$11*4+$C226),1,0)","v":0},{"$f":"IF(AND($C226<=AV$1,Negyedéves!AV$1<Paraméterek!$C$11*4+$C226),1,0)","v":0},{"$f":"IF(AND($C226<=AW$1,Negyedéves!AW$1<Paraméterek!$C$11*4+$C226),1,0)","v":1},{"$f":"IF(AND($C226<=AX$1,Negyedéves!AX$1<Paraméterek!$C$11*4+$C226),1,0)","v":1},{"$f":"IF(AND($C226<=AY$1,Negyedéves!AY$1<Paraméterek!$C$11*4+$C226),1,0)","v":1},{"$f":"IF(AND($C226<=AZ$1,Negyedéves!AZ$1<Paraméterek!$C$11*4+$C226),1,0)","v":1},{"$f":"IF(AND($C226<=BA$1,Negyedéves!BA$1<Paraméterek!$C$11*4+$C226),1,0)","v":1},{"$f":"IF(AND($C226<=BB$1,Negyedéves!BB$1<Paraméterek!$C$11*4+$C226),1,0)","v":1},{"$f":"IF(AND($C226<=BC$1,Negyedéves!BC$1<Paraméterek!$C$11*4+$C226),1,0)","v":1},{"$f":"IF(AND($C226<=BD$1,Negyedéves!BD$1<Paraméterek!$C$11*4+$C226),1,0)","v":1},{"$f":"IF(AND($C226<=BE$1,Negyedéves!BE$1<Paraméterek!$C$11*4+$C226),1,0)","v":1},{"$f":"IF(AND($C226<=BF$1,Negyedéves!BF$1<Paraméterek!$C$11*4+$C226),1,0)","v":1},{"$f":"IF(AND($C226<=BG$1,Negyedéves!BG$1<Paraméterek!$C$11*4+$C226),1,0)","v":1},{"$f":"IF(AND($C226<=BH$1,Negyedéves!BH$1<Paraméterek!$C$11*4+$C226),1,0)","v":1},{"$f":"IF(AND($C226<=BI$1,Negyedéves!BI$1<Paraméterek!$C$11*4+$C226),1,0)","v":1},{"$f":"IF(AND($C226<=BJ$1,Negyedéves!BJ$1<Paraméterek!$C$11*4+$C226),1,0)","v":1},{"$f":"IF(AND($C226<=BK$1,Negyedéves!BK$1<Paraméterek!$C$11*4+$C226),1,0)","v":1},{"$f":"IF(AND($C226<=BL$1,Negyedéves!BL$1<Paraméterek!$C$11*4+$C226),1,0)","v":1},{"$f":"IF(AND($C226<=BM$1,Negyedéves!BM$1<Paraméterek!$C$11*4+$C226),1,0)","v":1},{"$f":"IF(AND($C226<=BN$1,Negyedéves!BN$1<Paraméterek!$C$11*4+$C226),1,0)","v":1},{"$f":"IF(AND($C226<=BO$1,Negyedéves!BO$1<Paraméterek!$C$11*4+$C226),1,0)","v":1},{"$f":"IF(AND($C226<=BP$1,Negyedéves!BP$1<Paraméterek!$C$11*4+$C226),1,0)","v":1},{"$f":"IF(AND($C226<=BQ$1,Negyedéves!BQ$1<Paraméterek!$C$11*4+$C226),1,0)","v":1},{"$f":"IF(AND($C226<=BR$1,Negyedéves!BR$1<Paraméterek!$C$11*4+$C226),1,0)","v":1},{"$f":"IF(AND($C226<=BS$1,Negyedéves!BS$1<Paraméterek!$C$11*4+$C226),1,0)","v":1},"x"]
[null,0,47,{"$f":"IF(AND($C227<=D$1,Negyedéves!D$1<Paraméterek!$C$11*4+$C227),1,0)","v":0},{"$f":"IF(AND($C227<=E$1,Negyedéves!E$1<Paraméterek!$C$11*4+$C227),1,0)","v":0},{"$f":"IF(AND($C227<=F$1,Negyedéves!F$1<Paraméterek!$C$11*4+$C227),1,0)","v":0},{"$f":"IF(AND($C227<=G$1,Negyedéves!G$1<Paraméterek!$C$11*4+$C227),1,0)","v":0},{"$f":"IF(AND($C227<=H$1,Negyedéves!H$1<Paraméterek!$C$11*4+$C227),1,0)","v":0},{"$f":"IF(AND($C227<=I$1,Negyedéves!I$1<Paraméterek!$C$11*4+$C227),1,0)","v":0},{"$f":"IF(AND($C227<=J$1,Negyedéves!J$1<Paraméterek!$C$11*4+$C227),1,0)","v":0},{"$f":"IF(AND($C227<=K$1,Negyedéves!K$1<Paraméterek!$C$11*4+$C227),1,0)","v":0},{"$f":"IF(AND($C227<=L$1,Negyedéves!L$1<Paraméterek!$C$11*4+$C227),1,0)","v":0},{"$f":"IF(AND($C227<=M$1,Negyedéves!M$1<Paraméterek!$C$11*4+$C227),1,0)","v":0},{"$f":"IF(AND($C227<=N$1,Negyedéves!N$1<Paraméterek!$C$11*4+$C227),1,0)","v":0},{"$f":"IF(AND($C227<=O$1,Negyedéves!O$1<Paraméterek!$C$11*4+$C227),1,0)","v":0},{"$f":"IF(AND($C227<=P$1,Negyedéves!P$1<Paraméterek!$C$11*4+$C227),1,0)","v":0},{"$f":"IF(AND($C227<=Q$1,Negyedéves!Q$1<Paraméterek!$C$11*4+$C227),1,0)","v":0},{"$f":"IF(AND($C227<=R$1,Negyedéves!R$1<Paraméterek!$C$11*4+$C227),1,0)","v":0},{"$f":"IF(AND($C227<=S$1,Negyedéves!S$1<Paraméterek!$C$11*4+$C227),1,0)","v":0},{"$f":"IF(AND($C227<=T$1,Negyedéves!T$1<Paraméterek!$C$11*4+$C227),1,0)","v":0},{"$f":"IF(AND($C227<=U$1,Negyedéves!U$1<Paraméterek!$C$11*4+$C227),1,0)","v":0},{"$f":"IF(AND($C227<=V$1,Negyedéves!V$1<Paraméterek!$C$11*4+$C227),1,0)","v":0},{"$f":"IF(AND($C227<=W$1,Negyedéves!W$1<Paraméterek!$C$11*4+$C227),1,0)","v":0},{"$f":"IF(AND($C227<=X$1,Negyedéves!X$1<Paraméterek!$C$11*4+$C227),1,0)","v":0},{"$f":"IF(AND($C227<=Y$1,Negyedéves!Y$1<Paraméterek!$C$11*4+$C227),1,0)","v":0},{"$f":"IF(AND($C227<=Z$1,Negyedéves!Z$1<Paraméterek!$C$11*4+$C227),1,0)","v":0},{"$f":"IF(AND($C227<=AA$1,Negyedéves!AA$1<Paraméterek!$C$11*4+$C227),1,0)","v":0},{"$f":"IF(AND($C227<=AB$1,Negyedéves!AB$1<Paraméterek!$C$11*4+$C227),1,0)","v":0},{"$f":"IF(AND($C227<=AC$1,Negyedéves!AC$1<Paraméterek!$C$11*4+$C227),1,0)","v":0},{"$f":"IF(AND($C227<=AD$1,Negyedéves!AD$1<Paraméterek!$C$11*4+$C227),1,0)","v":0},{"$f":"IF(AND($C227<=AE$1,Negyedéves!AE$1<Paraméterek!$C$11*4+$C227),1,0)","v":0},{"$f":"IF(AND($C227<=AF$1,Negyedéves!AF$1<Paraméterek!$C$11*4+$C227),1,0)","v":0},{"$f":"IF(AND($C227<=AG$1,Negyedéves!AG$1<Paraméterek!$C$11*4+$C227),1,0)","v":0},{"$f":"IF(AND($C227<=AH$1,Negyedéves!AH$1<Paraméterek!$C$11*4+$C227),1,0)","v":0},{"$f":"IF(AND($C227<=AI$1,Negyedéves!AI$1<Paraméterek!$C$11*4+$C227),1,0)","v":0},{"$f":"IF(AND($C227<=AJ$1,Negyedéves!AJ$1<Paraméterek!$C$11*4+$C227),1,0)","v":0},{"$f":"IF(AND($C227<=AK$1,Negyedéves!AK$1<Paraméterek!$C$11*4+$C227),1,0)","v":0},{"$f":"IF(AND($C227<=AL$1,Negyedéves!AL$1<Paraméterek!$C$11*4+$C227),1,0)","v":0},{"$f":"IF(AND($C227<=AM$1,Negyedéves!AM$1<Paraméterek!$C$11*4+$C227),1,0)","v":0},{"$f":"IF(AND($C227<=AN$1,Negyedéves!AN$1<Paraméterek!$C$11*4+$C227),1,0)","v":0},{"$f":"IF(AND($C227<=AO$1,Negyedéves!AO$1<Paraméterek!$C$11*4+$C227),1,0)","v":0},{"$f":"IF(AND($C227<=AP$1,Negyedéves!AP$1<Paraméterek!$C$11*4+$C227),1,0)","v":0},{"$f":"IF(AND($C227<=AQ$1,Negyedéves!AQ$1<Paraméterek!$C$11*4+$C227),1,0)","v":0},{"$f":"IF(AND($C227<=AR$1,Negyedéves!AR$1<Paraméterek!$C$11*4+$C227),1,0)","v":0},{"$f":"IF(AND($C227<=AS$1,Negyedéves!AS$1<Paraméterek!$C$11*4+$C227),1,0)","v":0},{"$f":"IF(AND($C227<=AT$1,Negyedéves!AT$1<Paraméterek!$C$11*4+$C227),1,0)","v":0},{"$f":"IF(AND($C227<=AU$1,Negyedéves!AU$1<Paraméterek!$C$11*4+$C227),1,0)","v":0},{"$f":"IF(AND($C227<=AV$1,Negyedéves!AV$1<Paraméterek!$C$11*4+$C227),1,0)","v":0},{"$f":"IF(AND($C227<=AW$1,Negyedéves!AW$1<Paraméterek!$C$11*4+$C227),1,0)","v":0},{"$f":"IF(AND($C227<=AX$1,Negyedéves!AX$1<Paraméterek!$C$11*4+$C227),1,0)","v":1},{"$f":"IF(AND($C227<=AY$1,Negyedéves!AY$1<Paraméterek!$C$11*4+$C227),1,0)","v":1},{"$f":"IF(AND($C227<=AZ$1,Negyedéves!AZ$1<Paraméterek!$C$11*4+$C227),1,0)","v":1},{"$f":"IF(AND($C227<=BA$1,Negyedéves!BA$1<Paraméterek!$C$11*4+$C227),1,0)","v":1},{"$f":"IF(AND($C227<=BB$1,Negyedéves!BB$1<Paraméterek!$C$11*4+$C227),1,0)","v":1},{"$f":"IF(AND($C227<=BC$1,Negyedéves!BC$1<Paraméterek!$C$11*4+$C227),1,0)","v":1},{"$f":"IF(AND($C227<=BD$1,Negyedéves!BD$1<Paraméterek!$C$11*4+$C227),1,0)","v":1},{"$f":"IF(AND($C227<=BE$1,Negyedéves!BE$1<Paraméterek!$C$11*4+$C227),1,0)","v":1},{"$f":"IF(AND($C227<=BF$1,Negyedéves!BF$1<Paraméterek!$C$11*4+$C227),1,0)","v":1},{"$f":"IF(AND($C227<=BG$1,Negyedéves!BG$1<Paraméterek!$C$11*4+$C227),1,0)","v":1},{"$f":"IF(AND($C227<=BH$1,Negyedéves!BH$1<Paraméterek!$C$11*4+$C227),1,0)","v":1},{"$f":"IF(AND($C227<=BI$1,Negyedéves!BI$1<Paraméterek!$C$11*4+$C227),1,0)","v":1},{"$f":"IF(AND($C227<=BJ$1,Negyedéves!BJ$1<Paraméterek!$C$11*4+$C227),1,0)","v":1},{"$f":"IF(AND($C227<=BK$1,Negyedéves!BK$1<Paraméterek!$C$11*4+$C227),1,0)","v":1},{"$f":"IF(AND($C227<=BL$1,Negyedéves!BL$1<Paraméterek!$C$11*4+$C227),1,0)","v":1},{"$f":"IF(AND($C227<=BM$1,Negyedéves!BM$1<Paraméterek!$C$11*4+$C227),1,0)","v":1},{"$f":"IF(AND($C227<=BN$1,Negyedéves!BN$1<Paraméterek!$C$11*4+$C227),1,0)","v":1},{"$f":"IF(AND($C227<=BO$1,Negyedéves!BO$1<Paraméterek!$C$11*4+$C227),1,0)","v":1},{"$f":"IF(AND($C227<=BP$1,Negyedéves!BP$1<Paraméterek!$C$11*4+$C227),1,0)","v":1},{"$f":"IF(AND($C227<=BQ$1,Negyedéves!BQ$1<Paraméterek!$C$11*4+$C227),1,0)","v":1},{"$f":"IF(AND($C227<=BR$1,Negyedéves!BR$1<Paraméterek!$C$11*4+$C227),1,0)","v":1},{"$f":"IF(AND($C227<=BS$1,Negyedéves!BS$1<Paraméterek!$C$11*4+$C227),1,0)","v":1},"x"]
[null,0,48,{"$f":"IF(AND($C228<=D$1,Negyedéves!D$1<Paraméterek!$C$11*4+$C228),1,0)","v":0},{"$f":"IF(AND($C228<=E$1,Negyedéves!E$1<Paraméterek!$C$11*4+$C228),1,0)","v":0},{"$f":"IF(AND($C228<=F$1,Negyedéves!F$1<Paraméterek!$C$11*4+$C228),1,0)","v":0},{"$f":"IF(AND($C228<=G$1,Negyedéves!G$1<Paraméterek!$C$11*4+$C228),1,0)","v":0},{"$f":"IF(AND($C228<=H$1,Negyedéves!H$1<Paraméterek!$C$11*4+$C228),1,0)","v":0},{"$f":"IF(AND($C228<=I$1,Negyedéves!I$1<Paraméterek!$C$11*4+$C228),1,0)","v":0},{"$f":"IF(AND($C228<=J$1,Negyedéves!J$1<Paraméterek!$C$11*4+$C228),1,0)","v":0},{"$f":"IF(AND($C228<=K$1,Negyedéves!K$1<Paraméterek!$C$11*4+$C228),1,0)","v":0},{"$f":"IF(AND($C228<=L$1,Negyedéves!L$1<Paraméterek!$C$11*4+$C228),1,0)","v":0},{"$f":"IF(AND($C228<=M$1,Negyedéves!M$1<Paraméterek!$C$11*4+$C228),1,0)","v":0},{"$f":"IF(AND($C228<=N$1,Negyedéves!N$1<Paraméterek!$C$11*4+$C228),1,0)","v":0},{"$f":"IF(AND($C228<=O$1,Negyedéves!O$1<Paraméterek!$C$11*4+$C228),1,0)","v":0},{"$f":"IF(AND($C228<=P$1,Negyedéves!P$1<Paraméterek!$C$11*4+$C228),1,0)","v":0},{"$f":"IF(AND($C228<=Q$1,Negyedéves!Q$1<Paraméterek!$C$11*4+$C228),1,0)","v":0},{"$f":"IF(AND($C228<=R$1,Negyedéves!R$1<Paraméterek!$C$11*4+$C228),1,0)","v":0},{"$f":"IF(AND($C228<=S$1,Negyedéves!S$1<Paraméterek!$C$11*4+$C228),1,0)","v":0},{"$f":"IF(AND($C228<=T$1,Negyedéves!T$1<Paraméterek!$C$11*4+$C228),1,0)","v":0},{"$f":"IF(AND($C228<=U$1,Negyedéves!U$1<Paraméterek!$C$11*4+$C228),1,0)","v":0},{"$f":"IF(AND($C228<=V$1,Negyedéves!V$1<Paraméterek!$C$11*4+$C228),1,0)","v":0},{"$f":"IF(AND($C228<=W$1,Negyedéves!W$1<Paraméterek!$C$11*4+$C228),1,0)","v":0},{"$f":"IF(AND($C228<=X$1,Negyedéves!X$1<Paraméterek!$C$11*4+$C228),1,0)","v":0},{"$f":"IF(AND($C228<=Y$1,Negyedéves!Y$1<Paraméterek!$C$11*4+$C228),1,0)","v":0},{"$f":"IF(AND($C228<=Z$1,Negyedéves!Z$1<Paraméterek!$C$11*4+$C228),1,0)","v":0},{"$f":"IF(AND($C228<=AA$1,Negyedéves!AA$1<Paraméterek!$C$11*4+$C228),1,0)","v":0},{"$f":"IF(AND($C228<=AB$1,Negyedéves!AB$1<Paraméterek!$C$11*4+$C228),1,0)","v":0},{"$f":"IF(AND($C228<=AC$1,Negyedéves!AC$1<Paraméterek!$C$11*4+$C228),1,0)","v":0},{"$f":"IF(AND($C228<=AD$1,Negyedéves!AD$1<Paraméterek!$C$11*4+$C228),1,0)","v":0},{"$f":"IF(AND($C228<=AE$1,Negyedéves!AE$1<Paraméterek!$C$11*4+$C228),1,0)","v":0},{"$f":"IF(AND($C228<=AF$1,Negyedéves!AF$1<Paraméterek!$C$11*4+$C228),1,0)","v":0},{"$f":"IF(AND($C228<=AG$1,Negyedéves!AG$1<Paraméterek!$C$11*4+$C228),1,0)","v":0},{"$f":"IF(AND($C228<=AH$1,Negyedéves!AH$1<Paraméterek!$C$11*4+$C228),1,0)","v":0},{"$f":"IF(AND($C228<=AI$1,Negyedéves!AI$1<Paraméterek!$C$11*4+$C228),1,0)","v":0},{"$f":"IF(AND($C228<=AJ$1,Negyedéves!AJ$1<Paraméterek!$C$11*4+$C228),1,0)","v":0},{"$f":"IF(AND($C228<=AK$1,Negyedéves!AK$1<Paraméterek!$C$11*4+$C228),1,0)","v":0},{"$f":"IF(AND($C228<=AL$1,Negyedéves!AL$1<Paraméterek!$C$11*4+$C228),1,0)","v":0},{"$f":"IF(AND($C228<=AM$1,Negyedéves!AM$1<Paraméterek!$C$11*4+$C228),1,0)","v":0},{"$f":"IF(AND($C228<=AN$1,Negyedéves!AN$1<Paraméterek!$C$11*4+$C228),1,0)","v":0},{"$f":"IF(AND($C228<=AO$1,Negyedéves!AO$1<Paraméterek!$C$11*4+$C228),1,0)","v":0},{"$f":"IF(AND($C228<=AP$1,Negyedéves!AP$1<Paraméterek!$C$11*4+$C228),1,0)","v":0},{"$f":"IF(AND($C228<=AQ$1,Negyedéves!AQ$1<Paraméterek!$C$11*4+$C228),1,0)","v":0},{"$f":"IF(AND($C228<=AR$1,Negyedéves!AR$1<Paraméterek!$C$11*4+$C228),1,0)","v":0},{"$f":"IF(AND($C228<=AS$1,Negyedéves!AS$1<Paraméterek!$C$11*4+$C228),1,0)","v":0},{"$f":"IF(AND($C228<=AT$1,Negyedéves!AT$1<Paraméterek!$C$11*4+$C228),1,0)","v":0},{"$f":"IF(AND($C228<=AU$1,Negyedéves!AU$1<Paraméterek!$C$11*4+$C228),1,0)","v":0},{"$f":"IF(AND($C228<=AV$1,Negyedéves!AV$1<Paraméterek!$C$11*4+$C228),1,0)","v":0},{"$f":"IF(AND($C228<=AW$1,Negyedéves!AW$1<Paraméterek!$C$11*4+$C228),1,0)","v":0},{"$f":"IF(AND($C228<=AX$1,Negyedéves!AX$1<Paraméterek!$C$11*4+$C228),1,0)","v":0},{"$f":"IF(AND($C228<=AY$1,Negyedéves!AY$1<Paraméterek!$C$11*4+$C228),1,0)","v":1},{"$f":"IF(AND($C228<=AZ$1,Negyedéves!AZ$1<Paraméterek!$C$11*4+$C228),1,0)","v":1},{"$f":"IF(AND($C228<=BA$1,Negyedéves!BA$1<Paraméterek!$C$11*4+$C228),1,0)","v":1},{"$f":"IF(AND($C228<=BB$1,Negyedéves!BB$1<Paraméterek!$C$11*4+$C228),1,0)","v":1},{"$f":"IF(AND($C228<=BC$1,Negyedéves!BC$1<Paraméterek!$C$11*4+$C228),1,0)","v":1},{"$f":"IF(AND($C228<=BD$1,Negyedéves!BD$1<Paraméterek!$C$11*4+$C228),1,0)","v":1},{"$f":"IF(AND($C228<=BE$1,Negyedéves!BE$1<Paraméterek!$C$11*4+$C228),1,0)","v":1},{"$f":"IF(AND($C228<=BF$1,Negyedéves!BF$1<Paraméterek!$C$11*4+$C228),1,0)","v":1},{"$f":"IF(AND($C228<=BG$1,Negyedéves!BG$1<Paraméterek!$C$11*4+$C228),1,0)","v":1},{"$f":"IF(AND($C228<=BH$1,Negyedéves!BH$1<Paraméterek!$C$11*4+$C228),1,0)","v":1},{"$f":"IF(AND($C228<=BI$1,Negyedéves!BI$1<Paraméterek!$C$11*4+$C228),1,0)","v":1},{"$f":"IF(AND($C228<=BJ$1,Negyedéves!BJ$1<Paraméterek!$C$11*4+$C228),1,0)","v":1},{"$f":"IF(AND($C228<=BK$1,Negyedéves!BK$1<Paraméterek!$C$11*4+$C228),1,0)","v":1},{"$f":"IF(AND($C228<=BL$1,Negyedéves!BL$1<Paraméterek!$C$11*4+$C228),1,0)","v":1},{"$f":"IF(AND($C228<=BM$1,Negyedéves!BM$1<Paraméterek!$C$11*4+$C228),1,0)","v":1},{"$f":"IF(AND($C228<=BN$1,Negyedéves!BN$1<Paraméterek!$C$11*4+$C228),1,0)","v":1},{"$f":"IF(AND($C228<=BO$1,Negyedéves!BO$1<Paraméterek!$C$11*4+$C228),1,0)","v":1},{"$f":"IF(AND($C228<=BP$1,Negyedéves!BP$1<Paraméterek!$C$11*4+$C228),1,0)","v":1},{"$f":"IF(AND($C228<=BQ$1,Negyedéves!BQ$1<Paraméterek!$C$11*4+$C228),1,0)","v":1},{"$f":"IF(AND($C228<=BR$1,Negyedéves!BR$1<Paraméterek!$C$11*4+$C228),1,0)","v":1},{"$f":"IF(AND($C228<=BS$1,Negyedéves!BS$1<Paraméterek!$C$11*4+$C228),1,0)","v":1},"x"]
[null,1274535.9918072403,49,{"$f":"IF(AND($C229<=D$1,Negyedéves!D$1<Paraméterek!$C$11*4+$C229),1,0)","v":0},{"$f":"IF(AND($C229<=E$1,Negyedéves!E$1<Paraméterek!$C$11*4+$C229),1,0)","v":0},{"$f":"IF(AND($C229<=F$1,Negyedéves!F$1<Paraméterek!$C$11*4+$C229),1,0)","v":0},{"$f":"IF(AND($C229<=G$1,Negyedéves!G$1<Paraméterek!$C$11*4+$C229),1,0)","v":0},{"$f":"IF(AND($C229<=H$1,Negyedéves!H$1<Paraméterek!$C$11*4+$C229),1,0)","v":0},{"$f":"IF(AND($C229<=I$1,Negyedéves!I$1<Paraméterek!$C$11*4+$C229),1,0)","v":0},{"$f":"IF(AND($C229<=J$1,Negyedéves!J$1<Paraméterek!$C$11*4+$C229),1,0)","v":0},{"$f":"IF(AND($C229<=K$1,Negyedéves!K$1<Paraméterek!$C$11*4+$C229),1,0)","v":0},{"$f":"IF(AND($C229<=L$1,Negyedéves!L$1<Paraméterek!$C$11*4+$C229),1,0)","v":0},{"$f":"IF(AND($C229<=M$1,Negyedéves!M$1<Paraméterek!$C$11*4+$C229),1,0)","v":0},{"$f":"IF(AND($C229<=N$1,Negyedéves!N$1<Paraméterek!$C$11*4+$C229),1,0)","v":0},{"$f":"IF(AND($C229<=O$1,Negyedéves!O$1<Paraméterek!$C$11*4+$C229),1,0)","v":0},{"$f":"IF(AND($C229<=P$1,Negyedéves!P$1<Paraméterek!$C$11*4+$C229),1,0)","v":0},{"$f":"IF(AND($C229<=Q$1,Negyedéves!Q$1<Paraméterek!$C$11*4+$C229),1,0)","v":0},{"$f":"IF(AND($C229<=R$1,Negyedéves!R$1<Paraméterek!$C$11*4+$C229),1,0)","v":0},{"$f":"IF(AND($C229<=S$1,Negyedéves!S$1<Paraméterek!$C$11*4+$C229),1,0)","v":0},{"$f":"IF(AND($C229<=T$1,Negyedéves!T$1<Paraméterek!$C$11*4+$C229),1,0)","v":0},{"$f":"IF(AND($C229<=U$1,Negyedéves!U$1<Paraméterek!$C$11*4+$C229),1,0)","v":0},{"$f":"IF(AND($C229<=V$1,Negyedéves!V$1<Paraméterek!$C$11*4+$C229),1,0)","v":0},{"$f":"IF(AND($C229<=W$1,Negyedéves!W$1<Paraméterek!$C$11*4+$C229),1,0)","v":0},{"$f":"IF(AND($C229<=X$1,Negyedéves!X$1<Paraméterek!$C$11*4+$C229),1,0)","v":0},{"$f":"IF(AND($C229<=Y$1,Negyedéves!Y$1<Paraméterek!$C$11*4+$C229),1,0)","v":0},{"$f":"IF(AND($C229<=Z$1,Negyedéves!Z$1<Paraméterek!$C$11*4+$C229),1,0)","v":0},{"$f":"IF(AND($C229<=AA$1,Negyedéves!AA$1<Paraméterek!$C$11*4+$C229),1,0)","v":0},{"$f":"IF(AND($C229<=AB$1,Negyedéves!AB$1<Paraméterek!$C$11*4+$C229),1,0)","v":0},{"$f":"IF(AND($C229<=AC$1,Negyedéves!AC$1<Paraméterek!$C$11*4+$C229),1,0)","v":0},{"$f":"IF(AND($C229<=AD$1,Negyedéves!AD$1<Paraméterek!$C$11*4+$C229),1,0)","v":0},{"$f":"IF(AND($C229<=AE$1,Negyedéves!AE$1<Paraméterek!$C$11*4+$C229),1,0)","v":0},{"$f":"IF(AND($C229<=AF$1,Negyedéves!AF$1<Paraméterek!$C$11*4+$C229),1,0)","v":0},{"$f":"IF(AND($C229<=AG$1,Negyedéves!AG$1<Paraméterek!$C$11*4+$C229),1,0)","v":0},{"$f":"IF(AND($C229<=AH$1,Negyedéves!AH$1<Paraméterek!$C$11*4+$C229),1,0)","v":0},{"$f":"IF(AND($C229<=AI$1,Negyedéves!AI$1<Paraméterek!$C$11*4+$C229),1,0)","v":0},{"$f":"IF(AND($C229<=AJ$1,Negyedéves!AJ$1<Paraméterek!$C$11*4+$C229),1,0)","v":0},{"$f":"IF(AND($C229<=AK$1,Negyedéves!AK$1<Paraméterek!$C$11*4+$C229),1,0)","v":0},{"$f":"IF(AND($C229<=AL$1,Negyedéves!AL$1<Paraméterek!$C$11*4+$C229),1,0)","v":0},{"$f":"IF(AND($C229<=AM$1,Negyedéves!AM$1<Paraméterek!$C$11*4+$C229),1,0)","v":0},{"$f":"IF(AND($C229<=AN$1,Negyedéves!AN$1<Paraméterek!$C$11*4+$C229),1,0)","v":0},{"$f":"IF(AND($C229<=AO$1,Negyedéves!AO$1<Paraméterek!$C$11*4+$C229),1,0)","v":0},{"$f":"IF(AND($C229<=AP$1,Negyedéves!AP$1<Paraméterek!$C$11*4+$C229),1,0)","v":0},{"$f":"IF(AND($C229<=AQ$1,Negyedéves!AQ$1<Paraméterek!$C$11*4+$C229),1,0)","v":0},{"$f":"IF(AND($C229<=AR$1,Negyedéves!AR$1<Paraméterek!$C$11*4+$C229),1,0)","v":0},{"$f":"IF(AND($C229<=AS$1,Negyedéves!AS$1<Paraméterek!$C$11*4+$C229),1,0)","v":0},{"$f":"IF(AND($C229<=AT$1,Negyedéves!AT$1<Paraméterek!$C$11*4+$C229),1,0)","v":0},{"$f":"IF(AND($C229<=AU$1,Negyedéves!AU$1<Paraméterek!$C$11*4+$C229),1,0)","v":0},{"$f":"IF(AND($C229<=AV$1,Negyedéves!AV$1<Paraméterek!$C$11*4+$C229),1,0)","v":0},{"$f":"IF(AND($C229<=AW$1,Negyedéves!AW$1<Paraméterek!$C$11*4+$C229),1,0)","v":0},{"$f":"IF(AND($C229<=AX$1,Negyedéves!AX$1<Paraméterek!$C$11*4+$C229),1,0)","v":0},{"$f":"IF(AND($C229<=AY$1,Negyedéves!AY$1<Paraméterek!$C$11*4+$C229),1,0)","v":0},{"$f":"IF(AND($C229<=AZ$1,Negyedéves!AZ$1<Paraméterek!$C$11*4+$C229),1,0)","v":1},{"$f":"IF(AND($C229<=BA$1,Negyedéves!BA$1<Paraméterek!$C$11*4+$C229),1,0)","v":1},{"$f":"IF(AND($C229<=BB$1,Negyedéves!BB$1<Paraméterek!$C$11*4+$C229),1,0)","v":1},{"$f":"IF(AND($C229<=BC$1,Negyedéves!BC$1<Paraméterek!$C$11*4+$C229),1,0)","v":1},{"$f":"IF(AND($C229<=BD$1,Negyedéves!BD$1<Paraméterek!$C$11*4+$C229),1,0)","v":1},{"$f":"IF(AND($C229<=BE$1,Negyedéves!BE$1<Paraméterek!$C$11*4+$C229),1,0)","v":1},{"$f":"IF(AND($C229<=BF$1,Negyedéves!BF$1<Paraméterek!$C$11*4+$C229),1,0)","v":1},{"$f":"IF(AND($C229<=BG$1,Negyedéves!BG$1<Paraméterek!$C$11*4+$C229),1,0)","v":1},{"$f":"IF(AND($C229<=BH$1,Negyedéves!BH$1<Paraméterek!$C$11*4+$C229),1,0)","v":1},{"$f":"IF(AND($C229<=BI$1,Negyedéves!BI$1<Paraméterek!$C$11*4+$C229),1,0)","v":1},{"$f":"IF(AND($C229<=BJ$1,Negyedéves!BJ$1<Paraméterek!$C$11*4+$C229),1,0)","v":1},{"$f":"IF(AND($C229<=BK$1,Negyedéves!BK$1<Paraméterek!$C$11*4+$C229),1,0)","v":1},{"$f":"IF(AND($C229<=BL$1,Negyedéves!BL$1<Paraméterek!$C$11*4+$C229),1,0)","v":1},{"$f":"IF(AND($C229<=BM$1,Negyedéves!BM$1<Paraméterek!$C$11*4+$C229),1,0)","v":1},{"$f":"IF(AND($C229<=BN$1,Negyedéves!BN$1<Paraméterek!$C$11*4+$C229),1,0)","v":1},{"$f":"IF(AND($C229<=BO$1,Negyedéves!BO$1<Paraméterek!$C$11*4+$C229),1,0)","v":1},{"$f":"IF(AND($C229<=BP$1,Negyedéves!BP$1<Paraméterek!$C$11*4+$C229),1,0)","v":1},{"$f":"IF(AND($C229<=BQ$1,Negyedéves!BQ$1<Paraméterek!$C$11*4+$C229),1,0)","v":1},{"$f":"IF(AND($C229<=BR$1,Negyedéves!BR$1<Paraméterek!$C$11*4+$C229),1,0)","v":1},{"$f":"IF(AND($C229<=BS$1,Negyedéves!BS$1<Paraméterek!$C$11*4+$C229),1,0)","v":1},"x"]
[null,0,50,{"$f":"IF(AND($C230<=D$1,Negyedéves!D$1<Paraméterek!$C$11*4+$C230),1,0)","v":0},{"$f":"IF(AND($C230<=E$1,Negyedéves!E$1<Paraméterek!$C$11*4+$C230),1,0)","v":0},{"$f":"IF(AND($C230<=F$1,Negyedéves!F$1<Paraméterek!$C$11*4+$C230),1,0)","v":0},{"$f":"IF(AND($C230<=G$1,Negyedéves!G$1<Paraméterek!$C$11*4+$C230),1,0)","v":0},{"$f":"IF(AND($C230<=H$1,Negyedéves!H$1<Paraméterek!$C$11*4+$C230),1,0)","v":0},{"$f":"IF(AND($C230<=I$1,Negyedéves!I$1<Paraméterek!$C$11*4+$C230),1,0)","v":0},{"$f":"IF(AND($C230<=J$1,Negyedéves!J$1<Paraméterek!$C$11*4+$C230),1,0)","v":0},{"$f":"IF(AND($C230<=K$1,Negyedéves!K$1<Paraméterek!$C$11*4+$C230),1,0)","v":0},{"$f":"IF(AND($C230<=L$1,Negyedéves!L$1<Paraméterek!$C$11*4+$C230),1,0)","v":0},{"$f":"IF(AND($C230<=M$1,Negyedéves!M$1<Paraméterek!$C$11*4+$C230),1,0)","v":0},{"$f":"IF(AND($C230<=N$1,Negyedéves!N$1<Paraméterek!$C$11*4+$C230),1,0)","v":0},{"$f":"IF(AND($C230<=O$1,Negyedéves!O$1<Paraméterek!$C$11*4+$C230),1,0)","v":0},{"$f":"IF(AND($C230<=P$1,Negyedéves!P$1<Paraméterek!$C$11*4+$C230),1,0)","v":0},{"$f":"IF(AND($C230<=Q$1,Negyedéves!Q$1<Paraméterek!$C$11*4+$C230),1,0)","v":0},{"$f":"IF(AND($C230<=R$1,Negyedéves!R$1<Paraméterek!$C$11*4+$C230),1,0)","v":0},{"$f":"IF(AND($C230<=S$1,Negyedéves!S$1<Paraméterek!$C$11*4+$C230),1,0)","v":0},{"$f":"IF(AND($C230<=T$1,Negyedéves!T$1<Paraméterek!$C$11*4+$C230),1,0)","v":0},{"$f":"IF(AND($C230<=U$1,Negyedéves!U$1<Paraméterek!$C$11*4+$C230),1,0)","v":0},{"$f":"IF(AND($C230<=V$1,Negyedéves!V$1<Paraméterek!$C$11*4+$C230),1,0)","v":0},{"$f":"IF(AND($C230<=W$1,Negyedéves!W$1<Paraméterek!$C$11*4+$C230),1,0)","v":0},{"$f":"IF(AND($C230<=X$1,Negyedéves!X$1<Paraméterek!$C$11*4+$C230),1,0)","v":0},{"$f":"IF(AND($C230<=Y$1,Negyedéves!Y$1<Paraméterek!$C$11*4+$C230),1,0)","v":0},{"$f":"IF(AND($C230<=Z$1,Negyedéves!Z$1<Paraméterek!$C$11*4+$C230),1,0)","v":0},{"$f":"IF(AND($C230<=AA$1,Negyedéves!AA$1<Paraméterek!$C$11*4+$C230),1,0)","v":0},{"$f":"IF(AND($C230<=AB$1,Negyedéves!AB$1<Paraméterek!$C$11*4+$C230),1,0)","v":0},{"$f":"IF(AND($C230<=AC$1,Negyedéves!AC$1<Paraméterek!$C$11*4+$C230),1,0)","v":0},{"$f":"IF(AND($C230<=AD$1,Negyedéves!AD$1<Paraméterek!$C$11*4+$C230),1,0)","v":0},{"$f":"IF(AND($C230<=AE$1,Negyedéves!AE$1<Paraméterek!$C$11*4+$C230),1,0)","v":0},{"$f":"IF(AND($C230<=AF$1,Negyedéves!AF$1<Paraméterek!$C$11*4+$C230),1,0)","v":0},{"$f":"IF(AND($C230<=AG$1,Negyedéves!AG$1<Paraméterek!$C$11*4+$C230),1,0)","v":0},{"$f":"IF(AND($C230<=AH$1,Negyedéves!AH$1<Paraméterek!$C$11*4+$C230),1,0)","v":0},{"$f":"IF(AND($C230<=AI$1,Negyedéves!AI$1<Paraméterek!$C$11*4+$C230),1,0)","v":0},{"$f":"IF(AND($C230<=AJ$1,Negyedéves!AJ$1<Paraméterek!$C$11*4+$C230),1,0)","v":0},{"$f":"IF(AND($C230<=AK$1,Negyedéves!AK$1<Paraméterek!$C$11*4+$C230),1,0)","v":0},{"$f":"IF(AND($C230<=AL$1,Negyedéves!AL$1<Paraméterek!$C$11*4+$C230),1,0)","v":0},{"$f":"IF(AND($C230<=AM$1,Negyedéves!AM$1<Paraméterek!$C$11*4+$C230),1,0)","v":0},{"$f":"IF(AND($C230<=AN$1,Negyedéves!AN$1<Paraméterek!$C$11*4+$C230),1,0)","v":0},{"$f":"IF(AND($C230<=AO$1,Negyedéves!AO$1<Paraméterek!$C$11*4+$C230),1,0)","v":0},{"$f":"IF(AND($C230<=AP$1,Negyedéves!AP$1<Paraméterek!$C$11*4+$C230),1,0)","v":0},{"$f":"IF(AND($C230<=AQ$1,Negyedéves!AQ$1<Paraméterek!$C$11*4+$C230),1,0)","v":0},{"$f":"IF(AND($C230<=AR$1,Negyedéves!AR$1<Paraméterek!$C$11*4+$C230),1,0)","v":0},{"$f":"IF(AND($C230<=AS$1,Negyedéves!AS$1<Paraméterek!$C$11*4+$C230),1,0)","v":0},{"$f":"IF(AND($C230<=AT$1,Negyedéves!AT$1<Paraméterek!$C$11*4+$C230),1,0)","v":0},{"$f":"IF(AND($C230<=AU$1,Negyedéves!AU$1<Paraméterek!$C$11*4+$C230),1,0)","v":0},{"$f":"IF(AND($C230<=AV$1,Negyedéves!AV$1<Paraméterek!$C$11*4+$C230),1,0)","v":0},{"$f":"IF(AND($C230<=AW$1,Negyedéves!AW$1<Paraméterek!$C$11*4+$C230),1,0)","v":0},{"$f":"IF(AND($C230<=AX$1,Negyedéves!AX$1<Paraméterek!$C$11*4+$C230),1,0)","v":0},{"$f":"IF(AND($C230<=AY$1,Negyedéves!AY$1<Paraméterek!$C$11*4+$C230),1,0)","v":0},{"$f":"IF(AND($C230<=AZ$1,Negyedéves!AZ$1<Paraméterek!$C$11*4+$C230),1,0)","v":0},{"$f":"IF(AND($C230<=BA$1,Negyedéves!BA$1<Paraméterek!$C$11*4+$C230),1,0)","v":1},{"$f":"IF(AND($C230<=BB$1,Negyedéves!BB$1<Paraméterek!$C$11*4+$C230),1,0)","v":1},{"$f":"IF(AND($C230<=BC$1,Negyedéves!BC$1<Paraméterek!$C$11*4+$C230),1,0)","v":1},{"$f":"IF(AND($C230<=BD$1,Negyedéves!BD$1<Paraméterek!$C$11*4+$C230),1,0)","v":1},{"$f":"IF(AND($C230<=BE$1,Negyedéves!BE$1<Paraméterek!$C$11*4+$C230),1,0)","v":1},{"$f":"IF(AND($C230<=BF$1,Negyedéves!BF$1<Paraméterek!$C$11*4+$C230),1,0)","v":1},{"$f":"IF(AND($C230<=BG$1,Negyedéves!BG$1<Paraméterek!$C$11*4+$C230),1,0)","v":1},{"$f":"IF(AND($C230<=BH$1,Negyedéves!BH$1<Paraméterek!$C$11*4+$C230),1,0)","v":1},{"$f":"IF(AND($C230<=BI$1,Negyedéves!BI$1<Paraméterek!$C$11*4+$C230),1,0)","v":1},{"$f":"IF(AND($C230<=BJ$1,Negyedéves!BJ$1<Paraméterek!$C$11*4+$C230),1,0)","v":1},{"$f":"IF(AND($C230<=BK$1,Negyedéves!BK$1<Paraméterek!$C$11*4+$C230),1,0)","v":1},{"$f":"IF(AND($C230<=BL$1,Negyedéves!BL$1<Paraméterek!$C$11*4+$C230),1,0)","v":1},{"$f":"IF(AND($C230<=BM$1,Negyedéves!BM$1<Paraméterek!$C$11*4+$C230),1,0)","v":1},{"$f":"IF(AND($C230<=BN$1,Negyedéves!BN$1<Paraméterek!$C$11*4+$C230),1,0)","v":1},{"$f":"IF(AND($C230<=BO$1,Negyedéves!BO$1<Paraméterek!$C$11*4+$C230),1,0)","v":1},{"$f":"IF(AND($C230<=BP$1,Negyedéves!BP$1<Paraméterek!$C$11*4+$C230),1,0)","v":1},{"$f":"IF(AND($C230<=BQ$1,Negyedéves!BQ$1<Paraméterek!$C$11*4+$C230),1,0)","v":1},{"$f":"IF(AND($C230<=BR$1,Negyedéves!BR$1<Paraméterek!$C$11*4+$C230),1,0)","v":1},{"$f":"IF(AND($C230<=BS$1,Negyedéves!BS$1<Paraméterek!$C$11*4+$C230),1,0)","v":1},"x"]
[null,0,51,{"$f":"IF(AND($C231<=D$1,Negyedéves!D$1<Paraméterek!$C$11*4+$C231),1,0)","v":0},{"$f":"IF(AND($C231<=E$1,Negyedéves!E$1<Paraméterek!$C$11*4+$C231),1,0)","v":0},{"$f":"IF(AND($C231<=F$1,Negyedéves!F$1<Paraméterek!$C$11*4+$C231),1,0)","v":0},{"$f":"IF(AND($C231<=G$1,Negyedéves!G$1<Paraméterek!$C$11*4+$C231),1,0)","v":0},{"$f":"IF(AND($C231<=H$1,Negyedéves!H$1<Paraméterek!$C$11*4+$C231),1,0)","v":0},{"$f":"IF(AND($C231<=I$1,Negyedéves!I$1<Paraméterek!$C$11*4+$C231),1,0)","v":0},{"$f":"IF(AND($C231<=J$1,Negyedéves!J$1<Paraméterek!$C$11*4+$C231),1,0)","v":0},{"$f":"IF(AND($C231<=K$1,Negyedéves!K$1<Paraméterek!$C$11*4+$C231),1,0)","v":0},{"$f":"IF(AND($C231<=L$1,Negyedéves!L$1<Paraméterek!$C$11*4+$C231),1,0)","v":0},{"$f":"IF(AND($C231<=M$1,Negyedéves!M$1<Paraméterek!$C$11*4+$C231),1,0)","v":0},{"$f":"IF(AND($C231<=N$1,Negyedéves!N$1<Paraméterek!$C$11*4+$C231),1,0)","v":0},{"$f":"IF(AND($C231<=O$1,Negyedéves!O$1<Paraméterek!$C$11*4+$C231),1,0)","v":0},{"$f":"IF(AND($C231<=P$1,Negyedéves!P$1<Paraméterek!$C$11*4+$C231),1,0)","v":0},{"$f":"IF(AND($C231<=Q$1,Negyedéves!Q$1<Paraméterek!$C$11*4+$C231),1,0)","v":0},{"$f":"IF(AND($C231<=R$1,Negyedéves!R$1<Paraméterek!$C$11*4+$C231),1,0)","v":0},{"$f":"IF(AND($C231<=S$1,Negyedéves!S$1<Paraméterek!$C$11*4+$C231),1,0)","v":0},{"$f":"IF(AND($C231<=T$1,Negyedéves!T$1<Paraméterek!$C$11*4+$C231),1,0)","v":0},{"$f":"IF(AND($C231<=U$1,Negyedéves!U$1<Paraméterek!$C$11*4+$C231),1,0)","v":0},{"$f":"IF(AND($C231<=V$1,Negyedéves!V$1<Paraméterek!$C$11*4+$C231),1,0)","v":0},{"$f":"IF(AND($C231<=W$1,Negyedéves!W$1<Paraméterek!$C$11*4+$C231),1,0)","v":0},{"$f":"IF(AND($C231<=X$1,Negyedéves!X$1<Paraméterek!$C$11*4+$C231),1,0)","v":0},{"$f":"IF(AND($C231<=Y$1,Negyedéves!Y$1<Paraméterek!$C$11*4+$C231),1,0)","v":0},{"$f":"IF(AND($C231<=Z$1,Negyedéves!Z$1<Paraméterek!$C$11*4+$C231),1,0)","v":0},{"$f":"IF(AND($C231<=AA$1,Negyedéves!AA$1<Paraméterek!$C$11*4+$C231),1,0)","v":0},{"$f":"IF(AND($C231<=AB$1,Negyedéves!AB$1<Paraméterek!$C$11*4+$C231),1,0)","v":0},{"$f":"IF(AND($C231<=AC$1,Negyedéves!AC$1<Paraméterek!$C$11*4+$C231),1,0)","v":0},{"$f":"IF(AND($C231<=AD$1,Negyedéves!AD$1<Paraméterek!$C$11*4+$C231),1,0)","v":0},{"$f":"IF(AND($C231<=AE$1,Negyedéves!AE$1<Paraméterek!$C$11*4+$C231),1,0)","v":0},{"$f":"IF(AND($C231<=AF$1,Negyedéves!AF$1<Paraméterek!$C$11*4+$C231),1,0)","v":0},{"$f":"IF(AND($C231<=AG$1,Negyedéves!AG$1<Paraméterek!$C$11*4+$C231),1,0)","v":0},{"$f":"IF(AND($C231<=AH$1,Negyedéves!AH$1<Paraméterek!$C$11*4+$C231),1,0)","v":0},{"$f":"IF(AND($C231<=AI$1,Negyedéves!AI$1<Paraméterek!$C$11*4+$C231),1,0)","v":0},{"$f":"IF(AND($C231<=AJ$1,Negyedéves!AJ$1<Paraméterek!$C$11*4+$C231),1,0)","v":0},{"$f":"IF(AND($C231<=AK$1,Negyedéves!AK$1<Paraméterek!$C$11*4+$C231),1,0)","v":0},{"$f":"IF(AND($C231<=AL$1,Negyedéves!AL$1<Paraméterek!$C$11*4+$C231),1,0)","v":0},{"$f":"IF(AND($C231<=AM$1,Negyedéves!AM$1<Paraméterek!$C$11*4+$C231),1,0)","v":0},{"$f":"IF(AND($C231<=AN$1,Negyedéves!AN$1<Paraméterek!$C$11*4+$C231),1,0)","v":0},{"$f":"IF(AND($C231<=AO$1,Negyedéves!AO$1<Paraméterek!$C$11*4+$C231),1,0)","v":0},{"$f":"IF(AND($C231<=AP$1,Negyedéves!AP$1<Paraméterek!$C$11*4+$C231),1,0)","v":0},{"$f":"IF(AND($C231<=AQ$1,Negyedéves!AQ$1<Paraméterek!$C$11*4+$C231),1,0)","v":0},{"$f":"IF(AND($C231<=AR$1,Negyedéves!AR$1<Paraméterek!$C$11*4+$C231),1,0)","v":0},{"$f":"IF(AND($C231<=AS$1,Negyedéves!AS$1<Paraméterek!$C$11*4+$C231),1,0)","v":0},{"$f":"IF(AND($C231<=AT$1,Negyedéves!AT$1<Paraméterek!$C$11*4+$C231),1,0)","v":0},{"$f":"IF(AND($C231<=AU$1,Negyedéves!AU$1<Paraméterek!$C$11*4+$C231),1,0)","v":0},{"$f":"IF(AND($C231<=AV$1,Negyedéves!AV$1<Paraméterek!$C$11*4+$C231),1,0)","v":0},{"$f":"IF(AND($C231<=AW$1,Negyedéves!AW$1<Paraméterek!$C$11*4+$C231),1,0)","v":0},{"$f":"IF(AND($C231<=AX$1,Negyedéves!AX$1<Paraméterek!$C$11*4+$C231),1,0)","v":0},{"$f":"IF(AND($C231<=AY$1,Negyedéves!AY$1<Paraméterek!$C$11*4+$C231),1,0)","v":0},{"$f":"IF(AND($C231<=AZ$1,Negyedéves!AZ$1<Paraméterek!$C$11*4+$C231),1,0)","v":0},{"$f":"IF(AND($C231<=BA$1,Negyedéves!BA$1<Paraméterek!$C$11*4+$C231),1,0)","v":0},{"$f":"IF(AND($C231<=BB$1,Negyedéves!BB$1<Paraméterek!$C$11*4+$C231),1,0)","v":1},{"$f":"IF(AND($C231<=BC$1,Negyedéves!BC$1<Paraméterek!$C$11*4+$C231),1,0)","v":1},{"$f":"IF(AND($C231<=BD$1,Negyedéves!BD$1<Paraméterek!$C$11*4+$C231),1,0)","v":1},{"$f":"IF(AND($C231<=BE$1,Negyedéves!BE$1<Paraméterek!$C$11*4+$C231),1,0)","v":1},{"$f":"IF(AND($C231<=BF$1,Negyedéves!BF$1<Paraméterek!$C$11*4+$C231),1,0)","v":1},{"$f":"IF(AND($C231<=BG$1,Negyedéves!BG$1<Paraméterek!$C$11*4+$C231),1,0)","v":1},{"$f":"IF(AND($C231<=BH$1,Negyedéves!BH$1<Paraméterek!$C$11*4+$C231),1,0)","v":1},{"$f":"IF(AND($C231<=BI$1,Negyedéves!BI$1<Paraméterek!$C$11*4+$C231),1,0)","v":1},{"$f":"IF(AND($C231<=BJ$1,Negyedéves!BJ$1<Paraméterek!$C$11*4+$C231),1,0)","v":1},{"$f":"IF(AND($C231<=BK$1,Negyedéves!BK$1<Paraméterek!$C$11*4+$C231),1,0)","v":1},{"$f":"IF(AND($C231<=BL$1,Negyedéves!BL$1<Paraméterek!$C$11*4+$C231),1,0)","v":1},{"$f":"IF(AND($C231<=BM$1,Negyedéves!BM$1<Paraméterek!$C$11*4+$C231),1,0)","v":1},{"$f":"IF(AND($C231<=BN$1,Negyedéves!BN$1<Paraméterek!$C$11*4+$C231),1,0)","v":1},{"$f":"IF(AND($C231<=BO$1,Negyedéves!BO$1<Paraméterek!$C$11*4+$C231),1,0)","v":1},{"$f":"IF(AND($C231<=BP$1,Negyedéves!BP$1<Paraméterek!$C$11*4+$C231),1,0)","v":1},{"$f":"IF(AND($C231<=BQ$1,Negyedéves!BQ$1<Paraméterek!$C$11*4+$C231),1,0)","v":1},{"$f":"IF(AND($C231<=BR$1,Negyedéves!BR$1<Paraméterek!$C$11*4+$C231),1,0)","v":1},{"$f":"IF(AND($C231<=BS$1,Negyedéves!BS$1<Paraméterek!$C$11*4+$C231),1,0)","v":1},"x"]
[null,0,52,{"$f":"IF(AND($C232<=D$1,Negyedéves!D$1<Paraméterek!$C$11*4+$C232),1,0)","v":0},{"$f":"IF(AND($C232<=E$1,Negyedéves!E$1<Paraméterek!$C$11*4+$C232),1,0)","v":0},{"$f":"IF(AND($C232<=F$1,Negyedéves!F$1<Paraméterek!$C$11*4+$C232),1,0)","v":0},{"$f":"IF(AND($C232<=G$1,Negyedéves!G$1<Paraméterek!$C$11*4+$C232),1,0)","v":0},{"$f":"IF(AND($C232<=H$1,Negyedéves!H$1<Paraméterek!$C$11*4+$C232),1,0)","v":0},{"$f":"IF(AND($C232<=I$1,Negyedéves!I$1<Paraméterek!$C$11*4+$C232),1,0)","v":0},{"$f":"IF(AND($C232<=J$1,Negyedéves!J$1<Paraméterek!$C$11*4+$C232),1,0)","v":0},{"$f":"IF(AND($C232<=K$1,Negyedéves!K$1<Paraméterek!$C$11*4+$C232),1,0)","v":0},{"$f":"IF(AND($C232<=L$1,Negyedéves!L$1<Paraméterek!$C$11*4+$C232),1,0)","v":0},{"$f":"IF(AND($C232<=M$1,Negyedéves!M$1<Paraméterek!$C$11*4+$C232),1,0)","v":0},{"$f":"IF(AND($C232<=N$1,Negyedéves!N$1<Paraméterek!$C$11*4+$C232),1,0)","v":0},{"$f":"IF(AND($C232<=O$1,Negyedéves!O$1<Paraméterek!$C$11*4+$C232),1,0)","v":0},{"$f":"IF(AND($C232<=P$1,Negyedéves!P$1<Paraméterek!$C$11*4+$C232),1,0)","v":0},{"$f":"IF(AND($C232<=Q$1,Negyedéves!Q$1<Paraméterek!$C$11*4+$C232),1,0)","v":0},{"$f":"IF(AND($C232<=R$1,Negyedéves!R$1<Paraméterek!$C$11*4+$C232),1,0)","v":0},{"$f":"IF(AND($C232<=S$1,Negyedéves!S$1<Paraméterek!$C$11*4+$C232),1,0)","v":0},{"$f":"IF(AND($C232<=T$1,Negyedéves!T$1<Paraméterek!$C$11*4+$C232),1,0)","v":0},{"$f":"IF(AND($C232<=U$1,Negyedéves!U$1<Paraméterek!$C$11*4+$C232),1,0)","v":0},{"$f":"IF(AND($C232<=V$1,Negyedéves!V$1<Paraméterek!$C$11*4+$C232),1,0)","v":0},{"$f":"IF(AND($C232<=W$1,Negyedéves!W$1<Paraméterek!$C$11*4+$C232),1,0)","v":0},{"$f":"IF(AND($C232<=X$1,Negyedéves!X$1<Paraméterek!$C$11*4+$C232),1,0)","v":0},{"$f":"IF(AND($C232<=Y$1,Negyedéves!Y$1<Paraméterek!$C$11*4+$C232),1,0)","v":0},{"$f":"IF(AND($C232<=Z$1,Negyedéves!Z$1<Paraméterek!$C$11*4+$C232),1,0)","v":0},{"$f":"IF(AND($C232<=AA$1,Negyedéves!AA$1<Paraméterek!$C$11*4+$C232),1,0)","v":0},{"$f":"IF(AND($C232<=AB$1,Negyedéves!AB$1<Paraméterek!$C$11*4+$C232),1,0)","v":0},{"$f":"IF(AND($C232<=AC$1,Negyedéves!AC$1<Paraméterek!$C$11*4+$C232),1,0)","v":0},{"$f":"IF(AND($C232<=AD$1,Negyedéves!AD$1<Paraméterek!$C$11*4+$C232),1,0)","v":0},{"$f":"IF(AND($C232<=AE$1,Negyedéves!AE$1<Paraméterek!$C$11*4+$C232),1,0)","v":0},{"$f":"IF(AND($C232<=AF$1,Negyedéves!AF$1<Paraméterek!$C$11*4+$C232),1,0)","v":0},{"$f":"IF(AND($C232<=AG$1,Negyedéves!AG$1<Paraméterek!$C$11*4+$C232),1,0)","v":0},{"$f":"IF(AND($C232<=AH$1,Negyedéves!AH$1<Paraméterek!$C$11*4+$C232),1,0)","v":0},{"$f":"IF(AND($C232<=AI$1,Negyedéves!AI$1<Paraméterek!$C$11*4+$C232),1,0)","v":0},{"$f":"IF(AND($C232<=AJ$1,Negyedéves!AJ$1<Paraméterek!$C$11*4+$C232),1,0)","v":0},{"$f":"IF(AND($C232<=AK$1,Negyedéves!AK$1<Paraméterek!$C$11*4+$C232),1,0)","v":0},{"$f":"IF(AND($C232<=AL$1,Negyedéves!AL$1<Paraméterek!$C$11*4+$C232),1,0)","v":0},{"$f":"IF(AND($C232<=AM$1,Negyedéves!AM$1<Paraméterek!$C$11*4+$C232),1,0)","v":0},{"$f":"IF(AND($C232<=AN$1,Negyedéves!AN$1<Paraméterek!$C$11*4+$C232),1,0)","v":0},{"$f":"IF(AND($C232<=AO$1,Negyedéves!AO$1<Paraméterek!$C$11*4+$C232),1,0)","v":0},{"$f":"IF(AND($C232<=AP$1,Negyedéves!AP$1<Paraméterek!$C$11*4+$C232),1,0)","v":0},{"$f":"IF(AND($C232<=AQ$1,Negyedéves!AQ$1<Paraméterek!$C$11*4+$C232),1,0)","v":0},{"$f":"IF(AND($C232<=AR$1,Negyedéves!AR$1<Paraméterek!$C$11*4+$C232),1,0)","v":0},{"$f":"IF(AND($C232<=AS$1,Negyedéves!AS$1<Paraméterek!$C$11*4+$C232),1,0)","v":0},{"$f":"IF(AND($C232<=AT$1,Negyedéves!AT$1<Paraméterek!$C$11*4+$C232),1,0)","v":0},{"$f":"IF(AND($C232<=AU$1,Negyedéves!AU$1<Paraméterek!$C$11*4+$C232),1,0)","v":0},{"$f":"IF(AND($C232<=AV$1,Negyedéves!AV$1<Paraméterek!$C$11*4+$C232),1,0)","v":0},{"$f":"IF(AND($C232<=AW$1,Negyedéves!AW$1<Paraméterek!$C$11*4+$C232),1,0)","v":0},{"$f":"IF(AND($C232<=AX$1,Negyedéves!AX$1<Paraméterek!$C$11*4+$C232),1,0)","v":0},{"$f":"IF(AND($C232<=AY$1,Negyedéves!AY$1<Paraméterek!$C$11*4+$C232),1,0)","v":0},{"$f":"IF(AND($C232<=AZ$1,Negyedéves!AZ$1<Paraméterek!$C$11*4+$C232),1,0)","v":0},{"$f":"IF(AND($C232<=BA$1,Negyedéves!BA$1<Paraméterek!$C$11*4+$C232),1,0)","v":0},{"$f":"IF(AND($C232<=BB$1,Negyedéves!BB$1<Paraméterek!$C$11*4+$C232),1,0)","v":0},{"$f":"IF(AND($C232<=BC$1,Negyedéves!BC$1<Paraméterek!$C$11*4+$C232),1,0)","v":1},{"$f":"IF(AND($C232<=BD$1,Negyedéves!BD$1<Paraméterek!$C$11*4+$C232),1,0)","v":1},{"$f":"IF(AND($C232<=BE$1,Negyedéves!BE$1<Paraméterek!$C$11*4+$C232),1,0)","v":1},{"$f":"IF(AND($C232<=BF$1,Negyedéves!BF$1<Paraméterek!$C$11*4+$C232),1,0)","v":1},{"$f":"IF(AND($C232<=BG$1,Negyedéves!BG$1<Paraméterek!$C$11*4+$C232),1,0)","v":1},{"$f":"IF(AND($C232<=BH$1,Negyedéves!BH$1<Paraméterek!$C$11*4+$C232),1,0)","v":1},{"$f":"IF(AND($C232<=BI$1,Negyedéves!BI$1<Paraméterek!$C$11*4+$C232),1,0)","v":1},{"$f":"IF(AND($C232<=BJ$1,Negyedéves!BJ$1<Paraméterek!$C$11*4+$C232),1,0)","v":1},{"$f":"IF(AND($C232<=BK$1,Negyedéves!BK$1<Paraméterek!$C$11*4+$C232),1,0)","v":1},{"$f":"IF(AND($C232<=BL$1,Negyedéves!BL$1<Paraméterek!$C$11*4+$C232),1,0)","v":1},{"$f":"IF(AND($C232<=BM$1,Negyedéves!BM$1<Paraméterek!$C$11*4+$C232),1,0)","v":1},{"$f":"IF(AND($C232<=BN$1,Negyedéves!BN$1<Paraméterek!$C$11*4+$C232),1,0)","v":1},{"$f":"IF(AND($C232<=BO$1,Negyedéves!BO$1<Paraméterek!$C$11*4+$C232),1,0)","v":1},{"$f":"IF(AND($C232<=BP$1,Negyedéves!BP$1<Paraméterek!$C$11*4+$C232),1,0)","v":1},{"$f":"IF(AND($C232<=BQ$1,Negyedéves!BQ$1<Paraméterek!$C$11*4+$C232),1,0)","v":1},{"$f":"IF(AND($C232<=BR$1,Negyedéves!BR$1<Paraméterek!$C$11*4+$C232),1,0)","v":1},{"$f":"IF(AND($C232<=BS$1,Negyedéves!BS$1<Paraméterek!$C$11*4+$C232),1,0)","v":1},"x"]
[null,1300026.7116433855,53,{"$f":"IF(AND($C233<=D$1,Negyedéves!D$1<Paraméterek!$C$11*4+$C233),1,0)","v":0},{"$f":"IF(AND($C233<=E$1,Negyedéves!E$1<Paraméterek!$C$11*4+$C233),1,0)","v":0},{"$f":"IF(AND($C233<=F$1,Negyedéves!F$1<Paraméterek!$C$11*4+$C233),1,0)","v":0},{"$f":"IF(AND($C233<=G$1,Negyedéves!G$1<Paraméterek!$C$11*4+$C233),1,0)","v":0},{"$f":"IF(AND($C233<=H$1,Negyedéves!H$1<Paraméterek!$C$11*4+$C233),1,0)","v":0},{"$f":"IF(AND($C233<=I$1,Negyedéves!I$1<Paraméterek!$C$11*4+$C233),1,0)","v":0},{"$f":"IF(AND($C233<=J$1,Negyedéves!J$1<Paraméterek!$C$11*4+$C233),1,0)","v":0},{"$f":"IF(AND($C233<=K$1,Negyedéves!K$1<Paraméterek!$C$11*4+$C233),1,0)","v":0},{"$f":"IF(AND($C233<=L$1,Negyedéves!L$1<Paraméterek!$C$11*4+$C233),1,0)","v":0},{"$f":"IF(AND($C233<=M$1,Negyedéves!M$1<Paraméterek!$C$11*4+$C233),1,0)","v":0},{"$f":"IF(AND($C233<=N$1,Negyedéves!N$1<Paraméterek!$C$11*4+$C233),1,0)","v":0},{"$f":"IF(AND($C233<=O$1,Negyedéves!O$1<Paraméterek!$C$11*4+$C233),1,0)","v":0},{"$f":"IF(AND($C233<=P$1,Negyedéves!P$1<Paraméterek!$C$11*4+$C233),1,0)","v":0},{"$f":"IF(AND($C233<=Q$1,Negyedéves!Q$1<Paraméterek!$C$11*4+$C233),1,0)","v":0},{"$f":"IF(AND($C233<=R$1,Negyedéves!R$1<Paraméterek!$C$11*4+$C233),1,0)","v":0},{"$f":"IF(AND($C233<=S$1,Negyedéves!S$1<Paraméterek!$C$11*4+$C233),1,0)","v":0},{"$f":"IF(AND($C233<=T$1,Negyedéves!T$1<Paraméterek!$C$11*4+$C233),1,0)","v":0},{"$f":"IF(AND($C233<=U$1,Negyedéves!U$1<Paraméterek!$C$11*4+$C233),1,0)","v":0},{"$f":"IF(AND($C233<=V$1,Negyedéves!V$1<Paraméterek!$C$11*4+$C233),1,0)","v":0},{"$f":"IF(AND($C233<=W$1,Negyedéves!W$1<Paraméterek!$C$11*4+$C233),1,0)","v":0},{"$f":"IF(AND($C233<=X$1,Negyedéves!X$1<Paraméterek!$C$11*4+$C233),1,0)","v":0},{"$f":"IF(AND($C233<=Y$1,Negyedéves!Y$1<Paraméterek!$C$11*4+$C233),1,0)","v":0},{"$f":"IF(AND($C233<=Z$1,Negyedéves!Z$1<Paraméterek!$C$11*4+$C233),1,0)","v":0},{"$f":"IF(AND($C233<=AA$1,Negyedéves!AA$1<Paraméterek!$C$11*4+$C233),1,0)","v":0},{"$f":"IF(AND($C233<=AB$1,Negyedéves!AB$1<Paraméterek!$C$11*4+$C233),1,0)","v":0},{"$f":"IF(AND($C233<=AC$1,Negyedéves!AC$1<Paraméterek!$C$11*4+$C233),1,0)","v":0},{"$f":"IF(AND($C233<=AD$1,Negyedéves!AD$1<Paraméterek!$C$11*4+$C233),1,0)","v":0},{"$f":"IF(AND($C233<=AE$1,Negyedéves!AE$1<Paraméterek!$C$11*4+$C233),1,0)","v":0},{"$f":"IF(AND($C233<=AF$1,Negyedéves!AF$1<Paraméterek!$C$11*4+$C233),1,0)","v":0},{"$f":"IF(AND($C233<=AG$1,Negyedéves!AG$1<Paraméterek!$C$11*4+$C233),1,0)","v":0},{"$f":"IF(AND($C233<=AH$1,Negyedéves!AH$1<Paraméterek!$C$11*4+$C233),1,0)","v":0},{"$f":"IF(AND($C233<=AI$1,Negyedéves!AI$1<Paraméterek!$C$11*4+$C233),1,0)","v":0},{"$f":"IF(AND($C233<=AJ$1,Negyedéves!AJ$1<Paraméterek!$C$11*4+$C233),1,0)","v":0},{"$f":"IF(AND($C233<=AK$1,Negyedéves!AK$1<Paraméterek!$C$11*4+$C233),1,0)","v":0},{"$f":"IF(AND($C233<=AL$1,Negyedéves!AL$1<Paraméterek!$C$11*4+$C233),1,0)","v":0},{"$f":"IF(AND($C233<=AM$1,Negyedéves!AM$1<Paraméterek!$C$11*4+$C233),1,0)","v":0},{"$f":"IF(AND($C233<=AN$1,Negyedéves!AN$1<Paraméterek!$C$11*4+$C233),1,0)","v":0},{"$f":"IF(AND($C233<=AO$1,Negyedéves!AO$1<Paraméterek!$C$11*4+$C233),1,0)","v":0},{"$f":"IF(AND($C233<=AP$1,Negyedéves!AP$1<Paraméterek!$C$11*4+$C233),1,0)","v":0},{"$f":"IF(AND($C233<=AQ$1,Negyedéves!AQ$1<Paraméterek!$C$11*4+$C233),1,0)","v":0},{"$f":"IF(AND($C233<=AR$1,Negyedéves!AR$1<Paraméterek!$C$11*4+$C233),1,0)","v":0},{"$f":"IF(AND($C233<=AS$1,Negyedéves!AS$1<Paraméterek!$C$11*4+$C233),1,0)","v":0},{"$f":"IF(AND($C233<=AT$1,Negyedéves!AT$1<Paraméterek!$C$11*4+$C233),1,0)","v":0},{"$f":"IF(AND($C233<=AU$1,Negyedéves!AU$1<Paraméterek!$C$11*4+$C233),1,0)","v":0},{"$f":"IF(AND($C233<=AV$1,Negyedéves!AV$1<Paraméterek!$C$11*4+$C233),1,0)","v":0},{"$f":"IF(AND($C233<=AW$1,Negyedéves!AW$1<Paraméterek!$C$11*4+$C233),1,0)","v":0},{"$f":"IF(AND($C233<=AX$1,Negyedéves!AX$1<Paraméterek!$C$11*4+$C233),1,0)","v":0},{"$f":"IF(AND($C233<=AY$1,Negyedéves!AY$1<Paraméterek!$C$11*4+$C233),1,0)","v":0},{"$f":"IF(AND($C233<=AZ$1,Negyedéves!AZ$1<Paraméterek!$C$11*4+$C233),1,0)","v":0},{"$f":"IF(AND($C233<=BA$1,Negyedéves!BA$1<Paraméterek!$C$11*4+$C233),1,0)","v":0},{"$f":"IF(AND($C233<=BB$1,Negyedéves!BB$1<Paraméterek!$C$11*4+$C233),1,0)","v":0},{"$f":"IF(AND($C233<=BC$1,Negyedéves!BC$1<Paraméterek!$C$11*4+$C233),1,0)","v":0},{"$f":"IF(AND($C233<=BD$1,Negyedéves!BD$1<Paraméterek!$C$11*4+$C233),1,0)","v":1},{"$f":"IF(AND($C233<=BE$1,Negyedéves!BE$1<Paraméterek!$C$11*4+$C233),1,0)","v":1},{"$f":"IF(AND($C233<=BF$1,Negyedéves!BF$1<Paraméterek!$C$11*4+$C233),1,0)","v":1},{"$f":"IF(AND($C233<=BG$1,Negyedéves!BG$1<Paraméterek!$C$11*4+$C233),1,0)","v":1},{"$f":"IF(AND($C233<=BH$1,Negyedéves!BH$1<Paraméterek!$C$11*4+$C233),1,0)","v":1},{"$f":"IF(AND($C233<=BI$1,Negyedéves!BI$1<Paraméterek!$C$11*4+$C233),1,0)","v":1},{"$f":"IF(AND($C233<=BJ$1,Negyedéves!BJ$1<Paraméterek!$C$11*4+$C233),1,0)","v":1},{"$f":"IF(AND($C233<=BK$1,Negyedéves!BK$1<Paraméterek!$C$11*4+$C233),1,0)","v":1},{"$f":"IF(AND($C233<=BL$1,Negyedéves!BL$1<Paraméterek!$C$11*4+$C233),1,0)","v":1},{"$f":"IF(AND($C233<=BM$1,Negyedéves!BM$1<Paraméterek!$C$11*4+$C233),1,0)","v":1},{"$f":"IF(AND($C233<=BN$1,Negyedéves!BN$1<Paraméterek!$C$11*4+$C233),1,0)","v":1},{"$f":"IF(AND($C233<=BO$1,Negyedéves!BO$1<Paraméterek!$C$11*4+$C233),1,0)","v":1},{"$f":"IF(AND($C233<=BP$1,Negyedéves!BP$1<Paraméterek!$C$11*4+$C233),1,0)","v":1},{"$f":"IF(AND($C233<=BQ$1,Negyedéves!BQ$1<Paraméterek!$C$11*4+$C233),1,0)","v":1},{"$f":"IF(AND($C233<=BR$1,Negyedéves!BR$1<Paraméterek!$C$11*4+$C233),1,0)","v":1},{"$f":"IF(AND($C233<=BS$1,Negyedéves!BS$1<Paraméterek!$C$11*4+$C233),1,0)","v":1},"x"]
[null,0,54,{"$f":"IF(AND($C234<=D$1,Negyedéves!D$1<Paraméterek!$C$11*4+$C234),1,0)","v":0},{"$f":"IF(AND($C234<=E$1,Negyedéves!E$1<Paraméterek!$C$11*4+$C234),1,0)","v":0},{"$f":"IF(AND($C234<=F$1,Negyedéves!F$1<Paraméterek!$C$11*4+$C234),1,0)","v":0},{"$f":"IF(AND($C234<=G$1,Negyedéves!G$1<Paraméterek!$C$11*4+$C234),1,0)","v":0},{"$f":"IF(AND($C234<=H$1,Negyedéves!H$1<Paraméterek!$C$11*4+$C234),1,0)","v":0},{"$f":"IF(AND($C234<=I$1,Negyedéves!I$1<Paraméterek!$C$11*4+$C234),1,0)","v":0},{"$f":"IF(AND($C234<=J$1,Negyedéves!J$1<Paraméterek!$C$11*4+$C234),1,0)","v":0},{"$f":"IF(AND($C234<=K$1,Negyedéves!K$1<Paraméterek!$C$11*4+$C234),1,0)","v":0},{"$f":"IF(AND($C234<=L$1,Negyedéves!L$1<Paraméterek!$C$11*4+$C234),1,0)","v":0},{"$f":"IF(AND($C234<=M$1,Negyedéves!M$1<Paraméterek!$C$11*4+$C234),1,0)","v":0},{"$f":"IF(AND($C234<=N$1,Negyedéves!N$1<Paraméterek!$C$11*4+$C234),1,0)","v":0},{"$f":"IF(AND($C234<=O$1,Negyedéves!O$1<Paraméterek!$C$11*4+$C234),1,0)","v":0},{"$f":"IF(AND($C234<=P$1,Negyedéves!P$1<Paraméterek!$C$11*4+$C234),1,0)","v":0},{"$f":"IF(AND($C234<=Q$1,Negyedéves!Q$1<Paraméterek!$C$11*4+$C234),1,0)","v":0},{"$f":"IF(AND($C234<=R$1,Negyedéves!R$1<Paraméterek!$C$11*4+$C234),1,0)","v":0},{"$f":"IF(AND($C234<=S$1,Negyedéves!S$1<Paraméterek!$C$11*4+$C234),1,0)","v":0},{"$f":"IF(AND($C234<=T$1,Negyedéves!T$1<Paraméterek!$C$11*4+$C234),1,0)","v":0},{"$f":"IF(AND($C234<=U$1,Negyedéves!U$1<Paraméterek!$C$11*4+$C234),1,0)","v":0},{"$f":"IF(AND($C234<=V$1,Negyedéves!V$1<Paraméterek!$C$11*4+$C234),1,0)","v":0},{"$f":"IF(AND($C234<=W$1,Negyedéves!W$1<Paraméterek!$C$11*4+$C234),1,0)","v":0},{"$f":"IF(AND($C234<=X$1,Negyedéves!X$1<Paraméterek!$C$11*4+$C234),1,0)","v":0},{"$f":"IF(AND($C234<=Y$1,Negyedéves!Y$1<Paraméterek!$C$11*4+$C234),1,0)","v":0},{"$f":"IF(AND($C234<=Z$1,Negyedéves!Z$1<Paraméterek!$C$11*4+$C234),1,0)","v":0},{"$f":"IF(AND($C234<=AA$1,Negyedéves!AA$1<Paraméterek!$C$11*4+$C234),1,0)","v":0},{"$f":"IF(AND($C234<=AB$1,Negyedéves!AB$1<Paraméterek!$C$11*4+$C234),1,0)","v":0},{"$f":"IF(AND($C234<=AC$1,Negyedéves!AC$1<Paraméterek!$C$11*4+$C234),1,0)","v":0},{"$f":"IF(AND($C234<=AD$1,Negyedéves!AD$1<Paraméterek!$C$11*4+$C234),1,0)","v":0},{"$f":"IF(AND($C234<=AE$1,Negyedéves!AE$1<Paraméterek!$C$11*4+$C234),1,0)","v":0},{"$f":"IF(AND($C234<=AF$1,Negyedéves!AF$1<Paraméterek!$C$11*4+$C234),1,0)","v":0},{"$f":"IF(AND($C234<=AG$1,Negyedéves!AG$1<Paraméterek!$C$11*4+$C234),1,0)","v":0},{"$f":"IF(AND($C234<=AH$1,Negyedéves!AH$1<Paraméterek!$C$11*4+$C234),1,0)","v":0},{"$f":"IF(AND($C234<=AI$1,Negyedéves!AI$1<Paraméterek!$C$11*4+$C234),1,0)","v":0},{"$f":"IF(AND($C234<=AJ$1,Negyedéves!AJ$1<Paraméterek!$C$11*4+$C234),1,0)","v":0},{"$f":"IF(AND($C234<=AK$1,Negyedéves!AK$1<Paraméterek!$C$11*4+$C234),1,0)","v":0},{"$f":"IF(AND($C234<=AL$1,Negyedéves!AL$1<Paraméterek!$C$11*4+$C234),1,0)","v":0},{"$f":"IF(AND($C234<=AM$1,Negyedéves!AM$1<Paraméterek!$C$11*4+$C234),1,0)","v":0},{"$f":"IF(AND($C234<=AN$1,Negyedéves!AN$1<Paraméterek!$C$11*4+$C234),1,0)","v":0},{"$f":"IF(AND($C234<=AO$1,Negyedéves!AO$1<Paraméterek!$C$11*4+$C234),1,0)","v":0},{"$f":"IF(AND($C234<=AP$1,Negyedéves!AP$1<Paraméterek!$C$11*4+$C234),1,0)","v":0},{"$f":"IF(AND($C234<=AQ$1,Negyedéves!AQ$1<Paraméterek!$C$11*4+$C234),1,0)","v":0},{"$f":"IF(AND($C234<=AR$1,Negyedéves!AR$1<Paraméterek!$C$11*4+$C234),1,0)","v":0},{"$f":"IF(AND($C234<=AS$1,Negyedéves!AS$1<Paraméterek!$C$11*4+$C234),1,0)","v":0},{"$f":"IF(AND($C234<=AT$1,Negyedéves!AT$1<Paraméterek!$C$11*4+$C234),1,0)","v":0},{"$f":"IF(AND($C234<=AU$1,Negyedéves!AU$1<Paraméterek!$C$11*4+$C234),1,0)","v":0},{"$f":"IF(AND($C234<=AV$1,Negyedéves!AV$1<Paraméterek!$C$11*4+$C234),1,0)","v":0},{"$f":"IF(AND($C234<=AW$1,Negyedéves!AW$1<Paraméterek!$C$11*4+$C234),1,0)","v":0},{"$f":"IF(AND($C234<=AX$1,Negyedéves!AX$1<Paraméterek!$C$11*4+$C234),1,0)","v":0},{"$f":"IF(AND($C234<=AY$1,Negyedéves!AY$1<Paraméterek!$C$11*4+$C234),1,0)","v":0},{"$f":"IF(AND($C234<=AZ$1,Negyedéves!AZ$1<Paraméterek!$C$11*4+$C234),1,0)","v":0},{"$f":"IF(AND($C234<=BA$1,Negyedéves!BA$1<Paraméterek!$C$11*4+$C234),1,0)","v":0},{"$f":"IF(AND($C234<=BB$1,Negyedéves!BB$1<Paraméterek!$C$11*4+$C234),1,0)","v":0},{"$f":"IF(AND($C234<=BC$1,Negyedéves!BC$1<Paraméterek!$C$11*4+$C234),1,0)","v":0},{"$f":"IF(AND($C234<=BD$1,Negyedéves!BD$1<Paraméterek!$C$11*4+$C234),1,0)","v":0},{"$f":"IF(AND($C234<=BE$1,Negyedéves!BE$1<Paraméterek!$C$11*4+$C234),1,0)","v":1},{"$f":"IF(AND($C234<=BF$1,Negyedéves!BF$1<Paraméterek!$C$11*4+$C234),1,0)","v":1},{"$f":"IF(AND($C234<=BG$1,Negyedéves!BG$1<Paraméterek!$C$11*4+$C234),1,0)","v":1},{"$f":"IF(AND($C234<=BH$1,Negyedéves!BH$1<Paraméterek!$C$11*4+$C234),1,0)","v":1},{"$f":"IF(AND($C234<=BI$1,Negyedéves!BI$1<Paraméterek!$C$11*4+$C234),1,0)","v":1},{"$f":"IF(AND($C234<=BJ$1,Negyedéves!BJ$1<Paraméterek!$C$11*4+$C234),1,0)","v":1},{"$f":"IF(AND($C234<=BK$1,Negyedéves!BK$1<Paraméterek!$C$11*4+$C234),1,0)","v":1},{"$f":"IF(AND($C234<=BL$1,Negyedéves!BL$1<Paraméterek!$C$11*4+$C234),1,0)","v":1},{"$f":"IF(AND($C234<=BM$1,Negyedéves!BM$1<Paraméterek!$C$11*4+$C234),1,0)","v":1},{"$f":"IF(AND($C234<=BN$1,Negyedéves!BN$1<Paraméterek!$C$11*4+$C234),1,0)","v":1},{"$f":"IF(AND($C234<=BO$1,Negyedéves!BO$1<Paraméterek!$C$11*4+$C234),1,0)","v":1},{"$f":"IF(AND($C234<=BP$1,Negyedéves!BP$1<Paraméterek!$C$11*4+$C234),1,0)","v":1},{"$f":"IF(AND($C234<=BQ$1,Negyedéves!BQ$1<Paraméterek!$C$11*4+$C234),1,0)","v":1},{"$f":"IF(AND($C234<=BR$1,Negyedéves!BR$1<Paraméterek!$C$11*4+$C234),1,0)","v":1},{"$f":"IF(AND($C234<=BS$1,Negyedéves!BS$1<Paraméterek!$C$11*4+$C234),1,0)","v":1},"x"]
[null,0,55,{"$f":"IF(AND($C235<=D$1,Negyedéves!D$1<Paraméterek!$C$11*4+$C235),1,0)","v":0},{"$f":"IF(AND($C235<=E$1,Negyedéves!E$1<Paraméterek!$C$11*4+$C235),1,0)","v":0},{"$f":"IF(AND($C235<=F$1,Negyedéves!F$1<Paraméterek!$C$11*4+$C235),1,0)","v":0},{"$f":"IF(AND($C235<=G$1,Negyedéves!G$1<Paraméterek!$C$11*4+$C235),1,0)","v":0},{"$f":"IF(AND($C235<=H$1,Negyedéves!H$1<Paraméterek!$C$11*4+$C235),1,0)","v":0},{"$f":"IF(AND($C235<=I$1,Negyedéves!I$1<Paraméterek!$C$11*4+$C235),1,0)","v":0},{"$f":"IF(AND($C235<=J$1,Negyedéves!J$1<Paraméterek!$C$11*4+$C235),1,0)","v":0},{"$f":"IF(AND($C235<=K$1,Negyedéves!K$1<Paraméterek!$C$11*4+$C235),1,0)","v":0},{"$f":"IF(AND($C235<=L$1,Negyedéves!L$1<Paraméterek!$C$11*4+$C235),1,0)","v":0},{"$f":"IF(AND($C235<=M$1,Negyedéves!M$1<Paraméterek!$C$11*4+$C235),1,0)","v":0},{"$f":"IF(AND($C235<=N$1,Negyedéves!N$1<Paraméterek!$C$11*4+$C235),1,0)","v":0},{"$f":"IF(AND($C235<=O$1,Negyedéves!O$1<Paraméterek!$C$11*4+$C235),1,0)","v":0},{"$f":"IF(AND($C235<=P$1,Negyedéves!P$1<Paraméterek!$C$11*4+$C235),1,0)","v":0},{"$f":"IF(AND($C235<=Q$1,Negyedéves!Q$1<Paraméterek!$C$11*4+$C235),1,0)","v":0},{"$f":"IF(AND($C235<=R$1,Negyedéves!R$1<Paraméterek!$C$11*4+$C235),1,0)","v":0},{"$f":"IF(AND($C235<=S$1,Negyedéves!S$1<Paraméterek!$C$11*4+$C235),1,0)","v":0},{"$f":"IF(AND($C235<=T$1,Negyedéves!T$1<Paraméterek!$C$11*4+$C235),1,0)","v":0},{"$f":"IF(AND($C235<=U$1,Negyedéves!U$1<Paraméterek!$C$11*4+$C235),1,0)","v":0},{"$f":"IF(AND($C235<=V$1,Negyedéves!V$1<Paraméterek!$C$11*4+$C235),1,0)","v":0},{"$f":"IF(AND($C235<=W$1,Negyedéves!W$1<Paraméterek!$C$11*4+$C235),1,0)","v":0},{"$f":"IF(AND($C235<=X$1,Negyedéves!X$1<Paraméterek!$C$11*4+$C235),1,0)","v":0},{"$f":"IF(AND($C235<=Y$1,Negyedéves!Y$1<Paraméterek!$C$11*4+$C235),1,0)","v":0},{"$f":"IF(AND($C235<=Z$1,Negyedéves!Z$1<Paraméterek!$C$11*4+$C235),1,0)","v":0},{"$f":"IF(AND($C235<=AA$1,Negyedéves!AA$1<Paraméterek!$C$11*4+$C235),1,0)","v":0},{"$f":"IF(AND($C235<=AB$1,Negyedéves!AB$1<Paraméterek!$C$11*4+$C235),1,0)","v":0},{"$f":"IF(AND($C235<=AC$1,Negyedéves!AC$1<Paraméterek!$C$11*4+$C235),1,0)","v":0},{"$f":"IF(AND($C235<=AD$1,Negyedéves!AD$1<Paraméterek!$C$11*4+$C235),1,0)","v":0},{"$f":"IF(AND($C235<=AE$1,Negyedéves!AE$1<Paraméterek!$C$11*4+$C235),1,0)","v":0},{"$f":"IF(AND($C235<=AF$1,Negyedéves!AF$1<Paraméterek!$C$11*4+$C235),1,0)","v":0},{"$f":"IF(AND($C235<=AG$1,Negyedéves!AG$1<Paraméterek!$C$11*4+$C235),1,0)","v":0},{"$f":"IF(AND($C235<=AH$1,Negyedéves!AH$1<Paraméterek!$C$11*4+$C235),1,0)","v":0},{"$f":"IF(AND($C235<=AI$1,Negyedéves!AI$1<Paraméterek!$C$11*4+$C235),1,0)","v":0},{"$f":"IF(AND($C235<=AJ$1,Negyedéves!AJ$1<Paraméterek!$C$11*4+$C235),1,0)","v":0},{"$f":"IF(AND($C235<=AK$1,Negyedéves!AK$1<Paraméterek!$C$11*4+$C235),1,0)","v":0},{"$f":"IF(AND($C235<=AL$1,Negyedéves!AL$1<Paraméterek!$C$11*4+$C235),1,0)","v":0},{"$f":"IF(AND($C235<=AM$1,Negyedéves!AM$1<Paraméterek!$C$11*4+$C235),1,0)","v":0},{"$f":"IF(AND($C235<=AN$1,Negyedéves!AN$1<Paraméterek!$C$11*4+$C235),1,0)","v":0},{"$f":"IF(AND($C235<=AO$1,Negyedéves!AO$1<Paraméterek!$C$11*4+$C235),1,0)","v":0},{"$f":"IF(AND($C235<=AP$1,Negyedéves!AP$1<Paraméterek!$C$11*4+$C235),1,0)","v":0},{"$f":"IF(AND($C235<=AQ$1,Negyedéves!AQ$1<Paraméterek!$C$11*4+$C235),1,0)","v":0},{"$f":"IF(AND($C235<=AR$1,Negyedéves!AR$1<Paraméterek!$C$11*4+$C235),1,0)","v":0},{"$f":"IF(AND($C235<=AS$1,Negyedéves!AS$1<Paraméterek!$C$11*4+$C235),1,0)","v":0},{"$f":"IF(AND($C235<=AT$1,Negyedéves!AT$1<Paraméterek!$C$11*4+$C235),1,0)","v":0},{"$f":"IF(AND($C235<=AU$1,Negyedéves!AU$1<Paraméterek!$C$11*4+$C235),1,0)","v":0},{"$f":"IF(AND($C235<=AV$1,Negyedéves!AV$1<Paraméterek!$C$11*4+$C235),1,0)","v":0},{"$f":"IF(AND($C235<=AW$1,Negyedéves!AW$1<Paraméterek!$C$11*4+$C235),1,0)","v":0},{"$f":"IF(AND($C235<=AX$1,Negyedéves!AX$1<Paraméterek!$C$11*4+$C235),1,0)","v":0},{"$f":"IF(AND($C235<=AY$1,Negyedéves!AY$1<Paraméterek!$C$11*4+$C235),1,0)","v":0},{"$f":"IF(AND($C235<=AZ$1,Negyedéves!AZ$1<Paraméterek!$C$11*4+$C235),1,0)","v":0},{"$f":"IF(AND($C235<=BA$1,Negyedéves!BA$1<Paraméterek!$C$11*4+$C235),1,0)","v":0},{"$f":"IF(AND($C235<=BB$1,Negyedéves!BB$1<Paraméterek!$C$11*4+$C235),1,0)","v":0},{"$f":"IF(AND($C235<=BC$1,Negyedéves!BC$1<Paraméterek!$C$11*4+$C235),1,0)","v":0},{"$f":"IF(AND($C235<=BD$1,Negyedéves!BD$1<Paraméterek!$C$11*4+$C235),1,0)","v":0},{"$f":"IF(AND($C235<=BE$1,Negyedéves!BE$1<Paraméterek!$C$11*4+$C235),1,0)","v":0},{"$f":"IF(AND($C235<=BF$1,Negyedéves!BF$1<Paraméterek!$C$11*4+$C235),1,0)","v":1},{"$f":"IF(AND($C235<=BG$1,Negyedéves!BG$1<Paraméterek!$C$11*4+$C235),1,0)","v":1},{"$f":"IF(AND($C235<=BH$1,Negyedéves!BH$1<Paraméterek!$C$11*4+$C235),1,0)","v":1},{"$f":"IF(AND($C235<=BI$1,Negyedéves!BI$1<Paraméterek!$C$11*4+$C235),1,0)","v":1},{"$f":"IF(AND($C235<=BJ$1,Negyedéves!BJ$1<Paraméterek!$C$11*4+$C235),1,0)","v":1},{"$f":"IF(AND($C235<=BK$1,Negyedéves!BK$1<Paraméterek!$C$11*4+$C235),1,0)","v":1},{"$f":"IF(AND($C235<=BL$1,Negyedéves!BL$1<Paraméterek!$C$11*4+$C235),1,0)","v":1},{"$f":"IF(AND($C235<=BM$1,Negyedéves!BM$1<Paraméterek!$C$11*4+$C235),1,0)","v":1},{"$f":"IF(AND($C235<=BN$1,Negyedéves!BN$1<Paraméterek!$C$11*4+$C235),1,0)","v":1},{"$f":"IF(AND($C235<=BO$1,Negyedéves!BO$1<Paraméterek!$C$11*4+$C235),1,0)","v":1},{"$f":"IF(AND($C235<=BP$1,Negyedéves!BP$1<Paraméterek!$C$11*4+$C235),1,0)","v":1},{"$f":"IF(AND($C235<=BQ$1,Negyedéves!BQ$1<Paraméterek!$C$11*4+$C235),1,0)","v":1},{"$f":"IF(AND($C235<=BR$1,Negyedéves!BR$1<Paraméterek!$C$11*4+$C235),1,0)","v":1},{"$f":"IF(AND($C235<=BS$1,Negyedéves!BS$1<Paraméterek!$C$11*4+$C235),1,0)","v":1},"x"]
[null,0,56,{"$f":"IF(AND($C236<=D$1,Negyedéves!D$1<Paraméterek!$C$11*4+$C236),1,0)","v":0},{"$f":"IF(AND($C236<=E$1,Negyedéves!E$1<Paraméterek!$C$11*4+$C236),1,0)","v":0},{"$f":"IF(AND($C236<=F$1,Negyedéves!F$1<Paraméterek!$C$11*4+$C236),1,0)","v":0},{"$f":"IF(AND($C236<=G$1,Negyedéves!G$1<Paraméterek!$C$11*4+$C236),1,0)","v":0},{"$f":"IF(AND($C236<=H$1,Negyedéves!H$1<Paraméterek!$C$11*4+$C236),1,0)","v":0},{"$f":"IF(AND($C236<=I$1,Negyedéves!I$1<Paraméterek!$C$11*4+$C236),1,0)","v":0},{"$f":"IF(AND($C236<=J$1,Negyedéves!J$1<Paraméterek!$C$11*4+$C236),1,0)","v":0},{"$f":"IF(AND($C236<=K$1,Negyedéves!K$1<Paraméterek!$C$11*4+$C236),1,0)","v":0},{"$f":"IF(AND($C236<=L$1,Negyedéves!L$1<Paraméterek!$C$11*4+$C236),1,0)","v":0},{"$f":"IF(AND($C236<=M$1,Negyedéves!M$1<Paraméterek!$C$11*4+$C236),1,0)","v":0},{"$f":"IF(AND($C236<=N$1,Negyedéves!N$1<Paraméterek!$C$11*4+$C236),1,0)","v":0},{"$f":"IF(AND($C236<=O$1,Negyedéves!O$1<Paraméterek!$C$11*4+$C236),1,0)","v":0},{"$f":"IF(AND($C236<=P$1,Negyedéves!P$1<Paraméterek!$C$11*4+$C236),1,0)","v":0},{"$f":"IF(AND($C236<=Q$1,Negyedéves!Q$1<Paraméterek!$C$11*4+$C236),1,0)","v":0},{"$f":"IF(AND($C236<=R$1,Negyedéves!R$1<Paraméterek!$C$11*4+$C236),1,0)","v":0},{"$f":"IF(AND($C236<=S$1,Negyedéves!S$1<Paraméterek!$C$11*4+$C236),1,0)","v":0},{"$f":"IF(AND($C236<=T$1,Negyedéves!T$1<Paraméterek!$C$11*4+$C236),1,0)","v":0},{"$f":"IF(AND($C236<=U$1,Negyedéves!U$1<Paraméterek!$C$11*4+$C236),1,0)","v":0},{"$f":"IF(AND($C236<=V$1,Negyedéves!V$1<Paraméterek!$C$11*4+$C236),1,0)","v":0},{"$f":"IF(AND($C236<=W$1,Negyedéves!W$1<Paraméterek!$C$11*4+$C236),1,0)","v":0},{"$f":"IF(AND($C236<=X$1,Negyedéves!X$1<Paraméterek!$C$11*4+$C236),1,0)","v":0},{"$f":"IF(AND($C236<=Y$1,Negyedéves!Y$1<Paraméterek!$C$11*4+$C236),1,0)","v":0},{"$f":"IF(AND($C236<=Z$1,Negyedéves!Z$1<Paraméterek!$C$11*4+$C236),1,0)","v":0},{"$f":"IF(AND($C236<=AA$1,Negyedéves!AA$1<Paraméterek!$C$11*4+$C236),1,0)","v":0},{"$f":"IF(AND($C236<=AB$1,Negyedéves!AB$1<Paraméterek!$C$11*4+$C236),1,0)","v":0},{"$f":"IF(AND($C236<=AC$1,Negyedéves!AC$1<Paraméterek!$C$11*4+$C236),1,0)","v":0},{"$f":"IF(AND($C236<=AD$1,Negyedéves!AD$1<Paraméterek!$C$11*4+$C236),1,0)","v":0},{"$f":"IF(AND($C236<=AE$1,Negyedéves!AE$1<Paraméterek!$C$11*4+$C236),1,0)","v":0},{"$f":"IF(AND($C236<=AF$1,Negyedéves!AF$1<Paraméterek!$C$11*4+$C236),1,0)","v":0},{"$f":"IF(AND($C236<=AG$1,Negyedéves!AG$1<Paraméterek!$C$11*4+$C236),1,0)","v":0},{"$f":"IF(AND($C236<=AH$1,Negyedéves!AH$1<Paraméterek!$C$11*4+$C236),1,0)","v":0},{"$f":"IF(AND($C236<=AI$1,Negyedéves!AI$1<Paraméterek!$C$11*4+$C236),1,0)","v":0},{"$f":"IF(AND($C236<=AJ$1,Negyedéves!AJ$1<Paraméterek!$C$11*4+$C236),1,0)","v":0},{"$f":"IF(AND($C236<=AK$1,Negyedéves!AK$1<Paraméterek!$C$11*4+$C236),1,0)","v":0},{"$f":"IF(AND($C236<=AL$1,Negyedéves!AL$1<Paraméterek!$C$11*4+$C236),1,0)","v":0},{"$f":"IF(AND($C236<=AM$1,Negyedéves!AM$1<Paraméterek!$C$11*4+$C236),1,0)","v":0},{"$f":"IF(AND($C236<=AN$1,Negyedéves!AN$1<Paraméterek!$C$11*4+$C236),1,0)","v":0},{"$f":"IF(AND($C236<=AO$1,Negyedéves!AO$1<Paraméterek!$C$11*4+$C236),1,0)","v":0},{"$f":"IF(AND($C236<=AP$1,Negyedéves!AP$1<Paraméterek!$C$11*4+$C236),1,0)","v":0},{"$f":"IF(AND($C236<=AQ$1,Negyedéves!AQ$1<Paraméterek!$C$11*4+$C236),1,0)","v":0},{"$f":"IF(AND($C236<=AR$1,Negyedéves!AR$1<Paraméterek!$C$11*4+$C236),1,0)","v":0},{"$f":"IF(AND($C236<=AS$1,Negyedéves!AS$1<Paraméterek!$C$11*4+$C236),1,0)","v":0},{"$f":"IF(AND($C236<=AT$1,Negyedéves!AT$1<Paraméterek!$C$11*4+$C236),1,0)","v":0},{"$f":"IF(AND($C236<=AU$1,Negyedéves!AU$1<Paraméterek!$C$11*4+$C236),1,0)","v":0},{"$f":"IF(AND($C236<=AV$1,Negyedéves!AV$1<Paraméterek!$C$11*4+$C236),1,0)","v":0},{"$f":"IF(AND($C236<=AW$1,Negyedéves!AW$1<Paraméterek!$C$11*4+$C236),1,0)","v":0},{"$f":"IF(AND($C236<=AX$1,Negyedéves!AX$1<Paraméterek!$C$11*4+$C236),1,0)","v":0},{"$f":"IF(AND($C236<=AY$1,Negyedéves!AY$1<Paraméterek!$C$11*4+$C236),1,0)","v":0},{"$f":"IF(AND($C236<=AZ$1,Negyedéves!AZ$1<Paraméterek!$C$11*4+$C236),1,0)","v":0},{"$f":"IF(AND($C236<=BA$1,Negyedéves!BA$1<Paraméterek!$C$11*4+$C236),1,0)","v":0},{"$f":"IF(AND($C236<=BB$1,Negyedéves!BB$1<Paraméterek!$C$11*4+$C236),1,0)","v":0},{"$f":"IF(AND($C236<=BC$1,Negyedéves!BC$1<Paraméterek!$C$11*4+$C236),1,0)","v":0},{"$f":"IF(AND($C236<=BD$1,Negyedéves!BD$1<Paraméterek!$C$11*4+$C236),1,0)","v":0},{"$f":"IF(AND($C236<=BE$1,Negyedéves!BE$1<Paraméterek!$C$11*4+$C236),1,0)","v":0},{"$f":"IF(AND($C236<=BF$1,Negyedéves!BF$1<Paraméterek!$C$11*4+$C236),1,0)","v":0},{"$f":"IF(AND($C236<=BG$1,Negyedéves!BG$1<Paraméterek!$C$11*4+$C236),1,0)","v":1},{"$f":"IF(AND($C236<=BH$1,Negyedéves!BH$1<Paraméterek!$C$11*4+$C236),1,0)","v":1},{"$f":"IF(AND($C236<=BI$1,Negyedéves!BI$1<Paraméterek!$C$11*4+$C236),1,0)","v":1},{"$f":"IF(AND($C236<=BJ$1,Negyedéves!BJ$1<Paraméterek!$C$11*4+$C236),1,0)","v":1},{"$f":"IF(AND($C236<=BK$1,Negyedéves!BK$1<Paraméterek!$C$11*4+$C236),1,0)","v":1},{"$f":"IF(AND($C236<=BL$1,Negyedéves!BL$1<Paraméterek!$C$11*4+$C236),1,0)","v":1},{"$f":"IF(AND($C236<=BM$1,Negyedéves!BM$1<Paraméterek!$C$11*4+$C236),1,0)","v":1},{"$f":"IF(AND($C236<=BN$1,Negyedéves!BN$1<Paraméterek!$C$11*4+$C236),1,0)","v":1},{"$f":"IF(AND($C236<=BO$1,Negyedéves!BO$1<Paraméterek!$C$11*4+$C236),1,0)","v":1},{"$f":"IF(AND($C236<=BP$1,Negyedéves!BP$1<Paraméterek!$C$11*4+$C236),1,0)","v":1},{"$f":"IF(AND($C236<=BQ$1,Negyedéves!BQ$1<Paraméterek!$C$11*4+$C236),1,0)","v":1},{"$f":"IF(AND($C236<=BR$1,Negyedéves!BR$1<Paraméterek!$C$11*4+$C236),1,0)","v":1},{"$f":"IF(AND($C236<=BS$1,Negyedéves!BS$1<Paraméterek!$C$11*4+$C236),1,0)","v":1},"x"]
[null,1326027.2458762536,57,{"$f":"IF(AND($C237<=D$1,Negyedéves!D$1<Paraméterek!$C$11*4+$C237),1,0)","v":0},{"$f":"IF(AND($C237<=E$1,Negyedéves!E$1<Paraméterek!$C$11*4+$C237),1,0)","v":0},{"$f":"IF(AND($C237<=F$1,Negyedéves!F$1<Paraméterek!$C$11*4+$C237),1,0)","v":0},{"$f":"IF(AND($C237<=G$1,Negyedéves!G$1<Paraméterek!$C$11*4+$C237),1,0)","v":0},{"$f":"IF(AND($C237<=H$1,Negyedéves!H$1<Paraméterek!$C$11*4+$C237),1,0)","v":0},{"$f":"IF(AND($C237<=I$1,Negyedéves!I$1<Paraméterek!$C$11*4+$C237),1,0)","v":0},{"$f":"IF(AND($C237<=J$1,Negyedéves!J$1<Paraméterek!$C$11*4+$C237),1,0)","v":0},{"$f":"IF(AND($C237<=K$1,Negyedéves!K$1<Paraméterek!$C$11*4+$C237),1,0)","v":0},{"$f":"IF(AND($C237<=L$1,Negyedéves!L$1<Paraméterek!$C$11*4+$C237),1,0)","v":0},{"$f":"IF(AND($C237<=M$1,Negyedéves!M$1<Paraméterek!$C$11*4+$C237),1,0)","v":0},{"$f":"IF(AND($C237<=N$1,Negyedéves!N$1<Paraméterek!$C$11*4+$C237),1,0)","v":0},{"$f":"IF(AND($C237<=O$1,Negyedéves!O$1<Paraméterek!$C$11*4+$C237),1,0)","v":0},{"$f":"IF(AND($C237<=P$1,Negyedéves!P$1<Paraméterek!$C$11*4+$C237),1,0)","v":0},{"$f":"IF(AND($C237<=Q$1,Negyedéves!Q$1<Paraméterek!$C$11*4+$C237),1,0)","v":0},{"$f":"IF(AND($C237<=R$1,Negyedéves!R$1<Paraméterek!$C$11*4+$C237),1,0)","v":0},{"$f":"IF(AND($C237<=S$1,Negyedéves!S$1<Paraméterek!$C$11*4+$C237),1,0)","v":0},{"$f":"IF(AND($C237<=T$1,Negyedéves!T$1<Paraméterek!$C$11*4+$C237),1,0)","v":0},{"$f":"IF(AND($C237<=U$1,Negyedéves!U$1<Paraméterek!$C$11*4+$C237),1,0)","v":0},{"$f":"IF(AND($C237<=V$1,Negyedéves!V$1<Paraméterek!$C$11*4+$C237),1,0)","v":0},{"$f":"IF(AND($C237<=W$1,Negyedéves!W$1<Paraméterek!$C$11*4+$C237),1,0)","v":0},{"$f":"IF(AND($C237<=X$1,Negyedéves!X$1<Paraméterek!$C$11*4+$C237),1,0)","v":0},{"$f":"IF(AND($C237<=Y$1,Negyedéves!Y$1<Paraméterek!$C$11*4+$C237),1,0)","v":0},{"$f":"IF(AND($C237<=Z$1,Negyedéves!Z$1<Paraméterek!$C$11*4+$C237),1,0)","v":0},{"$f":"IF(AND($C237<=AA$1,Negyedéves!AA$1<Paraméterek!$C$11*4+$C237),1,0)","v":0},{"$f":"IF(AND($C237<=AB$1,Negyedéves!AB$1<Paraméterek!$C$11*4+$C237),1,0)","v":0},{"$f":"IF(AND($C237<=AC$1,Negyedéves!AC$1<Paraméterek!$C$11*4+$C237),1,0)","v":0},{"$f":"IF(AND($C237<=AD$1,Negyedéves!AD$1<Paraméterek!$C$11*4+$C237),1,0)","v":0},{"$f":"IF(AND($C237<=AE$1,Negyedéves!AE$1<Paraméterek!$C$11*4+$C237),1,0)","v":0},{"$f":"IF(AND($C237<=AF$1,Negyedéves!AF$1<Paraméterek!$C$11*4+$C237),1,0)","v":0},{"$f":"IF(AND($C237<=AG$1,Negyedéves!AG$1<Paraméterek!$C$11*4+$C237),1,0)","v":0},{"$f":"IF(AND($C237<=AH$1,Negyedéves!AH$1<Paraméterek!$C$11*4+$C237),1,0)","v":0},{"$f":"IF(AND($C237<=AI$1,Negyedéves!AI$1<Paraméterek!$C$11*4+$C237),1,0)","v":0},{"$f":"IF(AND($C237<=AJ$1,Negyedéves!AJ$1<Paraméterek!$C$11*4+$C237),1,0)","v":0},{"$f":"IF(AND($C237<=AK$1,Negyedéves!AK$1<Paraméterek!$C$11*4+$C237),1,0)","v":0},{"$f":"IF(AND($C237<=AL$1,Negyedéves!AL$1<Paraméterek!$C$11*4+$C237),1,0)","v":0},{"$f":"IF(AND($C237<=AM$1,Negyedéves!AM$1<Paraméterek!$C$11*4+$C237),1,0)","v":0},{"$f":"IF(AND($C237<=AN$1,Negyedéves!AN$1<Paraméterek!$C$11*4+$C237),1,0)","v":0},{"$f":"IF(AND($C237<=AO$1,Negyedéves!AO$1<Paraméterek!$C$11*4+$C237),1,0)","v":0},{"$f":"IF(AND($C237<=AP$1,Negyedéves!AP$1<Paraméterek!$C$11*4+$C237),1,0)","v":0},{"$f":"IF(AND($C237<=AQ$1,Negyedéves!AQ$1<Paraméterek!$C$11*4+$C237),1,0)","v":0},{"$f":"IF(AND($C237<=AR$1,Negyedéves!AR$1<Paraméterek!$C$11*4+$C237),1,0)","v":0},{"$f":"IF(AND($C237<=AS$1,Negyedéves!AS$1<Paraméterek!$C$11*4+$C237),1,0)","v":0},{"$f":"IF(AND($C237<=AT$1,Negyedéves!AT$1<Paraméterek!$C$11*4+$C237),1,0)","v":0},{"$f":"IF(AND($C237<=AU$1,Negyedéves!AU$1<Paraméterek!$C$11*4+$C237),1,0)","v":0},{"$f":"IF(AND($C237<=AV$1,Negyedéves!AV$1<Paraméterek!$C$11*4+$C237),1,0)","v":0},{"$f":"IF(AND($C237<=AW$1,Negyedéves!AW$1<Paraméterek!$C$11*4+$C237),1,0)","v":0},{"$f":"IF(AND($C237<=AX$1,Negyedéves!AX$1<Paraméterek!$C$11*4+$C237),1,0)","v":0},{"$f":"IF(AND($C237<=AY$1,Negyedéves!AY$1<Paraméterek!$C$11*4+$C237),1,0)","v":0},{"$f":"IF(AND($C237<=AZ$1,Negyedéves!AZ$1<Paraméterek!$C$11*4+$C237),1,0)","v":0},{"$f":"IF(AND($C237<=BA$1,Negyedéves!BA$1<Paraméterek!$C$11*4+$C237),1,0)","v":0},{"$f":"IF(AND($C237<=BB$1,Negyedéves!BB$1<Paraméterek!$C$11*4+$C237),1,0)","v":0},{"$f":"IF(AND($C237<=BC$1,Negyedéves!BC$1<Paraméterek!$C$11*4+$C237),1,0)","v":0},{"$f":"IF(AND($C237<=BD$1,Negyedéves!BD$1<Paraméterek!$C$11*4+$C237),1,0)","v":0},{"$f":"IF(AND($C237<=BE$1,Negyedéves!BE$1<Paraméterek!$C$11*4+$C237),1,0)","v":0},{"$f":"IF(AND($C237<=BF$1,Negyedéves!BF$1<Paraméterek!$C$11*4+$C237),1,0)","v":0},{"$f":"IF(AND($C237<=BG$1,Negyedéves!BG$1<Paraméterek!$C$11*4+$C237),1,0)","v":0},{"$f":"IF(AND($C237<=BH$1,Negyedéves!BH$1<Paraméterek!$C$11*4+$C237),1,0)","v":1},{"$f":"IF(AND($C237<=BI$1,Negyedéves!BI$1<Paraméterek!$C$11*4+$C237),1,0)","v":1},{"$f":"IF(AND($C237<=BJ$1,Negyedéves!BJ$1<Paraméterek!$C$11*4+$C237),1,0)","v":1},{"$f":"IF(AND($C237<=BK$1,Negyedéves!BK$1<Paraméterek!$C$11*4+$C237),1,0)","v":1},{"$f":"IF(AND($C237<=BL$1,Negyedéves!BL$1<Paraméterek!$C$11*4+$C237),1,0)","v":1},{"$f":"IF(AND($C237<=BM$1,Negyedéves!BM$1<Paraméterek!$C$11*4+$C237),1,0)","v":1},{"$f":"IF(AND($C237<=BN$1,Negyedéves!BN$1<Paraméterek!$C$11*4+$C237),1,0)","v":1},{"$f":"IF(AND($C237<=BO$1,Negyedéves!BO$1<Paraméterek!$C$11*4+$C237),1,0)","v":1},{"$f":"IF(AND($C237<=BP$1,Negyedéves!BP$1<Paraméterek!$C$11*4+$C237),1,0)","v":1},{"$f":"IF(AND($C237<=BQ$1,Negyedéves!BQ$1<Paraméterek!$C$11*4+$C237),1,0)","v":1},{"$f":"IF(AND($C237<=BR$1,Negyedéves!BR$1<Paraméterek!$C$11*4+$C237),1,0)","v":1},{"$f":"IF(AND($C237<=BS$1,Negyedéves!BS$1<Paraméterek!$C$11*4+$C237),1,0)","v":1},"x"]
[null,0,58,{"$f":"IF(AND($C238<=D$1,Negyedéves!D$1<Paraméterek!$C$11*4+$C238),1,0)","v":0},{"$f":"IF(AND($C238<=E$1,Negyedéves!E$1<Paraméterek!$C$11*4+$C238),1,0)","v":0},{"$f":"IF(AND($C238<=F$1,Negyedéves!F$1<Paraméterek!$C$11*4+$C238),1,0)","v":0},{"$f":"IF(AND($C238<=G$1,Negyedéves!G$1<Paraméterek!$C$11*4+$C238),1,0)","v":0},{"$f":"IF(AND($C238<=H$1,Negyedéves!H$1<Paraméterek!$C$11*4+$C238),1,0)","v":0},{"$f":"IF(AND($C238<=I$1,Negyedéves!I$1<Paraméterek!$C$11*4+$C238),1,0)","v":0},{"$f":"IF(AND($C238<=J$1,Negyedéves!J$1<Paraméterek!$C$11*4+$C238),1,0)","v":0},{"$f":"IF(AND($C238<=K$1,Negyedéves!K$1<Paraméterek!$C$11*4+$C238),1,0)","v":0},{"$f":"IF(AND($C238<=L$1,Negyedéves!L$1<Paraméterek!$C$11*4+$C238),1,0)","v":0},{"$f":"IF(AND($C238<=M$1,Negyedéves!M$1<Paraméterek!$C$11*4+$C238),1,0)","v":0},{"$f":"IF(AND($C238<=N$1,Negyedéves!N$1<Paraméterek!$C$11*4+$C238),1,0)","v":0},{"$f":"IF(AND($C238<=O$1,Negyedéves!O$1<Paraméterek!$C$11*4+$C238),1,0)","v":0},{"$f":"IF(AND($C238<=P$1,Negyedéves!P$1<Paraméterek!$C$11*4+$C238),1,0)","v":0},{"$f":"IF(AND($C238<=Q$1,Negyedéves!Q$1<Paraméterek!$C$11*4+$C238),1,0)","v":0},{"$f":"IF(AND($C238<=R$1,Negyedéves!R$1<Paraméterek!$C$11*4+$C238),1,0)","v":0},{"$f":"IF(AND($C238<=S$1,Negyedéves!S$1<Paraméterek!$C$11*4+$C238),1,0)","v":0},{"$f":"IF(AND($C238<=T$1,Negyedéves!T$1<Paraméterek!$C$11*4+$C238),1,0)","v":0},{"$f":"IF(AND($C238<=U$1,Negyedéves!U$1<Paraméterek!$C$11*4+$C238),1,0)","v":0},{"$f":"IF(AND($C238<=V$1,Negyedéves!V$1<Paraméterek!$C$11*4+$C238),1,0)","v":0},{"$f":"IF(AND($C238<=W$1,Negyedéves!W$1<Paraméterek!$C$11*4+$C238),1,0)","v":0},{"$f":"IF(AND($C238<=X$1,Negyedéves!X$1<Paraméterek!$C$11*4+$C238),1,0)","v":0},{"$f":"IF(AND($C238<=Y$1,Negyedéves!Y$1<Paraméterek!$C$11*4+$C238),1,0)","v":0},{"$f":"IF(AND($C238<=Z$1,Negyedéves!Z$1<Paraméterek!$C$11*4+$C238),1,0)","v":0},{"$f":"IF(AND($C238<=AA$1,Negyedéves!AA$1<Paraméterek!$C$11*4+$C238),1,0)","v":0},{"$f":"IF(AND($C238<=AB$1,Negyedéves!AB$1<Paraméterek!$C$11*4+$C238),1,0)","v":0},{"$f":"IF(AND($C238<=AC$1,Negyedéves!AC$1<Paraméterek!$C$11*4+$C238),1,0)","v":0},{"$f":"IF(AND($C238<=AD$1,Negyedéves!AD$1<Paraméterek!$C$11*4+$C238),1,0)","v":0},{"$f":"IF(AND($C238<=AE$1,Negyedéves!AE$1<Paraméterek!$C$11*4+$C238),1,0)","v":0},{"$f":"IF(AND($C238<=AF$1,Negyedéves!AF$1<Paraméterek!$C$11*4+$C238),1,0)","v":0},{"$f":"IF(AND($C238<=AG$1,Negyedéves!AG$1<Paraméterek!$C$11*4+$C238),1,0)","v":0},{"$f":"IF(AND($C238<=AH$1,Negyedéves!AH$1<Paraméterek!$C$11*4+$C238),1,0)","v":0},{"$f":"IF(AND($C238<=AI$1,Negyedéves!AI$1<Paraméterek!$C$11*4+$C238),1,0)","v":0},{"$f":"IF(AND($C238<=AJ$1,Negyedéves!AJ$1<Paraméterek!$C$11*4+$C238),1,0)","v":0},{"$f":"IF(AND($C238<=AK$1,Negyedéves!AK$1<Paraméterek!$C$11*4+$C238),1,0)","v":0},{"$f":"IF(AND($C238<=AL$1,Negyedéves!AL$1<Paraméterek!$C$11*4+$C238),1,0)","v":0},{"$f":"IF(AND($C238<=AM$1,Negyedéves!AM$1<Paraméterek!$C$11*4+$C238),1,0)","v":0},{"$f":"IF(AND($C238<=AN$1,Negyedéves!AN$1<Paraméterek!$C$11*4+$C238),1,0)","v":0},{"$f":"IF(AND($C238<=AO$1,Negyedéves!AO$1<Paraméterek!$C$11*4+$C238),1,0)","v":0},{"$f":"IF(AND($C238<=AP$1,Negyedéves!AP$1<Paraméterek!$C$11*4+$C238),1,0)","v":0},{"$f":"IF(AND($C238<=AQ$1,Negyedéves!AQ$1<Paraméterek!$C$11*4+$C238),1,0)","v":0},{"$f":"IF(AND($C238<=AR$1,Negyedéves!AR$1<Paraméterek!$C$11*4+$C238),1,0)","v":0},{"$f":"IF(AND($C238<=AS$1,Negyedéves!AS$1<Paraméterek!$C$11*4+$C238),1,0)","v":0},{"$f":"IF(AND($C238<=AT$1,Negyedéves!AT$1<Paraméterek!$C$11*4+$C238),1,0)","v":0},{"$f":"IF(AND($C238<=AU$1,Negyedéves!AU$1<Paraméterek!$C$11*4+$C238),1,0)","v":0},{"$f":"IF(AND($C238<=AV$1,Negyedéves!AV$1<Paraméterek!$C$11*4+$C238),1,0)","v":0},{"$f":"IF(AND($C238<=AW$1,Negyedéves!AW$1<Paraméterek!$C$11*4+$C238),1,0)","v":0},{"$f":"IF(AND($C238<=AX$1,Negyedéves!AX$1<Paraméterek!$C$11*4+$C238),1,0)","v":0},{"$f":"IF(AND($C238<=AY$1,Negyedéves!AY$1<Paraméterek!$C$11*4+$C238),1,0)","v":0},{"$f":"IF(AND($C238<=AZ$1,Negyedéves!AZ$1<Paraméterek!$C$11*4+$C238),1,0)","v":0},{"$f":"IF(AND($C238<=BA$1,Negyedéves!BA$1<Paraméterek!$C$11*4+$C238),1,0)","v":0},{"$f":"IF(AND($C238<=BB$1,Negyedéves!BB$1<Paraméterek!$C$11*4+$C238),1,0)","v":0},{"$f":"IF(AND($C238<=BC$1,Negyedéves!BC$1<Paraméterek!$C$11*4+$C238),1,0)","v":0},{"$f":"IF(AND($C238<=BD$1,Negyedéves!BD$1<Paraméterek!$C$11*4+$C238),1,0)","v":0},{"$f":"IF(AND($C238<=BE$1,Negyedéves!BE$1<Paraméterek!$C$11*4+$C238),1,0)","v":0},{"$f":"IF(AND($C238<=BF$1,Negyedéves!BF$1<Paraméterek!$C$11*4+$C238),1,0)","v":0},{"$f":"IF(AND($C238<=BG$1,Negyedéves!BG$1<Paraméterek!$C$11*4+$C238),1,0)","v":0},{"$f":"IF(AND($C238<=BH$1,Negyedéves!BH$1<Paraméterek!$C$11*4+$C238),1,0)","v":0},{"$f":"IF(AND($C238<=BI$1,Negyedéves!BI$1<Paraméterek!$C$11*4+$C238),1,0)","v":1},{"$f":"IF(AND($C238<=BJ$1,Negyedéves!BJ$1<Paraméterek!$C$11*4+$C238),1,0)","v":1},{"$f":"IF(AND($C238<=BK$1,Negyedéves!BK$1<Paraméterek!$C$11*4+$C238),1,0)","v":1},{"$f":"IF(AND($C238<=BL$1,Negyedéves!BL$1<Paraméterek!$C$11*4+$C238),1,0)","v":1},{"$f":"IF(AND($C238<=BM$1,Negyedéves!BM$1<Paraméterek!$C$11*4+$C238),1,0)","v":1},{"$f":"IF(AND($C238<=BN$1,Negyedéves!BN$1<Paraméterek!$C$11*4+$C238),1,0)","v":1},{"$f":"IF(AND($C238<=BO$1,Negyedéves!BO$1<Paraméterek!$C$11*4+$C238),1,0)","v":1},{"$f":"IF(AND($C238<=BP$1,Negyedéves!BP$1<Paraméterek!$C$11*4+$C238),1,0)","v":1},{"$f":"IF(AND($C238<=BQ$1,Negyedéves!BQ$1<Paraméterek!$C$11*4+$C238),1,0)","v":1},{"$f":"IF(AND($C238<=BR$1,Negyedéves!BR$1<Paraméterek!$C$11*4+$C238),1,0)","v":1},{"$f":"IF(AND($C238<=BS$1,Negyedéves!BS$1<Paraméterek!$C$11*4+$C238),1,0)","v":1},"x"]
[null,0,59,{"$f":"IF(AND($C239<=D$1,Negyedéves!D$1<Paraméterek!$C$11*4+$C239),1,0)","v":0},{"$f":"IF(AND($C239<=E$1,Negyedéves!E$1<Paraméterek!$C$11*4+$C239),1,0)","v":0},{"$f":"IF(AND($C239<=F$1,Negyedéves!F$1<Paraméterek!$C$11*4+$C239),1,0)","v":0},{"$f":"IF(AND($C239<=G$1,Negyedéves!G$1<Paraméterek!$C$11*4+$C239),1,0)","v":0},{"$f":"IF(AND($C239<=H$1,Negyedéves!H$1<Paraméterek!$C$11*4+$C239),1,0)","v":0},{"$f":"IF(AND($C239<=I$1,Negyedéves!I$1<Paraméterek!$C$11*4+$C239),1,0)","v":0},{"$f":"IF(AND($C239<=J$1,Negyedéves!J$1<Paraméterek!$C$11*4+$C239),1,0)","v":0},{"$f":"IF(AND($C239<=K$1,Negyedéves!K$1<Paraméterek!$C$11*4+$C239),1,0)","v":0},{"$f":"IF(AND($C239<=L$1,Negyedéves!L$1<Paraméterek!$C$11*4+$C239),1,0)","v":0},{"$f":"IF(AND($C239<=M$1,Negyedéves!M$1<Paraméterek!$C$11*4+$C239),1,0)","v":0},{"$f":"IF(AND($C239<=N$1,Negyedéves!N$1<Paraméterek!$C$11*4+$C239),1,0)","v":0},{"$f":"IF(AND($C239<=O$1,Negyedéves!O$1<Paraméterek!$C$11*4+$C239),1,0)","v":0},{"$f":"IF(AND($C239<=P$1,Negyedéves!P$1<Paraméterek!$C$11*4+$C239),1,0)","v":0},{"$f":"IF(AND($C239<=Q$1,Negyedéves!Q$1<Paraméterek!$C$11*4+$C239),1,0)","v":0},{"$f":"IF(AND($C239<=R$1,Negyedéves!R$1<Paraméterek!$C$11*4+$C239),1,0)","v":0},{"$f":"IF(AND($C239<=S$1,Negyedéves!S$1<Paraméterek!$C$11*4+$C239),1,0)","v":0},{"$f":"IF(AND($C239<=T$1,Negyedéves!T$1<Paraméterek!$C$11*4+$C239),1,0)","v":0},{"$f":"IF(AND($C239<=U$1,Negyedéves!U$1<Paraméterek!$C$11*4+$C239),1,0)","v":0},{"$f":"IF(AND($C239<=V$1,Negyedéves!V$1<Paraméterek!$C$11*4+$C239),1,0)","v":0},{"$f":"IF(AND($C239<=W$1,Negyedéves!W$1<Paraméterek!$C$11*4+$C239),1,0)","v":0},{"$f":"IF(AND($C239<=X$1,Negyedéves!X$1<Paraméterek!$C$11*4+$C239),1,0)","v":0},{"$f":"IF(AND($C239<=Y$1,Negyedéves!Y$1<Paraméterek!$C$11*4+$C239),1,0)","v":0},{"$f":"IF(AND($C239<=Z$1,Negyedéves!Z$1<Paraméterek!$C$11*4+$C239),1,0)","v":0},{"$f":"IF(AND($C239<=AA$1,Negyedéves!AA$1<Paraméterek!$C$11*4+$C239),1,0)","v":0},{"$f":"IF(AND($C239<=AB$1,Negyedéves!AB$1<Paraméterek!$C$11*4+$C239),1,0)","v":0},{"$f":"IF(AND($C239<=AC$1,Negyedéves!AC$1<Paraméterek!$C$11*4+$C239),1,0)","v":0},{"$f":"IF(AND($C239<=AD$1,Negyedéves!AD$1<Paraméterek!$C$11*4+$C239),1,0)","v":0},{"$f":"IF(AND($C239<=AE$1,Negyedéves!AE$1<Paraméterek!$C$11*4+$C239),1,0)","v":0},{"$f":"IF(AND($C239<=AF$1,Negyedéves!AF$1<Paraméterek!$C$11*4+$C239),1,0)","v":0},{"$f":"IF(AND($C239<=AG$1,Negyedéves!AG$1<Paraméterek!$C$11*4+$C239),1,0)","v":0},{"$f":"IF(AND($C239<=AH$1,Negyedéves!AH$1<Paraméterek!$C$11*4+$C239),1,0)","v":0},{"$f":"IF(AND($C239<=AI$1,Negyedéves!AI$1<Paraméterek!$C$11*4+$C239),1,0)","v":0},{"$f":"IF(AND($C239<=AJ$1,Negyedéves!AJ$1<Paraméterek!$C$11*4+$C239),1,0)","v":0},{"$f":"IF(AND($C239<=AK$1,Negyedéves!AK$1<Paraméterek!$C$11*4+$C239),1,0)","v":0},{"$f":"IF(AND($C239<=AL$1,Negyedéves!AL$1<Paraméterek!$C$11*4+$C239),1,0)","v":0},{"$f":"IF(AND($C239<=AM$1,Negyedéves!AM$1<Paraméterek!$C$11*4+$C239),1,0)","v":0},{"$f":"IF(AND($C239<=AN$1,Negyedéves!AN$1<Paraméterek!$C$11*4+$C239),1,0)","v":0},{"$f":"IF(AND($C239<=AO$1,Negyedéves!AO$1<Paraméterek!$C$11*4+$C239),1,0)","v":0},{"$f":"IF(AND($C239<=AP$1,Negyedéves!AP$1<Paraméterek!$C$11*4+$C239),1,0)","v":0},{"$f":"IF(AND($C239<=AQ$1,Negyedéves!AQ$1<Paraméterek!$C$11*4+$C239),1,0)","v":0},{"$f":"IF(AND($C239<=AR$1,Negyedéves!AR$1<Paraméterek!$C$11*4+$C239),1,0)","v":0},{"$f":"IF(AND($C239<=AS$1,Negyedéves!AS$1<Paraméterek!$C$11*4+$C239),1,0)","v":0},{"$f":"IF(AND($C239<=AT$1,Negyedéves!AT$1<Paraméterek!$C$11*4+$C239),1,0)","v":0},{"$f":"IF(AND($C239<=AU$1,Negyedéves!AU$1<Paraméterek!$C$11*4+$C239),1,0)","v":0},{"$f":"IF(AND($C239<=AV$1,Negyedéves!AV$1<Paraméterek!$C$11*4+$C239),1,0)","v":0},{"$f":"IF(AND($C239<=AW$1,Negyedéves!AW$1<Paraméterek!$C$11*4+$C239),1,0)","v":0},{"$f":"IF(AND($C239<=AX$1,Negyedéves!AX$1<Paraméterek!$C$11*4+$C239),1,0)","v":0},{"$f":"IF(AND($C239<=AY$1,Negyedéves!AY$1<Paraméterek!$C$11*4+$C239),1,0)","v":0},{"$f":"IF(AND($C239<=AZ$1,Negyedéves!AZ$1<Paraméterek!$C$11*4+$C239),1,0)","v":0},{"$f":"IF(AND($C239<=BA$1,Negyedéves!BA$1<Paraméterek!$C$11*4+$C239),1,0)","v":0},{"$f":"IF(AND($C239<=BB$1,Negyedéves!BB$1<Paraméterek!$C$11*4+$C239),1,0)","v":0},{"$f":"IF(AND($C239<=BC$1,Negyedéves!BC$1<Paraméterek!$C$11*4+$C239),1,0)","v":0},{"$f":"IF(AND($C239<=BD$1,Negyedéves!BD$1<Paraméterek!$C$11*4+$C239),1,0)","v":0},{"$f":"IF(AND($C239<=BE$1,Negyedéves!BE$1<Paraméterek!$C$11*4+$C239),1,0)","v":0},{"$f":"IF(AND($C239<=BF$1,Negyedéves!BF$1<Paraméterek!$C$11*4+$C239),1,0)","v":0},{"$f":"IF(AND($C239<=BG$1,Negyedéves!BG$1<Paraméterek!$C$11*4+$C239),1,0)","v":0},{"$f":"IF(AND($C239<=BH$1,Negyedéves!BH$1<Paraméterek!$C$11*4+$C239),1,0)","v":0},{"$f":"IF(AND($C239<=BI$1,Negyedéves!BI$1<Paraméterek!$C$11*4+$C239),1,0)","v":0},{"$f":"IF(AND($C239<=BJ$1,Negyedéves!BJ$1<Paraméterek!$C$11*4+$C239),1,0)","v":1},{"$f":"IF(AND($C239<=BK$1,Negyedéves!BK$1<Paraméterek!$C$11*4+$C239),1,0)","v":1},{"$f":"IF(AND($C239<=BL$1,Negyedéves!BL$1<Paraméterek!$C$11*4+$C239),1,0)","v":1},{"$f":"IF(AND($C239<=BM$1,Negyedéves!BM$1<Paraméterek!$C$11*4+$C239),1,0)","v":1},{"$f":"IF(AND($C239<=BN$1,Negyedéves!BN$1<Paraméterek!$C$11*4+$C239),1,0)","v":1},{"$f":"IF(AND($C239<=BO$1,Negyedéves!BO$1<Paraméterek!$C$11*4+$C239),1,0)","v":1},{"$f":"IF(AND($C239<=BP$1,Negyedéves!BP$1<Paraméterek!$C$11*4+$C239),1,0)","v":1},{"$f":"IF(AND($C239<=BQ$1,Negyedéves!BQ$1<Paraméterek!$C$11*4+$C239),1,0)","v":1},{"$f":"IF(AND($C239<=BR$1,Negyedéves!BR$1<Paraméterek!$C$11*4+$C239),1,0)","v":1},{"$f":"IF(AND($C239<=BS$1,Negyedéves!BS$1<Paraméterek!$C$11*4+$C239),1,0)","v":1},"x"]
[null,0,60,{"$f":"IF(AND($C240<=D$1,Negyedéves!D$1<Paraméterek!$C$11*4+$C240),1,0)","v":0},{"$f":"IF(AND($C240<=E$1,Negyedéves!E$1<Paraméterek!$C$11*4+$C240),1,0)","v":0},{"$f":"IF(AND($C240<=F$1,Negyedéves!F$1<Paraméterek!$C$11*4+$C240),1,0)","v":0},{"$f":"IF(AND($C240<=G$1,Negyedéves!G$1<Paraméterek!$C$11*4+$C240),1,0)","v":0},{"$f":"IF(AND($C240<=H$1,Negyedéves!H$1<Paraméterek!$C$11*4+$C240),1,0)","v":0},{"$f":"IF(AND($C240<=I$1,Negyedéves!I$1<Paraméterek!$C$11*4+$C240),1,0)","v":0},{"$f":"IF(AND($C240<=J$1,Negyedéves!J$1<Paraméterek!$C$11*4+$C240),1,0)","v":0},{"$f":"IF(AND($C240<=K$1,Negyedéves!K$1<Paraméterek!$C$11*4+$C240),1,0)","v":0},{"$f":"IF(AND($C240<=L$1,Negyedéves!L$1<Paraméterek!$C$11*4+$C240),1,0)","v":0},{"$f":"IF(AND($C240<=M$1,Negyedéves!M$1<Paraméterek!$C$11*4+$C240),1,0)","v":0},{"$f":"IF(AND($C240<=N$1,Negyedéves!N$1<Paraméterek!$C$11*4+$C240),1,0)","v":0},{"$f":"IF(AND($C240<=O$1,Negyedéves!O$1<Paraméterek!$C$11*4+$C240),1,0)","v":0},{"$f":"IF(AND($C240<=P$1,Negyedéves!P$1<Paraméterek!$C$11*4+$C240),1,0)","v":0},{"$f":"IF(AND($C240<=Q$1,Negyedéves!Q$1<Paraméterek!$C$11*4+$C240),1,0)","v":0},{"$f":"IF(AND($C240<=R$1,Negyedéves!R$1<Paraméterek!$C$11*4+$C240),1,0)","v":0},{"$f":"IF(AND($C240<=S$1,Negyedéves!S$1<Paraméterek!$C$11*4+$C240),1,0)","v":0},{"$f":"IF(AND($C240<=T$1,Negyedéves!T$1<Paraméterek!$C$11*4+$C240),1,0)","v":0},{"$f":"IF(AND($C240<=U$1,Negyedéves!U$1<Paraméterek!$C$11*4+$C240),1,0)","v":0},{"$f":"IF(AND($C240<=V$1,Negyedéves!V$1<Paraméterek!$C$11*4+$C240),1,0)","v":0},{"$f":"IF(AND($C240<=W$1,Negyedéves!W$1<Paraméterek!$C$11*4+$C240),1,0)","v":0},{"$f":"IF(AND($C240<=X$1,Negyedéves!X$1<Paraméterek!$C$11*4+$C240),1,0)","v":0},{"$f":"IF(AND($C240<=Y$1,Negyedéves!Y$1<Paraméterek!$C$11*4+$C240),1,0)","v":0},{"$f":"IF(AND($C240<=Z$1,Negyedéves!Z$1<Paraméterek!$C$11*4+$C240),1,0)","v":0},{"$f":"IF(AND($C240<=AA$1,Negyedéves!AA$1<Paraméterek!$C$11*4+$C240),1,0)","v":0},{"$f":"IF(AND($C240<=AB$1,Negyedéves!AB$1<Paraméterek!$C$11*4+$C240),1,0)","v":0},{"$f":"IF(AND($C240<=AC$1,Negyedéves!AC$1<Paraméterek!$C$11*4+$C240),1,0)","v":0},{"$f":"IF(AND($C240<=AD$1,Negyedéves!AD$1<Paraméterek!$C$11*4+$C240),1,0)","v":0},{"$f":"IF(AND($C240<=AE$1,Negyedéves!AE$1<Paraméterek!$C$11*4+$C240),1,0)","v":0},{"$f":"IF(AND($C240<=AF$1,Negyedéves!AF$1<Paraméterek!$C$11*4+$C240),1,0)","v":0},{"$f":"IF(AND($C240<=AG$1,Negyedéves!AG$1<Paraméterek!$C$11*4+$C240),1,0)","v":0},{"$f":"IF(AND($C240<=AH$1,Negyedéves!AH$1<Paraméterek!$C$11*4+$C240),1,0)","v":0},{"$f":"IF(AND($C240<=AI$1,Negyedéves!AI$1<Paraméterek!$C$11*4+$C240),1,0)","v":0},{"$f":"IF(AND($C240<=AJ$1,Negyedéves!AJ$1<Paraméterek!$C$11*4+$C240),1,0)","v":0},{"$f":"IF(AND($C240<=AK$1,Negyedéves!AK$1<Paraméterek!$C$11*4+$C240),1,0)","v":0},{"$f":"IF(AND($C240<=AL$1,Negyedéves!AL$1<Paraméterek!$C$11*4+$C240),1,0)","v":0},{"$f":"IF(AND($C240<=AM$1,Negyedéves!AM$1<Paraméterek!$C$11*4+$C240),1,0)","v":0},{"$f":"IF(AND($C240<=AN$1,Negyedéves!AN$1<Paraméterek!$C$11*4+$C240),1,0)","v":0},{"$f":"IF(AND($C240<=AO$1,Negyedéves!AO$1<Paraméterek!$C$11*4+$C240),1,0)","v":0},{"$f":"IF(AND($C240<=AP$1,Negyedéves!AP$1<Paraméterek!$C$11*4+$C240),1,0)","v":0},{"$f":"IF(AND($C240<=AQ$1,Negyedéves!AQ$1<Paraméterek!$C$11*4+$C240),1,0)","v":0},{"$f":"IF(AND($C240<=AR$1,Negyedéves!AR$1<Paraméterek!$C$11*4+$C240),1,0)","v":0},{"$f":"IF(AND($C240<=AS$1,Negyedéves!AS$1<Paraméterek!$C$11*4+$C240),1,0)","v":0},{"$f":"IF(AND($C240<=AT$1,Negyedéves!AT$1<Paraméterek!$C$11*4+$C240),1,0)","v":0},{"$f":"IF(AND($C240<=AU$1,Negyedéves!AU$1<Paraméterek!$C$11*4+$C240),1,0)","v":0},{"$f":"IF(AND($C240<=AV$1,Negyedéves!AV$1<Paraméterek!$C$11*4+$C240),1,0)","v":0},{"$f":"IF(AND($C240<=AW$1,Negyedéves!AW$1<Paraméterek!$C$11*4+$C240),1,0)","v":0},{"$f":"IF(AND($C240<=AX$1,Negyedéves!AX$1<Paraméterek!$C$11*4+$C240),1,0)","v":0},{"$f":"IF(AND($C240<=AY$1,Negyedéves!AY$1<Paraméterek!$C$11*4+$C240),1,0)","v":0},{"$f":"IF(AND($C240<=AZ$1,Negyedéves!AZ$1<Paraméterek!$C$11*4+$C240),1,0)","v":0},{"$f":"IF(AND($C240<=BA$1,Negyedéves!BA$1<Paraméterek!$C$11*4+$C240),1,0)","v":0},{"$f":"IF(AND($C240<=BB$1,Negyedéves!BB$1<Paraméterek!$C$11*4+$C240),1,0)","v":0},{"$f":"IF(AND($C240<=BC$1,Negyedéves!BC$1<Paraméterek!$C$11*4+$C240),1,0)","v":0},{"$f":"IF(AND($C240<=BD$1,Negyedéves!BD$1<Paraméterek!$C$11*4+$C240),1,0)","v":0},{"$f":"IF(AND($C240<=BE$1,Negyedéves!BE$1<Paraméterek!$C$11*4+$C240),1,0)","v":0},{"$f":"IF(AND($C240<=BF$1,Negyedéves!BF$1<Paraméterek!$C$11*4+$C240),1,0)","v":0},{"$f":"IF(AND($C240<=BG$1,Negyedéves!BG$1<Paraméterek!$C$11*4+$C240),1,0)","v":0},{"$f":"IF(AND($C240<=BH$1,Negyedéves!BH$1<Paraméterek!$C$11*4+$C240),1,0)","v":0},{"$f":"IF(AND($C240<=BI$1,Negyedéves!BI$1<Paraméterek!$C$11*4+$C240),1,0)","v":0},{"$f":"IF(AND($C240<=BJ$1,Negyedéves!BJ$1<Paraméterek!$C$11*4+$C240),1,0)","v":0},{"$f":"IF(AND($C240<=BK$1,Negyedéves!BK$1<Paraméterek!$C$11*4+$C240),1,0)","v":1},{"$f":"IF(AND($C240<=BL$1,Negyedéves!BL$1<Paraméterek!$C$11*4+$C240),1,0)","v":1},{"$f":"IF(AND($C240<=BM$1,Negyedéves!BM$1<Paraméterek!$C$11*4+$C240),1,0)","v":1},{"$f":"IF(AND($C240<=BN$1,Negyedéves!BN$1<Paraméterek!$C$11*4+$C240),1,0)","v":1},{"$f":"IF(AND($C240<=BO$1,Negyedéves!BO$1<Paraméterek!$C$11*4+$C240),1,0)","v":1},{"$f":"IF(AND($C240<=BP$1,Negyedéves!BP$1<Paraméterek!$C$11*4+$C240),1,0)","v":1},{"$f":"IF(AND($C240<=BQ$1,Negyedéves!BQ$1<Paraméterek!$C$11*4+$C240),1,0)","v":1},{"$f":"IF(AND($C240<=BR$1,Negyedéves!BR$1<Paraméterek!$C$11*4+$C240),1,0)","v":1},{"$f":"IF(AND($C240<=BS$1,Negyedéves!BS$1<Paraméterek!$C$11*4+$C240),1,0)","v":1},"x"]
[null,1352547.7907937791,61,{"$f":"IF(AND($C241<=D$1,Negyedéves!D$1<Paraméterek!$C$11*4+$C241),1,0)","v":0},{"$f":"IF(AND($C241<=E$1,Negyedéves!E$1<Paraméterek!$C$11*4+$C241),1,0)","v":0},{"$f":"IF(AND($C241<=F$1,Negyedéves!F$1<Paraméterek!$C$11*4+$C241),1,0)","v":0},{"$f":"IF(AND($C241<=G$1,Negyedéves!G$1<Paraméterek!$C$11*4+$C241),1,0)","v":0},{"$f":"IF(AND($C241<=H$1,Negyedéves!H$1<Paraméterek!$C$11*4+$C241),1,0)","v":0},{"$f":"IF(AND($C241<=I$1,Negyedéves!I$1<Paraméterek!$C$11*4+$C241),1,0)","v":0},{"$f":"IF(AND($C241<=J$1,Negyedéves!J$1<Paraméterek!$C$11*4+$C241),1,0)","v":0},{"$f":"IF(AND($C241<=K$1,Negyedéves!K$1<Paraméterek!$C$11*4+$C241),1,0)","v":0},{"$f":"IF(AND($C241<=L$1,Negyedéves!L$1<Paraméterek!$C$11*4+$C241),1,0)","v":0},{"$f":"IF(AND($C241<=M$1,Negyedéves!M$1<Paraméterek!$C$11*4+$C241),1,0)","v":0},{"$f":"IF(AND($C241<=N$1,Negyedéves!N$1<Paraméterek!$C$11*4+$C241),1,0)","v":0},{"$f":"IF(AND($C241<=O$1,Negyedéves!O$1<Paraméterek!$C$11*4+$C241),1,0)","v":0},{"$f":"IF(AND($C241<=P$1,Negyedéves!P$1<Paraméterek!$C$11*4+$C241),1,0)","v":0},{"$f":"IF(AND($C241<=Q$1,Negyedéves!Q$1<Paraméterek!$C$11*4+$C241),1,0)","v":0},{"$f":"IF(AND($C241<=R$1,Negyedéves!R$1<Paraméterek!$C$11*4+$C241),1,0)","v":0},{"$f":"IF(AND($C241<=S$1,Negyedéves!S$1<Paraméterek!$C$11*4+$C241),1,0)","v":0},{"$f":"IF(AND($C241<=T$1,Negyedéves!T$1<Paraméterek!$C$11*4+$C241),1,0)","v":0},{"$f":"IF(AND($C241<=U$1,Negyedéves!U$1<Paraméterek!$C$11*4+$C241),1,0)","v":0},{"$f":"IF(AND($C241<=V$1,Negyedéves!V$1<Paraméterek!$C$11*4+$C241),1,0)","v":0},{"$f":"IF(AND($C241<=W$1,Negyedéves!W$1<Paraméterek!$C$11*4+$C241),1,0)","v":0},{"$f":"IF(AND($C241<=X$1,Negyedéves!X$1<Paraméterek!$C$11*4+$C241),1,0)","v":0},{"$f":"IF(AND($C241<=Y$1,Negyedéves!Y$1<Paraméterek!$C$11*4+$C241),1,0)","v":0},{"$f":"IF(AND($C241<=Z$1,Negyedéves!Z$1<Paraméterek!$C$11*4+$C241),1,0)","v":0},{"$f":"IF(AND($C241<=AA$1,Negyedéves!AA$1<Paraméterek!$C$11*4+$C241),1,0)","v":0},{"$f":"IF(AND($C241<=AB$1,Negyedéves!AB$1<Paraméterek!$C$11*4+$C241),1,0)","v":0},{"$f":"IF(AND($C241<=AC$1,Negyedéves!AC$1<Paraméterek!$C$11*4+$C241),1,0)","v":0},{"$f":"IF(AND($C241<=AD$1,Negyedéves!AD$1<Paraméterek!$C$11*4+$C241),1,0)","v":0},{"$f":"IF(AND($C241<=AE$1,Negyedéves!AE$1<Paraméterek!$C$11*4+$C241),1,0)","v":0},{"$f":"IF(AND($C241<=AF$1,Negyedéves!AF$1<Paraméterek!$C$11*4+$C241),1,0)","v":0},{"$f":"IF(AND($C241<=AG$1,Negyedéves!AG$1<Paraméterek!$C$11*4+$C241),1,0)","v":0},{"$f":"IF(AND($C241<=AH$1,Negyedéves!AH$1<Paraméterek!$C$11*4+$C241),1,0)","v":0},{"$f":"IF(AND($C241<=AI$1,Negyedéves!AI$1<Paraméterek!$C$11*4+$C241),1,0)","v":0},{"$f":"IF(AND($C241<=AJ$1,Negyedéves!AJ$1<Paraméterek!$C$11*4+$C241),1,0)","v":0},{"$f":"IF(AND($C241<=AK$1,Negyedéves!AK$1<Paraméterek!$C$11*4+$C241),1,0)","v":0},{"$f":"IF(AND($C241<=AL$1,Negyedéves!AL$1<Paraméterek!$C$11*4+$C241),1,0)","v":0},{"$f":"IF(AND($C241<=AM$1,Negyedéves!AM$1<Paraméterek!$C$11*4+$C241),1,0)","v":0},{"$f":"IF(AND($C241<=AN$1,Negyedéves!AN$1<Paraméterek!$C$11*4+$C241),1,0)","v":0},{"$f":"IF(AND($C241<=AO$1,Negyedéves!AO$1<Paraméterek!$C$11*4+$C241),1,0)","v":0},{"$f":"IF(AND($C241<=AP$1,Negyedéves!AP$1<Paraméterek!$C$11*4+$C241),1,0)","v":0},{"$f":"IF(AND($C241<=AQ$1,Negyedéves!AQ$1<Paraméterek!$C$11*4+$C241),1,0)","v":0},{"$f":"IF(AND($C241<=AR$1,Negyedéves!AR$1<Paraméterek!$C$11*4+$C241),1,0)","v":0},{"$f":"IF(AND($C241<=AS$1,Negyedéves!AS$1<Paraméterek!$C$11*4+$C241),1,0)","v":0},{"$f":"IF(AND($C241<=AT$1,Negyedéves!AT$1<Paraméterek!$C$11*4+$C241),1,0)","v":0},{"$f":"IF(AND($C241<=AU$1,Negyedéves!AU$1<Paraméterek!$C$11*4+$C241),1,0)","v":0},{"$f":"IF(AND($C241<=AV$1,Negyedéves!AV$1<Paraméterek!$C$11*4+$C241),1,0)","v":0},{"$f":"IF(AND($C241<=AW$1,Negyedéves!AW$1<Paraméterek!$C$11*4+$C241),1,0)","v":0},{"$f":"IF(AND($C241<=AX$1,Negyedéves!AX$1<Paraméterek!$C$11*4+$C241),1,0)","v":0},{"$f":"IF(AND($C241<=AY$1,Negyedéves!AY$1<Paraméterek!$C$11*4+$C241),1,0)","v":0},{"$f":"IF(AND($C241<=AZ$1,Negyedéves!AZ$1<Paraméterek!$C$11*4+$C241),1,0)","v":0},{"$f":"IF(AND($C241<=BA$1,Negyedéves!BA$1<Paraméterek!$C$11*4+$C241),1,0)","v":0},{"$f":"IF(AND($C241<=BB$1,Negyedéves!BB$1<Paraméterek!$C$11*4+$C241),1,0)","v":0},{"$f":"IF(AND($C241<=BC$1,Negyedéves!BC$1<Paraméterek!$C$11*4+$C241),1,0)","v":0},{"$f":"IF(AND($C241<=BD$1,Negyedéves!BD$1<Paraméterek!$C$11*4+$C241),1,0)","v":0},{"$f":"IF(AND($C241<=BE$1,Negyedéves!BE$1<Paraméterek!$C$11*4+$C241),1,0)","v":0},{"$f":"IF(AND($C241<=BF$1,Negyedéves!BF$1<Paraméterek!$C$11*4+$C241),1,0)","v":0},{"$f":"IF(AND($C241<=BG$1,Negyedéves!BG$1<Paraméterek!$C$11*4+$C241),1,0)","v":0},{"$f":"IF(AND($C241<=BH$1,Negyedéves!BH$1<Paraméterek!$C$11*4+$C241),1,0)","v":0},{"$f":"IF(AND($C241<=BI$1,Negyedéves!BI$1<Paraméterek!$C$11*4+$C241),1,0)","v":0},{"$f":"IF(AND($C241<=BJ$1,Negyedéves!BJ$1<Paraméterek!$C$11*4+$C241),1,0)","v":0},{"$f":"IF(AND($C241<=BK$1,Negyedéves!BK$1<Paraméterek!$C$11*4+$C241),1,0)","v":0},{"$f":"IF(AND($C241<=BL$1,Negyedéves!BL$1<Paraméterek!$C$11*4+$C241),1,0)","v":1},{"$f":"IF(AND($C241<=BM$1,Negyedéves!BM$1<Paraméterek!$C$11*4+$C241),1,0)","v":1},{"$f":"IF(AND($C241<=BN$1,Negyedéves!BN$1<Paraméterek!$C$11*4+$C241),1,0)","v":1},{"$f":"IF(AND($C241<=BO$1,Negyedéves!BO$1<Paraméterek!$C$11*4+$C241),1,0)","v":1},{"$f":"IF(AND($C241<=BP$1,Negyedéves!BP$1<Paraméterek!$C$11*4+$C241),1,0)","v":1},{"$f":"IF(AND($C241<=BQ$1,Negyedéves!BQ$1<Paraméterek!$C$11*4+$C241),1,0)","v":1},{"$f":"IF(AND($C241<=BR$1,Negyedéves!BR$1<Paraméterek!$C$11*4+$C241),1,0)","v":1},{"$f":"IF(AND($C241<=BS$1,Negyedéves!BS$1<Paraméterek!$C$11*4+$C241),1,0)","v":1},"x"]
[null,0,62,{"$f":"IF(AND($C242<=D$1,Negyedéves!D$1<Paraméterek!$C$11*4+$C242),1,0)","v":0},{"$f":"IF(AND($C242<=E$1,Negyedéves!E$1<Paraméterek!$C$11*4+$C242),1,0)","v":0},{"$f":"IF(AND($C242<=F$1,Negyedéves!F$1<Paraméterek!$C$11*4+$C242),1,0)","v":0},{"$f":"IF(AND($C242<=G$1,Negyedéves!G$1<Paraméterek!$C$11*4+$C242),1,0)","v":0},{"$f":"IF(AND($C242<=H$1,Negyedéves!H$1<Paraméterek!$C$11*4+$C242),1,0)","v":0},{"$f":"IF(AND($C242<=I$1,Negyedéves!I$1<Paraméterek!$C$11*4+$C242),1,0)","v":0},{"$f":"IF(AND($C242<=J$1,Negyedéves!J$1<Paraméterek!$C$11*4+$C242),1,0)","v":0},{"$f":"IF(AND($C242<=K$1,Negyedéves!K$1<Paraméterek!$C$11*4+$C242),1,0)","v":0},{"$f":"IF(AND($C242<=L$1,Negyedéves!L$1<Paraméterek!$C$11*4+$C242),1,0)","v":0},{"$f":"IF(AND($C242<=M$1,Negyedéves!M$1<Paraméterek!$C$11*4+$C242),1,0)","v":0},{"$f":"IF(AND($C242<=N$1,Negyedéves!N$1<Paraméterek!$C$11*4+$C242),1,0)","v":0},{"$f":"IF(AND($C242<=O$1,Negyedéves!O$1<Paraméterek!$C$11*4+$C242),1,0)","v":0},{"$f":"IF(AND($C242<=P$1,Negyedéves!P$1<Paraméterek!$C$11*4+$C242),1,0)","v":0},{"$f":"IF(AND($C242<=Q$1,Negyedéves!Q$1<Paraméterek!$C$11*4+$C242),1,0)","v":0},{"$f":"IF(AND($C242<=R$1,Negyedéves!R$1<Paraméterek!$C$11*4+$C242),1,0)","v":0},{"$f":"IF(AND($C242<=S$1,Negyedéves!S$1<Paraméterek!$C$11*4+$C242),1,0)","v":0},{"$f":"IF(AND($C242<=T$1,Negyedéves!T$1<Paraméterek!$C$11*4+$C242),1,0)","v":0},{"$f":"IF(AND($C242<=U$1,Negyedéves!U$1<Paraméterek!$C$11*4+$C242),1,0)","v":0},{"$f":"IF(AND($C242<=V$1,Negyedéves!V$1<Paraméterek!$C$11*4+$C242),1,0)","v":0},{"$f":"IF(AND($C242<=W$1,Negyedéves!W$1<Paraméterek!$C$11*4+$C242),1,0)","v":0},{"$f":"IF(AND($C242<=X$1,Negyedéves!X$1<Paraméterek!$C$11*4+$C242),1,0)","v":0},{"$f":"IF(AND($C242<=Y$1,Negyedéves!Y$1<Paraméterek!$C$11*4+$C242),1,0)","v":0},{"$f":"IF(AND($C242<=Z$1,Negyedéves!Z$1<Paraméterek!$C$11*4+$C242),1,0)","v":0},{"$f":"IF(AND($C242<=AA$1,Negyedéves!AA$1<Paraméterek!$C$11*4+$C242),1,0)","v":0},{"$f":"IF(AND($C242<=AB$1,Negyedéves!AB$1<Paraméterek!$C$11*4+$C242),1,0)","v":0},{"$f":"IF(AND($C242<=AC$1,Negyedéves!AC$1<Paraméterek!$C$11*4+$C242),1,0)","v":0},{"$f":"IF(AND($C242<=AD$1,Negyedéves!AD$1<Paraméterek!$C$11*4+$C242),1,0)","v":0},{"$f":"IF(AND($C242<=AE$1,Negyedéves!AE$1<Paraméterek!$C$11*4+$C242),1,0)","v":0},{"$f":"IF(AND($C242<=AF$1,Negyedéves!AF$1<Paraméterek!$C$11*4+$C242),1,0)","v":0},{"$f":"IF(AND($C242<=AG$1,Negyedéves!AG$1<Paraméterek!$C$11*4+$C242),1,0)","v":0},{"$f":"IF(AND($C242<=AH$1,Negyedéves!AH$1<Paraméterek!$C$11*4+$C242),1,0)","v":0},{"$f":"IF(AND($C242<=AI$1,Negyedéves!AI$1<Paraméterek!$C$11*4+$C242),1,0)","v":0},{"$f":"IF(AND($C242<=AJ$1,Negyedéves!AJ$1<Paraméterek!$C$11*4+$C242),1,0)","v":0},{"$f":"IF(AND($C242<=AK$1,Negyedéves!AK$1<Paraméterek!$C$11*4+$C242),1,0)","v":0},{"$f":"IF(AND($C242<=AL$1,Negyedéves!AL$1<Paraméterek!$C$11*4+$C242),1,0)","v":0},{"$f":"IF(AND($C242<=AM$1,Negyedéves!AM$1<Paraméterek!$C$11*4+$C242),1,0)","v":0},{"$f":"IF(AND($C242<=AN$1,Negyedéves!AN$1<Paraméterek!$C$11*4+$C242),1,0)","v":0},{"$f":"IF(AND($C242<=AO$1,Negyedéves!AO$1<Paraméterek!$C$11*4+$C242),1,0)","v":0},{"$f":"IF(AND($C242<=AP$1,Negyedéves!AP$1<Paraméterek!$C$11*4+$C242),1,0)","v":0},{"$f":"IF(AND($C242<=AQ$1,Negyedéves!AQ$1<Paraméterek!$C$11*4+$C242),1,0)","v":0},{"$f":"IF(AND($C242<=AR$1,Negyedéves!AR$1<Paraméterek!$C$11*4+$C242),1,0)","v":0},{"$f":"IF(AND($C242<=AS$1,Negyedéves!AS$1<Paraméterek!$C$11*4+$C242),1,0)","v":0},{"$f":"IF(AND($C242<=AT$1,Negyedéves!AT$1<Paraméterek!$C$11*4+$C242),1,0)","v":0},{"$f":"IF(AND($C242<=AU$1,Negyedéves!AU$1<Paraméterek!$C$11*4+$C242),1,0)","v":0},{"$f":"IF(AND($C242<=AV$1,Negyedéves!AV$1<Paraméterek!$C$11*4+$C242),1,0)","v":0},{"$f":"IF(AND($C242<=AW$1,Negyedéves!AW$1<Paraméterek!$C$11*4+$C242),1,0)","v":0},{"$f":"IF(AND($C242<=AX$1,Negyedéves!AX$1<Paraméterek!$C$11*4+$C242),1,0)","v":0},{"$f":"IF(AND($C242<=AY$1,Negyedéves!AY$1<Paraméterek!$C$11*4+$C242),1,0)","v":0},{"$f":"IF(AND($C242<=AZ$1,Negyedéves!AZ$1<Paraméterek!$C$11*4+$C242),1,0)","v":0},{"$f":"IF(AND($C242<=BA$1,Negyedéves!BA$1<Paraméterek!$C$11*4+$C242),1,0)","v":0},{"$f":"IF(AND($C242<=BB$1,Negyedéves!BB$1<Paraméterek!$C$11*4+$C242),1,0)","v":0},{"$f":"IF(AND($C242<=BC$1,Negyedéves!BC$1<Paraméterek!$C$11*4+$C242),1,0)","v":0},{"$f":"IF(AND($C242<=BD$1,Negyedéves!BD$1<Paraméterek!$C$11*4+$C242),1,0)","v":0},{"$f":"IF(AND($C242<=BE$1,Negyedéves!BE$1<Paraméterek!$C$11*4+$C242),1,0)","v":0},{"$f":"IF(AND($C242<=BF$1,Negyedéves!BF$1<Paraméterek!$C$11*4+$C242),1,0)","v":0},{"$f":"IF(AND($C242<=BG$1,Negyedéves!BG$1<Paraméterek!$C$11*4+$C242),1,0)","v":0},{"$f":"IF(AND($C242<=BH$1,Negyedéves!BH$1<Paraméterek!$C$11*4+$C242),1,0)","v":0},{"$f":"IF(AND($C242<=BI$1,Negyedéves!BI$1<Paraméterek!$C$11*4+$C242),1,0)","v":0},{"$f":"IF(AND($C242<=BJ$1,Negyedéves!BJ$1<Paraméterek!$C$11*4+$C242),1,0)","v":0},{"$f":"IF(AND($C242<=BK$1,Negyedéves!BK$1<Paraméterek!$C$11*4+$C242),1,0)","v":0},{"$f":"IF(AND($C242<=BL$1,Negyedéves!BL$1<Paraméterek!$C$11*4+$C242),1,0)","v":0},{"$f":"IF(AND($C242<=BM$1,Negyedéves!BM$1<Paraméterek!$C$11*4+$C242),1,0)","v":1},{"$f":"IF(AND($C242<=BN$1,Negyedéves!BN$1<Paraméterek!$C$11*4+$C242),1,0)","v":1},{"$f":"IF(AND($C242<=BO$1,Negyedéves!BO$1<Paraméterek!$C$11*4+$C242),1,0)","v":1},{"$f":"IF(AND($C242<=BP$1,Negyedéves!BP$1<Paraméterek!$C$11*4+$C242),1,0)","v":1},{"$f":"IF(AND($C242<=BQ$1,Negyedéves!BQ$1<Paraméterek!$C$11*4+$C242),1,0)","v":1},{"$f":"IF(AND($C242<=BR$1,Negyedéves!BR$1<Paraméterek!$C$11*4+$C242),1,0)","v":1},{"$f":"IF(AND($C242<=BS$1,Negyedéves!BS$1<Paraméterek!$C$11*4+$C242),1,0)","v":1},"x"]
[null,0,63,{"$f":"IF(AND($C243<=D$1,Negyedéves!D$1<Paraméterek!$C$11*4+$C243),1,0)","v":0},{"$f":"IF(AND($C243<=E$1,Negyedéves!E$1<Paraméterek!$C$11*4+$C243),1,0)","v":0},{"$f":"IF(AND($C243<=F$1,Negyedéves!F$1<Paraméterek!$C$11*4+$C243),1,0)","v":0},{"$f":"IF(AND($C243<=G$1,Negyedéves!G$1<Paraméterek!$C$11*4+$C243),1,0)","v":0},{"$f":"IF(AND($C243<=H$1,Negyedéves!H$1<Paraméterek!$C$11*4+$C243),1,0)","v":0},{"$f":"IF(AND($C243<=I$1,Negyedéves!I$1<Paraméterek!$C$11*4+$C243),1,0)","v":0},{"$f":"IF(AND($C243<=J$1,Negyedéves!J$1<Paraméterek!$C$11*4+$C243),1,0)","v":0},{"$f":"IF(AND($C243<=K$1,Negyedéves!K$1<Paraméterek!$C$11*4+$C243),1,0)","v":0},{"$f":"IF(AND($C243<=L$1,Negyedéves!L$1<Paraméterek!$C$11*4+$C243),1,0)","v":0},{"$f":"IF(AND($C243<=M$1,Negyedéves!M$1<Paraméterek!$C$11*4+$C243),1,0)","v":0},{"$f":"IF(AND($C243<=N$1,Negyedéves!N$1<Paraméterek!$C$11*4+$C243),1,0)","v":0},{"$f":"IF(AND($C243<=O$1,Negyedéves!O$1<Paraméterek!$C$11*4+$C243),1,0)","v":0},{"$f":"IF(AND($C243<=P$1,Negyedéves!P$1<Paraméterek!$C$11*4+$C243),1,0)","v":0},{"$f":"IF(AND($C243<=Q$1,Negyedéves!Q$1<Paraméterek!$C$11*4+$C243),1,0)","v":0},{"$f":"IF(AND($C243<=R$1,Negyedéves!R$1<Paraméterek!$C$11*4+$C243),1,0)","v":0},{"$f":"IF(AND($C243<=S$1,Negyedéves!S$1<Paraméterek!$C$11*4+$C243),1,0)","v":0},{"$f":"IF(AND($C243<=T$1,Negyedéves!T$1<Paraméterek!$C$11*4+$C243),1,0)","v":0},{"$f":"IF(AND($C243<=U$1,Negyedéves!U$1<Paraméterek!$C$11*4+$C243),1,0)","v":0},{"$f":"IF(AND($C243<=V$1,Negyedéves!V$1<Paraméterek!$C$11*4+$C243),1,0)","v":0},{"$f":"IF(AND($C243<=W$1,Negyedéves!W$1<Paraméterek!$C$11*4+$C243),1,0)","v":0},{"$f":"IF(AND($C243<=X$1,Negyedéves!X$1<Paraméterek!$C$11*4+$C243),1,0)","v":0},{"$f":"IF(AND($C243<=Y$1,Negyedéves!Y$1<Paraméterek!$C$11*4+$C243),1,0)","v":0},{"$f":"IF(AND($C243<=Z$1,Negyedéves!Z$1<Paraméterek!$C$11*4+$C243),1,0)","v":0},{"$f":"IF(AND($C243<=AA$1,Negyedéves!AA$1<Paraméterek!$C$11*4+$C243),1,0)","v":0},{"$f":"IF(AND($C243<=AB$1,Negyedéves!AB$1<Paraméterek!$C$11*4+$C243),1,0)","v":0},{"$f":"IF(AND($C243<=AC$1,Negyedéves!AC$1<Paraméterek!$C$11*4+$C243),1,0)","v":0},{"$f":"IF(AND($C243<=AD$1,Negyedéves!AD$1<Paraméterek!$C$11*4+$C243),1,0)","v":0},{"$f":"IF(AND($C243<=AE$1,Negyedéves!AE$1<Paraméterek!$C$11*4+$C243),1,0)","v":0},{"$f":"IF(AND($C243<=AF$1,Negyedéves!AF$1<Paraméterek!$C$11*4+$C243),1,0)","v":0},{"$f":"IF(AND($C243<=AG$1,Negyedéves!AG$1<Paraméterek!$C$11*4+$C243),1,0)","v":0},{"$f":"IF(AND($C243<=AH$1,Negyedéves!AH$1<Paraméterek!$C$11*4+$C243),1,0)","v":0},{"$f":"IF(AND($C243<=AI$1,Negyedéves!AI$1<Paraméterek!$C$11*4+$C243),1,0)","v":0},{"$f":"IF(AND($C243<=AJ$1,Negyedéves!AJ$1<Paraméterek!$C$11*4+$C243),1,0)","v":0},{"$f":"IF(AND($C243<=AK$1,Negyedéves!AK$1<Paraméterek!$C$11*4+$C243),1,0)","v":0},{"$f":"IF(AND($C243<=AL$1,Negyedéves!AL$1<Paraméterek!$C$11*4+$C243),1,0)","v":0},{"$f":"IF(AND($C243<=AM$1,Negyedéves!AM$1<Paraméterek!$C$11*4+$C243),1,0)","v":0},{"$f":"IF(AND($C243<=AN$1,Negyedéves!AN$1<Paraméterek!$C$11*4+$C243),1,0)","v":0},{"$f":"IF(AND($C243<=AO$1,Negyedéves!AO$1<Paraméterek!$C$11*4+$C243),1,0)","v":0},{"$f":"IF(AND($C243<=AP$1,Negyedéves!AP$1<Paraméterek!$C$11*4+$C243),1,0)","v":0},{"$f":"IF(AND($C243<=AQ$1,Negyedéves!AQ$1<Paraméterek!$C$11*4+$C243),1,0)","v":0},{"$f":"IF(AND($C243<=AR$1,Negyedéves!AR$1<Paraméterek!$C$11*4+$C243),1,0)","v":0},{"$f":"IF(AND($C243<=AS$1,Negyedéves!AS$1<Paraméterek!$C$11*4+$C243),1,0)","v":0},{"$f":"IF(AND($C243<=AT$1,Negyedéves!AT$1<Paraméterek!$C$11*4+$C243),1,0)","v":0},{"$f":"IF(AND($C243<=AU$1,Negyedéves!AU$1<Paraméterek!$C$11*4+$C243),1,0)","v":0},{"$f":"IF(AND($C243<=AV$1,Negyedéves!AV$1<Paraméterek!$C$11*4+$C243),1,0)","v":0},{"$f":"IF(AND($C243<=AW$1,Negyedéves!AW$1<Paraméterek!$C$11*4+$C243),1,0)","v":0},{"$f":"IF(AND($C243<=AX$1,Negyedéves!AX$1<Paraméterek!$C$11*4+$C243),1,0)","v":0},{"$f":"IF(AND($C243<=AY$1,Negyedéves!AY$1<Paraméterek!$C$11*4+$C243),1,0)","v":0},{"$f":"IF(AND($C243<=AZ$1,Negyedéves!AZ$1<Paraméterek!$C$11*4+$C243),1,0)","v":0},{"$f":"IF(AND($C243<=BA$1,Negyedéves!BA$1<Paraméterek!$C$11*4+$C243),1,0)","v":0},{"$f":"IF(AND($C243<=BB$1,Negyedéves!BB$1<Paraméterek!$C$11*4+$C243),1,0)","v":0},{"$f":"IF(AND($C243<=BC$1,Negyedéves!BC$1<Paraméterek!$C$11*4+$C243),1,0)","v":0},{"$f":"IF(AND($C243<=BD$1,Negyedéves!BD$1<Paraméterek!$C$11*4+$C243),1,0)","v":0},{"$f":"IF(AND($C243<=BE$1,Negyedéves!BE$1<Paraméterek!$C$11*4+$C243),1,0)","v":0},{"$f":"IF(AND($C243<=BF$1,Negyedéves!BF$1<Paraméterek!$C$11*4+$C243),1,0)","v":0},{"$f":"IF(AND($C243<=BG$1,Negyedéves!BG$1<Paraméterek!$C$11*4+$C243),1,0)","v":0},{"$f":"IF(AND($C243<=BH$1,Negyedéves!BH$1<Paraméterek!$C$11*4+$C243),1,0)","v":0},{"$f":"IF(AND($C243<=BI$1,Negyedéves!BI$1<Paraméterek!$C$11*4+$C243),1,0)","v":0},{"$f":"IF(AND($C243<=BJ$1,Negyedéves!BJ$1<Paraméterek!$C$11*4+$C243),1,0)","v":0},{"$f":"IF(AND($C243<=BK$1,Negyedéves!BK$1<Paraméterek!$C$11*4+$C243),1,0)","v":0},{"$f":"IF(AND($C243<=BL$1,Negyedéves!BL$1<Paraméterek!$C$11*4+$C243),1,0)","v":0},{"$f":"IF(AND($C243<=BM$1,Negyedéves!BM$1<Paraméterek!$C$11*4+$C243),1,0)","v":0},{"$f":"IF(AND($C243<=BN$1,Negyedéves!BN$1<Paraméterek!$C$11*4+$C243),1,0)","v":1},{"$f":"IF(AND($C243<=BO$1,Negyedéves!BO$1<Paraméterek!$C$11*4+$C243),1,0)","v":1},{"$f":"IF(AND($C243<=BP$1,Negyedéves!BP$1<Paraméterek!$C$11*4+$C243),1,0)","v":1},{"$f":"IF(AND($C243<=BQ$1,Negyedéves!BQ$1<Paraméterek!$C$11*4+$C243),1,0)","v":1},{"$f":"IF(AND($C243<=BR$1,Negyedéves!BR$1<Paraméterek!$C$11*4+$C243),1,0)","v":1},{"$f":"IF(AND($C243<=BS$1,Negyedéves!BS$1<Paraméterek!$C$11*4+$C243),1,0)","v":1},"x"]
[null,0,64,{"$f":"IF(AND($C244<=D$1,Negyedéves!D$1<Paraméterek!$C$11*4+$C244),1,0)","v":0},{"$f":"IF(AND($C244<=E$1,Negyedéves!E$1<Paraméterek!$C$11*4+$C244),1,0)","v":0},{"$f":"IF(AND($C244<=F$1,Negyedéves!F$1<Paraméterek!$C$11*4+$C244),1,0)","v":0},{"$f":"IF(AND($C244<=G$1,Negyedéves!G$1<Paraméterek!$C$11*4+$C244),1,0)","v":0},{"$f":"IF(AND($C244<=H$1,Negyedéves!H$1<Paraméterek!$C$11*4+$C244),1,0)","v":0},{"$f":"IF(AND($C244<=I$1,Negyedéves!I$1<Paraméterek!$C$11*4+$C244),1,0)","v":0},{"$f":"IF(AND($C244<=J$1,Negyedéves!J$1<Paraméterek!$C$11*4+$C244),1,0)","v":0},{"$f":"IF(AND($C244<=K$1,Negyedéves!K$1<Paraméterek!$C$11*4+$C244),1,0)","v":0},{"$f":"IF(AND($C244<=L$1,Negyedéves!L$1<Paraméterek!$C$11*4+$C244),1,0)","v":0},{"$f":"IF(AND($C244<=M$1,Negyedéves!M$1<Paraméterek!$C$11*4+$C244),1,0)","v":0},{"$f":"IF(AND($C244<=N$1,Negyedéves!N$1<Paraméterek!$C$11*4+$C244),1,0)","v":0},{"$f":"IF(AND($C244<=O$1,Negyedéves!O$1<Paraméterek!$C$11*4+$C244),1,0)","v":0},{"$f":"IF(AND($C244<=P$1,Negyedéves!P$1<Paraméterek!$C$11*4+$C244),1,0)","v":0},{"$f":"IF(AND($C244<=Q$1,Negyedéves!Q$1<Paraméterek!$C$11*4+$C244),1,0)","v":0},{"$f":"IF(AND($C244<=R$1,Negyedéves!R$1<Paraméterek!$C$11*4+$C244),1,0)","v":0},{"$f":"IF(AND($C244<=S$1,Negyedéves!S$1<Paraméterek!$C$11*4+$C244),1,0)","v":0},{"$f":"IF(AND($C244<=T$1,Negyedéves!T$1<Paraméterek!$C$11*4+$C244),1,0)","v":0},{"$f":"IF(AND($C244<=U$1,Negyedéves!U$1<Paraméterek!$C$11*4+$C244),1,0)","v":0},{"$f":"IF(AND($C244<=V$1,Negyedéves!V$1<Paraméterek!$C$11*4+$C244),1,0)","v":0},{"$f":"IF(AND($C244<=W$1,Negyedéves!W$1<Paraméterek!$C$11*4+$C244),1,0)","v":0},{"$f":"IF(AND($C244<=X$1,Negyedéves!X$1<Paraméterek!$C$11*4+$C244),1,0)","v":0},{"$f":"IF(AND($C244<=Y$1,Negyedéves!Y$1<Paraméterek!$C$11*4+$C244),1,0)","v":0},{"$f":"IF(AND($C244<=Z$1,Negyedéves!Z$1<Paraméterek!$C$11*4+$C244),1,0)","v":0},{"$f":"IF(AND($C244<=AA$1,Negyedéves!AA$1<Paraméterek!$C$11*4+$C244),1,0)","v":0},{"$f":"IF(AND($C244<=AB$1,Negyedéves!AB$1<Paraméterek!$C$11*4+$C244),1,0)","v":0},{"$f":"IF(AND($C244<=AC$1,Negyedéves!AC$1<Paraméterek!$C$11*4+$C244),1,0)","v":0},{"$f":"IF(AND($C244<=AD$1,Negyedéves!AD$1<Paraméterek!$C$11*4+$C244),1,0)","v":0},{"$f":"IF(AND($C244<=AE$1,Negyedéves!AE$1<Paraméterek!$C$11*4+$C244),1,0)","v":0},{"$f":"IF(AND($C244<=AF$1,Negyedéves!AF$1<Paraméterek!$C$11*4+$C244),1,0)","v":0},{"$f":"IF(AND($C244<=AG$1,Negyedéves!AG$1<Paraméterek!$C$11*4+$C244),1,0)","v":0},{"$f":"IF(AND($C244<=AH$1,Negyedéves!AH$1<Paraméterek!$C$11*4+$C244),1,0)","v":0},{"$f":"IF(AND($C244<=AI$1,Negyedéves!AI$1<Paraméterek!$C$11*4+$C244),1,0)","v":0},{"$f":"IF(AND($C244<=AJ$1,Negyedéves!AJ$1<Paraméterek!$C$11*4+$C244),1,0)","v":0},{"$f":"IF(AND($C244<=AK$1,Negyedéves!AK$1<Paraméterek!$C$11*4+$C244),1,0)","v":0},{"$f":"IF(AND($C244<=AL$1,Negyedéves!AL$1<Paraméterek!$C$11*4+$C244),1,0)","v":0},{"$f":"IF(AND($C244<=AM$1,Negyedéves!AM$1<Paraméterek!$C$11*4+$C244),1,0)","v":0},{"$f":"IF(AND($C244<=AN$1,Negyedéves!AN$1<Paraméterek!$C$11*4+$C244),1,0)","v":0},{"$f":"IF(AND($C244<=AO$1,Negyedéves!AO$1<Paraméterek!$C$11*4+$C244),1,0)","v":0},{"$f":"IF(AND($C244<=AP$1,Negyedéves!AP$1<Paraméterek!$C$11*4+$C244),1,0)","v":0},{"$f":"IF(AND($C244<=AQ$1,Negyedéves!AQ$1<Paraméterek!$C$11*4+$C244),1,0)","v":0},{"$f":"IF(AND($C244<=AR$1,Negyedéves!AR$1<Paraméterek!$C$11*4+$C244),1,0)","v":0},{"$f":"IF(AND($C244<=AS$1,Negyedéves!AS$1<Paraméterek!$C$11*4+$C244),1,0)","v":0},{"$f":"IF(AND($C244<=AT$1,Negyedéves!AT$1<Paraméterek!$C$11*4+$C244),1,0)","v":0},{"$f":"IF(AND($C244<=AU$1,Negyedéves!AU$1<Paraméterek!$C$11*4+$C244),1,0)","v":0},{"$f":"IF(AND($C244<=AV$1,Negyedéves!AV$1<Paraméterek!$C$11*4+$C244),1,0)","v":0},{"$f":"IF(AND($C244<=AW$1,Negyedéves!AW$1<Paraméterek!$C$11*4+$C244),1,0)","v":0},{"$f":"IF(AND($C244<=AX$1,Negyedéves!AX$1<Paraméterek!$C$11*4+$C244),1,0)","v":0},{"$f":"IF(AND($C244<=AY$1,Negyedéves!AY$1<Paraméterek!$C$11*4+$C244),1,0)","v":0},{"$f":"IF(AND($C244<=AZ$1,Negyedéves!AZ$1<Paraméterek!$C$11*4+$C244),1,0)","v":0},{"$f":"IF(AND($C244<=BA$1,Negyedéves!BA$1<Paraméterek!$C$11*4+$C244),1,0)","v":0},{"$f":"IF(AND($C244<=BB$1,Negyedéves!BB$1<Paraméterek!$C$11*4+$C244),1,0)","v":0},{"$f":"IF(AND($C244<=BC$1,Negyedéves!BC$1<Paraméterek!$C$11*4+$C244),1,0)","v":0},{"$f":"IF(AND($C244<=BD$1,Negyedéves!BD$1<Paraméterek!$C$11*4+$C244),1,0)","v":0},{"$f":"IF(AND($C244<=BE$1,Negyedéves!BE$1<Paraméterek!$C$11*4+$C244),1,0)","v":0},{"$f":"IF(AND($C244<=BF$1,Negyedéves!BF$1<Paraméterek!$C$11*4+$C244),1,0)","v":0},{"$f":"IF(AND($C244<=BG$1,Negyedéves!BG$1<Paraméterek!$C$11*4+$C244),1,0)","v":0},{"$f":"IF(AND($C244<=BH$1,Negyedéves!BH$1<Paraméterek!$C$11*4+$C244),1,0)","v":0},{"$f":"IF(AND($C244<=BI$1,Negyedéves!BI$1<Paraméterek!$C$11*4+$C244),1,0)","v":0},{"$f":"IF(AND($C244<=BJ$1,Negyedéves!BJ$1<Paraméterek!$C$11*4+$C244),1,0)","v":0},{"$f":"IF(AND($C244<=BK$1,Negyedéves!BK$1<Paraméterek!$C$11*4+$C244),1,0)","v":0},{"$f":"IF(AND($C244<=BL$1,Negyedéves!BL$1<Paraméterek!$C$11*4+$C244),1,0)","v":0},{"$f":"IF(AND($C244<=BM$1,Negyedéves!BM$1<Paraméterek!$C$11*4+$C244),1,0)","v":0},{"$f":"IF(AND($C244<=BN$1,Negyedéves!BN$1<Paraméterek!$C$11*4+$C244),1,0)","v":0},{"$f":"IF(AND($C244<=BO$1,Negyedéves!BO$1<Paraméterek!$C$11*4+$C244),1,0)","v":1},{"$f":"IF(AND($C244<=BP$1,Negyedéves!BP$1<Paraméterek!$C$11*4+$C244),1,0)","v":1},{"$f":"IF(AND($C244<=BQ$1,Negyedéves!BQ$1<Paraméterek!$C$11*4+$C244),1,0)","v":1},{"$f":"IF(AND($C244<=BR$1,Negyedéves!BR$1<Paraméterek!$C$11*4+$C244),1,0)","v":1},{"$f":"IF(AND($C244<=BS$1,Negyedéves!BS$1<Paraméterek!$C$11*4+$C244),1,0)","v":1},"x"]
[null,1379598.746609655,65,{"$f":"IF(AND($C245<=D$1,Negyedéves!D$1<Paraméterek!$C$11*4+$C245),1,0)","v":0},{"$f":"IF(AND($C245<=E$1,Negyedéves!E$1<Paraméterek!$C$11*4+$C245),1,0)","v":0},{"$f":"IF(AND($C245<=F$1,Negyedéves!F$1<Paraméterek!$C$11*4+$C245),1,0)","v":0},{"$f":"IF(AND($C245<=G$1,Negyedéves!G$1<Paraméterek!$C$11*4+$C245),1,0)","v":0},{"$f":"IF(AND($C245<=H$1,Negyedéves!H$1<Paraméterek!$C$11*4+$C245),1,0)","v":0},{"$f":"IF(AND($C245<=I$1,Negyedéves!I$1<Paraméterek!$C$11*4+$C245),1,0)","v":0},{"$f":"IF(AND($C245<=J$1,Negyedéves!J$1<Paraméterek!$C$11*4+$C245),1,0)","v":0},{"$f":"IF(AND($C245<=K$1,Negyedéves!K$1<Paraméterek!$C$11*4+$C245),1,0)","v":0},{"$f":"IF(AND($C245<=L$1,Negyedéves!L$1<Paraméterek!$C$11*4+$C245),1,0)","v":0},{"$f":"IF(AND($C245<=M$1,Negyedéves!M$1<Paraméterek!$C$11*4+$C245),1,0)","v":0},{"$f":"IF(AND($C245<=N$1,Negyedéves!N$1<Paraméterek!$C$11*4+$C245),1,0)","v":0},{"$f":"IF(AND($C245<=O$1,Negyedéves!O$1<Paraméterek!$C$11*4+$C245),1,0)","v":0},{"$f":"IF(AND($C245<=P$1,Negyedéves!P$1<Paraméterek!$C$11*4+$C245),1,0)","v":0},{"$f":"IF(AND($C245<=Q$1,Negyedéves!Q$1<Paraméterek!$C$11*4+$C245),1,0)","v":0},{"$f":"IF(AND($C245<=R$1,Negyedéves!R$1<Paraméterek!$C$11*4+$C245),1,0)","v":0},{"$f":"IF(AND($C245<=S$1,Negyedéves!S$1<Paraméterek!$C$11*4+$C245),1,0)","v":0},{"$f":"IF(AND($C245<=T$1,Negyedéves!T$1<Paraméterek!$C$11*4+$C245),1,0)","v":0},{"$f":"IF(AND($C245<=U$1,Negyedéves!U$1<Paraméterek!$C$11*4+$C245),1,0)","v":0},{"$f":"IF(AND($C245<=V$1,Negyedéves!V$1<Paraméterek!$C$11*4+$C245),1,0)","v":0},{"$f":"IF(AND($C245<=W$1,Negyedéves!W$1<Paraméterek!$C$11*4+$C245),1,0)","v":0},{"$f":"IF(AND($C245<=X$1,Negyedéves!X$1<Paraméterek!$C$11*4+$C245),1,0)","v":0},{"$f":"IF(AND($C245<=Y$1,Negyedéves!Y$1<Paraméterek!$C$11*4+$C245),1,0)","v":0},{"$f":"IF(AND($C245<=Z$1,Negyedéves!Z$1<Paraméterek!$C$11*4+$C245),1,0)","v":0},{"$f":"IF(AND($C245<=AA$1,Negyedéves!AA$1<Paraméterek!$C$11*4+$C245),1,0)","v":0},{"$f":"IF(AND($C245<=AB$1,Negyedéves!AB$1<Paraméterek!$C$11*4+$C245),1,0)","v":0},{"$f":"IF(AND($C245<=AC$1,Negyedéves!AC$1<Paraméterek!$C$11*4+$C245),1,0)","v":0},{"$f":"IF(AND($C245<=AD$1,Negyedéves!AD$1<Paraméterek!$C$11*4+$C245),1,0)","v":0},{"$f":"IF(AND($C245<=AE$1,Negyedéves!AE$1<Paraméterek!$C$11*4+$C245),1,0)","v":0},{"$f":"IF(AND($C245<=AF$1,Negyedéves!AF$1<Paraméterek!$C$11*4+$C245),1,0)","v":0},{"$f":"IF(AND($C245<=AG$1,Negyedéves!AG$1<Paraméterek!$C$11*4+$C245),1,0)","v":0},{"$f":"IF(AND($C245<=AH$1,Negyedéves!AH$1<Paraméterek!$C$11*4+$C245),1,0)","v":0},{"$f":"IF(AND($C245<=AI$1,Negyedéves!AI$1<Paraméterek!$C$11*4+$C245),1,0)","v":0},{"$f":"IF(AND($C245<=AJ$1,Negyedéves!AJ$1<Paraméterek!$C$11*4+$C245),1,0)","v":0},{"$f":"IF(AND($C245<=AK$1,Negyedéves!AK$1<Paraméterek!$C$11*4+$C245),1,0)","v":0},{"$f":"IF(AND($C245<=AL$1,Negyedéves!AL$1<Paraméterek!$C$11*4+$C245),1,0)","v":0},{"$f":"IF(AND($C245<=AM$1,Negyedéves!AM$1<Paraméterek!$C$11*4+$C245),1,0)","v":0},{"$f":"IF(AND($C245<=AN$1,Negyedéves!AN$1<Paraméterek!$C$11*4+$C245),1,0)","v":0},{"$f":"IF(AND($C245<=AO$1,Negyedéves!AO$1<Paraméterek!$C$11*4+$C245),1,0)","v":0},{"$f":"IF(AND($C245<=AP$1,Negyedéves!AP$1<Paraméterek!$C$11*4+$C245),1,0)","v":0},{"$f":"IF(AND($C245<=AQ$1,Negyedéves!AQ$1<Paraméterek!$C$11*4+$C245),1,0)","v":0},{"$f":"IF(AND($C245<=AR$1,Negyedéves!AR$1<Paraméterek!$C$11*4+$C245),1,0)","v":0},{"$f":"IF(AND($C245<=AS$1,Negyedéves!AS$1<Paraméterek!$C$11*4+$C245),1,0)","v":0},{"$f":"IF(AND($C245<=AT$1,Negyedéves!AT$1<Paraméterek!$C$11*4+$C245),1,0)","v":0},{"$f":"IF(AND($C245<=AU$1,Negyedéves!AU$1<Paraméterek!$C$11*4+$C245),1,0)","v":0},{"$f":"IF(AND($C245<=AV$1,Negyedéves!AV$1<Paraméterek!$C$11*4+$C245),1,0)","v":0},{"$f":"IF(AND($C245<=AW$1,Negyedéves!AW$1<Paraméterek!$C$11*4+$C245),1,0)","v":0},{"$f":"IF(AND($C245<=AX$1,Negyedéves!AX$1<Paraméterek!$C$11*4+$C245),1,0)","v":0},{"$f":"IF(AND($C245<=AY$1,Negyedéves!AY$1<Paraméterek!$C$11*4+$C245),1,0)","v":0},{"$f":"IF(AND($C245<=AZ$1,Negyedéves!AZ$1<Paraméterek!$C$11*4+$C245),1,0)","v":0},{"$f":"IF(AND($C245<=BA$1,Negyedéves!BA$1<Paraméterek!$C$11*4+$C245),1,0)","v":0},{"$f":"IF(AND($C245<=BB$1,Negyedéves!BB$1<Paraméterek!$C$11*4+$C245),1,0)","v":0},{"$f":"IF(AND($C245<=BC$1,Negyedéves!BC$1<Paraméterek!$C$11*4+$C245),1,0)","v":0},{"$f":"IF(AND($C245<=BD$1,Negyedéves!BD$1<Paraméterek!$C$11*4+$C245),1,0)","v":0},{"$f":"IF(AND($C245<=BE$1,Negyedéves!BE$1<Paraméterek!$C$11*4+$C245),1,0)","v":0},{"$f":"IF(AND($C245<=BF$1,Negyedéves!BF$1<Paraméterek!$C$11*4+$C245),1,0)","v":0},{"$f":"IF(AND($C245<=BG$1,Negyedéves!BG$1<Paraméterek!$C$11*4+$C245),1,0)","v":0},{"$f":"IF(AND($C245<=BH$1,Negyedéves!BH$1<Paraméterek!$C$11*4+$C245),1,0)","v":0},{"$f":"IF(AND($C245<=BI$1,Negyedéves!BI$1<Paraméterek!$C$11*4+$C245),1,0)","v":0},{"$f":"IF(AND($C245<=BJ$1,Negyedéves!BJ$1<Paraméterek!$C$11*4+$C245),1,0)","v":0},{"$f":"IF(AND($C245<=BK$1,Negyedéves!BK$1<Paraméterek!$C$11*4+$C245),1,0)","v":0},{"$f":"IF(AND($C245<=BL$1,Negyedéves!BL$1<Paraméterek!$C$11*4+$C245),1,0)","v":0},{"$f":"IF(AND($C245<=BM$1,Negyedéves!BM$1<Paraméterek!$C$11*4+$C245),1,0)","v":0},{"$f":"IF(AND($C245<=BN$1,Negyedéves!BN$1<Paraméterek!$C$11*4+$C245),1,0)","v":0},{"$f":"IF(AND($C245<=BO$1,Negyedéves!BO$1<Paraméterek!$C$11*4+$C245),1,0)","v":0},{"$f":"IF(AND($C245<=BP$1,Negyedéves!BP$1<Paraméterek!$C$11*4+$C245),1,0)","v":1},{"$f":"IF(AND($C245<=BQ$1,Negyedéves!BQ$1<Paraméterek!$C$11*4+$C245),1,0)","v":1},{"$f":"IF(AND($C245<=BR$1,Negyedéves!BR$1<Paraméterek!$C$11*4+$C245),1,0)","v":1},{"$f":"IF(AND($C245<=BS$1,Negyedéves!BS$1<Paraméterek!$C$11*4+$C245),1,0)","v":1},"x"]
[null,{"$f":"HLOOKUP($C246,$A$1:$BS$174,174,0)","v":0},66,{"$f":"IF(AND($C246<=D$1,Negyedéves!D$1<Paraméterek!$C$11*4+$C246),1,0)","v":0},{"$f":"IF(AND($C246<=E$1,Negyedéves!E$1<Paraméterek!$C$11*4+$C246),1,0)","v":0},{"$f":"IF(AND($C246<=F$1,Negyedéves!F$1<Paraméterek!$C$11*4+$C246),1,0)","v":0},{"$f":"IF(AND($C246<=G$1,Negyedéves!G$1<Paraméterek!$C$11*4+$C246),1,0)","v":0},{"$f":"IF(AND($C246<=H$1,Negyedéves!H$1<Paraméterek!$C$11*4+$C246),1,0)","v":0},{"$f":"IF(AND($C246<=I$1,Negyedéves!I$1<Paraméterek!$C$11*4+$C246),1,0)","v":0},{"$f":"IF(AND($C246<=J$1,Negyedéves!J$1<Paraméterek!$C$11*4+$C246),1,0)","v":0},{"$f":"IF(AND($C246<=K$1,Negyedéves!K$1<Paraméterek!$C$11*4+$C246),1,0)","v":0},{"$f":"IF(AND($C246<=L$1,Negyedéves!L$1<Paraméterek!$C$11*4+$C246),1,0)","v":0},{"$f":"IF(AND($C246<=M$1,Negyedéves!M$1<Paraméterek!$C$11*4+$C246),1,0)","v":0},{"$f":"IF(AND($C246<=N$1,Negyedéves!N$1<Paraméterek!$C$11*4+$C246),1,0)","v":0},{"$f":"IF(AND($C246<=O$1,Negyedéves!O$1<Paraméterek!$C$11*4+$C246),1,0)","v":0},{"$f":"IF(AND($C246<=P$1,Negyedéves!P$1<Paraméterek!$C$11*4+$C246),1,0)","v":0},{"$f":"IF(AND($C246<=Q$1,Negyedéves!Q$1<Paraméterek!$C$11*4+$C246),1,0)","v":0},{"$f":"IF(AND($C246<=R$1,Negyedéves!R$1<Paraméterek!$C$11*4+$C246),1,0)","v":0},{"$f":"IF(AND($C246<=S$1,Negyedéves!S$1<Paraméterek!$C$11*4+$C246),1,0)","v":0},{"$f":"IF(AND($C246<=T$1,Negyedéves!T$1<Paraméterek!$C$11*4+$C246),1,0)","v":0},{"$f":"IF(AND($C246<=U$1,Negyedéves!U$1<Paraméterek!$C$11*4+$C246),1,0)","v":0},{"$f":"IF(AND($C246<=V$1,Negyedéves!V$1<Paraméterek!$C$11*4+$C246),1,0)","v":0},{"$f":"IF(AND($C246<=W$1,Negyedéves!W$1<Paraméterek!$C$11*4+$C246),1,0)","v":0},{"$f":"IF(AND($C246<=X$1,Negyedéves!X$1<Paraméterek!$C$11*4+$C246),1,0)","v":0},{"$f":"IF(AND($C246<=Y$1,Negyedéves!Y$1<Paraméterek!$C$11*4+$C246),1,0)","v":0},{"$f":"IF(AND($C246<=Z$1,Negyedéves!Z$1<Paraméterek!$C$11*4+$C246),1,0)","v":0},{"$f":"IF(AND($C246<=AA$1,Negyedéves!AA$1<Paraméterek!$C$11*4+$C246),1,0)","v":0},{"$f":"IF(AND($C246<=AB$1,Negyedéves!AB$1<Paraméterek!$C$11*4+$C246),1,0)","v":0},{"$f":"IF(AND($C246<=AC$1,Negyedéves!AC$1<Paraméterek!$C$11*4+$C246),1,0)","v":0},{"$f":"IF(AND($C246<=AD$1,Negyedéves!AD$1<Paraméterek!$C$11*4+$C246),1,0)","v":0},{"$f":"IF(AND($C246<=AE$1,Negyedéves!AE$1<Paraméterek!$C$11*4+$C246),1,0)","v":0},{"$f":"IF(AND($C246<=AF$1,Negyedéves!AF$1<Paraméterek!$C$11*4+$C246),1,0)","v":0},{"$f":"IF(AND($C246<=AG$1,Negyedéves!AG$1<Paraméterek!$C$11*4+$C246),1,0)","v":0},{"$f":"IF(AND($C246<=AH$1,Negyedéves!AH$1<Paraméterek!$C$11*4+$C246),1,0)","v":0},{"$f":"IF(AND($C246<=AI$1,Negyedéves!AI$1<Paraméterek!$C$11*4+$C246),1,0)","v":0},{"$f":"IF(AND($C246<=AJ$1,Negyedéves!AJ$1<Paraméterek!$C$11*4+$C246),1,0)","v":0},{"$f":"IF(AND($C246<=AK$1,Negyedéves!AK$1<Paraméterek!$C$11*4+$C246),1,0)","v":0},{"$f":"IF(AND($C246<=AL$1,Negyedéves!AL$1<Paraméterek!$C$11*4+$C246),1,0)","v":0},{"$f":"IF(AND($C246<=AM$1,Negyedéves!AM$1<Paraméterek!$C$11*4+$C246),1,0)","v":0},{"$f":"IF(AND($C246<=AN$1,Negyedéves!AN$1<Paraméterek!$C$11*4+$C246),1,0)","v":0},{"$f":"IF(AND($C246<=AO$1,Negyedéves!AO$1<Paraméterek!$C$11*4+$C246),1,0)","v":0},{"$f":"IF(AND($C246<=AP$1,Negyedéves!AP$1<Paraméterek!$C$11*4+$C246),1,0)","v":0},{"$f":"IF(AND($C246<=AQ$1,Negyedéves!AQ$1<Paraméterek!$C$11*4+$C246),1,0)","v":0},{"$f":"IF(AND($C246<=AR$1,Negyedéves!AR$1<Paraméterek!$C$11*4+$C246),1,0)","v":0},{"$f":"IF(AND($C246<=AS$1,Negyedéves!AS$1<Paraméterek!$C$11*4+$C246),1,0)","v":0},{"$f":"IF(AND($C246<=AT$1,Negyedéves!AT$1<Paraméterek!$C$11*4+$C246),1,0)","v":0},{"$f":"IF(AND($C246<=AU$1,Negyedéves!AU$1<Paraméterek!$C$11*4+$C246),1,0)","v":0},{"$f":"IF(AND($C246<=AV$1,Negyedéves!AV$1<Paraméterek!$C$11*4+$C246),1,0)","v":0},{"$f":"IF(AND($C246<=AW$1,Negyedéves!AW$1<Paraméterek!$C$11*4+$C246),1,0)","v":0},{"$f":"IF(AND($C246<=AX$1,Negyedéves!AX$1<Paraméterek!$C$11*4+$C246),1,0)","v":0},{"$f":"IF(AND($C246<=AY$1,Negyedéves!AY$1<Paraméterek!$C$11*4+$C246),1,0)","v":0},{"$f":"IF(AND($C246<=AZ$1,Negyedéves!AZ$1<Paraméterek!$C$11*4+$C246),1,0)","v":0},{"$f":"IF(AND($C246<=BA$1,Negyedéves!BA$1<Paraméterek!$C$11*4+$C246),1,0)","v":0},{"$f":"IF(AND($C246<=BB$1,Negyedéves!BB$1<Paraméterek!$C$11*4+$C246),1,0)","v":0},{"$f":"IF(AND($C246<=BC$1,Negyedéves!BC$1<Paraméterek!$C$11*4+$C246),1,0)","v":0},{"$f":"IF(AND($C246<=BD$1,Negyedéves!BD$1<Paraméterek!$C$11*4+$C246),1,0)","v":0},{"$f":"IF(AND($C246<=BE$1,Negyedéves!BE$1<Paraméterek!$C$11*4+$C246),1,0)","v":0},{"$f":"IF(AND($C246<=BF$1,Negyedéves!BF$1<Paraméterek!$C$11*4+$C246),1,0)","v":0},{"$f":"IF(AND($C246<=BG$1,Negyedéves!BG$1<Paraméterek!$C$11*4+$C246),1,0)","v":0},{"$f":"IF(AND($C246<=BH$1,Negyedéves!BH$1<Paraméterek!$C$11*4+$C246),1,0)","v":0},{"$f":"IF(AND($C246<=BI$1,Negyedéves!BI$1<Paraméterek!$C$11*4+$C246),1,0)","v":0},{"$f":"IF(AND($C246<=BJ$1,Negyedéves!BJ$1<Paraméterek!$C$11*4+$C246),1,0)","v":0},{"$f":"IF(AND($C246<=BK$1,Negyedéves!BK$1<Paraméterek!$C$11*4+$C246),1,0)","v":0},{"$f":"IF(AND($C246<=BL$1,Negyedéves!BL$1<Paraméterek!$C$11*4+$C246),1,0)","v":0},{"$f":"IF(AND($C246<=BM$1,Negyedéves!BM$1<Paraméterek!$C$11*4+$C246),1,0)","v":0},{"$f":"IF(AND($C246<=BN$1,Negyedéves!BN$1<Paraméterek!$C$11*4+$C246),1,0)","v":0},{"$f":"IF(AND($C246<=BO$1,Negyedéves!BO$1<Paraméterek!$C$11*4+$C246),1,0)","v":0},{"$f":"IF(AND($C246<=BP$1,Negyedéves!BP$1<Paraméterek!$C$11*4+$C246),1,0)","v":0},{"$f":"IF(AND($C246<=BQ$1,Negyedéves!BQ$1<Paraméterek!$C$11*4+$C246),1,0)","v":1},{"$f":"IF(AND($C246<=BR$1,Negyedéves!BR$1<Paraméterek!$C$11*4+$C246),1,0)","v":1},{"$f":"IF(AND($C246<=BS$1,Negyedéves!BS$1<Paraméterek!$C$11*4+$C246),1,0)","v":1},"x"]
[null,0,67,{"$f":"IF(AND($C247<=D$1,Negyedéves!D$1<Paraméterek!$C$11*4+$C247),1,0)","v":0},{"$f":"IF(AND($C247<=E$1,Negyedéves!E$1<Paraméterek!$C$11*4+$C247),1,0)","v":0},{"$f":"IF(AND($C247<=F$1,Negyedéves!F$1<Paraméterek!$C$11*4+$C247),1,0)","v":0},{"$f":"IF(AND($C247<=G$1,Negyedéves!G$1<Paraméterek!$C$11*4+$C247),1,0)","v":0},{"$f":"IF(AND($C247<=H$1,Negyedéves!H$1<Paraméterek!$C$11*4+$C247),1,0)","v":0},{"$f":"IF(AND($C247<=I$1,Negyedéves!I$1<Paraméterek!$C$11*4+$C247),1,0)","v":0},{"$f":"IF(AND($C247<=J$1,Negyedéves!J$1<Paraméterek!$C$11*4+$C247),1,0)","v":0},{"$f":"IF(AND($C247<=K$1,Negyedéves!K$1<Paraméterek!$C$11*4+$C247),1,0)","v":0},{"$f":"IF(AND($C247<=L$1,Negyedéves!L$1<Paraméterek!$C$11*4+$C247),1,0)","v":0},{"$f":"IF(AND($C247<=M$1,Negyedéves!M$1<Paraméterek!$C$11*4+$C247),1,0)","v":0},{"$f":"IF(AND($C247<=N$1,Negyedéves!N$1<Paraméterek!$C$11*4+$C247),1,0)","v":0},{"$f":"IF(AND($C247<=O$1,Negyedéves!O$1<Paraméterek!$C$11*4+$C247),1,0)","v":0},{"$f":"IF(AND($C247<=P$1,Negyedéves!P$1<Paraméterek!$C$11*4+$C247),1,0)","v":0},{"$f":"IF(AND($C247<=Q$1,Negyedéves!Q$1<Paraméterek!$C$11*4+$C247),1,0)","v":0},{"$f":"IF(AND($C247<=R$1,Negyedéves!R$1<Paraméterek!$C$11*4+$C247),1,0)","v":0},{"$f":"IF(AND($C247<=S$1,Negyedéves!S$1<Paraméterek!$C$11*4+$C247),1,0)","v":0},{"$f":"IF(AND($C247<=T$1,Negyedéves!T$1<Paraméterek!$C$11*4+$C247),1,0)","v":0},{"$f":"IF(AND($C247<=U$1,Negyedéves!U$1<Paraméterek!$C$11*4+$C247),1,0)","v":0},{"$f":"IF(AND($C247<=V$1,Negyedéves!V$1<Paraméterek!$C$11*4+$C247),1,0)","v":0},{"$f":"IF(AND($C247<=W$1,Negyedéves!W$1<Paraméterek!$C$11*4+$C247),1,0)","v":0},{"$f":"IF(AND($C247<=X$1,Negyedéves!X$1<Paraméterek!$C$11*4+$C247),1,0)","v":0},{"$f":"IF(AND($C247<=Y$1,Negyedéves!Y$1<Paraméterek!$C$11*4+$C247),1,0)","v":0},{"$f":"IF(AND($C247<=Z$1,Negyedéves!Z$1<Paraméterek!$C$11*4+$C247),1,0)","v":0},{"$f":"IF(AND($C247<=AA$1,Negyedéves!AA$1<Paraméterek!$C$11*4+$C247),1,0)","v":0},{"$f":"IF(AND($C247<=AB$1,Negyedéves!AB$1<Paraméterek!$C$11*4+$C247),1,0)","v":0},{"$f":"IF(AND($C247<=AC$1,Negyedéves!AC$1<Paraméterek!$C$11*4+$C247),1,0)","v":0},{"$f":"IF(AND($C247<=AD$1,Negyedéves!AD$1<Paraméterek!$C$11*4+$C247),1,0)","v":0},{"$f":"IF(AND($C247<=AE$1,Negyedéves!AE$1<Paraméterek!$C$11*4+$C247),1,0)","v":0},{"$f":"IF(AND($C247<=AF$1,Negyedéves!AF$1<Paraméterek!$C$11*4+$C247),1,0)","v":0},{"$f":"IF(AND($C247<=AG$1,Negyedéves!AG$1<Paraméterek!$C$11*4+$C247),1,0)","v":0},{"$f":"IF(AND($C247<=AH$1,Negyedéves!AH$1<Paraméterek!$C$11*4+$C247),1,0)","v":0},{"$f":"IF(AND($C247<=AI$1,Negyedéves!AI$1<Paraméterek!$C$11*4+$C247),1,0)","v":0},{"$f":"IF(AND($C247<=AJ$1,Negyedéves!AJ$1<Paraméterek!$C$11*4+$C247),1,0)","v":0},{"$f":"IF(AND($C247<=AK$1,Negyedéves!AK$1<Paraméterek!$C$11*4+$C247),1,0)","v":0},{"$f":"IF(AND($C247<=AL$1,Negyedéves!AL$1<Paraméterek!$C$11*4+$C247),1,0)","v":0},{"$f":"IF(AND($C247<=AM$1,Negyedéves!AM$1<Paraméterek!$C$11*4+$C247),1,0)","v":0},{"$f":"IF(AND($C247<=AN$1,Negyedéves!AN$1<Paraméterek!$C$11*4+$C247),1,0)","v":0},{"$f":"IF(AND($C247<=AO$1,Negyedéves!AO$1<Paraméterek!$C$11*4+$C247),1,0)","v":0},{"$f":"IF(AND($C247<=AP$1,Negyedéves!AP$1<Paraméterek!$C$11*4+$C247),1,0)","v":0},{"$f":"IF(AND($C247<=AQ$1,Negyedéves!AQ$1<Paraméterek!$C$11*4+$C247),1,0)","v":0},{"$f":"IF(AND($C247<=AR$1,Negyedéves!AR$1<Paraméterek!$C$11*4+$C247),1,0)","v":0},{"$f":"IF(AND($C247<=AS$1,Negyedéves!AS$1<Paraméterek!$C$11*4+$C247),1,0)","v":0},{"$f":"IF(AND($C247<=AT$1,Negyedéves!AT$1<Paraméterek!$C$11*4+$C247),1,0)","v":0},{"$f":"IF(AND($C247<=AU$1,Negyedéves!AU$1<Paraméterek!$C$11*4+$C247),1,0)","v":0},{"$f":"IF(AND($C247<=AV$1,Negyedéves!AV$1<Paraméterek!$C$11*4+$C247),1,0)","v":0},{"$f":"IF(AND($C247<=AW$1,Negyedéves!AW$1<Paraméterek!$C$11*4+$C247),1,0)","v":0},{"$f":"IF(AND($C247<=AX$1,Negyedéves!AX$1<Paraméterek!$C$11*4+$C247),1,0)","v":0},{"$f":"IF(AND($C247<=AY$1,Negyedéves!AY$1<Paraméterek!$C$11*4+$C247),1,0)","v":0},{"$f":"IF(AND($C247<=AZ$1,Negyedéves!AZ$1<Paraméterek!$C$11*4+$C247),1,0)","v":0},{"$f":"IF(AND($C247<=BA$1,Negyedéves!BA$1<Paraméterek!$C$11*4+$C247),1,0)","v":0},{"$f":"IF(AND($C247<=BB$1,Negyedéves!BB$1<Paraméterek!$C$11*4+$C247),1,0)","v":0},{"$f":"IF(AND($C247<=BC$1,Negyedéves!BC$1<Paraméterek!$C$11*4+$C247),1,0)","v":0},{"$f":"IF(AND($C247<=BD$1,Negyedéves!BD$1<Paraméterek!$C$11*4+$C247),1,0)","v":0},{"$f":"IF(AND($C247<=BE$1,Negyedéves!BE$1<Paraméterek!$C$11*4+$C247),1,0)","v":0},{"$f":"IF(AND($C247<=BF$1,Negyedéves!BF$1<Paraméterek!$C$11*4+$C247),1,0)","v":0},{"$f":"IF(AND($C247<=BG$1,Negyedéves!BG$1<Paraméterek!$C$11*4+$C247),1,0)","v":0},{"$f":"IF(AND($C247<=BH$1,Negyedéves!BH$1<Paraméterek!$C$11*4+$C247),1,0)","v":0},{"$f":"IF(AND($C247<=BI$1,Negyedéves!BI$1<Paraméterek!$C$11*4+$C247),1,0)","v":0},{"$f":"IF(AND($C247<=BJ$1,Negyedéves!BJ$1<Paraméterek!$C$11*4+$C247),1,0)","v":0},{"$f":"IF(AND($C247<=BK$1,Negyedéves!BK$1<Paraméterek!$C$11*4+$C247),1,0)","v":0},{"$f":"IF(AND($C247<=BL$1,Negyedéves!BL$1<Paraméterek!$C$11*4+$C247),1,0)","v":0},{"$f":"IF(AND($C247<=BM$1,Negyedéves!BM$1<Paraméterek!$C$11*4+$C247),1,0)","v":0},{"$f":"IF(AND($C247<=BN$1,Negyedéves!BN$1<Paraméterek!$C$11*4+$C247),1,0)","v":0},{"$f":"IF(AND($C247<=BO$1,Negyedéves!BO$1<Paraméterek!$C$11*4+$C247),1,0)","v":0},{"$f":"IF(AND($C247<=BP$1,Negyedéves!BP$1<Paraméterek!$C$11*4+$C247),1,0)","v":0},{"$f":"IF(AND($C247<=BQ$1,Negyedéves!BQ$1<Paraméterek!$C$11*4+$C247),1,0)","v":0},{"$f":"IF(AND($C247<=BR$1,Negyedéves!BR$1<Paraméterek!$C$11*4+$C247),1,0)","v":1},{"$f":"IF(AND($C247<=BS$1,Negyedéves!BS$1<Paraméterek!$C$11*4+$C247),1,0)","v":1},"x"]
[null,0,68,{"$f":"IF(AND($C248<=D$1,Negyedéves!D$1<Paraméterek!$C$11*4+$C248),1,0)","v":0},{"$f":"IF(AND($C248<=E$1,Negyedéves!E$1<Paraméterek!$C$11*4+$C248),1,0)","v":0},{"$f":"IF(AND($C248<=F$1,Negyedéves!F$1<Paraméterek!$C$11*4+$C248),1,0)","v":0},{"$f":"IF(AND($C248<=G$1,Negyedéves!G$1<Paraméterek!$C$11*4+$C248),1,0)","v":0},{"$f":"IF(AND($C248<=H$1,Negyedéves!H$1<Paraméterek!$C$11*4+$C248),1,0)","v":0},{"$f":"IF(AND($C248<=I$1,Negyedéves!I$1<Paraméterek!$C$11*4+$C248),1,0)","v":0},{"$f":"IF(AND($C248<=J$1,Negyedéves!J$1<Paraméterek!$C$11*4+$C248),1,0)","v":0},{"$f":"IF(AND($C248<=K$1,Negyedéves!K$1<Paraméterek!$C$11*4+$C248),1,0)","v":0},{"$f":"IF(AND($C248<=L$1,Negyedéves!L$1<Paraméterek!$C$11*4+$C248),1,0)","v":0},{"$f":"IF(AND($C248<=M$1,Negyedéves!M$1<Paraméterek!$C$11*4+$C248),1,0)","v":0},{"$f":"IF(AND($C248<=N$1,Negyedéves!N$1<Paraméterek!$C$11*4+$C248),1,0)","v":0},{"$f":"IF(AND($C248<=O$1,Negyedéves!O$1<Paraméterek!$C$11*4+$C248),1,0)","v":0},{"$f":"IF(AND($C248<=P$1,Negyedéves!P$1<Paraméterek!$C$11*4+$C248),1,0)","v":0},{"$f":"IF(AND($C248<=Q$1,Negyedéves!Q$1<Paraméterek!$C$11*4+$C248),1,0)","v":0},{"$f":"IF(AND($C248<=R$1,Negyedéves!R$1<Paraméterek!$C$11*4+$C248),1,0)","v":0},{"$f":"IF(AND($C248<=S$1,Negyedéves!S$1<Paraméterek!$C$11*4+$C248),1,0)","v":0},{"$f":"IF(AND($C248<=T$1,Negyedéves!T$1<Paraméterek!$C$11*4+$C248),1,0)","v":0},{"$f":"IF(AND($C248<=U$1,Negyedéves!U$1<Paraméterek!$C$11*4+$C248),1,0)","v":0},{"$f":"IF(AND($C248<=V$1,Negyedéves!V$1<Paraméterek!$C$11*4+$C248),1,0)","v":0},{"$f":"IF(AND($C248<=W$1,Negyedéves!W$1<Paraméterek!$C$11*4+$C248),1,0)","v":0},{"$f":"IF(AND($C248<=X$1,Negyedéves!X$1<Paraméterek!$C$11*4+$C248),1,0)","v":0},{"$f":"IF(AND($C248<=Y$1,Negyedéves!Y$1<Paraméterek!$C$11*4+$C248),1,0)","v":0},{"$f":"IF(AND($C248<=Z$1,Negyedéves!Z$1<Paraméterek!$C$11*4+$C248),1,0)","v":0},{"$f":"IF(AND($C248<=AA$1,Negyedéves!AA$1<Paraméterek!$C$11*4+$C248),1,0)","v":0},{"$f":"IF(AND($C248<=AB$1,Negyedéves!AB$1<Paraméterek!$C$11*4+$C248),1,0)","v":0},{"$f":"IF(AND($C248<=AC$1,Negyedéves!AC$1<Paraméterek!$C$11*4+$C248),1,0)","v":0},{"$f":"IF(AND($C248<=AD$1,Negyedéves!AD$1<Paraméterek!$C$11*4+$C248),1,0)","v":0},{"$f":"IF(AND($C248<=AE$1,Negyedéves!AE$1<Paraméterek!$C$11*4+$C248),1,0)","v":0},{"$f":"IF(AND($C248<=AF$1,Negyedéves!AF$1<Paraméterek!$C$11*4+$C248),1,0)","v":0},{"$f":"IF(AND($C248<=AG$1,Negyedéves!AG$1<Paraméterek!$C$11*4+$C248),1,0)","v":0},{"$f":"IF(AND($C248<=AH$1,Negyedéves!AH$1<Paraméterek!$C$11*4+$C248),1,0)","v":0},{"$f":"IF(AND($C248<=AI$1,Negyedéves!AI$1<Paraméterek!$C$11*4+$C248),1,0)","v":0},{"$f":"IF(AND($C248<=AJ$1,Negyedéves!AJ$1<Paraméterek!$C$11*4+$C248),1,0)","v":0},{"$f":"IF(AND($C248<=AK$1,Negyedéves!AK$1<Paraméterek!$C$11*4+$C248),1,0)","v":0},{"$f":"IF(AND($C248<=AL$1,Negyedéves!AL$1<Paraméterek!$C$11*4+$C248),1,0)","v":0},{"$f":"IF(AND($C248<=AM$1,Negyedéves!AM$1<Paraméterek!$C$11*4+$C248),1,0)","v":0},{"$f":"IF(AND($C248<=AN$1,Negyedéves!AN$1<Paraméterek!$C$11*4+$C248),1,0)","v":0},{"$f":"IF(AND($C248<=AO$1,Negyedéves!AO$1<Paraméterek!$C$11*4+$C248),1,0)","v":0},{"$f":"IF(AND($C248<=AP$1,Negyedéves!AP$1<Paraméterek!$C$11*4+$C248),1,0)","v":0},{"$f":"IF(AND($C248<=AQ$1,Negyedéves!AQ$1<Paraméterek!$C$11*4+$C248),1,0)","v":0},{"$f":"IF(AND($C248<=AR$1,Negyedéves!AR$1<Paraméterek!$C$11*4+$C248),1,0)","v":0},{"$f":"IF(AND($C248<=AS$1,Negyedéves!AS$1<Paraméterek!$C$11*4+$C248),1,0)","v":0},{"$f":"IF(AND($C248<=AT$1,Negyedéves!AT$1<Paraméterek!$C$11*4+$C248),1,0)","v":0},{"$f":"IF(AND($C248<=AU$1,Negyedéves!AU$1<Paraméterek!$C$11*4+$C248),1,0)","v":0},{"$f":"IF(AND($C248<=AV$1,Negyedéves!AV$1<Paraméterek!$C$11*4+$C248),1,0)","v":0},{"$f":"IF(AND($C248<=AW$1,Negyedéves!AW$1<Paraméterek!$C$11*4+$C248),1,0)","v":0},{"$f":"IF(AND($C248<=AX$1,Negyedéves!AX$1<Paraméterek!$C$11*4+$C248),1,0)","v":0},{"$f":"IF(AND($C248<=AY$1,Negyedéves!AY$1<Paraméterek!$C$11*4+$C248),1,0)","v":0},{"$f":"IF(AND($C248<=AZ$1,Negyedéves!AZ$1<Paraméterek!$C$11*4+$C248),1,0)","v":0},{"$f":"IF(AND($C248<=BA$1,Negyedéves!BA$1<Paraméterek!$C$11*4+$C248),1,0)","v":0},{"$f":"IF(AND($C248<=BB$1,Negyedéves!BB$1<Paraméterek!$C$11*4+$C248),1,0)","v":0},{"$f":"IF(AND($C248<=BC$1,Negyedéves!BC$1<Paraméterek!$C$11*4+$C248),1,0)","v":0},{"$f":"IF(AND($C248<=BD$1,Negyedéves!BD$1<Paraméterek!$C$11*4+$C248),1,0)","v":0},{"$f":"IF(AND($C248<=BE$1,Negyedéves!BE$1<Paraméterek!$C$11*4+$C248),1,0)","v":0},{"$f":"IF(AND($C248<=BF$1,Negyedéves!BF$1<Paraméterek!$C$11*4+$C248),1,0)","v":0},{"$f":"IF(AND($C248<=BG$1,Negyedéves!BG$1<Paraméterek!$C$11*4+$C248),1,0)","v":0},{"$f":"IF(AND($C248<=BH$1,Negyedéves!BH$1<Paraméterek!$C$11*4+$C248),1,0)","v":0},{"$f":"IF(AND($C248<=BI$1,Negyedéves!BI$1<Paraméterek!$C$11*4+$C248),1,0)","v":0},{"$f":"IF(AND($C248<=BJ$1,Negyedéves!BJ$1<Paraméterek!$C$11*4+$C248),1,0)","v":0},{"$f":"IF(AND($C248<=BK$1,Negyedéves!BK$1<Paraméterek!$C$11*4+$C248),1,0)","v":0},{"$f":"IF(AND($C248<=BL$1,Negyedéves!BL$1<Paraméterek!$C$11*4+$C248),1,0)","v":0},{"$f":"IF(AND($C248<=BM$1,Negyedéves!BM$1<Paraméterek!$C$11*4+$C248),1,0)","v":0},{"$f":"IF(AND($C248<=BN$1,Negyedéves!BN$1<Paraméterek!$C$11*4+$C248),1,0)","v":0},{"$f":"IF(AND($C248<=BO$1,Negyedéves!BO$1<Paraméterek!$C$11*4+$C248),1,0)","v":0},{"$f":"IF(AND($C248<=BP$1,Negyedéves!BP$1<Paraméterek!$C$11*4+$C248),1,0)","v":0},{"$f":"IF(AND($C248<=BQ$1,Negyedéves!BQ$1<Paraméterek!$C$11*4+$C248),1,0)","v":0},{"$f":"IF(AND($C248<=BR$1,Negyedéves!BR$1<Paraméterek!$C$11*4+$C248),1,0)","v":0},{"$f":"IF(AND($C248<=BS$1,Negyedéves!BS$1<Paraméterek!$C$11*4+$C248),1,0)","v":1},"x"]
[null,null,null,null,null,null,null,null,null,null,null,null,null,null,null,null,null,null,null,null,null,null,null,null,null,null,null,null,null,null,null,null,null,null,null,null,null,null,null,null,null,null,null,null,null,null,null,null,null,null,null,null,null,null,null,null,null,null,null,null,null,null,null,null,null,null,null,null,null,null,null,"x"]
[null,null,null,null,null,null,null,null,null,null,null,null,null,null,null,null,null,null,null,null,null,null,null,null,null,null,null,null,null,null,null,null,null,null,null,null,null,null,null,null,null,null,null,null,null,null,null,null,null,null,null,null,null,null,null,null,null,null,null,null,null,null,null,null,null,null,null,null,null,null,null,"x"]
[null,null,null,null,null,null,null,null,null,null,null,null,null,null,null,null,null,null,null,null,null,null,null,null,null,null,null,null,null,null,null,null,null,null,null,null,null,null,null,null,null,null,null,null,null,null,null,null,null,null,null,null,null,null,null,null,null,null,null,null,null,null,null,null,null,null,null,null,null,null,null,"x"]
[null,null,null,null,null,null,null,null,null,null,null,null,null,null,null,null,null,null,null,null,null,null,null,null,null,null,null,null,null,null,null,null,null,null,null,null,null,null,null,null,null,null,null,null,null,null,null,null,null,null,null,null,null,null,null,null,null,null,null,null,null,null,null,null,null,null,null,null,null,null,null,"x"]
[null,null,null,null,null,null,null,null,null,null,null,null,null,null,null,null,null,null,null,null,null,null,null,null,null,null,null,null,null,null,null,null,null,null,null,null,null,null,null,null,null,null,null,null,null,null,null,null,null,null,null,null,null,null,null,null,null,null,null,null,null,null,null,null,null,null,null,null,null,null,null,"x"]
[null,null,null,null,null,null,null,null,null,null,null,null,null,null,null,null,null,null,null,null,null,null,null,null,null,null,null,null,null,null,null,null,null,null,null,null,null,null,null,null,null,null,null,null,null,null,null,null,null,null,null,null,null,null,null,null,null,null,null,null,null,null,null,null,null,null,null,null,null,null,null,"x"]
[null,null,null,null,null,null,null,null,null,null,null,null,null,null,null,null,null,null,null,null,null,null,null,null,null,null,null,null,null,null,null,null,null,null,null,null,null,null,null,null,null,null,null,null,null,null,null,null,null,null,null,null,null,null,null,null,null,null,null,null,null,null,null,null,null,null,null,null,null,null,null,"x"]
[null,null,null,null,null,null,null,null,null,null,null,null,null,null,null,null,null,null,null,null,null,null,null,null,null,null,null,null,null,null,null,null,null,null,null,null,null,null,null,null,null,null,null,null,null,null,null,null,null,null,null,null,null,null,null,null,null,null,null,null,null,null,null,null,null,null,null,null,null,null,null,"x"]
[null,null,null,null,null,null,null,null,null,null,null,null,null,null,null,null,null,null,null,null,null,null,null,null,null,null,null,null,null,null,null,null,null,null,null,null,null,null,null,null,null,null,null,null,null,null,null,null,null,null,null,null,null,null,null,null,null,null,null,null,null,null,null,null,null,null,null,null,null,null,null,"x"]
[null,null,null,null,null,null,null,null,null,null,null,null,null,null,null,null,null,null,null,null,null,null,null,null,null,null,null,null,null,null,null,null,null,null,null,null,null,null,null,null,null,null,null,null,null,null,null,null,null,null,null,null,null,null,null,null,null,null,null,null,null,null,null,null,null,null,null,null,null,null,null,"x"]
[null,null,null,null,null,null,null,null,null,null,null,null,null,null,null,null,null,null,null,null,null,null,null,null,null,null,null,null,null,null,null,null,null,null,null,null,null,null,null,null,null,null,null,null,null,null,null,null,null,null,null,null,null,null,null,null,null,null,null,null,null,null,null,null,null,null,null,null,null,null,null,"x"]
[null,null,null,null,null,null,null,null,null,null,null,null,null,null,null,null,null,null,null,null,null,null,null,null,null,null,null,null,null,null,null,null,null,null,null,null,null,null,null,null,null,null,null,null,null,null,null,null,null,null,null,null,null,null,null,null,null,null,null,null,null,null,null,null,null,null,null,null,null,null,null,"x"]
[null,null,null,null,null,null,null,null,null,null,null,null,null,null,null,null,null,null,null,null,null,null,null,null,null,null,null,null,null,null,null,null,null,null,null,null,null,null,null,null,null,null,null,null,null,null,null,null,null,null,null,null,null,null,null,null,null,null,null,null,null,null,null,null,null,null,null,null,null,null,null,"x"]
[null,null,null,null,null,null,null,null,null,null,null,null,null,null,null,null,null,null,null,null,null,null,null,null,null,null,null,null,null,null,null,null,null,null,null,null,null,null,null,null,null,null,null,null,null,null,null,null,null,null,null,null,null,null,null,null,null,null,null,null,null,null,null,null,null,null,null,null,null,null,null,"x"]
[null,null,null,null,null,null,null,null,null,null,null,null,null,null,null,null,null,null,null,null,null,null,null,null,null,null,null,null,null,null,null,null,null,null,null,null,null,null,null,null,null,null,null,null,null,null,null,null,null,null,null,null,null,null,null,null,null,null,null,null,null,null,null,null,null,null,null,null,null,null,null,"x"]
[null,null,null,null,null,null,null,null,null,null,null,null,null,null,null,null,null,null,null,null,null,null,null,null,null,null,null,null,null,null,null,null,null,null,null,null,null,null,null,null,null,null,null,null,null,null,null,null,null,null,null,null,null,null,null,null,null,null,null,null,null,null,null,null,null,null,null,null,null,null,null,"x"]
[null,null,null,null,null,null,null,null,null,null,null,null,null,null,null,null,null,null,null,null,null,null,null,null,null,null,null,null,null,null,null,null,null,null,null,null,null,null,null,null,null,null,null,null,null,null,null,null,null,null,null,null,null,null,null,null,null,null,null,null,null,null,null,null,null,null,null,null,null,null,null,"x"]
[null,null,null,null,null,null,null,null,null,null,null,null,null,null,null,null,null,null,null,null,null,null,null,null,null,null,null,null,null,null,null,null,null,null,null,null,null,null,null,null,null,null,null,null,null,null,null,null,null,null,null,null,null,null,null,null,null,null,null,null,null,null,null,null,null,null,null,null,null,null,null,"x"]
[null,null,null,null,null,null,null,null,null,null,null,null,null,null,null,null,null,null,null,null,null,null,null,null,null,null,null,null,null,null,null,null,null,null,null,null,null,null,null,null,null,null,null,null,null,null,null,null,null,null,null,null,null,null,null,null,null,null,null,null,null,null,null,null,null,null,null,null,null,null,null,"x"]
[null,null,null,null,null,null,null,null,null,null,null,null,null,null,null,null,null,null,null,null,null,null,null,null,null,null,null,null,null,null,null,null,null,null,null,null,null,null,null,null,null,null,null,null,null,null,null,null,null,null,null,null,null,null,null,null,null,null,null,null,null,null,null,null,null,null,null,null,null,null,null,"x"]
[null,null,null,null,null,null,null,null,null,null,null,null,null,null,null,null,null,null,null,null,null,null,null,null,null,null,null,null,null,null,null,null,null,null,null,null,null,null,null,null,null,null,null,null,null,null,null,null,null,null,null,null,null,null,null,null,null,null,null,null,null,null,null,null,null,null,null,null,null,null,null,"x"]
[null,null,null,null,null,null,null,null,null,null,null,null,null,null,null,null,null,null,null,null,null,null,null,null,null,null,null,null,null,null,null,null,null,null,null,null,null,null,null,null,null,null,null,null,null,null,null,null,null,null,null,null,null,null,null,null,null,null,null,null,null,null,null,null,null,null,null,null,null,null,null,"x"]
[null,null,null,null,null,null,null,null,null,null,null,null,null,null,null,null,null,null,null,null,null,null,null,null,null,null,null,null,null,null,null,null,null,null,null,null,null,null,null,null,null,null,null,null,null,null,null,null,null,null,null,null,null,null,null,null,null,null,null,null,null,null,null,null,null,null,null,null,null,null,null,"x"]
[null,null,null,null,null,null,null,null,null,null,null,null,null,null,null,null,null,null,null,null,null,null,null,null,null,null,null,null,null,null,null,null,null,null,null,null,null,null,null,null,null,null,null,null,null,null,null,null,null,null,null,null,null,null,null,null,null,null,null,null,null,null,null,null,null,null,null,null,null,null,null,"x"]
[null,null,null,null,null,null,null,null,null,null,null,null,null,null,null,null,null,null,null,null,null,null,null,null,null,null,null,null,null,null,null,null,null,null,null,null,null,null,null,null,null,null,null,null,null,null,null,null,null,null,null,null,null,null,null,null,null,null,null,null,null,null,null,null,null,null,null,null,null,null,null,"x"]
[null,null,null,null,null,null,null,null,null,null,null,null,null,null,null,null,null,null,null,null,null,null,null,null,null,null,null,null,null,null,null,null,null,null,null,null,null,null,null,null,null,null,null,null,null,null,null,null,null,null,null,null,null,null,null,null,null,null,null,null,null,null,null,null,null,null,null,null,null,null,null,"x"]
[null,null,null,null,null,null,null,null,null,null,null,null,null,null,null,null,null,null,null,null,null,null,null,null,null,null,null,null,null,null,null,null,null,null,null,null,null,null,null,null,null,null,null,null,null,null,null,null,null,null,null,null,null,null,null,null,null,null,null,null,null,null,null,null,null,null,null,null,null,null,null,"x"]
[null,null,null,null,null,null,null,null,null,null,null,null,null,null,null,null,null,null,null,null,null,null,null,null,null,null,null,null,null,null,null,null,null,null,null,null,null,null,null,null,null,null,null,null,null,null,null,null,null,null,null,null,null,null,null,null,null,null,null,null,null,null,null,null,null,null,null,null,null,null,null,"x"]
[null,null,null,null,null,null,null,null,null,null,null,null,null,null,null,null,null,null,null,null,null,null,null,null,null,null,null,null,null,null,null,null,null,null,null,null,null,null,null,null,null,null,null,null,null,null,null,null,null,null,null,null,null,null,null,null,null,null,null,null,null,null,null,null,null,null,null,null,null,null,null,"x"]
[null,null,null,null,null,null,null,null,null,null,null,null,null,null,null,null,null,null,null,null,null,null,null,null,null,null,null,null,null,null,null,null,null,null,null,null,null,null,null,null,null,null,null,null,null,null,null,null,null,null,null,null,null,null,null,null,null,null,null,null,null,null,null,null,null,null,null,null,null,null,null,"x"]
[null,null,null,null,null,null,null,null,null,null,null,null,null,null,null,null,null,null,null,null,null,null,null,null,null,null,null,null,null,null,null,null,null,null,null,null,null,null,null,null,null,null,null,null,null,null,null,null,null,null,null,null,null,null,null,null,null,null,null,null,null,null,null,null,null,null,null,null,null,null,null,"x"]
[null,null,null,null,null,null,null,null,null,null,null,null,null,null,null,null,null,null,null,null,null,null,null,null,null,null,null,null,null,null,null,null,null,null,null,null,null,null,null,null,null,null,null,null,null,null,null,null,null,null,null,null,null,null,null,null,null,null,null,null,null,null,null,null,null,null,null,null,null,null,null,"x"]
[null,null,null,null,null,null,null,null,null,null,null,null,null,null,null,null,null,null,null,null,null,null,null,null,null,null,null,null,null,null,null,null,null,null,null,null,null,null,null,null,null,null,null,null,null,null,null,null,null,null,null,null,null,null,null,null,null,null,null,null,null,null,null,null,null,null,null,null,null,null,null,"x"]
[null,null,null,null,null,null,null,null,null,null,null,null,null,null,null,null,null,null,null,null,null,null,null,null,null,null,null,null,null,null,null,null,null,null,null,null,null,null,null,null,null,null,null,null,null,null,null,null,null,null,null,null,null,null,null,null,null,null,null,null,null,null,null,null,null,null,null,null,null,null,null,"x"]
[null,null,null,null,null,null,null,null,null,null,null,null,null,null,null,null,null,null,null,null,null,null,null,null,null,null,null,null,null,null,null,null,null,null,null,null,null,null,null,null,null,null,null,null,null,null,null,null,null,null,null,null,null,null,null,null,null,null,null,null,null,null,null,null,null,null,null,null,null,null,null,"x"]
[null,null,null,null,null,null,null,null,null,null,null,null,null,null,null,null,null,null,null,null,null,null,null,null,null,null,null,null,null,null,null,null,null,null,null,null,null,null,null,null,null,null,null,null,null,null,null,null,null,null,null,null,null,null,null,null,null,null,null,null,null,null,null,null,null,null,null,null,null,null,null,"x"]
[null,null,null,null,null,null,null,null,null,null,null,null,null,null,null,null,null,null,null,null,null,null,null,null,null,null,null,null,null,null,null,null,null,null,null,null,null,null,null,null,null,null,null,null,null,null,null,null,null,null,null,null,null,null,null,null,null,null,null,null,null,null,null,null,null,null,null,null,null,null,null,"x"]
[null,null,null,null,null,null,null,null,null,null,null,null,null,null,null,null,null,null,null,null,null,null,null,null,null,null,null,null,null,null,null,null,null,null,null,null,null,null,null,null,null,null,null,null,null,null,null,null,null,null,null,null,null,null,null,null,null,null,null,null,null,null,null,null,null,null,null,null,null,null,null,"x"]
[null,null,null,null,null,null,null,null,null,null,null,null,null,null,null,null,null,null,null,null,null,null,null,null,null,null,null,null,null,null,null,null,null,null,null,null,null,null,null,null,null,null,null,null,null,null,null,null,null,null,null,null,null,null,null,null,null,null,null,null,null,null,null,null,null,null,null,null,null,null,null,"x"]
[null,null,null,null,null,null,null,null,null,null,null,null,null,null,null,null,null,null,null,null,null,null,null,null,null,null,null,null,null,null,null,null,null,null,null,null,null,null,null,null,null,null,null,null,null,null,null,null,null,null,null,null,null,null,null,null,null,null,null,null,null,null,null,null,null,null,null,null,null,null,null,"x"]
[null,null,null,null,null,null,null,null,null,null,null,null,null,null,null,null,null,null,null,null,null,null,null,null,null,null,null,null,null,null,null,null,null,null,null,null,null,null,null,null,null,null,null,null,null,null,null,null,null,null,null,null,null,null,null,null,null,null,null,null,null,null,null,null,null,null,null,null,null,null,null,"x"]
[null,null,null,null,null,null,null,null,null,null,null,null,null,null,null,null,null,null,null,null,null,null,null,null,null,null,null,null,null,null,null,null,null,null,null,null,null,null,null,null,null,null,null,null,null,null,null,null,null,null,null,null,null,null,null,null,null,null,null,null,null,null,null,null,null,null,null,null,null,null,null,"x"]
[null,null,null,null,null,null,null,null,null,null,null,null,null,null,null,null,null,null,null,null,null,null,null,null,null,null,null,null,null,null,null,null,null,null,null,null,null,null,null,null,null,null,null,null,null,null,null,null,null,null,null,null,null,null,null,null,null,null,null,null,null,null,null,null,null,null,null,null,null,null,null,"x"]
[null,null,null,null,null,null,null,null,null,null,null,null,null,null,null,null,null,null,null,null,null,null,null,null,null,null,null,null,null,null,null,null,null,null,null,null,null,null,null,null,null,null,null,null,null,null,null,null,null,null,null,null,null,null,null,null,null,null,null,null,null,null,null,null,null,null,null,null,null,null,null,"x"]
[null,null,null,null,null,null,null,null,null,null,null,null,null,null,null,null,null,null,null,null,null,null,null,null,null,null,null,null,null,null,null,null,null,null,null,null,null,null,null,null,null,null,null,null,null,null,null,null,null,null,null,null,null,null,null,null,null,null,null,null,null,null,null,null,null,null,null,null,null,null,null,"x"]
[null,null,null,null,null,null,null,null,null,null,null,null,null,null,null,null,null,null,null,null,null,null,null,null,null,null,null,null,null,null,null,null,null,null,null,null,null,null,null,null,null,null,null,null,null,null,null,null,null,null,null,null,null,null,null,null,null,null,null,null,null,null,null,null,null,null,null,null,null,null,null,"x"]

{"sheet":"Makroadatok","index":4,"n_rows":32,"n_cols":24,"rows_kept":32,"cut":false,"hidden":false,"merged":[[0,0,3,1],[4,0,4,23]]}
["Makroadatok",null,null,2020,{"$f":"D1+1","v":2021},{"$f":"E1+1","v":2022},2023,2024,2025,2026,2027,2028,2029,2030,2031,2032,2033,2034,2035,2036,2037,2038,2039,2040]
[]
[null,null,"Induló","1. év","2. év","3. év","4. év","5. év","6. év","7. év","8. év","9. év","10. év","11. év","12. év","13. év","14. év","15. év","16. év","17. év","18. év","19. év","20. év","21. év"]
[null,null,0,1,2,3,4,5,6,7,8,9,10,11,12,13,14,15,16,17,18,19,20,21]
["Makrogazdasági adatok"]
[null,"Inflációs ráta",null,0.02,0.02,0.02,0.02,0.02,0.02,0.02,0.02,0.02,0.02,0.02,0.02,0.02,0.02,0.02,0.02,0.02,0.02,0.02,0.02,0.02]
[null,"Kumulált árszínvonal (2. évtől)",null,null,1,{"$f":"E7*(1+F6)","v":1.02},{"$f":"F7*(1+G6)","v":1.0404},1.0612079999999999,{"$f":"H7*(1+I6)","v":1.08243216},{"$f":"I7*(1+J6)","v":1.1040808032},{"$f":"J7*(1+K6)","v":1.1261624192640001},{"$f":"K7*(1+L6)","v":1.14868566764928},{"$f":"L7*(1+M6)","v":1.1716593810022657},{"$f":"M7*(1+N6)","v":1.1950925686223111},{"$f":"N7*(1+O6)","v":1.2189944199947573},{"$f":"O7*(1+P6)","v":1.2433743083946525},{"$f":"P7*(1+Q6)","v":1.2682417945625455},{"$f":"Q7*(1+R6)","v":1.2936066304537963},{"$f":"R7*(1+S6)","v":1.3194787630628724},{"$f":"S7*(1+T6)","v":1.3458683383241299},{"$f":"T7*(1+U6)","v":1.3727857050906125},{"$f":"U7*(1+V6)","v":1.4002414191924248},{"$f":"V7*(1+W6)","v":1.4282462475762734},{"$f":"W7*(1+X6)","v":1.4568111725277988}]
[null,"Kockázatmentes hozam",null,0.02,{"$f":"+D8-($D$8-$R$8)/14","v":0.02},{"$f":"+E8-($D$8-$R$8)/14","v":0.02},0.02,0.02,0.02,0.02,0.02,0.02,0.02,0.02,0.02,0.02,0.02,0.02,0.02,0.02,0.02,0.02,0.02,0.02]
[null,"Maradványérték szorzó",null,0]
[null,"Projekt elvárt kockázati felár",null,0.05,0.05,0.05,0.05,0.05,0.05,0.05,0.05,0.05,0.05,0.05,0.05,0.05,0.05,0.05,0.05,0.05,0.05,0.05,0.05,0.05]
[null,"BUBOR",null,2.5000000000000001E-2,{"$f":"+D11+($J$11-$D$11)/6","v":2.5000000000000001E-2},{"$f":"+E11+($J$11-$D$11)/6","v":2.5000000000000001E-2},{"$f":"+F11+($J$11-$D$11)/6","v":2.5000000000000001E-2},{"$f":"+G11+($J$11-$D$11)/6","v":2.5000000000000001E-2},{"$f":"+H11+($J$11-$D$11)/6","v":2.5000000000000001E-2},2.5000000000000001E-2,{"$f":"J11","v":2.5000000000000001E-2},{"$f":"K11","v":2.5000000000000001E-2},2.5000000000000001E-2,2.5000000000000001E-2,2.5000000000000001E-2,2.5000000000000001E-2,2.5000000000000001E-2,2.5000000000000001E-2,2.5000000000000001E-2,2.5000000000000001E-2,2.5000000000000001E-2,2.5000000000000001E-2,2.5000000000000001E-2,2.5000000000000001E-2]
[null,"EURIBOR",null,5.0000000000000001E-3,{"$f":"+D12+($J$12-$D$12)/6","v":5.0000000000000001E-3},{"$f":"+E12+($J$12-$D$12)/6","v":5.0000000000000001E-3},{"$f":"+F12+($J$12-$D$12)/6","v":5.0000000000000001E-3},{"$f":"+G12+($J$12-$D$12)/6","v":5.0000000000000001E-3},{"$f":"+H12+($J$12-$D$12)/6","v":5.0000000000000001E-3},5.0000000000000001E-3,{"$f":"J12","v":5.0000000000000001E-3},{"$f":"K12","v":5.0000000000000001E-3},5.0000000000000001E-3,5.0000000000000001E-3,5.0000000000000001E-3,5.0000000000000001E-3,5.0000000000000001E-3,5.0000000000000001E-3,5.0000000000000001E-3,5.0000000000000001E-3,5.0000000000000001E-3,5.0000000000000001E-3,5.0000000000000001E-3,5.0000000000000001E-3]
[null,"CHFLIBOR",null,5.0000000000000001E-3,{"$f":"+D13+($J$12-$D$12)/6","v":5.0000000000000001E-3},5.0000000000000001E-3,5.0000000000000001E-3,5.0000000000000001E-3,5.0000000000000001E-3,5.0000000000000001E-3,{"$f":"J13","v":5.0000000000000001E-3},{"$f":"K13","v":5.0000000000000001E-3},{"$f":"L13","v":5.0000000000000001E-3},{"$f":"M13","v":5.0000000000000001E-3},{"$f":"N13","v":5.0000000000000001E-3},{"$f":"O13","v":5.0000000000000001E-3},{"$f":"P13","v":5.0000000000000001E-3},{"$f":"Q13","v":5.0000000000000001E-3},{"$f":"R13","v":5.0000000000000001E-3},{"$f":"S13","v":5.0000000000000001E-3},{"$f":"T13","v":5.0000000000000001E-3},{"$f":"U13","v":5.0000000000000001E-3},{"$f":"V13","v":5.0000000000000001E-3},{"$f":"W13","v":5.0000000000000001E-3}]
[null,"USDLIBOR",null,5.0000000000000001E-3,{"$f":"+D14+($J$12-$D$12)/6","v":5.0000000000000001E-3},5.0000000000000001E-3,5.0000000000000001E-3,5.0000000000000001E-3,5.0000000000000001E-3,5.0000000000000001E-3,5.0000000000000001E-3,5.0000000000000001E-3,5.0000000000000001E-3,5.0000000000000001E-3,5.0000000000000001E-3,5.0000000000000001E-3,5.0000000000000001E-3,5.0000000000000001E-3,5.0000000000000001E-3,5.0000000000000001E-3,5.0000000000000001E-3,5.0000000000000001E-3,5.0000000000000001E-3,5.0000000000000001E-3]
[null,"HUF/HUF",1,1,1,1,1,1,1,1,1,1,1,1,1,1,1,1,1,1,1,1,1,1]
[null,"HUF/EUR",330,{"$f":"C16","v":330},{"$f":"D16","v":330},330,330,330,330,330,330,330,330,330,330,330,330,330,330,330,330,330,330,330]
[null,"HUF/CHF",240,240,240,240,240,240,240,240,240,240,240,240,240,240,240,240,240,240,240,240,240,240]
[null,"HUF/USD",250,250,250,250,250,250,250,250,250,250,250,250,250,250,250,250,250,250,250,250,250,250]
[]
["Segédtáblák"]
[null,"Bevétel típusa",null,null,"Hiteldeviza",null,"Törlesztés",null,"Támogatás folyósítása",null,null,null,"Működés"]
[null,"Fix",null,null,"HUF",null,"Negyedéves",null,"Havi",null,null,null,1]
[null,"Inflációval korrigált",null,null,"EUR",null,"Havi",null,"Negyedéves",null,null,null,2]
[null,null,null,null,"CHF",null,null,null,"Egyszeri",null,null,null,3]
[null,null,null,null,"USD",null,null,null,null,null,null,null,4]
[]
[]
[null,"Törlesztés típusa",null,null,"ÁFA-hitel",null,null,null,"Támogatás-hitel",null,null,null,"Pótl. Beruházás"]
[null,"Annuitás - fix kamatozású",null,null,"Fix kamatozás",null,null,null,"Fix kamatozás",null,null,null,1]
[null,"Annuitás - változó kamatozású",null,null,"Változó kamatozás",null,null,null,"Változó kamatozás",null,null,null,2]
[null,"Egyenlő tőketörl. - fix kamatozású",null,null,null,null,null,null,null,null,null,null,4]
[null,"Egyenlő tőketörl. - változó kamatozású",null,null,null,null,null,null,null,null,null,null,0]

{"sheet":"Szcenárió elemzés","index":5,"n_rows":50,"n_cols":27,"rows_kept":50,"cut":false,"hidden":false,"merged":[[0,1,0,2]]}
["Paraméter","Magyarázat",null,"Cella","Alapszcenárió","Szc1","Szc2","Szc3","Szc4","Szc5","Szc6","Szc7","Szc8","Szc9","Szc10","Szc11","Szc12","Szc13","Szc14","Szc15","Szc16","Szc17","Szc18","Szc19","Szc20",null,"backup"]
["Időjárás korr","Havi hőmérséklet C fok változása ",null,"F17",0,0,0,0,0,0,-2,-1,1,2,0,0,0,0,0,0,0,0,0,0,0,null,0]
["Menny. Korr1/1",{"$f":"+Paraméterek!E60","v":"Fermentlé szilárd szeparátum"},"%-os változása","K60",1,1,1,1,1,1,1,1,1,1,1,1,1,1,1,1,1,1,0.9,0.7,0.5,null,1]
["Menny. Korr1/2",{"$f":"+Paraméterek!E61","v":"Silótető"},"%-os változása","K61",1,1,1,1,1,1,1,1,1,1,1,1,1,1,1,1,1,1,0.9,0.7,0.5,null,1]
["Menny. Korr1/3",{"$f":"+Paraméterek!E62","v":"Fermentlé szilárd szeparátum"},"%-os változása","K62",1,1,1,1,1,1,1,1,1,1,1,1,1,1,1,1,1,1,0.9,0.7,0.5,null,1]
["Menny. Korr1/4",{"$f":"+Paraméterek!E63","v":"Hulladék nedves szalma"},"%-os változása","K63",1,1,1,1,1,1,1,1,1,1,1,1,1,1,1,1,1,1,0.9,0.7,0.5,null,1]
["Menny. Korr1/5",{"$f":"+Paraméterek!E64","v":"Cukorrépaszelet"},"%-os változása","K64",1,1,1,1,1,1,1,1,1,1,1,1,1,1,1,1,1,1,0.9,0.7,0.5,null,1]
["Menny. Korr2/1",{"$f":"+B3","v":"Fermentlé szilárd szeparátum"},"abszolút változása (t/év)","L60",0,100,0,0,0,0,0,0,0,0,0,0,0,0,0,0,0,0,0,0,0,null,0]
["Menny. Korr2/2",{"$f":"+B4","v":"Silótető"},"abszolút változása (t/év)","L61",0,0,100,0,0,0,0,0,0,0,0,0,0,0,0,0,0,0,0,0,0,null,0]
["Menny. Korr2/3",{"$f":"+B5","v":"Fermentlé szilárd szeparátum"},"abszolút változása (t/év)","L62",0,0,0,100,0,0,0,0,0,0,0,0,0,0,0,0,0,0,0,0,0,null,0]
["Menny. Korr2/4",{"$f":"+B6","v":"Hulladék nedves szalma"},"abszolút változása (t/év)","L63",0,0,0,0,100,0,0,0,0,0,0,0,0,0,0,0,0,0,0,0,0,null,0]
["Menny. Korr2/5",{"$f":"+B7","v":"Cukorrépaszelet"},"abszolút változása (t/év)","L64",0,0,0,0,0,100,0,0,0,0,0,0,0,0,0,0,0,0,0,0,0,null,0]
["Min. Korr1/1",{"$f":"+Paraméterek!E60","v":"Fermentlé szilárd szeparátum"},"sz.a tartalom % vált.","M60",0,0,0,0,0,0,0,0,0,0,-0.02,-0.01,0.01,0.02,0,0,0,0,0,0,0,null,0]
["Min. Korr1/2",{"$f":"+Paraméterek!E61","v":"Silótető"},"sz.a tartalom % vált.","M61",0,0,0,0,0,0,0,0,0,0,-0.02,-0.01,0.01,0.02,0,0,0,0,0,0,0,null,0]
["Min. Korr1/3",{"$f":"+Paraméterek!E62","v":"Fermentlé szilárd szeparátum"},"sz.a tartalom % vált.","M62",0,0,0,0,0,0,0,0,0,0,-0.02,-0.01,0.01,0.02,0,0,0,0,0,0,0,null,0]
["Min. Korr1/4",{"$f":"+Paraméterek!E63","v":"Hulladék nedves szalma"},"sz.a tartalom % vált.","M63",0,0,0,0,0,0,0,0,0,0,-0.02,-0.01,0.01,0.02,0,0,0,0,0,0,0,null,0]
["Min. Korr1/5",{"$f":"+Paraméterek!E64","v":"Cukorrépaszelet"},"sz.a tartalom % vált.","M64",0,0,0,0,0,0,0,0,0,0,-0.02,-0.01,0.01,0.02,0,0,0,0,0,0,0,null,0]
["Min. Korr2/1",{"$f":"+Paraméterek!F51","v":"Pelletált szeparátum"},"sz.a tartalom % vált.","N60",0,0,0,0,0,0,0,0,0,0,0,0,0,0,-0.02,-0.01,0.01,0.02,0,0,0,null,0]
["Min. Korr2/2",{"$f":"+Paraméterek!F52","v":"Kukorica pellet"},"sz.a tartalom % vált.","N61",0,0,0,0,0,0,0,0,0,0,0,0,0,0,-0.02,-0.01,0.01,0.02,0,0,0,null,0]
["Min. Korr2/3",{"$f":"+Paraméterek!F53","v":"Szárított szeparátum"},"sz.a tartalom % vált.","N62",0,0,0,0,0,0,0,0,0,0,0,0,0,0,-0.02,-0.01,0.01,0.02,0,0,0,null,0]
["Min. Korr2/4",{"$f":"+Paraméterek!F54","v":"Szalma pellet"},"sz.a tartalom % vált.","N63",0,0,0,0,0,0,0,0,0,0,0,0,0,0,-0.02,-0.01,0.01,0.02,0,0,0,null,0]
["Min. Korr2/5",{"$f":"+Paraméterek!F55","v":"Cukorrépa pellet"},"sz.a tartalom % vált.","N64",0,0,0,0,0,0,0,0,0,0,0,0,0,0,-0.02,-0.01,0.01,0.02,0,0,0,null,0]
[{"$f":"+Paraméterek!B50","v":"Éves bevétel"},null,null,"C37",98383270.255116358,99477020.255116358,99689152.608057544,98993026.35267733,101601661.05971406,100049936.92178303,98383270.255116358,98383270.255116358,98383270.255116358,98383270.255116358,93491918.979534626,95937594.617325485,100828945.89290722,103274621.53069806,100753907.85684903,99554457.224482223,97239358.142972603,96121777.741086796,88544943.229604706,68868289.178581432,49191635.127558179,null,80182058.823529422]
[{"$f":"+Paraméterek!B71","v":"Alapanyag költség (Ft)"},null,null,"C71",6470000,6470000,6720000,6470000,6670000,7170000,6470000,6470000,6470000,6470000,6470000,6470000,6470000,6470000,6470000,6470000,6470000,6470000,5823000,4529000,3235000,null,12650000]
[{"$f":"+Paraméterek!B79","v":"Villamos energia éves díja (Ft)"},null,null,"C79",23033018.125248734,23396240.849255946,23402632.159608461,23251171.949300375,23483063.533743992,23390753.360569444,23541996.076008219,23302833.114076294,22809568.524537016,22601884.667112395,23060971.722541861,23046994.923895296,23019041.326602176,23005064.527955607,23062709.746035103,23047701.487943143,23018649.278836846,23004585.004294004,20946201.31272386,16772567.687674111,12598934.062624367,null,17355318.825817276]
[{"$f":"+Paraméterek!B82","v":"Hőenergia éves díja (Ft)"},null,null,"C82",243772.1428724289,248548.36775142764,248267.41334678067,248601.31924676019,245129.64879415056,248789.59123016492,248894.49846681461,246752.99144842121,241668.38906637501,239701.52880451607,254326.69629196869,249049.41958219881,238494.86616265899,233217.58945288911,239019.97225036111,241424.5984612061,246064.61695883205,248303.93865759062,219394.92858518602,170640.50001070026,121886.07143621445,null,190802.11898438394]
[{"$f":"+Paraméterek!A58","v":"Termelési költségek"},null,null,"C58",46029042.010170199,46466051.375723071,46728574.844416037,46319382.734173402,46827034.962901346,47156053.953107893,46543142.316524073,46301837.84757375,45803488.655652426,45593837.937965944,45827344.228415482,45928193.119292833,46129890.90104755,46230739.791924894,46162430.979769081,46094951.377269611,45964648.624394462,45901719.440411501,42696307.809153177,36030839.407119125,29365371.005085099,null,44734471.631076165]
[{"$f":"+Paraméterek!A116","v":"Működési ererdmény"},null,null,"C116",52354228.244946159,53010968.879393287,52960577.763641506,52673643.618503928,54774626.096812718,52893882.968675137,51840127.938592285,52081432.407542609,52579781.599463932,52789432.317150414,47664574.751119144,50009401.498032652,54699054.991859667,57043881.738773167,54591476.877079949,53459505.847212613,51274709.518578142,50220058.300675295,45848635.420451529,32837449.771462306,19826264.12247308,null,35447587.192453258]
[{"$f":"+Eredmények!B116","v":"NPV CF (12Y)"},null,null,"H3",428946522.76496226,435038660.96519548,434571160.65430784,431909508.1878432,451399068.67449188,433952388.86708146,424177400.2157613,426415894.47431546,431038899.63341343,432983753.4932875,385443229.96693999,407194876.36595094,450698169.16397357,472449815.5629847,449700220.11925167,439199561.48222327,418932434.65663034,409149028.44258684,368598354.32987422,247902017.45969859,127205680.58952311,null,271594463.32641774]
[{"$f":"+Paraméterek!I2","v":"MSZE"},null,null,"I4",42476890.283756152,43076944.754561245,43030897.596333601,42768734.065281346,44688388.137408674,42969950.722653165,42007148.263236016,42227632.179320745,42682982.143995859,42874543.499848753,38191966.915274724,40334428.599515423,44619351.967996843,46761813.652237549,44521057.450335026,43486779.015662268,41490537.357584685,40526905.797451213,36532805.122820549,24644634.800949421,12756464.479078304,null,27029349.905285601]
[{"$f":"+Paraméterek!J2","v":"DSCR EBITDA alapon"},null,null,"J4",4.3255980068252153,4.3762825638659351,4.3723931172718284,4.3502490568737997,4.5123956969723986,4.3672451424698657,4.2859204985457895,4.3045440238506885,4.343005884199969,4.3591864193678811,3.9636651266426468,4.1446315667339295,4.5065644469164976,4.6875308870077808,4.4982618438535846,4.4108998677852718,4.242284135199955,4.160889459962732,3.8235213820312621,2.8193681324433659,1.8152148828554677,null,3.0207968936846994]
[{"$f":"+Paraméterek!K2","v":"DSCR CF alapon"},null,null,"K4",4.3820215013806054,4.4370606797496039,4.4328370669304613,4.4087904744134985,4.5848681273986234,4.4272467980219909,4.3389350548782852,4.3591586415280119,4.4009249963265109,4.4184957005648267,3.9889927464095467,4.1855071238950741,4.5785358788661332,4.7750502563516601,4.569519948223995,4.4746521686826037,4.2915496237767305,4.2031618325000117,3.8368083926868071,2.7463821752992157,1.6559559579116256,null,2.9651169175147083]
[{"$f":"+Paraméterek!E59","v":"Alapanyag"},null,null,"F65",6390,6490,6490,6490,6490,6490,6390,6390,6390,6390,6390,6390,6390,6390,6390,6390,6390,6390,5751,4473,3195,null,4700]
[{"$f":"+Paraméterek!E37","v":"Előállított termék mennyiségek"},null,null,"F44",2849.3598729090736,2880.6098729090741,2884.6539905561331,2879.8476777871224,2929.8196430240168,2877.1376506868514,2849.3598729090736,2849.3598729090736,2849.3598729090736,2849.3598729090736,2695.8938416970377,2772.6268573030552,2926.0928885150915,3002.8259041211109,2918.5417523652818,2883.5353262874678,2815.9861111668347,2783.3861215557513,2564.4238856181664,1994.5519110363516,1424.6799364545368,null,1944.3382352941178]
[{"$f":"+Paraméterek!E45","v":"Tömörített mennyiség össz (t)"},null,null,"F45",2087.1647509578547,2118.4147509578538,2122.4588686049133,2087.1647509578547,2167.6245210727971,2114.9425287356321,2087.1647509578547,2087.1647509578547,2087.1647509578547,2087.1647509578547,1994.6743295019157,2040.9195402298849,2133.4099616858234,2179.655172413793,2137.2917523652818,2111.9303880158632,2062.9740629740627,2039.3385025081316,1878.4482758620688,1461.015325670498,1043.5823754789274,null,1850.5882352941178]
[{"$f":"+Paraméterek!E46","v":"Elszárított víz összesen (t)"},null,null,"F46",6390,6490,6490,6490,6490,6490,6390,6390,6390,6390,6390,6390,6390,6390,6390,6390,6390,6390,5751,4473,3195,null,4700]
[{"$f":"+Paraméterek!E47","v":"Elődarált mennyiség összesen"},null,null,"F47",1448.2758620689658,1448.2758620689658,1448.2758620689658,1448.2758620689658,1528.7356321839084,1448.2758620689658,1448.2758620689658,1448.2758620689658,1448.2758620689658,1448.2758620689658,1406.8965517241379,1427.5862068965516,1468.9655172413793,1489.655172413793,1482.3529411764707,1465.1162790697676,1431.8181818181818,1415.7303370786517,1303.4482758620688,1013.7931034482758,724.1379310344829,null,1038.4558823529412]
[{"$f":"+Paraméterek!E69","v":"Havi szárító működési óraszám"},null,"napi átlag","T69",15.863274406843615,16.17854277068977,16.159997572816462,16.182037985366556,15.952880462189649,16.194465415328466,16.60779013398076,16.258328271797126,15.536772707173522,15.233307710023393,16.548641268508824,16.205957837676216,15.520590976011013,15.177907545178401,15.555433181631514,15.711202758864566,16.011778445623285,16.156839134483882,14.276946966159249,11.104292084790529,7.9316372034218077,null,12.455591032083259]
[{"$f":"+Paraméterek!E70","v":"Havi tömörítő működési óraszám"},null,"napi átlag","T70",9.5304326527755912,9.6731267167025319,9.69159300732837,9.5304326527755912,9.8978288633461062,9.6572718207106512,9.5304326527755912,9.5304326527755912,9.5304326527755912,9.5304326527755912,9.1081019611959633,9.3192673069857754,9.7415979985654069,9.952763344355219,9.7593230701611038,9.6435177534970915,9.4199728902925255,9.3120479566581373,8.5773893874980285,6.6713028569429138,4.7652163263877956,null,6.337630942788075]
[{"$f":"+Paraméterek!E71","v":"Elődaráló működési óraszám"},null,"napi átlag","T71",0.26452527161076994,0.26452527161076994,0.26452527161076994,0.26452527161076994,0.27922112003359062,0.26452527161076994,0.26452527161076994,0.26452527161076994,0.26452527161076994,0.26452527161076994,0.25696740670760515,0.26074633915918755,0.26830420406235245,0.27208313651393484,0.27074939564867045,0.26760114686205805,0.26151930261519307,0.25858088348468528,0.23807274444969298,0.18516769012753892,0.13226263580538497,null,0.18967230727907602]
[{"$f":"+A38","v":"Havi szárító működési óraszám"},null,"napi max","S69",17.283075609337892,17.636447043729557,17.615660488765339,17.640364687126358,17.383511377524446,17.654294085870546,18.136921968440976,17.705448921661322,16.869767554348318,16.46554931743897,17.946960174752665,17.578622627192736,16.987528591483038,16.69198157362819,17.101110662194056,17.193203276235341,17.370807223085922,17.520833698038032,15.5547680484041,12.098152926536523,8.6415378046689462,null,15.784425014416952]
[{"$f":"+A39","v":"Havi tömörítő működési óraszám"},null,"napi max","S70",10.685031047694542,10.834695798652398,10.85406417818812,10.685031047694542,11.070374774298674,10.818066381879301,10.685031047694542,10.685031047694542,10.685031047694542,10.685031047694542,10.30585282071608,10.495441934205308,10.874620161183776,11.070402298850576,10.939477470917632,10.810755940840295,10.562199259517266,10.442161763733095,9.6165279429250887,7.4795217333861794,5.342515523847271,null,7.2515212981744419]
[{"$f":"+A40","v":"Elődaráló működési óraszám"},null,"napi max","S71",0.51790196855595194,0.51790196855595194,0.51790196855595194,0.51790196855595194,0.53948121724578324,0.51790196855595194,0.51790196855595194,0.51790196855595194,0.51790196855595194,0.51790196855595194,0.50310476945435323,0.51050336900515259,0.52530056810675119,0.53269916765755054,0.53008789722785665,0.5239240844693932,0.5120167189132705,0.50626372207154846,0.46611177170035667,0.36253137798916629,0.25895098427797597,null,0.28225806451612895]
[{"$f":"+Paraméterek!E72","v":"Szárító kihasználtság"},null,"átlag","F72",0.87911180841878178,0.89659558041346388,0.89556712323730603,0.89678941380586608,0.88408107276836745,0.89747859920107409,0.92040152228907723,0.90099479660782589,0.86100088680688269,0.8441773238373852,0.91711606218265018,0.89811393530071593,0.86010968153684775,0.84110755465491316,0.86202872053894064,0.87067286444007352,0.88735278364376857,0.89540268500184317,0.79120062757690357,0.61537826589314715,0.43955590420939089,null,0.69085599672902831]
[{"$f":"+Paraméterek!E73","v":"Tömörítő kihasználtság"},null,"átlag","F73",0.88078985704302382,0.89397219638465886,0.89567814618181185,0.88078985704302382,0.91473059281918767,0.89250749201336621,0.88078985704302382,0.88078985704302382,0.88078985704302382,0.88078985704302382,0.84180528503996266,0.86129757104149307,0.90028214304455478,0.91977442904608553,0.90194238537402105,0.89124043668610142,0.87058187955586763,0.86060814095054516,0.79271087133872153,0.61655289993011675,0.44039492852151191,null,0.5025980441202148]
[{"$f":"+Paraméterek!E74","v":"Elődaráló kihasználtság"},null,"átlag","F74",6.1698088458345686E-2,6.1698088458345686E-2,6.1698088458345686E-2,6.1698088458345686E-2,6.5119314624582994E-2,6.1698088458345686E-2,6.1698088458345686E-2,6.1698088458345686E-2,6.1698088458345686E-2,6.1698088458345686E-2,5.9935285930964394E-2,6.081668719465505E-2,6.2579489722036349E-2,6.3460890985727006E-2,6.3149808186777359E-2,6.2415508091582278E-2,6.0996973816773582E-2,6.0311614560405354E-2,5.5528279612511132E-2,4.3188661920841982E-2,3.0849044229172843E-2,null,4.4150588324152633E-2]
[{"$f":"+A44","v":"Szárító kihasználtság"},null,"max","S72",0.96017086718543843,0.97980261354053078,0.97864780493140768,0.98002026039590873,0.96575063208469125,0.98079411588169696,1.0076067760244987,0.98363605120340669,0.93720930857490659,0.91475273985772054,0.9970533430418147,0.97659014595515192,0.94375158841572426,0.92733230964601054,0.95006170345522534,0.95517795979085218,0.96504484572699567,0.97337964989100179,0.86415378046689439,0.67211960702980678,0.48008543359271921,null,0.87691250080094174]
[{"$f":"+A45","v":"Tömörítő kihasználtság"},null,"max","S73",0.98935472663838353,1.0032125739492961,1.0050059424248259,0.98935472663838353,1.0250347013239514,1.0016728131369723,0.98935472663838353,0.98935472663838353,0.98935472663838353,0.98935472663838353,0.95424563154778508,0.97180017909308414,1.0069092741836829,1.0250372498935718,1.0129145806405215,1.0009959204481753,0.97798141291826546,0.96686682997528661,0.89041925397454513,0.69254830864686845,0.49467736331919177,null,0.57551756334717796]
[{"$f":"+A46","v":"Elődaráló kihasználtság"},null,"max","S74",8.6316994759325319E-2,8.6316994759325319E-2,8.6316994759325319E-2,8.6316994759325319E-2,8.991353620763054E-2,8.6316994759325319E-2,8.6316994759325319E-2,8.6316994759325319E-2,8.6316994759325319E-2,8.6316994759325319E-2,8.3850794909058876E-2,8.5083894834192098E-2,8.7550094684458526E-2,8.8783194609591762E-2,8.8347982871309433E-2,8.7320680744898863E-2,8.5336119818878425E-2,8.4377287011924748E-2,7.7685295283392783E-2,6.0421896331527718E-2,4.3158497379662659E-2,null,4.7043010752688158E-2]
[null,null,null,null,{"$f":"E30-$E$30","v":0},{"$f":"F30-$E$30","v":600054.47080509365},{"$f":"G30-$E$30","v":554007.31257744879},291843.78152519464,2211497.853652522,493060.43889701366,-469742.02052013576,-249258.10443540663,206091.86023970693,397653.21609260142,-4284923.3684814274,-2142461.6842407286,2142461.6842406914,4284923.3684813976,2044167.166578874,1009888.731906116,-986352.92617146671,-1949984.4863049388,-5944085.1609356031,-17832255.482806731,-29720425.804677848]

{"sheet":"Opt","index":6,"n_rows":159,"n_cols":20,"rows_kept":159,"cut":false,"hidden":false,"merged":[[0,0,0,4],[6,0,6,2],[48,4,48,17],[57,4,57,18],[66,4,66,19]]}
["Kezdeti beruházás (azonnal aktivált tárgyi eszközként szerepel a mérlegben)",null,null,null,null,null,"EREDMÉNYEK (HUF)"]
[null,"NÉV","Amortizáció (év)","Avultság","Bekerülési érték",null,"Év száma","CF","MSZE"]
[null,"Gyártó csarnok építése",30,0,20000000]
[null,"Technológia fejlesztési költsége",10,0,198285758,null,1]
[null,null,10,null,{"$f":"SUM(E4:E4)","v":198285758},null,2]
[null,null,null,null,null,null,3]
["Pótlólagos beruházások (mindig e soron szerepelnek a mérlegben)",null,null,null,null,null,4]
[null,null,null,null,null,null,5]
[null,"Pótlólagos felújító beruházások 2.évtől (db/év) ",1,0,null,null,6]
[null,"Pótlólagos felújító beruházások 2.évtől (Ft/db) ",1000000,null,null,null,7]
[null,"Pótlólagos beruházások amortizációja (év)",7,null,null,null,8]
[null,"Pótlólagos beruházások amortizációja (Ft/negyedév)",{"$f":"$C$10/C11/4","v":35714.285714285717},null,null,null,9]
[null,"Pótlólagos beruházás összege",null,0,null,null,10]
[]
["Műszaki adatok",null,null,null,"Teljesítmény adatok"]
[null,null,null,null,null,null,"2020-01-01","2020-02-01","2020-03-01","2020-04-01","2020-05-01","2020-06-01","2020-07-01","2020-08-01","2020-09-01","2020-10-01","2020-11-01","2020-12-01"]
[null,"Gázmotor napi termelés (óra)",20,null,"Átlagos külső hőmérséklet (Celsius)",0,-1.35,0.95000000000000018,5,11,15.149999999999999,17,20.5,21,15.7,9.6999999999999993,4.9000000000000004,-2.0000000000000018E-2]
[null,"Szárító heti termelési nap",7,null,"Átlagos külső hőmérséklet módosított (Celsius)",null,{"$f":"+G17+$F$17","v":-1.35},{"$f":"+H17+$F$17","v":0.95000000000000018},5,11,15.149999999999999,17,20.5,21,15.7,9.6999999999999993,4.9000000000000004,-2.0000000000000018E-2]
[null,"Daráló heti termelési nap",5,null,"Kiadott motorblokk hőteljesítmény (kW)",null,350,{"$f":"+G19","v":350},{"$f":"+H19","v":350},350,350,350,350,350,350,350,350,350]
[null,"Daráló termelési kapacitása (t/h)",15,null,"Átlagos hő önfogyasztás (kW)",null,{"$f":"IF(G18<=17,-0.1714*G18^2-5.0644*G18+137.77,0)","v":144.29456350000001},{"$f":"IF(H18<=17,-0.1714*H18^2-5.0644*H18+137.77,0)","v":132.80413150000001},108.16300000000001,61.322200000000009,21.704183500000028,2.1406000000000063,0,0,16.010534000000021,72.518294000000012,108.83912600000001,137.87121944]
[null,"Daráló napi max működési óraszám",6,null,"Kiadott szárítási hőteljesítmény, előszárító(kW)",null,{"$f":"+G19-G20","v":205.70543649999999},{"$f":"+H19-H20","v":217.19586849999999},241.83699999999999,288.67779999999999,328.2958165,347.85939999999999,350,350,333.98946599999999,277.48170599999997,241.16087399999998,212.12878056]
[null,"Daráló villamos energia fogyasztása óránként (kW)",{"$f":"+I116","v":67.5},null,"Fajlagos szárítási teljesítmény,előszárító (l/kW)",null,{"$f":"IF(G23=0.5,-0.0006*G18^2 + 0.0341*G18 + 0.5976,-0.0012*G18^2 + 0.0701*G18 + 0.1558)","v":0.5504715},{"$f":"IF(H23=0.5,-0.0006*H18^2 + 0.0341*H18 + 0.5976,-0.0012*H18^2 + 0.0701*H18 + 0.1558)","v":0.6294535},0.75309999999999999,0.90010000000000001,0.97650150000000002,1.0039,1.0885499999999999,1.0987,0.98507599999999995,0.87191599999999991,0.75028400000000006,0.59691776000000007]
[null,"Szárító villamos energia fogyasztása óránként (kW)",{"$f":"+SUM(I84:I102)","v":75.000000000000014},null,"Előszárító opt. ventilátor telj. (%)",null,{"$f":"IF(G18>20,1,0.5)","v":0.5},{"$f":"IF(H18>20,1,0.5)","v":0.5},0.5,0.5,0.5,0.5,1,1,0.5,0.5,0.5,0.5]
[null,"Szárító üzem rendelkezésre állás",0.9,null,"Kiadott füstgáz hőteljesítmény (kW)",null,{"$f":"0.75*1.11*((500-(G25/0.75/1.11))-110)","v":309},{"$f":"0.75*1.11*((500-(H25/0.75/1.11))-110)","v":310.15000000000003},312.17500000000001,315.17500000000001,317.25,318.17500000000001,319.92500000000001,320.17500000000001,317.52499999999998,314.52500000000003,312.125,309.66499999999996]
[null,null,null,null,"Hőveszteség (kW)",null,{"$f":"-0.5*G18+15","v":15.675000000000001},{"$f":"-0.5*H18+15","v":14.525},12.5,9.5,7.4250000000000007,6.5,4.75,4.5,7.15,10.15,12.55,15.01]
[null,"Tömörítő egység kapacitása (kg/óra)",600,null,"Kiadott szárítási hőteljesítmény, dobszárító(kW)",null,{"$f":"+G24-G25","v":293.32499999999999},{"$f":"+H24-H25","v":295.62500000000006},299.67500000000001,305.67500000000001,309.82499999999999,311.67500000000001,315.17500000000001,315.67500000000001,310.375,304.37500000000006,299.57499999999999,294.65499999999997]
[null,"Tömörítő heti termelési nap",7,null,"Fajlagos szárítási teljesítmény,dobszárító (l/kW)",null,1.2,1.2,1.2,1.2,1.2,1.2,1.2,1.2,1.2,1.2,1.2,1.2]
[null,"Tömörítő napi működési óraszám",12,null,"Szárítási összteljesítmény (l/óra)",null,{"$f":"+G21*G22+G26*G27","v":465.2249801883097},{"$f":"+H21*H22+H26*H27","v":491.46469961286482},541.73744469999997,626.64888778,692.37135725597477,723.22605165999994,759.20249999999987,763.35500000000002,701.45500720941595,607.19073916869604,540.4291451882159,480.20943652340668]
[null,"Tömörítő villamos energia fogyasztása óránként (kW)",{"$f":"+SUM(I103:I115)","v":113.25},null,"Havi gázmotor működési óraszám",null,{"$f":"+(EOMONTH(G16,0)-G16+1)*$C$17","v":620},580,620,600,{"$f":"+(EOMONTH(K16,0)-K16+1)*$C$17","v":620},600,620,620,600,620,600,620]
[null,"Tömörítő egység rendelkezésre állás",0.9,null,"Havi szárító max működési óraszám",null,{"$f":"+G29/7*$C$18*$C$24","v":558},522,558,540,{"$f":"+K29/7*$C$18*$C$24","v":558},540,558,558,540,558,540,558]
[null,null,null,null,"Szárítási összteljesítmény (t/hó)",null,{"$f":"+G28*G30/1000","v":259.59553894507684},{"$f":"+H28*H30/1000","v":256.54457319791544},302.28949414260001,338.3903994012,386.34321734883395,390.5420678964,423.63499499999995,425.95209,378.78570389308459,338.8124324561324,291.83173840163658,267.95686558006093]
[null,null,null,null,"Tömörítő egység max működési óraszám",null,{"$f":"+(EOMONTH(G16,0)-G16+1)/7*$C$27*$C$28*$C$30","v":334.8},313.20000000000005,334.8,324,334.8,324,334.8,334.8,324,334.8,324,334.8]
[null,null,null,null,"Tömörítési összteljesítmény (t/hó)",null,{"$f":"+G32*$C$26/1000","v":200.88},187.92000000000002,200.88,194.4,200.88,194.4,200.88,200.88,194.4,200.88,194.4,200.88]
[null,null,null,null,"Elődaráló egység max működési óraszám",null,{"$f":"+(EOMONTH(G16,0)-G16+1)/7*$C$19*$C$21","v":132.85714285714289},124.28571428571429,132.85714285714289,128.57142857142856,132.85714285714289,128.57142857142856,132.85714285714289,132.85714285714289,128.57142857142856,132.85714285714289,128.57142857142856,132.85714285714289]
[null,null,null,null,"Elődáráló összteljesítmény (t/hó)",null,{"$f":"+G34*$C$20","v":1992.8571428571433},1864.2857142857144,1992.8571428571433,1928.5714285714284,1992.8571428571433,1928.5714285714284,1992.8571428571433,1992.8571428571433,1928.5714285714284,1992.8571428571433,1928.5714285714284,1992.8571428571433]
[]
["Értékesítési adatok",null,{"$f":"+C50","v":105647525.8305947},null,"Előállított termék mennyiségek"]
[null,"Értékesítési ár (Ft/kg)",null,null,null,"Összesen",{"$f":"+G50","v":"Jan."},"Febr.","Márc.","Ápr.","Máj.","Jún.","Júl.","Aug.","Szept.","Okt.","Nov.","Dec."]
[null,{"$f":"+F51","v":"Pelletált szeparátum"},35,null,{"$f":"+F51","v":"Pelletált szeparátum"},{"$f":"+SUM(G39:R39)","v":587.73515689036594},{"$f":"+(G51*$K60+$L60/12)*($G60+$M60)/($H60+$N60)","v":0},{"$f":"+(H51*$K60+$L60/12)*($G60+$M60)/($H60+$N60)","v":0},0,0,0,0,0,77.492296281025432,131.7665516748568,149.11585456803107,129.64940841855287,99.711045947899805]
[null,{"$f":"+F52","v":"Kukorica pellet"},37,null,{"$f":"+F52","v":"Kukorica pellet"},24.038529339449486,{"$f":"+(G52*$K61+$L61/12)*($G61+$M61)/($H61+$N61)","v":0},0,0,-2.5077978909180008E-15,0,0,0,0,0,0,0,24.038529339449489]
[null,{"$f":"+F53","v":"Szárított szeparátum"},20,null,{"$f":"+F53","v":"Szárított szeparátum"},1006.1500460114482,91.536093156187448,91.5779780520527,110.07425791889717,126.4329742334442,146.57126931853054,149.07777766051356,162.76375172199499,97.250783512268384,30.865160437559197,0,2.1662888285368908E-15,0]
[null,{"$f":"+F54","v":"Szalma pellet"},40,null,{"$f":"+F54","v":"Szalma pellet"},1601.6092208410823,198.87119889213579,186.04080150046659,198.87119883683468,192.45599946149815,198.87119876686583,192.45599944720945,198.87119874527048,121.37890332428479,60.689451662142368,30.344725831071209,15.172362915535626,7.586181457767788]
[null,{"$f":"+F55","v":"Cukorrépa pellet"},60,null,{"$f":"+F55","v":"Cukorrépa pellet"},-9.8686491077791697E-16,0,0,0,0,0,0,0,0,0,0,0,-9.8686491077791697E-16]
[null,"Árbevétel (Ft)",null,null,"Összesen (t)",3219.5329530823465,{"$f":"+SUM(G39:G43)","v":290.40729204832326},{"$f":"+SUM(H39:H43)","v":277.6187795525193},308.94545675573187,318.88897369494237,345.4424680853964,341.53377710772304,361.63495046726547,296.12198311757862,223.32116377455836,179.46058039910227,144.82177133408848,131.3357567451171]
[null,{"$f":"+B39","v":"Pelletált szeparátum"},{"$f":"+C39*F39*1000","v":20570730.49116281},null,"Tömörített mennyiség össz (t)",2213.3829070708985,{"$f":"+SUMPRODUCT($J$60:$J$64,G39:G43)","v":198.87119889213579},186.04080150046659,198.87119883683468,192.45599946149815,198.87119876686583,192.45599944720945,198.87119874527048,198.87119960531021,192.45600333699917,179.46058039910227,144.82177133408848,131.3357567451171]
[null,{"$f":"+B40","v":"Kukorica pellet"},{"$f":"+C40*F40*1000","v":889425.585559631},null,"Elszárított víz összesen (t)",{"$f":"+F65-S44","v":7239.6052796166969},{"$f":"+SUMPRODUCT(G51:G55,$K$60:$K$64)+SUM($L$60:$L$64)/12-G44","v":256.99958355562603},{"$f":"+SUMPRODUCT(H51:H55,$K$60:$K$64)+SUM($L$60:$L$64)/12-H44","v":253.97912746593624},299.26659920117396,335.00649540718803,382.47978517534568,386.63664721743601,419.39864504999997,421.69257189069702,374.99784631455452,335.42431346578576,288.91341522887501,265.27729656173301]
[null,{"$f":"+B41","v":"Szárított szeparátum"},{"$f":"+C41*F41*1000","v":20123000.920228966},null,"Elődarált mennyiség összesen",{"$f":"+SUM(G47:R47)","v":1601.6092208410823},{"$f":"+SUMPRODUCT($I$60:$I$64,G39:G43)","v":198.87119889213579},186.04080150046659,198.87119883683468,192.45599946149815,198.87119876686583,192.45599944720945,198.87119874527048,121.37890332428479,60.689451662142368,30.344725831071209,15.172362915535626,7.586181457767788]
[null,{"$f":"+B42","v":"Szalma pellet"},{"$f":"+C42*F42*1000","v":64064368.833643295}]
[null,{"$f":"+B43","v":"Cukorrépa pellet"},{"$f":"+C43*F43*1000","v":-5.921189464667502E-11},null,"Feldolgozott alapanyag mennyiségek"]
[null,"Éves bevétel",{"$f":"+SUM(C45:C49)","v":105647525.8305947},null,"Alapanyag","Termék","Jan.","Febr.","Márc.","Ápr.","Máj.","Jún.","Júl.","Aug.","Szept.","Okt.","Nov.","Dec."]
[null,null,null,null,"Fermentlé szilárd szeparátum","Pelletált szeparátum",0,0,0,0,0,0,0,247.9753480992814,421.65296535954178,477.17073461769945,414.87810693936922,319.0753470332794]
[null,"Működési negyedévek száma 2020-ban",0,null,"Silótető","Kukorica pellet",0,0,0,-7.1054273576010019E-15,0,0,0,0,0,0,0,68.109166461773555]
[null,"Bevétel típusa",null,0,"Fermentlé szilárd szeparátum","Szárított szeparátum",300.2383855522948,300.37576801073283,361.04356597398271,414.70015548569694,480.75376336478018,488.97511072648444,533.86510564814353,318.98256992024028,101.23772623519416,0,7.1054273576010019E-15,0]
[null,null,null,null,"Hulladék nedves szalma","Szalma pellet",247.16849005165449,231.22213900772275,247.16848998292312,239.19531361643342,247.16848989596184,239.19531359867463,247.16848986912188,150.85663698875396,75.428318494376953,37.714159247188505,18.857079623594277,9.4285398117971084]
[null,null,null,null,"Cukorrépaszelet","Cukorrépa pellet",0,0,0,0,0,0,0,0,0,0,0,-3.5527136788005009E-15]
[null,null,null,null,"Összesen",null,{"$f":"+SUM(G51:G55)","v":547.40687560394929},531.59790701845554,608.21205595690583,653.89546910213039,727.92225326074208,728.17042432515905,781.03359551726544,717.81455500827565,598.31901008911291,514.884893864888,433.73518656296352,396.61305330685008]
[]
["Termelési költségek",null,{"$f":"+C71+C79+C82+C87+C92+C95+C99+C108+C113","v":46472819.872064739},null,"Alapanyag paraméterek"]
["Anyagjellegű ráfordítások",null,"Vételár szállítással (Ft/kg)",null,"Alapanyag","Felhasználás (t/év)","Alapanyag sz.a. tartalom","Termék sz.a. tartalom","Darálás szükséges","Pelletálás szükséges","Menny. Korr1","Menny.Korr2","Min.Korr1","Min.Korr2","Max alapanyag (t/év)",null,{"$f":"+F50","v":"Termék"},"Max termék (t/év)"]
[null,{"$f":"+E51","v":"Fermentlé szilárd szeparátum"},0,null,{"$f":"+E51","v":"Fermentlé szilárd szeparátum"},{"$f":"+SUM(G51:R51)*K60+L60","v":1880.7525020491712},0.25,0.8,0,1,1,0,0,0,5500,{"$f":"+O60-(F60+F62)","v":319.07534703327929},{"$f":"+F51","v":"Pelletált szeparátum"},2000,{"$f":"+R60-F39","v":1412.2648431096341}]
[null,{"$f":"+E52","v":"Silótető"},2.5,null,{"$f":"+E52","v":"Silótető"},{"$f":"+SUM(G52:R52)*K61+L61","v":68.109166461773555},0.3,0.85,0,1,1,0,0,0,3000,{"$f":"+O61-F61","v":2931.8908335382266},"Kukorica pellet",3000,{"$f":"+R61-F40","v":2975.9614706605507}]
[null,{"$f":"+E53","v":"Fermentlé szilárd szeparátum"},0,null,{"$f":"+E53","v":"Fermentlé szilárd szeparátum"},{"$f":"+SUM(G53:R53)*K62+L62","v":3300.1721509175495},0.25,0.82,0,0,1,0,0,0,{"$f":"+O60","v":5500},{"$f":"+O62-(F60+F62)","v":319.07534703327929},"Szárított szeparátum",2000,993.84995398855176]
[null,{"$f":"+E54","v":"Hulladék nedves szalma"},2,null,{"$f":"+E54","v":"Hulladék nedves szalma"},{"$f":"+SUM(G54:R54)*K63+L63","v":1990.5714601882028},0.7,0.87,1,1,1,0,0,0,2000,{"$f":"+O63-F63","v":9.4285398117972363},"Szalma pellet",5000,3398.3907791589177]
[null,{"$f":"+E55","v":"Cukorrépaszelet"},7,null,{"$f":"+E55","v":"Cukorrépaszelet"},{"$f":"+SUM(G55:R55)*K64+L64","v":-3.5527136788005009E-15},0.25,0.9,0,1,1,0,0,0,1500,1500,"Cukorrépa pellet",3000,3000]
[null,null,null,null,"Összesen",{"$f":"+SUM(F60:F64)","v":7239.6052796166969},null,0,null,0]
[null,{"$f":"+B60","v":"Fermentlé szilárd szeparátum"},{"$f":"+C60*F60*1000","v":0}]
[null,{"$f":"+B61","v":"Silótető"},{"$f":"+C61*F61*1000","v":170272.91615443389},null,"Üzemórák, fogyasztások"]
[null,{"$f":"+B62","v":"Fermentlé szilárd szeparátum"},{"$f":"+C62*F62*1000","v":0},null,null,"Összesen",{"$f":"+G38","v":"Jan."},"Febr.","Márc.","Ápr.","Máj.","Jún.","Júl.","Aug.","Szept.","Okt.","Nov.","Dec.","napi max","napi átlag"]
[null,{"$f":"+B63","v":"Hulladék nedves szalma"},{"$f":"+C63*F63*1000","v":3981142.9203764056},null,"Havi szárító működési óraszám",{"$f":"+SUM(G69:R69)","v":6522.1200002053247},{"$f":"+G46/G31*G30","v":552.41999999999996},516.78,552.41999999999996,534.6,{"$f":"+K46/K31*K30","v":552.42000000000007},534.6,552.42000000000007,552.42000365583124,534.59999923074292,552.42000878507247,534.59998928861387,552.4199992450641,{"$f":"+S72*C17*C24","v":17.820000283389433},{"$f":"+F69/365","v":17.868821918370752}]
[null,{"$f":"+B64","v":"Cukorrépaszelet"},{"$f":"+C64*F64*1000","v":-2.4868995751603507E-11},null,"Havi tömörítő működési óraszám",{"$f":"+SUM(G70:R70)","v":3688.9715117848309},{"$f":"+G45/G33*G32","v":331.45199815355966},310.06800250077765,331.45199806139112,320.75999910249692,331.45199794477639,320.75999907868243,331.45199790878416,331.45199934218368,320.76000556166525,299.10096733183713,241.36961889014748,{"$f":"+R45/R33*R32","v":218.89292790852852},{"$f":"+S73*C28*C30","v":10.69200018538884},{"$f":"+F70/365","v":10.106771265163919}]
[null,"Alapanyag költség (Ft)",{"$f":"+SUM(C66:C70)","v":4151415.8365308396},null,"Elődaráló működési óraszám",{"$f":"+SUM(G71:R71)","v":106.77394805607219},{"$f":"+G47/$C$20","v":13.258079926142386},12.402720100031106,13.258079922455645,12.830399964099877,13.258079917791056,12.830399963147297,13.258079916351365,8.0919268882856521,4.0459634441428243,2.0229817220714139,1.0114908610357083,0.50574543051785248,{"$f":"+S74*C21","v":0.59875200482908786},{"$f":"+F71/365","v":0.29253136453718409}]
[null,null,null,null,"Szárító kihasználtság",{"$f":"+AVERAGE(G72:R72)","v":0.98999999997351207},{"$f":"+G69/G30","v":0.98999999999999988},{"$f":"+H69/H30","v":0.99},0.98999999999999988,0.99,0.9900000000000001,0.99,0.9900000000000001,0.99000000655166887,0.98999999857544985,0.99000001574385743,0.98999998016409974,0.98999999864706834,{"$f":"+MAX(G72:R72)","v":0.99000001574385743}]
[null,"Beépített összteljesítmény (kW)",{"$f":"+SUM(H84:H116)","v":270.95000000000005},null,"Tömörítő kihasználtság",{"$f":"+AVERAGE(G73:R73)","v":0.93351183941782756},{"$f":"+G70/G32","v":0.98999999448494513},{"$f":"+H70/H32","v":0.99000000798460286},0.9899999942096509,0.98999999722992882,0.9899999938613393,0.98999999715642728,0.98999999375383563,0.98999999803519612,0.99000001716563346,0.89337206490990773,0.74496795953749217,0.65380205468497166,{"$f":"+MAX(G73:R73)","v":0.99000001716563346}]
[null,"Kapacitás lekötés teljesítmény %-ában",1,null,"Elődaráló kihasználtság",{"$f":"+AVERAGE(G74:R74)","v":6.8151680026436276E-2},{"$f":"+G71/G34","v":9.9791999444082458E-2},{"$f":"+H71/H34","v":9.9792000804847972E-2},9.979199941633278E-2,9.9791999720776833E-2,9.9791999381222976E-2,9.9791999713367871E-2,9.9791999370386589E-2,6.0906976578494143E-2,3.1468604565555301E-2,1.5226744144623543E-2,7.8671511413888427E-3,3.8066860361558779E-3,{"$f":"+MAX(G74:R74)","v":9.9792000804847972E-2}]
[null,"Villamos energia lekötés (kW)",{"$f":"+C73*C74","v":270.95000000000005},null,"Szárító villamos energia fogyasztása (kWh)",{"$f":"+SUM(G75:R75)","v":489049.00001539948},{"$f":"+G69*$C$23-((1-G23)*SUM($I$85:$I$86))","v":41420.500000000007},38747.500000000007,41420.500000000007,40084.000000000007,41420.500000000015,40084.000000000007,41431.500000000015,41431.500274187354,40083.999942305723,41420.500658880446,40083.999196646051,41420.499943379815]
[null,"Kapacitás lekötés díja (Ft/kW/év)",8000,null,"Tömörítő villamos energia fogyasztása (kWh)",{"$f":"+SUM(G76:R76)","v":417776.02370963211},{"$f":"+G70*$C$29","v":37536.938790890628},35115.201283213071,37536.938780452547,36326.069898357775,37536.938767245927,36326.069895660781,37536.938763169805,37536.938925502305,36326.070629858586,33873.184550330552,27335.109339309201,24789.624085640855]
[null,"RHD fogyasztás alapján (Ft/kWh)",5,null,"Elődaráló villamos energia fogyasztása (kWh)",{"$f":"+SUM(G77:R77)","v":7207.2414937848735},{"$f":"+G71*$C$22","v":894.92039501461113},837.18360675209965,894.92039476575599,866.05199757674166,894.92039445089631,866.05199751244254,894.92039435371714,546.20506495928157,273.10253247964062,136.55126623982045,68.27563311991031,34.137816559955041]
[null,"Villamos energia ár (Ft/kWh)",20,null,"Összes villamos energia fogyasztás (kWh)",{"$f":"+SUM(G78:R78)","v":914032.26521881635},{"$f":"+SUM(G75:G77)","v":79852.359185905254},{"$f":"+SUM(H75:H77)","v":74699.884889965164},79852.359175218313,77276.121895934528,79852.359161696833,77276.121893173244,79863.359157523533,79514.644264648945,76683.173104643953,75430.236475450816,67487.384169075158,66244.261845580622]
[null,"Villamos energia éves díja (Ft)",{"$f":"+C76*C75+F78*(C77+C78)","v":25018406.63047041},null,"Összes hasznos hőfogyasztás (kWh)",{"$f":"+SUM(G79:R79)","v":3832800.396990112},{"$f":"+G69*(G21+G26)","v":275674.39373132994},265015.56842343003,299142.05903999996,317741.00688,352510.70145093009,352587.09023999999,367455.97350000002,367732.18593359541,344477.2430279181,321429.28664017335,289077.39244836924,279957.4956743659]
[]
[null,"Hőenergia költsége (Ft/GJ)",20]
[null,"Hőenergia éves díja (Ft)",{"$f":"+F79*C81*3.6/1000","v":275961.62858328805},null,"Beépített motorok teljesítmény adatai",null,null,null,null,null,null,null,null,{"$f":"C116","v":59174705.958529964}]
[null,null,null,null,"megnevezés","sorszám","Me.","Beép. telj.","Átl.telj.",null,null,null,null,-12701700]
[null,"Értékesített termék átlagos távolsága egy irányban (km)",50,null,"távhő szivattyú",1,"kW",5.5,{"$f":"+H84","v":5.5},null,null,null,null,{"$f":"N82-N83","v":71876405.958529964}]
[null,"Szállító eszköz rakomány súlya (t)",25,null,"Fliegl ventilátor 1",2,"kW",11,11]
[null,"Szállítási költség (Ft/km)",300,null,"Fliegl ventilátor 2",3,"kW",11,{"$f":"+H86","v":11}]
[null,"Éves szállítási költség (Ft)",{"$f":"F44/C85*C84*C86*2","v":3863439.5436988156},null,"Tolópad H. szivattyú",4,"kW",5.5,5.5]
[null,null,null,null,"potyadék gyűjtő",5,"kW",1.1000000000000001,1.1000000000000001]
[null,"Rakodógép szolgáltatás díja (Ft/h)",10000,null,"potyadék csiga",6,"kW",1.1000000000000001,1.1000000000000001]
[null,"Alapanyag rakodási teljesítmény (t/h)",50,null,"száraz anyag gyűjtő",7,"kW",1.1000000000000001,1.1000000000000001]
[null,"Végtermék rakodási teljesítmény (t/h)",30,null,"kiadagoló csiga",8,"kW",1.1000000000000001,1.1000000000000001]
[null,"Éves rakodási költség",{"$f":"C89*(F65/C90+F44/C91)","v":2521098.7069507884},null,"cellás kiadagoló",9,"kW",1.1000000000000001,1.1000000000000001]
[null,null,null,null,"kis bolygató csiga",10,"kW",2.2000000000000002,2.2000000000000002]
[null,"Éves karbantartási költség (Ft)",2500000,null,"cellás beadagoló",11,"kW",2.2000000000000002,2.2000000000000002]
[null,"Éves karbantartási költség (Ft)",{"$f":"+C94","v":2500000},null,"dobforgató",12,"kW",4,4]
[null,null,null,null,"dob kiadagoló",13,"kW",2.2000000000000002,2.2000000000000002]
[null,"Bérelt telephely területe (m2)",500,null,"18 m szalag",14,"kW",2.2000000000000002,2.2000000000000002]
[null,"Bérleti díj (Ft/m2/hó)",50,null,"füstgáz ventilátor",15,"kW",11,11]
[null,"Ingatlan bérlet éves költsége",{"$f":"+C97*C98*12","v":300000},null,"füstgáz ciklon",16,"kW",1.5,1.5]
[null,null,null,null,"füstgáz ciklon csiga",17,"kW",2.2000000000000002,2.2000000000000002]
["Bérjellegű ráfordítások",null,null,null,"8 m csiga",18,"kW",3,3]
[null,"Bérköltség és járulékai (Ft/hó)",{"$f":"+C105*C106*12","v":8608432.5},null,"30m3 puffer bolygató",19,"kW",6,6]
[null,"Bérköltség (Ft/hó)",{"$f":"SUMPRODUCT(G121:G124,F121:F124)","v":417500},null,"30m3 puffer kiadagoló",20,"kW",6,6]
[null,"Járulékok (Ft/hó)",{"$f":"SUMPRODUCT(H121:H124,F121:F124)","v":77237.5},null,"6 m szalag",21,"kW",1.5,1.5]
[null,"Alkalmazottak száma",{"$f":"F125","v":1.45},null,"kalapácsos daráló",22,"kW",22,{"$f":"H105*0.9","v":19.8}]
[null,"Alkalmazottak havi bruttó bére járulékkal (Ft/hó)",{"$f":"+C103+C104","v":494737.5},null,"daráló ciklon",23,"kW",1.5,1.5]
[null,"Személyi jellegű egyéb ráfordítások",50000,null,"daráló ventilátor",24,"kW",7.5,7.5]
[null,"Éves bérköltség",{"$f":"+(C106+C107)*12","v":6536850},null,"9m szalag",25,"kW",3,3]
[null,null,null,null,"10m3 puffer kiadagoló",26,"kW",6,6]
["Egyéb ráfordítások",null,null,null,"pelletáló csiga",27,"kW",2.2000000000000002,2.2000000000000002]
[null,"Egyéb ráfordítások fix havi díj(Ft)",100000,null,"pelletáló",28,"kW",55,{"$f":"H111*0.9","v":49.5}]
[null,"Egyéb ráfordítások NÁB %-ban",1E-3,"NÁB százalékában","10m szalag",29,"kW",3,3]
[null,"Éves egyéb ráfordítás",{"$f":"+C111*12+C112*C37","v":1305647.5258305948},null,"pellet tálca",30,"kW",0.75,0.75]
[null,null,null,null,"hűtő ciklon",31,"kW",1.5,1.5]
[null,null,null,null,"hűtő ventilátor",32,"kW",11,11]
["Működési ererdmény",null,{"$f":"+C37-C58","v":59174705.958529964},null,"Rotogrind elődaráló",33,"kW",75,{"$f":"H116*0.9","v":67.5}]
[]
[]
["Finanszírozás",null,null,null,"Alkalmazottak"]
[null,null,null,null,"Munkakör","fő","Bruttó havi bér/fő","Járulékok","Teljes költség/fő"]
[null,"Beruházás összege:",{"$f":"+E5+E3","v":218285758},null,"Ügyvezető",0.1,600000,{"$f":"G121*$C$158","v":111000},{"$f":"+G121+H121","v":711000}]
[null,"Állami támogatás (Ft)",127869312.3,null,"Mérnök",0.25,450000,{"$f":"G122*$C$158","v":83250},{"$f":"+G122+H122","v":533250}]
[null,"Állami támogatás elhatárolása (év)",7,null,"Adminisztrátor",0.1,250000,{"$f":"G123*$C$158","v":46250},{"$f":"+G123+H123","v":296250}]
[null,"Beruházás önerő",{"$f":"C125/C121","v":0.1851538372008677},0,"Segédmunkás",1,220000,{"$f":"G124*$C$158","v":40700},{"$f":"+G124+H124","v":260700}]
[null,"Beruházás önerő (Ft) - tagi kölcsön",{"$f":"+C121-C122-C127","v":40416445.700000003},null,"Összesen",{"$f":"SUM(F121:F124)","v":1.45}]
[]
[null,"Finanszírozási igény (Ft)",50000000]
[null,"Finanszírozási igény (Hiteldeviza)",{"$f":"$C$127/INDEX(#REF!,D124,1)","v":{"$error":"#REF!"}}]
[null,"Hiteldeviza",null,0]
[null,"Hitelösszeg a 0. Évben (Ft)",{"$f":"+INDEX(#REF!,D124,1)*C128","v":{"$error":"#REF!"}},0]
[null,"Futamidő (év)",6]
[null,"Hitel típusa"]
[null,"Ha fix, éves kamat",3.5000000000000003E-2]
[null,"Ha változó, kamatfelár (%)",0.02]
[null,"Törlesztési periódus"]
[null,"Betéti kamat mértéke Benchmarkhoz",-0.01]
[null,null,null,0]
[null,"ÁFA-finanszírozás összege (Hiteldeviza)",{"$f":"(($E$3+$E$5)*$C$140)/INDEX(#REF!,$D$124)","v":{"$error":"#REF!"}}]
[null,"ÁFA-finanszírozás összege (HUF)",{"$f":"(E3+E5)*C140","v":0}]
[null,"ÁFA-kulcs",0]
[null,"ÁFA-finanszírozás ideje (hónap)",3,0]
[null,"ÁFA-hitel kamata"]
[null,null,null,0]
[null,"Állami támogatás összege (Hiteldeviza)",{"$f":"C122/INDEX(#REF!,$D$124)","v":{"$error":"#REF!"}}]
[null,"Állami támogatás folyósítása (hónap)",5]
[null,"Folyósítás gyakorisága (hónap)"]
[null,"Folyósított összegek",{"$f":"MIN($C$144,$C$144/IF($D$141=1,$C$145,IF($D$141=2,$C$145/3,1)))","v":{"$error":"#REF!"}}]
[null,"Hitel kamata"]
[]
[null,"Garancia mértéke",{"$f":"C122","v":127869312.3}]
[null,"Garancia díja",0]
[]
[]
["Egyéb"]
[]
[null,"Jegyzett tőke (Ft)",3000000]
[null,"Társasági adókulcs",0.09]
[null,"Bérjárulékok",0.185]
[null,"Iparűzési adó kulcs",0.02]